{"text_format":"1","workbook":"xlsx","n_sheets":18,"sheets":["Úvod","Kontakt","Start - podzim","ZPV","V.l.ZPV","Start - jaro","Pozn.","Št.dvojic","Št.4x60m","PÚ","Št.400mCTIF","PÚ CTIF","Kronika","Beh60mS","Beh60mV","Beh60mP","Výsledky","TISK"],"not_rendered":{"charts":0,"images":1,"macros":1,"external_links":1,"defined_names":11,"comments":10,"pivot_tables":0},"unopened":[],"bounds":{"document_bytes":16777216,"sheet_cells":100000,"rows_first":2000,"rows_last":500,"rows_between":2000,"halvings":0,"cell_chars":16384,"cell_head_chars":4096},"cells_cut":0,"cells_raw":0,"read":"whole","date_system":"1900"}

{"sheet":"Úvod","index":0,"n_rows":28,"n_cols":12,"rows_kept":28,"cut":false,"hidden":false,"merged":[[0,1,0,9],[1,1,1,9]]}
["  ","Program pro zpracování výsledků ",null,null,null,null,null,null,null,null,null,1]
[null,"hry PLAMEN (Mladší / Starší MH)"]
[]
[]
[]
[]
[]
[]
[]
[]
[]
[]
[]
[]
[]
[]
[]
[]
[]
[]
[]
[]
[]
[]
[]
[null,"Autor programu:",null,"Ing. Milan Hoffmann"]
[null,"Oprávněný uživatel:",null,"SH ČMS"]
[null,"Verze programu:",null,"2011/1 (11.02.2011)"]

{"sheet":"Kontakt","index":1,"n_rows":15,"n_cols":3,"rows_kept":15,"cut":false,"hidden":false,"merged":[[0,1,0,14]]}
[null,"Kontakt"]
[]
[null,"Program na zpracování výsledků (hra PLAMEN) pro SH ČMS vytvořil:"]
[]
[null,"Ing. Milan HOFFMANN"]
[null,"Vojanova 760/49"]
[null,"318 00 PLZEŇ"]
[]
[null,"tel.:","+420 373 540 062"]
[null,"mobil:","+420 606 916 333"]
[null,null,"+420 731 428 398"]
[]
[null,"mail:","milan.hoffmann@seznam.cz"]
[]
[null,"www:","www.dh.cz"]

{"sheet":"Start - podzim","index":2,"n_rows":30,"n_cols":16,"rows_kept":30,"cut":false,"hidden":false,"merged":[[0,2,0,14],[2,1,2,3],[2,5,2,7],[1,13,1,15],[2,13,2,15],[1,1,1,7],[2,9,2,11],[1,9,1,11]]}
[null,null,"Startovní listina - ZPV (Podzim)"]
[null,"Krajská soutěž HRY PLAMEN",null,null,null,null,null,null,null,"kategorie:",null,null,null,"STARŠÍ"]
[null,"datum:",null,null,null,"2020/2021",null,null,null,"místo:",null,null,null,"České Budějovice"]
[]
[null,"st.č.","SDH","hl.",null,"st.č.","SDH","hl.",null,"st.č.","SDH","hl.",null,"st.č.","SDH","hl."]
[null,1,"Srubec","ČB",null,26,null,null,null,51,null,null,null,76]
[null,2,"Zhoř u Tábora","TÁ",null,27,null,null,null,52,null,null,null,77]
[null,3,"Svatá Maří","PT",null,28,null,null,null,53,null,null,null,78]
[null,4,"Drahonice","ST",null,29,null,null,null,54,null,null,null,79]
[null,5,"Dobrošov","PÍ",null,30,null,null,null,55,null,null,null,80]
[null,6,"Plešovice","ČK",null,31,null,null,null,56,null,null,null,81]
[null,7,null,null,null,32,null,null,null,57,null,null,null,82]
[null,8,null,null,null,33,null,null,null,58,null,null,null,83]
[null,9,null,null,null,34,null,null,null,59,null,null,null,84]
[null,10,null,null,null,35,null,null,null,60,null,null,null,85]
[null,11,null,null,null,36,null,null,null,61,null,null,null,86]
[null,12,null,null,null,37,null,null,null,62,null,null,null,87]
[null,13,null,null,null,38,null,null,null,63,null,null,null,88]
[null,14,null,null,null,39,null,null,null,64,null,null,null,89]
[null,15,null,null,null,40,null,null,null,65,null,null,null,90]
[null,16,null,null,null,41,null,null,null,66,null,null,null,91]
[null,17,null,null,null,42,null,null,null,67,null,null,null,92]
[null,18,null,null,null,43,null,null,null,68,null,null,null,93]
[null,19,null,null,null,44,null,null,null,69,null,null,null,94]
[null,20,null,null,null,45,null,null,null,70,null,null,null,95]
[null,21,null,null,null,46,null,null,null,71,null,null,null,96]
[null,22,null,null,null,47,null,null,null,72,null,null,null,97]
[null,23,null,null,null,48,null,null,null,73,null,null,null,98]
[null,24,null,null,null,49,null,null,null,74,null,null,null,99]
[null,25,null,null,null,50,null,null,null,75,null,null,null,100]

{"sheet":"ZPV","index":3,"n_rows":105,"n_cols":20,"rows_kept":105,"cut":false,"hidden":false,"merged":[[2,2,2,3],[0,1,0,18],[3,7,4,7],[3,1,4,1],[3,4,4,4],[3,5,4,5],[3,8,4,8],[3,9,3,12],[3,13,3,18],[3,6,4,6],[3,2,4,3]]}
[null," Závod požárnické všestrannosti"]
[]
[null,null,{"$f":"'Start - podzim'!N2","v":"STARŠÍ"}]
[null,"Číslo hlídky","název hlídky",null," čas startu (hh:mm:ss)"," čas cíle (hh:mm:ss)"," čistý čas na trati (mm:ss)","čekací čas (hh:mm:ss)","výsledný čas na trati (mm:ss)","Výsledky soutěže",null,null,null,"tresný bod = 1 minuta "]
[null,null,null,null,null,null,null,null,null," trestné minuty (h:mm)"," výsledný čas (h:mm:ss)"," počet bodů za umístění"," součet tresných bodů"," střelba ze vzduchovky"," základy topografie"," uzlování"," první pomoc"," požární ochrana"," překonání překážky"," * diskvalifikace (D)"]
[null,1,{"$f":"IF('Start - podzim'!C6=\"\",\"\",'Start - podzim'!C6)","v":"Srubec"},{"$f":"IF(C6=\"\",\"\",IF('Start - podzim'!D6=\"\",\"\",'Start - podzim'!D6))","v":"ČB"},null,null,{"$f":"IF(C6=\"\",\"\",IF(F6>0,IF(AND(E6>0,F6>0,(F6-E6)>0),F6-E6,\"chyba\"),\"X\"))","v":"X"},{"$f":"IF(C6=\"\",\"\",0)","v":"00:00:00"},{"$f":"IF(C6=\"\",\"\",IF(G6=\"chyba\",\"chyba\",IF(G6=\"X\",\"X\",IF((G6-H6)<0,\"chyba\",G6-H6))))","v":"X"},{"$f":"IF(C6=\"\",\"\",M6/1440)","v":"00:00:00"},{"$f":"IF(C6=\"\",\"\",IF(I6=\"chyba\",\"chyba\",IF(I6=\"X\",\"X\",IF(C6=\"\",\"X\",IF(T6=\"D\",\"D\",ROUND(SUM(I6:J6),10))))))","v":"X"},{"$f":"IF(C6=\"\",\"\",IF(K6=\"chyba\",\"CH\",IF(K6=\"X\",\"X\",IF(K6=\"D\",\"D\",RANK(K6,K$6:K$105,1)))))","v":"X"},{"$f":"IF(C6=\"\",\"\",SUM(N6:S6))","v":0}]
[null,2,{"$f":"IF('Start - podzim'!C7=\"\",\"\",'Start - podzim'!C7)","v":"Zhoř u Tábora"},{"$f":"IF(C7=\"\",\"\",IF('Start - podzim'!D7=\"\",\"\",'Start - podzim'!D7))","v":"TÁ"},null,null,{"$f":"IF(C7=\"\",\"\",IF(F7>0,IF(AND(E7>0,F7>0,(F7-E7)>0),F7-E7,\"chyba\"),\"X\"))","v":"X"},"00:00:00",{"$f":"IF(C7=\"\",\"\",IF(G7=\"chyba\",\"chyba\",IF(G7=\"X\",\"X\",IF((G7-H7)<0,\"chyba\",G7-H7))))","v":"X"},{"$f":"IF(C7=\"\",\"\",M7/1440)","v":"00:00:00"},{"$f":"IF(C7=\"\",\"\",IF(I7=\"chyba\",\"chyba\",IF(I7=\"X\",\"X\",IF(C7=\"\",\"X\",IF(T7=\"D\",\"D\",ROUND(SUM(I7:J7),10))))))","v":"X"},{"$f":"IF(C7=\"\",\"\",IF(K7=\"chyba\",\"CH\",IF(K7=\"X\",\"X\",IF(K7=\"D\",\"D\",RANK(K7,K$6:K$105,1)))))","v":"X"},{"$f":"IF(C7=\"\",\"\",SUM(N7:S7))","v":0}]
[null,3,{"$f":"IF('Start - podzim'!C8=\"\",\"\",'Start - podzim'!C8)","v":"Svatá Maří"},{"$f":"IF(C8=\"\",\"\",IF('Start - podzim'!D8=\"\",\"\",'Start - podzim'!D8))","v":"PT"},null,null,"X","00:00:00","X","00:00:00","X","X",0]
[null,4,{"$f":"IF('Start - podzim'!C9=\"\",\"\",'Start - podzim'!C9)","v":"Drahonice"},{"$f":"IF(C9=\"\",\"\",IF('Start - podzim'!D9=\"\",\"\",'Start - podzim'!D9))","v":"ST"},null,null,"X","00:00:00","X","00:00:00","X","X",0]
[null,5,{"$f":"IF('Start - podzim'!C10=\"\",\"\",'Start - podzim'!C10)","v":"Dobrošov"},{"$f":"IF(C10=\"\",\"\",IF('Start - podzim'!D10=\"\",\"\",'Start - podzim'!D10))","v":"PÍ"},null,null,"X","00:00:00","X","00:00:00","X","X",0]
[null,6,{"$f":"IF('Start - podzim'!C11=\"\",\"\",'Start - podzim'!C11)","v":"Plešovice"},{"$f":"IF(C11=\"\",\"\",IF('Start - podzim'!D11=\"\",\"\",'Start - podzim'!D11))","v":"ČK"},null,null,"X","00:00:00","X","00:00:00","X","X",0]
[null,7,{"$f":"IF('Start - podzim'!C12=\"\",\"\",'Start - podzim'!C12)","v":""},{"$f":"IF(C12=\"\",\"\",IF('Start - podzim'!D12=\"\",\"\",'Start - podzim'!D12))","v":""},null,null,"","","","","","",""]
[null,8,{"$f":"IF('Start - podzim'!C13=\"\",\"\",'Start - podzim'!C13)","v":""},{"$f":"IF(C13=\"\",\"\",IF('Start - podzim'!D13=\"\",\"\",'Start - podzim'!D13))","v":""},null,null,"","","","","","",""]
[null,9,{"$f":"IF('Start - podzim'!C14=\"\",\"\",'Start - podzim'!C14)","v":""},{"$f":"IF(C14=\"\",\"\",IF('Start - podzim'!D14=\"\",\"\",'Start - podzim'!D14))","v":""},null,null,"","","","","","",""]
[null,10,{"$f":"IF('Start - podzim'!C15=\"\",\"\",'Start - podzim'!C15)","v":""},{"$f":"IF(C15=\"\",\"\",IF('Start - podzim'!D15=\"\",\"\",'Start - podzim'!D15))","v":""},null,null,"","","","","","",""]
[null,11,{"$f":"IF('Start - podzim'!C16=\"\",\"\",'Start - podzim'!C16)","v":""},{"$f":"IF(C16=\"\",\"\",IF('Start - podzim'!D16=\"\",\"\",'Start - podzim'!D16))","v":""},null,null,"","","","","","",""]
[null,12,{"$f":"IF('Start - podzim'!C17=\"\",\"\",'Start - podzim'!C17)","v":""},{"$f":"IF(C17=\"\",\"\",IF('Start - podzim'!D17=\"\",\"\",'Start - podzim'!D17))","v":""},null,null,"","","","","","",""]
[null,13,{"$f":"IF('Start - podzim'!C18=\"\",\"\",'Start - podzim'!C18)","v":""},{"$f":"IF(C18=\"\",\"\",IF('Start - podzim'!D18=\"\",\"\",'Start - podzim'!D18))","v":""},null,null,"","","","","","",""]
[null,14,{"$f":"IF('Start - podzim'!C19=\"\",\"\",'Start - podzim'!C19)","v":""},{"$f":"IF(C19=\"\",\"\",IF('Start - podzim'!D19=\"\",\"\",'Start - podzim'!D19))","v":""},null,null,"","","","","","",""]
[null,15,{"$f":"IF('Start - podzim'!C20=\"\",\"\",'Start - podzim'!C20)","v":""},{"$f":"IF(C20=\"\",\"\",IF('Start - podzim'!D20=\"\",\"\",'Start - podzim'!D20))","v":""},null,null,"","","","","","",""]
[null,16,{"$f":"IF('Start - podzim'!C21=\"\",\"\",'Start - podzim'!C21)","v":""},{"$f":"IF(C21=\"\",\"\",IF('Start - podzim'!D21=\"\",\"\",'Start - podzim'!D21))","v":""},null,null,"","","","","","",""]
[null,17,{"$f":"IF('Start - podzim'!C22=\"\",\"\",'Start - podzim'!C22)","v":""},{"$f":"IF(C22=\"\",\"\",IF('Start - podzim'!D22=\"\",\"\",'Start - podzim'!D22))","v":""},null,null,"","","","","","",""]
[null,18,{"$f":"IF('Start - podzim'!C23=\"\",\"\",'Start - podzim'!C23)","v":""},{"$f":"IF(C23=\"\",\"\",IF('Start - podzim'!D23=\"\",\"\",'Start - podzim'!D23))","v":""},null,null,"","","","","","",""]
[null,19,{"$f":"IF('Start - podzim'!C24=\"\",\"\",'Start - podzim'!C24)","v":""},{"$f":"IF(C24=\"\",\"\",IF('Start - podzim'!D24=\"\",\"\",'Start - podzim'!D24))","v":""},null,null,"","","","","","",""]
[null,20,{"$f":"IF('Start - podzim'!C25=\"\",\"\",'Start - podzim'!C25)","v":""},{"$f":"IF(C25=\"\",\"\",IF('Start - podzim'!D25=\"\",\"\",'Start - podzim'!D25))","v":""},null,null,"","","","","","",""]
[null,21,{"$f":"IF('Start - podzim'!C26=\"\",\"\",'Start - podzim'!C26)","v":""},{"$f":"IF(C26=\"\",\"\",IF('Start - podzim'!D26=\"\",\"\",'Start - podzim'!D26))","v":""},null,null,"","","","","","",""]
[null,22,{"$f":"IF('Start - podzim'!C27=\"\",\"\",'Start - podzim'!C27)","v":""},{"$f":"IF(C27=\"\",\"\",IF('Start - podzim'!D27=\"\",\"\",'Start - podzim'!D27))","v":""},null,null,"","","","","","",""]
[null,23,{"$f":"IF('Start - podzim'!C28=\"\",\"\",'Start - podzim'!C28)","v":""},{"$f":"IF(C28=\"\",\"\",IF('Start - podzim'!D28=\"\",\"\",'Start - podzim'!D28))","v":""},null,null,"","","","","","",""]
[null,24,{"$f":"IF('Start - podzim'!C29=\"\",\"\",'Start - podzim'!C29)","v":""},{"$f":"IF(C29=\"\",\"\",IF('Start - podzim'!D29=\"\",\"\",'Start - podzim'!D29))","v":""},null,null,"","","","","","",""]
[null,25,{"$f":"IF('Start - podzim'!C30=\"\",\"\",'Start - podzim'!C30)","v":""},{"$f":"IF(C30=\"\",\"\",IF('Start - podzim'!D30=\"\",\"\",'Start - podzim'!D30))","v":""},null,null,"","","","","","",""]
[null,26,{"$f":"IF('Start - podzim'!G6=\"\",\"\",'Start - podzim'!G6)","v":""},{"$f":"IF(C31=\"\",\"\",IF('Start - podzim'!H6=\"\",\"\",'Start - podzim'!H6))","v":""},null,null,"","","","","","",""]
[null,27,{"$f":"IF('Start - podzim'!G7=\"\",\"\",'Start - podzim'!G7)","v":""},{"$f":"IF(C32=\"\",\"\",IF('Start - podzim'!H7=\"\",\"\",'Start - podzim'!H7))","v":""},null,null,"","","","","","",""]
[null,28,{"$f":"IF('Start - podzim'!G8=\"\",\"\",'Start - podzim'!G8)","v":""},{"$f":"IF(C33=\"\",\"\",IF('Start - podzim'!H8=\"\",\"\",'Start - podzim'!H8))","v":""},null,null,"","","","","","",""]
[null,29,{"$f":"IF('Start - podzim'!G9=\"\",\"\",'Start - podzim'!G9)","v":""},{"$f":"IF(C34=\"\",\"\",IF('Start - podzim'!H9=\"\",\"\",'Start - podzim'!H9))","v":""},null,null,"","","","","","",""]
[null,30,{"$f":"IF('Start - podzim'!G10=\"\",\"\",'Start - podzim'!G10)","v":""},{"$f":"IF(C35=\"\",\"\",IF('Start - podzim'!H10=\"\",\"\",'Start - podzim'!H10))","v":""},null,null,"","","","","","",""]
[null,31,{"$f":"IF('Start - podzim'!G11=\"\",\"\",'Start - podzim'!G11)","v":""},{"$f":"IF(C36=\"\",\"\",IF('Start - podzim'!H11=\"\",\"\",'Start - podzim'!H11))","v":""},null,null,"","","","","","",""]
[null,32,{"$f":"IF('Start - podzim'!G12=\"\",\"\",'Start - podzim'!G12)","v":""},{"$f":"IF(C37=\"\",\"\",IF('Start - podzim'!H12=\"\",\"\",'Start - podzim'!H12))","v":""},null,null,"","","","","","",""]
[null,33,{"$f":"IF('Start - podzim'!G13=\"\",\"\",'Start - podzim'!G13)","v":""},{"$f":"IF(C38=\"\",\"\",IF('Start - podzim'!H13=\"\",\"\",'Start - podzim'!H13))","v":""},null,null,"","","","","","",""]
[null,34,{"$f":"IF('Start - podzim'!G14=\"\",\"\",'Start - podzim'!G14)","v":""},{"$f":"IF(C39=\"\",\"\",IF('Start - podzim'!H14=\"\",\"\",'Start - podzim'!H14))","v":""},null,null,"","","","","","",""]
[null,35,{"$f":"IF('Start - podzim'!G15=\"\",\"\",'Start - podzim'!G15)","v":""},{"$f":"IF(C40=\"\",\"\",IF('Start - podzim'!H15=\"\",\"\",'Start - podzim'!H15))","v":""},null,null,"","","","","","",""]
[null,36,{"$f":"IF('Start - podzim'!G16=\"\",\"\",'Start - podzim'!G16)","v":""},{"$f":"IF(C41=\"\",\"\",IF('Start - podzim'!H16=\"\",\"\",'Start - podzim'!H16))","v":""},null,null,"","","","","","",""]
[null,37,{"$f":"IF('Start - podzim'!G17=\"\",\"\",'Start - podzim'!G17)","v":""},{"$f":"IF(C42=\"\",\"\",IF('Start - podzim'!H17=\"\",\"\",'Start - podzim'!H17))","v":""},null,null,"","","","","","",""]
[null,38,{"$f":"IF('Start - podzim'!G18=\"\",\"\",'Start - podzim'!G18)","v":""},{"$f":"IF(C43=\"\",\"\",IF('Start - podzim'!H18=\"\",\"\",'Start - podzim'!H18))","v":""},null,null,"","","","","","",""]
[null,39,{"$f":"IF('Start - podzim'!G19=\"\",\"\",'Start - podzim'!G19)","v":""},{"$f":"IF(C44=\"\",\"\",IF('Start - podzim'!H19=\"\",\"\",'Start - podzim'!H19))","v":""},null,null,"","","","","","",""]
[null,40,{"$f":"IF('Start - podzim'!G20=\"\",\"\",'Start - podzim'!G20)","v":""},{"$f":"IF(C45=\"\",\"\",IF('Start - podzim'!H20=\"\",\"\",'Start - podzim'!H20))","v":""},null,null,"","","","","","",""]
[null,41,{"$f":"IF('Start - podzim'!G21=\"\",\"\",'Start - podzim'!G21)","v":""},{"$f":"IF(C46=\"\",\"\",IF('Start - podzim'!H21=\"\",\"\",'Start - podzim'!H21))","v":""},null,null,"","","","","","",""]
[null,42,{"$f":"IF('Start - podzim'!G22=\"\",\"\",'Start - podzim'!G22)","v":""},{"$f":"IF(C47=\"\",\"\",IF('Start - podzim'!H22=\"\",\"\",'Start - podzim'!H22))","v":""},null,null,"","","","","","",""]
[null,43,{"$f":"IF('Start - podzim'!G23=\"\",\"\",'Start - podzim'!G23)","v":""},{"$f":"IF(C48=\"\",\"\",IF('Start - podzim'!H23=\"\",\"\",'Start - podzim'!H23))","v":""},null,null,"","","","","","",""]
[null,44,{"$f":"IF('Start - podzim'!G24=\"\",\"\",'Start - podzim'!G24)","v":""},{"$f":"IF(C49=\"\",\"\",IF('Start - podzim'!H24=\"\",\"\",'Start - podzim'!H24))","v":""},null,null,"","","","","","",""]
[null,45,{"$f":"IF('Start - podzim'!G25=\"\",\"\",'Start - podzim'!G25)","v":""},{"$f":"IF(C50=\"\",\"\",IF('Start - podzim'!H25=\"\",\"\",'Start - podzim'!H25))","v":""},null,null,"","","","","","",""]
[null,46,{"$f":"IF('Start - podzim'!G26=\"\",\"\",'Start - podzim'!G26)","v":""},{"$f":"IF(C51=\"\",\"\",IF('Start - podzim'!H26=\"\",\"\",'Start - podzim'!H26))","v":""},null,null,"","","","","","",""]
[null,47,{"$f":"IF('Start - podzim'!G27=\"\",\"\",'Start - podzim'!G27)","v":""},{"$f":"IF(C52=\"\",\"\",IF('Start - podzim'!H27=\"\",\"\",'Start - podzim'!H27))","v":""},null,null,"","","","","","",""]
[null,48,{"$f":"IF('Start - podzim'!G28=\"\",\"\",'Start - podzim'!G28)","v":""},{"$f":"IF(C53=\"\",\"\",IF('Start - podzim'!H28=\"\",\"\",'Start - podzim'!H28))","v":""},null,null,"","","","","","",""]
[null,49,{"$f":"IF('Start - podzim'!G29=\"\",\"\",'Start - podzim'!G29)","v":""},{"$f":"IF(C54=\"\",\"\",IF('Start - podzim'!H29=\"\",\"\",'Start - podzim'!H29))","v":""},null,null,"","","","","","",""]
[null,50,{"$f":"IF('Start - podzim'!G30=\"\",\"\",'Start - podzim'!G30)","v":""},{"$f":"IF(C55=\"\",\"\",IF('Start - podzim'!H30=\"\",\"\",'Start - podzim'!H30))","v":""},null,null,"","","","","","",""]
[null,51,{"$f":"IF('Start - podzim'!K6=\"\",\"\",'Start - podzim'!K6)","v":""},{"$f":"IF(C56=\"\",\"\",IF('Start - podzim'!L6=\"\",\"\",'Start - podzim'!L6))","v":""},null,null,"","","","","","",""]
[null,52,{"$f":"IF('Start - podzim'!K7=\"\",\"\",'Start - podzim'!K7)","v":""},{"$f":"IF(C57=\"\",\"\",IF('Start - podzim'!L7=\"\",\"\",'Start - podzim'!L7))","v":""},null,null,"","","","","","",""]
[null,53,{"$f":"IF('Start - podzim'!K8=\"\",\"\",'Start - podzim'!K8)","v":""},{"$f":"IF(C58=\"\",\"\",IF('Start - podzim'!L8=\"\",\"\",'Start - podzim'!L8))","v":""},null,null,"","","","","","",""]
[null,54,{"$f":"IF('Start - podzim'!K9=\"\",\"\",'Start - podzim'!K9)","v":""},{"$f":"IF(C59=\"\",\"\",IF('Start - podzim'!L9=\"\",\"\",'Start - podzim'!L9))","v":""},null,null,"","","","","","",""]
[null,55,{"$f":"IF('Start - podzim'!K10=\"\",\"\",'Start - podzim'!K10)","v":""},{"$f":"IF(C60=\"\",\"\",IF('Start - podzim'!L10=\"\",\"\",'Start - podzim'!L10))","v":""},null,null,"","","","","","",""]
[null,56,{"$f":"IF('Start - podzim'!K11=\"\",\"\",'Start - podzim'!K11)","v":""},{"$f":"IF(C61=\"\",\"\",IF('Start - podzim'!L11=\"\",\"\",'Start - podzim'!L11))","v":""},null,null,"","","","","","",""]
[null,57,{"$f":"IF('Start - podzim'!K12=\"\",\"\",'Start - podzim'!K12)","v":""},{"$f":"IF(C62=\"\",\"\",IF('Start - podzim'!L12=\"\",\"\",'Start - podzim'!L12))","v":""},null,null,"","","","","","",""]
[null,58,{"$f":"IF('Start - podzim'!K13=\"\",\"\",'Start - podzim'!K13)","v":""},{"$f":"IF(C63=\"\",\"\",IF('Start - podzim'!L13=\"\",\"\",'Start - podzim'!L13))","v":""},null,null,"","","","","","",""]
[null,59,{"$f":"IF('Start - podzim'!K14=\"\",\"\",'Start - podzim'!K14)","v":""},{"$f":"IF(C64=\"\",\"\",IF('Start - podzim'!L14=\"\",\"\",'Start - podzim'!L14))","v":""},null,null,"","","","","","",""]
[null,60,{"$f":"IF('Start - podzim'!K15=\"\",\"\",'Start - podzim'!K15)","v":""},{"$f":"IF(C65=\"\",\"\",IF('Start - podzim'!L15=\"\",\"\",'Start - podzim'!L15))","v":""},null,null,"","","","","","",""]
[null,61,{"$f":"IF('Start - podzim'!K16=\"\",\"\",'Start - podzim'!K16)","v":""},{"$f":"IF(C66=\"\",\"\",IF('Start - podzim'!L16=\"\",\"\",'Start - podzim'!L16))","v":""},null,null,"","","","","","",""]
[null,62,{"$f":"IF('Start - podzim'!K17=\"\",\"\",'Start - podzim'!K17)","v":""},{"$f":"IF(C67=\"\",\"\",IF('Start - podzim'!L17=\"\",\"\",'Start - podzim'!L17))","v":""},null,null,"","","","","","",""]
[null,63,{"$f":"IF('Start - podzim'!K18=\"\",\"\",'Start - podzim'!K18)","v":""},{"$f":"IF(C68=\"\",\"\",IF('Start - podzim'!L18=\"\",\"\",'Start - podzim'!L18))","v":""},null,null,"","","","","","",""]
[null,64,{"$f":"IF('Start - podzim'!K19=\"\",\"\",'Start - podzim'!K19)","v":""},{"$f":"IF(C69=\"\",\"\",IF('Start - podzim'!L19=\"\",\"\",'Start - podzim'!L19))","v":""},null,null,"","","","","","",""]
[null,65,{"$f":"IF('Start - podzim'!K20=\"\",\"\",'Start - podzim'!K20)","v":""},{"$f":"IF(C70=\"\",\"\",IF('Start - podzim'!L20=\"\",\"\",'Start - podzim'!L20))","v":""},null,null,"","","","","","",""]
[null,66,{"$f":"IF('Start - podzim'!K21=\"\",\"\",'Start - podzim'!K21)","v":""},{"$f":"IF(C71=\"\",\"\",IF('Start - podzim'!L21=\"\",\"\",'Start - podzim'!L21))","v":""},null,null,{"$f":"IF(C71=\"\",\"\",IF(F71>0,IF(AND(E71>0,F71>0,(F71-E71)>0),F71-E71,\"chyba\"),\"X\"))","v":""},{"$f":"IF(C71=\"\",\"\",0)","v":""},{"$f":"IF(C71=\"\",\"\",IF(G71=\"chyba\",\"chyba\",IF(G71=\"X\",\"X\",IF((G71-H71)<0,\"chyba\",G71-H71))))","v":""},{"$f":"IF(C71=\"\",\"\",M71/1440)","v":""},{"$f":"IF(C71=\"\",\"\",IF(I71=\"chyba\",\"chyba\",IF(I71=\"X\",\"X\",IF(C71=\"\",\"X\",IF(T71=\"D\",\"D\",ROUND(SUM(I71:J71),10))))))","v":""},{"$f":"IF(C71=\"\",\"\",IF(K71=\"chyba\",\"CH\",IF(K71=\"X\",\"X\",IF(K71=\"D\",\"D\",RANK(K71,K$6:K$105,1)))))","v":""},{"$f":"IF(C71=\"\",\"\",SUM(N71:S71))","v":""}]
[null,67,{"$f":"IF('Start - podzim'!K22=\"\",\"\",'Start - podzim'!K22)","v":""},{"$f":"IF(C72=\"\",\"\",IF('Start - podzim'!L22=\"\",\"\",'Start - podzim'!L22))","v":""},null,null,"","","","","","",""]
[null,68,{"$f":"IF('Start - podzim'!K23=\"\",\"\",'Start - podzim'!K23)","v":""},{"$f":"IF(C73=\"\",\"\",IF('Start - podzim'!L23=\"\",\"\",'Start - podzim'!L23))","v":""},null,null,"","","","","","",""]
[null,69,{"$f":"IF('Start - podzim'!K24=\"\",\"\",'Start - podzim'!K24)","v":""},{"$f":"IF(C74=\"\",\"\",IF('Start - podzim'!L24=\"\",\"\",'Start - podzim'!L24))","v":""},null,null,"","","","","","",""]
[null,70,{"$f":"IF('Start - podzim'!K25=\"\",\"\",'Start - podzim'!K25)","v":""},{"$f":"IF(C75=\"\",\"\",IF('Start - podzim'!L25=\"\",\"\",'Start - podzim'!L25))","v":""},null,null,"","","","","","",""]
[null,71,{"$f":"IF('Start - podzim'!K26=\"\",\"\",'Start - podzim'!K26)","v":""},{"$f":"IF(C76=\"\",\"\",IF('Start - podzim'!L26=\"\",\"\",'Start - podzim'!L26))","v":""},null,null,"","","","","","",""]
[null,72,{"$f":"IF('Start - podzim'!K27=\"\",\"\",'Start - podzim'!K27)","v":""},{"$f":"IF(C77=\"\",\"\",IF('Start - podzim'!L27=\"\",\"\",'Start - podzim'!L27))","v":""},null,null,"","","","","","",""]
[null,73,{"$f":"IF('Start - podzim'!K28=\"\",\"\",'Start - podzim'!K28)","v":""},{"$f":"IF(C78=\"\",\"\",IF('Start - podzim'!L28=\"\",\"\",'Start - podzim'!L28))","v":""},null,null,"","","","","","",""]
[null,74,{"$f":"IF('Start - podzim'!K29=\"\",\"\",'Start - podzim'!K29)","v":""},{"$f":"IF(C79=\"\",\"\",IF('Start - podzim'!L29=\"\",\"\",'Start - podzim'!L29))","v":""},null,null,"","","","","","",""]
[null,75,{"$f":"IF('Start - podzim'!K30=\"\",\"\",'Start - podzim'!K30)","v":""},{"$f":"IF(C80=\"\",\"\",IF('Start - podzim'!L30=\"\",\"\",'Start - podzim'!L30))","v":""},null,null,"","","","","","",""]
[null,76,{"$f":"IF('Start - podzim'!O6=\"\",\"\",'Start - podzim'!O6)","v":""},{"$f":"IF(C81=\"\",\"\",IF('Start - podzim'!P6=\"\",\"\",'Start - podzim'!P6))","v":""},null,null,"","","","","","",""]
[null,77,{"$f":"IF('Start - podzim'!O7=\"\",\"\",'Start - podzim'!O7)","v":""},{"$f":"IF(C82=\"\",\"\",IF('Start - podzim'!P7=\"\",\"\",'Start - podzim'!P7))","v":""},null,null,"","","","","","",""]
[null,78,{"$f":"IF('Start - podzim'!O8=\"\",\"\",'Start - podzim'!O8)","v":""},{"$f":"IF(C83=\"\",\"\",IF('Start - podzim'!P8=\"\",\"\",'Start - podzim'!P8))","v":""},null,null,"","","","","","",""]
[null,79,{"$f":"IF('Start - podzim'!O9=\"\",\"\",'Start - podzim'!O9)","v":""},{"$f":"IF(C84=\"\",\"\",IF('Start - podzim'!P9=\"\",\"\",'Start - podzim'!P9))","v":""},null,null,"","","","","","",""]
[null,80,{"$f":"IF('Start - podzim'!O10=\"\",\"\",'Start - podzim'!O10)","v":""},{"$f":"IF(C85=\"\",\"\",IF('Start - podzim'!P10=\"\",\"\",'Start - podzim'!P10))","v":""},null,null,"","","","","","",""]
[null,81,{"$f":"IF('Start - podzim'!O11=\"\",\"\",'Start - podzim'!O11)","v":""},{"$f":"IF(C86=\"\",\"\",IF('Start - podzim'!P11=\"\",\"\",'Start - podzim'!P11))","v":""},null,null,"","","","","","",""]
[null,82,{"$f":"IF('Start - podzim'!O12=\"\",\"\",'Start - podzim'!O12)","v":""},{"$f":"IF(C87=\"\",\"\",IF('Start - podzim'!P12=\"\",\"\",'Start - podzim'!P12))","v":""},null,null,"","","","","","",""]
[null,83,{"$f":"IF('Start - podzim'!O13=\"\",\"\",'Start - podzim'!O13)","v":""},{"$f":"IF(C88=\"\",\"\",IF('Start - podzim'!P13=\"\",\"\",'Start - podzim'!P13))","v":""},null,null,"","","","","","",""]
[null,84,{"$f":"IF('Start - podzim'!O14=\"\",\"\",'Start - podzim'!O14)","v":""},{"$f":"IF(C89=\"\",\"\",IF('Start - podzim'!P14=\"\",\"\",'Start - podzim'!P14))","v":""},null,null,"","","","","","",""]
[null,85,{"$f":"IF('Start - podzim'!O15=\"\",\"\",'Start - podzim'!O15)","v":""},{"$f":"IF(C90=\"\",\"\",IF('Start - podzim'!P15=\"\",\"\",'Start - podzim'!P15))","v":""},null,null,"","","","","","",""]
[null,86,{"$f":"IF('Start - podzim'!O16=\"\",\"\",'Start - podzim'!O16)","v":""},{"$f":"IF(C91=\"\",\"\",IF('Start - podzim'!P16=\"\",\"\",'Start - podzim'!P16))","v":""},null,null,"","","","","","",""]
[null,87,{"$f":"IF('Start - podzim'!O17=\"\",\"\",'Start - podzim'!O17)","v":""},{"$f":"IF(C92=\"\",\"\",IF('Start - podzim'!P17=\"\",\"\",'Start - podzim'!P17))","v":""},null,null,"","","","","","",""]
[null,88,{"$f":"IF('Start - podzim'!O18=\"\",\"\",'Start - podzim'!O18)","v":""},{"$f":"IF(C93=\"\",\"\",IF('Start - podzim'!P18=\"\",\"\",'Start - podzim'!P18))","v":""},null,null,"","","","","","",""]
[null,89,{"$f":"IF('Start - podzim'!O19=\"\",\"\",'Start - podzim'!O19)","v":""},{"$f":"IF(C94=\"\",\"\",IF('Start - podzim'!P19=\"\",\"\",'Start - podzim'!P19))","v":""},null,null,"","","","","","",""]
[null,90,{"$f":"IF('Start - podzim'!O20=\"\",\"\",'Start - podzim'!O20)","v":""},{"$f":"IF(C95=\"\",\"\",IF('Start - podzim'!P20=\"\",\"\",'Start - podzim'!P20))","v":""},null,null,"","","","","","",""]
[null,91,{"$f":"IF('Start - podzim'!O21=\"\",\"\",'Start - podzim'!O21)","v":""},{"$f":"IF(C96=\"\",\"\",IF('Start - podzim'!P21=\"\",\"\",'Start - podzim'!P21))","v":""},null,null,"","","","","","",""]
[null,92,{"$f":"IF('Start - podzim'!O22=\"\",\"\",'Start - podzim'!O22)","v":""},{"$f":"IF(C97=\"\",\"\",IF('Start - podzim'!P22=\"\",\"\",'Start - podzim'!P22))","v":""},null,null,"","","","","","",""]
[null,93,{"$f":"IF('Start - podzim'!O23=\"\",\"\",'Start - podzim'!O23)","v":""},{"$f":"IF(C98=\"\",\"\",IF('Start - podzim'!P23=\"\",\"\",'Start - podzim'!P23))","v":""},null,null,"","","","","","",""]
[null,94,{"$f":"IF('Start - podzim'!O24=\"\",\"\",'Start - podzim'!O24)","v":""},{"$f":"IF(C99=\"\",\"\",IF('Start - podzim'!P24=\"\",\"\",'Start - podzim'!P24))","v":""},null,null,"","","","","","",""]
[null,95,{"$f":"IF('Start - podzim'!O25=\"\",\"\",'Start - podzim'!O25)","v":""},{"$f":"IF(C100=\"\",\"\",IF('Start - podzim'!P25=\"\",\"\",'Start - podzim'!P25))","v":""},null,null,"","","","","","",""]
[null,96,{"$f":"IF('Start - podzim'!O26=\"\",\"\",'Start - podzim'!O26)","v":""},{"$f":"IF(C101=\"\",\"\",IF('Start - podzim'!P26=\"\",\"\",'Start - podzim'!P26))","v":""},null,null,"","","","","","",""]
[null,97,{"$f":"IF('Start - podzim'!O27=\"\",\"\",'Start - podzim'!O27)","v":""},{"$f":"IF(C102=\"\",\"\",IF('Start - podzim'!P27=\"\",\"\",'Start - podzim'!P27))","v":""},null,null,"","","","","","",""]
[null,98,{"$f":"IF('Start - podzim'!O28=\"\",\"\",'Start - podzim'!O28)","v":""},{"$f":"IF(C103=\"\",\"\",IF('Start - podzim'!P28=\"\",\"\",'Start - podzim'!P28))","v":""},null,null,"","","","","","",""]
[null,99,{"$f":"IF('Start - podzim'!O29=\"\",\"\",'Start - podzim'!O29)","v":""},{"$f":"IF(C104=\"\",\"\",IF('Start - podzim'!P29=\"\",\"\",'Start - podzim'!P29))","v":""},null,null,"","","","","","",""]
[null,100,{"$f":"IF('Start - podzim'!O30=\"\",\"\",'Start - podzim'!O30)","v":""},{"$f":"IF(C105=\"\",\"\",IF('Start - podzim'!P30=\"\",\"\",'Start - podzim'!P30))","v":""},null,null,"","","","","","",""]

{"sheet":"V.l.ZPV","index":4,"n_rows":5,"n_cols":9,"rows_kept":5,"cut":false,"hidden":false,"merged":[[3,2,3,3],[3,7,3,8],[2,2,2,3],[0,1,0,8],[2,7,2,8]]}
[null,"Výsledková listina - ZPV"]
[]
[null,null,"Pořadí hlídek",null,null,null,null,"Pořadí sborů"]
[null,null,{"$f":"'Start - podzim'!N2","v":"STARŠÍ"},null,null,null,null,{"$f":"'Start - podzim'!N2","v":"STARŠÍ"}]
[null,"Poř.","SDH","hl.",null,null,"Poř.","SDH","hl."]

{"sheet":"Start - jaro","index":5,"n_rows":30,"n_cols":16,"rows_kept":30,"cut":false,"hidden":false,"merged":[[2,1,2,3],[2,5,2,7],[2,9,2,11],[2,13,2,15],[0,2,0,14],[1,1,1,7],[1,9,1,11],[1,13,1,15]]}
[null,null,"Startovní listina - Jaro"]
[null,{"$f":"'Start - podzim'!B2","v":"Krajská soutěž HRY PLAMEN"},null,null,null,null,null,null,null,"kategorie:",null,null,null,{"$f":"'Start - podzim'!N2","v":"STARŠÍ"}]
[null,"datum:",null,null,null,"2020/2021",null,null,null,"místo:",null,null,null,"České Budějovice"]
[]
[null,"st.č.","SDH","okr",null,"st.č.","SDH",{"$f":"D5","v":"okr"},null,"st.č.","SDH",{"$f":"D5","v":"okr"},null,"st.č.","SDH",{"$f":"D5","v":"okr"}]
[null,1,"Srubec (ČB)","ČB",null,26,null,null,null,51,null,null,null,76]
[null,2,"Zhoř u Tábora (TÁ)","TÁ",null,27,null,null,null,52,null,null,null,77]
[null,3,"Svatá Maří (PT)","PT",null,28,null,null,null,53,null,null,null,78]
[null,4,"Drahonice (ST)","ST",null,29,null,null,null,54,null,null,null,79]
[null,5,"Dobrošov (PÍ)","PÍ",null,30,null,null,null,55,null,null,null,80]
[null,6,"Plešovice (ČK)","ČK",null,31,null,null,null,56,null,null,null,81]
[null,7,null,null,null,32,null,null,null,57,null,null,null,82]
[null,8,null,null,null,33,null,null,null,58,null,null,null,83]
[null,9,null,null,null,34,null,null,null,59,null,null,null,84]
[null,10,null,null,null,35,null,null,null,60,null,null,null,85]
[null,11,null,null,null,36,null,null,null,61,null,null,null,86]
[null,12,null,null,null,37,null,null,null,62,null,null,null,87]
[null,13,null,null,null,38,null,null,null,63,null,null,null,88]
[null,14,null,null,null,39,null,null,null,64,null,null,null,89]
[null,15,null,null,null,40,null,null,null,65,null,null,null,90]
[null,16,null,null,null,41,null,null,null,66,null,null,null,91]
[null,17,null,null,null,42,null,null,null,67,null,null,null,92]
[null,18,null,null,null,43,null,null,null,68,null,null,null,93]
[null,19,null,null,null,44,null,null,null,69,null,null,null,94]
[null,20,null,null,null,45,null,null,null,70,null,null,null,95]
[null,21,null,null,null,46,null,null,null,71,null,null,null,96]
[null,22,null,null,null,47,null,null,null,72,null,null,null,97]
[null,23,null,null,null,48,null,null,null,73,null,null,null,98]
[null,24,null,null,null,49,null,null,null,74,null,null,null,99]
[null,25,null,null,null,50,null,null,null,75,null,null,null,100]

{"sheet":"Pozn.","index":6,"n_rows":1,"n_cols":2,"rows_kept":1,"cut":false,"hidden":false,"merged":[[0,1,0,10]]}
[null,"Poznámky:"]

{"sheet":"Št.dvojic","index":7,"n_rows":310,"n_cols":24,"rows_kept":310,"cut":false,"hidden":false,"merged":[[46,23,47,23],[48,23,49,23],[50,23,51,23],[52,23,53,23],[102,3,103,3],[54,23,55,23],[56,23,57,23],[58,23,59,23],[60,23,61,23],[60,22,61,22],[56,22,57,22],[58,22,59,22],[98,18,103,18],[98,19,103,19],[99,20,103,20],[99,21,103,21],[98,9,103,9],[98,10,103,10],[98,11,103,11],[98,12,103,12],[98,13,103,13],[97,1,99,3],[97,4,99,7],[97,8,97,19],[23,23,24,23],[25,23,26,23],[27,23,28,23],[29,23,30,23],[42,23,43,23],[44,23,45,23],[11,23,12,23],[13,23,14,23],[15,23,16,23],[17,23,18,23],[19,23,20,23],[21,23,22,23],[44,22,45,22],[46,22,47,22],[48,22,49,22],[50,22,51,22],[52,22,53,22],[54,22,55,22],[21,22,22,22],[23,22,24,22],[25,22,26,22],[27,22,28,22],[29,22,30,22],[42,22,43,22],[11,22,12,22],[13,22,14,22],[15,22,16,22],[17,22,18,22],[19,22,20,22],[58,0,59,0],[60,0,61,0],[93,1,95,14],[93,15,96,21],[96,1,96,14],[11,0,12,0],[13,0,14,0],[15,0,16,0],[17,0,18,0],[19,0,20,0],[21,0,22,0],[69,7,72,7],[79,2,80,2],[79,21,80,21],[71,1,72,1],[71,2,72,2],[71,3,72,3],[67,15,72,15],[73,2,74,2],[46,0,47,0],[48,0,49,0],[50,0,51,0],[52,0,53,0],[54,0,55,0],[56,0,57,0],[23,0,24,0],[25,0,26,0],[27,0,28,0],[29,0,30,0],[42,0,43,0],[44,0,45,0],[62,1,64,14],[62,15,65,21],[65,1,65,14],[66,1,68,3],[66,4,68,7],[66,8,66,19],[66,20,67,21],[67,8,72,8],[67,9,72,9],[67,10,72,10],[67,19,72,19],[68,20,72,20],[68,21,72,21],[69,1,70,3],[67,16,72,16],[67,17,72,17],[67,18,72,18],[67,11,72,11],[67,12,72,12],[67,13,72,13],[67,14,72,14],[69,4,72,4],[69,5,72,5],[69,6,72,6],[60,1,61,1],[60,2,61,2],[60,21,61,21],[58,1,59,1],[58,2,59,2],[58,21,59,21],[56,1,57,1],[56,2,57,2],[56,21,57,21],[54,1,55,1],[54,2,55,2],[54,21,55,21],[52,1,53,1],[52,2,53,2],[52,21,53,21],[50,1,51,1],[50,2,51,2],[50,21,51,21],[48,1,49,1],[48,2,49,2],[48,21,49,21],[46,1,47,1],[46,2,47,2],[46,21,47,21],[38,6,41,6],[44,1,45,1],[44,2,45,2],[44,21,45,21],[42,1,43,1],[42,2,43,2],[42,21,43,21],[40,1,41,1],[40,2,41,2],[40,3,41,3],[38,1,39,3],[38,4,41,4],[38,5,41,5],[37,21,41,21],[36,15,41,15],[36,16,41,16],[36,17,41,17],[36,18,41,18],[38,7,41,7],[36,11,41,11],[36,12,41,12],[36,13,41,13],[36,14,41,14],[36,19,41,19],[37,20,41,20],[31,1,33,14],[31,15,34,21],[34,1,34,14],[35,1,37,3],[35,4,37,7],[35,8,35,19],[35,20,36,21],[36,8,41,8],[36,9,41,9],[36,10,41,10],[29,1,30,1],[29,2,30,2],[29,21,30,21],[27,1,28,1],[27,2,28,2],[27,21,28,21],[25,1,26,1],[25,2,26,2],[25,21,26,21],[17,21,18,21],[15,1,16,1],[15,2,16,2],[15,21,16,21],[13,1,14,1],[13,2,14,2],[13,21,14,21],[23,1,24,1],[23,2,24,2],[23,21,24,21],[21,1,22,1],[21,2,22,2],[21,21,22,21],[19,1,20,1],[19,2,20,2],[19,21,20,21],[5,17,10,17],[5,18,10,18],[5,9,10,9],[5,10,10,10],[5,11,10,11],[5,12,10,12],[5,13,10,13],[5,14,10,14],[17,1,18,1],[17,2,18,2],[0,1,2,14],[0,15,3,21],[3,1,3,14],[4,1,6,3],[4,4,6,7],[4,8,4,19],[4,20,5,21],[5,8,10,8],[11,1,12,1],[11,2,12,2],[11,21,12,21],[7,7,10,7],[9,1,10,1],[9,2,10,2],[9,3,10,3],[7,1,8,3],[7,4,10,4],[7,5,10,5],[7,6,10,6],[5,19,10,19],[6,20,10,20],[6,21,10,21],[5,15,10,15],[5,16,10,16],[120,2,121,2],[120,21,121,21],[114,1,115,1],[114,2,115,2],[114,21,115,21],[116,1,117,1],[116,2,117,2],[116,21,117,21],[73,22,74,22],[77,22,78,22],[81,22,82,22],[85,22,86,22],[89,22,90,22],[108,2,109,2],[108,21,109,21],[73,21,74,21],[97,20,98,21],[98,8,103,8],[81,2,82,2],[81,21,82,21],[87,2,88,2],[87,21,88,21],[89,1,90,1],[89,2,90,2],[73,23,74,23],[75,0,76,0],[75,22,76,22],[75,23,76,23],[73,0,74,0],[75,1,76,1],[75,2,76,2],[75,21,76,21],[73,1,74,1],[77,23,78,23],[79,0,80,0],[79,22,80,22],[79,23,80,23],[77,0,78,0],[77,1,78,1],[77,2,78,2],[77,21,78,21],[79,1,80,1],[81,23,82,23],[83,0,84,0],[83,22,84,22],[83,23,84,23],[81,0,82,0],[83,1,84,1],[83,2,84,2],[83,21,84,21],[81,1,82,1],[85,23,86,23],[87,0,88,0],[87,22,88,22],[87,23,88,23],[85,0,86,0],[85,1,86,1],[85,2,86,2],[85,21,86,21],[87,1,88,1],[89,23,90,23],[91,0,92,0],[91,22,92,22],[91,23,92,23],[89,0,90,0],[91,1,92,1],[91,2,92,2],[91,21,92,21],[104,22,105,22],[104,23,105,23],[89,21,90,21],[100,6,103,6],[102,1,103,1],[102,2,103,2],[98,14,103,14],[98,15,103,15],[98,16,103,16],[98,17,103,17],[100,7,103,7],[104,1,105,1],[104,2,105,2],[100,1,101,3],[100,4,103,4],[100,5,103,5],[106,0,107,0],[106,22,107,22],[106,23,107,23],[104,0,105,0],[106,1,107,1],[106,2,107,2],[106,21,107,21],[104,21,105,21],[108,22,109,22],[108,23,109,23],[108,0,109,0],[110,1,111,1],[110,2,111,2],[110,21,111,21],[108,1,109,1],[118,21,119,21],[112,0,113,0],[112,22,113,22],[112,23,113,23],[114,0,115,0],[114,22,115,22],[114,23,115,23],[112,1,113,1],[112,2,113,2],[112,21,113,21],[116,0,117,0],[116,22,117,22],[116,23,117,23],[118,0,119,0],[118,22,119,22],[118,23,119,23],[118,1,119,1],[118,2,119,2],[110,0,111,0],[110,22,111,22],[110,23,111,23],[120,0,121,0],[120,22,121,22],[120,23,121,23],[122,0,123,0],[122,22,123,22],[122,23,123,23],[122,1,123,1],[122,2,123,2],[129,13,134,13],[129,14,134,14],[124,1,126,14],[124,15,127,21],[127,1,127,14],[128,1,130,3],[128,4,130,7],[128,8,128,19],[128,20,129,21],[129,8,134,8],[130,21,134,21],[131,1,132,3],[131,4,134,4],[131,5,134,5],[122,21,123,21],[120,1,121,1],[131,6,134,6],[131,7,134,7],[133,1,134,1],[133,2,134,2],[129,15,134,15],[129,16,134,16],[133,3,134,3],[135,0,136,0],[135,1,136,1],[135,2,136,2],[129,9,134,9],[129,10,134,10],[129,19,134,19],[130,20,134,20],[129,17,134,17],[129,18,134,18],[129,11,134,11],[129,12,134,12],[135,21,136,21],[135,22,136,22],[135,23,136,23],[137,0,138,0],[137,1,138,1],[137,2,138,2],[137,21,138,21],[137,22,138,22],[137,23,138,23],[141,0,142,0],[141,1,142,1],[141,2,142,2],[141,21,142,21],[139,0,140,0],[139,1,140,1],[139,2,140,2],[139,21,140,21],[139,22,140,22],[139,23,140,23],[141,22,142,22],[141,23,142,23],[143,22,144,22],[143,23,144,23],[145,22,146,22],[145,23,146,23],[143,0,144,0],[143,1,144,1],[145,0,146,0],[145,1,146,1],[145,2,146,2],[145,21,146,21],[143,2,144,2],[143,21,144,21],[149,0,150,0],[149,1,150,1],[149,2,150,2],[149,21,150,21],[147,0,148,0],[147,1,148,1],[147,2,148,2],[147,21,148,21],[151,2,152,2],[151,21,152,21],[151,0,152,0],[151,1,152,1],[147,22,148,22],[147,23,148,23],[149,22,150,22],[149,23,150,23],[151,22,152,22],[151,23,152,23],[160,9,165,9],[160,10,165,10],[153,22,154,22],[153,23,154,23],[153,0,154,0],[153,1,154,1],[153,2,154,2],[153,21,154,21],[160,13,165,13],[160,14,165,14],[155,1,157,14],[155,15,158,21],[158,1,158,14],[159,1,161,3],[159,4,161,7],[159,8,159,19],[159,20,160,21],[160,8,165,8],[161,21,165,21],[162,1,163,3],[162,4,165,4],[162,5,165,5],[162,6,165,6],[162,7,165,7],[164,1,165,1],[164,2,165,2],[160,15,165,15],[160,16,165,16],[164,3,165,3],[166,0,167,0],[166,1,167,1],[166,2,167,2],[160,19,165,19],[161,20,165,20],[160,17,165,17],[160,18,165,18],[160,11,165,11],[160,12,165,12],[166,21,167,21],[166,22,167,22],[166,23,167,23],[168,0,169,0],[168,1,169,1],[168,2,169,2],[168,21,169,21],[168,22,169,22],[168,23,169,23],[170,23,171,23],[172,22,173,22],[172,23,173,23],[174,22,175,22],[174,23,175,23],[176,22,177,22],[176,23,177,23],[174,0,175,0],[174,1,175,1],[176,0,177,0],[176,1,177,1],[176,2,177,2],[176,21,177,21],[174,2,175,2],[174,21,175,21],[172,0,173,0],[172,1,173,1],[172,2,173,2],[172,21,173,21],[170,0,171,0],[170,1,171,1],[170,2,171,2],[170,21,171,21],[170,22,171,22],[180,0,181,0],[180,1,181,1],[180,2,181,2],[180,21,181,21],[178,0,179,0],[178,1,179,1],[178,2,179,2],[178,21,179,21],[182,2,183,2],[182,21,183,21],[182,0,183,0],[182,1,183,1],[178,22,179,22],[178,23,179,23],[180,22,181,22],[180,23,181,23],[182,22,183,22],[182,23,183,23],[191,9,196,9],[191,10,196,10],[184,22,185,22],[184,23,185,23],[184,0,185,0],[184,1,185,1],[184,2,185,2],[184,21,185,21],[191,13,196,13],[191,14,196,14],[186,1,188,14],[186,15,189,21],[189,1,189,14],[190,1,192,3],[190,4,192,7],[190,8,190,19],[190,20,191,21],[191,8,196,8],[192,21,196,21],[193,1,194,3],[193,4,196,4],[193,5,196,5],[193,6,196,6],[193,7,196,7],[195,1,196,1],[195,2,196,2],[191,15,196,15],[191,16,196,16],[195,3,196,3],[197,0,198,0],[197,1,198,1],[197,2,198,2],[191,19,196,19],[192,20,196,20],[191,17,196,17],[191,18,196,18],[191,11,196,11],[191,12,196,12],[197,21,198,21],[197,22,198,22],[197,23,198,23],[199,0,200,0],[199,1,200,1],[199,2,200,2],[199,21,200,21],[199,22,200,22],[199,23,200,23],[201,23,202,23],[203,22,204,22],[203,23,204,23],[205,22,206,22],[205,23,206,23],[207,22,208,22],[207,23,208,23],[205,0,206,0],[205,1,206,1],[207,0,208,0],[207,1,208,1],[207,2,208,2],[207,21,208,21],[205,2,206,2],[205,21,206,21],[203,0,204,0],[203,1,204,1],[203,2,204,2],[203,21,204,21],[201,0,202,0],[201,1,202,1],[201,2,202,2],[201,21,202,21],[201,22,202,22],[211,0,212,0],[211,1,212,1],[211,2,212,2],[211,21,212,21],[209,0,210,0],[209,1,210,1],[209,2,210,2],[209,21,210,21],[213,2,214,2],[213,21,214,21],[213,0,214,0],[213,1,214,1],[209,22,210,22],[209,23,210,23],[211,22,212,22],[211,23,212,23],[213,22,214,22],[213,23,214,23],[222,9,227,9],[222,10,227,10],[215,22,216,22],[215,23,216,23],[215,0,216,0],[215,1,216,1],[215,2,216,2],[215,21,216,21],[222,13,227,13],[222,14,227,14],[217,1,219,14],[217,15,220,21],[220,1,220,14],[221,1,223,3],[221,4,223,7],[221,8,221,19],[221,20,222,21],[222,8,227,8],[223,21,227,21],[224,1,225,3],[224,4,227,4],[224,5,227,5],[224,6,227,6],[224,7,227,7],[226,1,227,1],[226,2,227,2],[222,15,227,15],[222,16,227,16],[226,3,227,3],[228,0,229,0],[228,1,229,1],[228,2,229,2],[222,19,227,19],[223,20,227,20],[222,17,227,17],[222,18,227,18],[222,11,227,11],[222,12,227,12],[228,21,229,21],[228,22,229,22],[228,23,229,23],[230,0,231,0],[230,1,231,1],[230,2,231,2],[230,21,231,21],[230,22,231,22],[230,23,231,23],[232,23,233,23],[234,22,235,22],[234,23,235,23],[236,22,237,22],[236,23,237,23],[238,22,239,22],[238,23,239,23],[236,0,237,0],[236,1,237,1],[238,0,239,0],[238,1,239,1],[238,2,239,2],[238,21,239,21],[236,2,237,2],[236,21,237,21],[234,0,235,0],[234,1,235,1],[234,2,235,2],[234,21,235,21],[232,0,233,0],[232,1,233,1],[232,2,233,2],[232,21,233,21],[232,22,233,22],[242,0,243,0],[242,1,243,1],[242,2,243,2],[242,21,243,21],[240,0,241,0],[240,1,241,1],[240,2,241,2],[240,21,241,21],[244,2,245,2],[244,21,245,21],[244,0,245,0],[244,1,245,1],[240,22,241,22],[240,23,241,23],[242,22,243,22],[242,23,243,23],[244,22,245,22],[244,23,245,23],[253,9,258,9],[253,10,258,10],[246,22,247,22],[246,23,247,23],[246,0,247,0],[246,1,247,1],[246,2,247,2],[246,21,247,21],[253,13,258,13],[253,14,258,14],[248,1,250,14],[248,15,251,21],[251,1,251,14],[252,1,254,3],[252,4,254,7],[252,8,252,19],[252,20,253,21],[253,8,258,8],[254,21,258,21],[255,1,256,3],[255,4,258,4],[255,5,258,5],[255,6,258,6],[255,7,258,7],[257,1,258,1],[257,2,258,2],[253,15,258,15],[253,16,258,16],[257,3,258,3],[259,0,260,0],[259,1,260,1],[259,2,260,2],[253,19,258,19],[254,20,258,20],[253,17,258,17],[253,18,258,18],[253,11,258,11],[253,12,258,12],[259,21,260,21],[259,22,260,22],[259,23,260,23],[261,0,262,0],[261,1,262,1],[261,2,262,2],[261,21,262,21],[261,22,262,22],[261,23,262,23],[263,23,264,23],[265,22,266,22],[265,23,266,23],[267,22,268,22],[267,23,268,23],[269,22,270,22],[269,23,270,23],[267,0,268,0],[267,1,268,1],[269,0,270,0],[269,1,270,1],[269,2,270,2],[269,21,270,21],[267,2,268,2],[267,21,268,21],[265,0,266,0],[265,1,266,1],[265,2,266,2],[265,21,266,21],[263,0,264,0],[263,1,264,1],[263,2,264,2],[263,21,264,21],[263,22,264,22],[273,0,274,0],[273,1,274,1],[273,2,274,2],[273,21,274,21],[271,0,272,0],[271,1,272,1],[271,2,272,2],[271,21,272,21],[275,2,276,2],[275,21,276,21],[275,0,276,0],[275,1,276,1],[271,22,272,22],[271,23,272,23],[273,22,274,22],[273,23,274,23],[275,22,276,22],[275,23,276,23],[284,9,289,9],[284,10,289,10],[277,22,278,22],[277,23,278,23],[277,0,278,0],[277,1,278,1],[277,2,278,2],[277,21,278,21],[284,13,289,13],[284,14,289,14],[279,1,281,14],[279,15,282,21],[282,1,282,14],[283,1,285,3],[283,4,285,7],[283,8,283,19],[283,20,284,21],[284,8,289,8],[285,21,289,21],[286,1,287,3],[286,4,289,4],[286,5,289,5],[286,6,289,6],[286,7,289,7],[288,1,289,1],[288,2,289,2],[284,15,289,15],[284,16,289,16],[288,3,289,3],[290,0,291,0],[290,1,291,1],[290,2,291,2],[284,19,289,19],[285,20,289,20],[284,17,289,17],[284,18,289,18],[284,11,289,11],[284,12,289,12],[290,21,291,21],[290,22,291,22],[290,23,291,23],[292,0,293,0],[292,1,293,1],[292,2,293,2],[292,21,293,21],[292,22,293,22],[292,23,293,23],[294,23,295,23],[296,22,297,22],[296,23,297,23],[298,22,299,22],[298,23,299,23],[300,22,301,22],[300,23,301,23],[298,0,299,0],[298,1,299,1],[300,0,301,0],[300,1,301,1],[300,2,301,2],[300,21,301,21],[298,2,299,2],[298,21,299,21],[296,0,297,0],[296,1,297,1],[296,2,297,2],[296,21,297,21],[294,0,295,0],[294,1,295,1],[294,2,295,2],[294,21,295,21],[294,22,295,22],[302,23,303,23],[304,22,305,22],[304,23,305,23],[306,22,307,22],[306,23,307,23],[308,22,309,22],[308,23,309,23],[306,0,307,0],[306,1,307,1],[308,0,309,0],[308,1,309,1],[308,2,309,2],[308,21,309,21],[306,2,307,2],[306,21,307,21],[304,0,305,0],[304,1,305,1],[304,2,305,2],[304,21,305,21],[302,0,303,0],[302,1,303,1],[302,2,303,2],[302,21,303,21],[302,22,303,22]]}
[null,"CELOSTÁTNÍ HRA PLAMEN"]
[]
[]
[null,"Výsledková listina č: 1"]
[null,"Štafeta požárních dvojic",null,null,"Základem je čas naměřený od vydání signálu startéra do proběhnutí posledního člena cílem",null,null,null,"K úřednímu času se připočítávají trest. Sekundy - za každý případ 10 sekund",null,null,null,null,null,null,null,null,null,null,null,"Výsledek soutěže"]
[null,null,null,null,null,null,null,null,"předčasné vyběhnutí","nesvinutí rozpadlého kotouče","nerozložení hadice proudnice na, nebo za čarou","nesprávné napojení hadice na proudnici či hydr. nástavec","nesprávné rozvinutí hadice u hydr. nástavce","neoběhnutí nebo nesprávné oběhnutí mety","neúplné svinutí mezi metou a nástavcem hydrantu","hození hadice nebo proudnice","chození po nesprávné straně hadicového vedení","nesprávné svinutí (dvojité přeložení)","za nesprávné odpojení proudnice nebo hadice","za pomoc při svinování hadice"]
[null,null,null,null,null,null,null,null,null,null,null,null,null,null,null,null,null,null,null,null,"součet trest. Sekund a úředního času","počet bodů za umístění"]
[null,{"$f":"\"KATEGORIE: \"&'Start - podzim'!$N$2","v":"KATEGORIE: STARŠÍ"},null,null,"I. časoměřič","II. časoměřič","III. časoměřič","úřední čas"]
[]
[null,"start. číslo","SOUTĚŽNÍ DRUŽSTVO","pokus"]
[]
[{"$f":"IF('Start - jaro'!E6=\"\",\"\",\"x\")","v":""},1,{"$f":"IF('Start - jaro'!C6=\"\",\"\",'Start - jaro'!C6)","v":"Srubec (ČB)"},"I.pokus",58.93,56.9,58.41,{"$f":"IF($C12=\"\",\"\",IF(OR($E12=\"DNF\",$F12=\"DNF\",$G12=\"DNF\"),\"DNF\",IF(OR($E12=\"NP\",$F12=\"NP\",$G12=\"NP\"),\"NP\",IF(ISERROR(MEDIAN($E12:$G12)),\"DNF\",IF(COUNT($E12:$G12)<3,MAX($E12:$G12),MEDIAN($E12:$G12))))))","v":58.41},0,0,0,0,0,0,0,0,0,0,0,0,{"$f":"IF(H12=\"\",\"\",IF(H12=\"NP\",\"NP\",IF(H12=\"DNF\",\"DNF\",SUM(I12:T12)+H12)))","v":58.41},{"$f":"IF(C12=\"x\",\"x\",IF(C12=\"\",\"\",IF(OR(W12=\"NP\",W12=\"DNF\"),IF(W12=\"NP\",MAX(W$12:W$309)+COUNTIF((W$12:W$309),MAX(W$12:W$309)),MAX(W$12:W$309)+COUNTIF((W$12:W$309),MAX(W$12:W$309))+COUNTIF((W$12:W$309),\"NP\")),W12)))","v":2},{"$f":"IF(A12=\"x\",\"x\",IF(C12=\"\",\"\",IF(OR(X12=\"NP\",X12=\"DNF\"),X12,RANK(X12,X$12:X$309,1))))","v":2},{"$f":"IF(A12=\"x\",\"x\",IF(C12=\"\",\"\",IF(OR(AND(U12=\"NP\",U13=\"NP\"),AND(U12=\"DNF\",U13=\"DNF\")),U12,IF(AND(U12=\"NP\",U13=\"DNF\"),U12,IF(AND(U12=\"DNF\",U13=\"NP\"),U13,MIN(U12,U13))))))","v":58.41}]
[null,null,null,"II.pokus",61.7,61.28,59,{"$f":"IF($C12=\"\",\"\",IF(OR($E13=\"DNF\",$F13=\"DNF\",$G13=\"DNF\"),\"DNF\",IF(OR($E13=\"NP\",$F13=\"NP\",$G13=\"NP\"),\"NP\",IF(ISERROR(MEDIAN($E13:$G13)),\"DNF\",IF(COUNT($E13:$G13)<3,MAX($E13:$G13),MEDIAN($E13:$G13))))))","v":61.28},0,0,0,0,0,0,0,0,0,0,0,0,61.28]
[{"$f":"IF('Start - jaro'!E7=\"\",\"\",\"x\")","v":""},2,{"$f":"IF('Start - jaro'!C7=\"\",\"\",'Start - jaro'!C7)","v":"Zhoř u Tábora (TÁ)"},"I.pokus",64.59,60.57,64.16,{"$f":"IF($C14=\"\",\"\",IF(OR($E14=\"DNF\",$F14=\"DNF\",$G14=\"DNF\"),\"DNF\",IF(OR($E14=\"NP\",$F14=\"NP\",$G14=\"NP\"),\"NP\",IF(ISERROR(MEDIAN($E14:$G14)),\"DNF\",IF(COUNT($E14:$G14)<3,MAX($E14:$G14),MEDIAN($E14:$G14))))))","v":64.16},0,0,0,0,0,0,0,0,0,0,0,0,64.16,{"$f":"IF(C14=\"x\",\"x\",IF(C14=\"\",\"\",IF(OR(W14=\"NP\",W14=\"DNF\"),IF(W14=\"NP\",MAX(W$12:W$309)+COUNTIF((W$12:W$309),MAX(W$12:W$309)),MAX(W$12:W$309)+COUNTIF((W$12:W$309),MAX(W$12:W$309))+COUNTIF((W$12:W$309),\"NP\")),W14)))","v":6},{"$f":"IF(A14=\"x\",\"x\",IF(C14=\"\",\"\",IF(OR(X14=\"NP\",X14=\"DNF\"),X14,RANK(X14,X$12:X$309,1))))","v":6},{"$f":"IF(A14=\"x\",\"x\",IF(C14=\"\",\"\",IF(OR(AND(U14=\"NP\",U15=\"NP\"),AND(U14=\"DNF\",U15=\"DNF\")),U14,IF(AND(U14=\"NP\",U15=\"DNF\"),U14,IF(AND(U14=\"DNF\",U15=\"NP\"),U15,MIN(U14,U15))))))","v":64.16}]
[null,null,null,"II.pokus",65.78,65.22,null,{"$f":"IF($C14=\"\",\"\",IF(OR($E15=\"DNF\",$F15=\"DNF\",$G15=\"DNF\"),\"DNF\",IF(OR($E15=\"NP\",$F15=\"NP\",$G15=\"NP\"),\"NP\",IF(ISERROR(MEDIAN($E15:$G15)),\"DNF\",IF(COUNT($E15:$G15)<3,MAX($E15:$G15),MEDIAN($E15:$G15))))))","v":65.78},0,0,0,0,0,0,0,0,0,0,0,0,65.78]
[{"$f":"IF('Start - jaro'!E8=\"\",\"\",\"x\")","v":""},3,{"$f":"IF('Start - jaro'!C8=\"\",\"\",'Start - jaro'!C8)","v":"Svatá Maří (PT)"},"I.pokus",58.03,58.03,58.02,{"$f":"IF($C16=\"\",\"\",IF(OR($E16=\"DNF\",$F16=\"DNF\",$G16=\"DNF\"),\"DNF\",IF(OR($E16=\"NP\",$F16=\"NP\",$G16=\"NP\"),\"NP\",IF(ISERROR(MEDIAN($E16:$G16)),\"DNF\",IF(COUNT($E16:$G16)<3,MAX($E16:$G16),MEDIAN($E16:$G16))))))","v":58.03},0,0,0,0,0,0,0,0,0,0,0,0,58.03,{"$f":"IF(C16=\"x\",\"x\",IF(C16=\"\",\"\",IF(OR(W16=\"NP\",W16=\"DNF\"),IF(W16=\"NP\",MAX(W$12:W$309)+COUNTIF((W$12:W$309),MAX(W$12:W$309)),MAX(W$12:W$309)+COUNTIF((W$12:W$309),MAX(W$12:W$309))+COUNTIF((W$12:W$309),\"NP\")),W16)))","v":1},{"$f":"IF(A16=\"x\",\"x\",IF(C16=\"\",\"\",IF(OR(X16=\"NP\",X16=\"DNF\"),X16,RANK(X16,X$12:X$309,1))))","v":1},{"$f":"IF(A16=\"x\",\"x\",IF(C16=\"\",\"\",IF(OR(AND(U16=\"NP\",U17=\"NP\"),AND(U16=\"DNF\",U17=\"DNF\")),U16,IF(AND(U16=\"NP\",U17=\"DNF\"),U16,IF(AND(U16=\"DNF\",U17=\"NP\"),U17,MIN(U16,U17))))))","v":58.03}]
[null,null,null,"II.pokus",72,71.33,71.31,{"$f":"IF($C16=\"\",\"\",IF(OR($E17=\"DNF\",$F17=\"DNF\",$G17=\"DNF\"),\"DNF\",IF(OR($E17=\"NP\",$F17=\"NP\",$G17=\"NP\"),\"NP\",IF(ISERROR(MEDIAN($E17:$G17)),\"DNF\",IF(COUNT($E17:$G17)<3,MAX($E17:$G17),MEDIAN($E17:$G17))))))","v":71.33},0,0,0,0,0,0,0,0,0,0,0,0,71.33]
[{"$f":"IF('Start - jaro'!E9=\"\",\"\",\"x\")","v":""},4,{"$f":"IF('Start - jaro'!C9=\"\",\"\",'Start - jaro'!C9)","v":"Drahonice (ST)"},"I.pokus",64.430000000000007,64.25,64.27,{"$f":"IF($C18=\"\",\"\",IF(OR($E18=\"DNF\",$F18=\"DNF\",$G18=\"DNF\"),\"DNF\",IF(OR($E18=\"NP\",$F18=\"NP\",$G18=\"NP\"),\"NP\",IF(ISERROR(MEDIAN($E18:$G18)),\"DNF\",IF(COUNT($E18:$G18)<3,MAX($E18:$G18),MEDIAN($E18:$G18))))))","v":64.27},0,0,0,0,0,0,0,0,0,0,0,0,64.27,{"$f":"IF(C18=\"x\",\"x\",IF(C18=\"\",\"\",IF(OR(W18=\"NP\",W18=\"DNF\"),IF(W18=\"NP\",MAX(W$12:W$309)+COUNTIF((W$12:W$309),MAX(W$12:W$309)),MAX(W$12:W$309)+COUNTIF((W$12:W$309),MAX(W$12:W$309))+COUNTIF((W$12:W$309),\"NP\")),W18)))","v":4},{"$f":"IF(A18=\"x\",\"x\",IF(C18=\"\",\"\",IF(OR(X18=\"NP\",X18=\"DNF\"),X18,RANK(X18,X$12:X$309,1))))","v":4},{"$f":"IF(A18=\"x\",\"x\",IF(C18=\"\",\"\",IF(OR(AND(U18=\"NP\",U19=\"NP\"),AND(U18=\"DNF\",U19=\"DNF\")),U18,IF(AND(U18=\"NP\",U19=\"DNF\"),U18,IF(AND(U18=\"DNF\",U19=\"NP\"),U19,MIN(U18,U19))))))","v":59.83}]
[null,null,null,"II.pokus",59.73,59.83,59.94,{"$f":"IF($C18=\"\",\"\",IF(OR($E19=\"DNF\",$F19=\"DNF\",$G19=\"DNF\"),\"DNF\",IF(OR($E19=\"NP\",$F19=\"NP\",$G19=\"NP\"),\"NP\",IF(ISERROR(MEDIAN($E19:$G19)),\"DNF\",IF(COUNT($E19:$G19)<3,MAX($E19:$G19),MEDIAN($E19:$G19))))))","v":59.83},0,0,0,0,0,0,0,0,0,0,0,0,59.83]
[{"$f":"IF('Start - jaro'!E10=\"\",\"\",\"x\")","v":""},5,{"$f":"IF('Start - jaro'!C10=\"\",\"\",'Start - jaro'!C10)","v":"Dobrošov (PÍ)"},"I.pokus",59.22,58.56,59.25,{"$f":"IF($C20=\"\",\"\",IF(OR($E20=\"DNF\",$F20=\"DNF\",$G20=\"DNF\"),\"DNF\",IF(OR($E20=\"NP\",$F20=\"NP\",$G20=\"NP\"),\"NP\",IF(ISERROR(MEDIAN($E20:$G20)),\"DNF\",IF(COUNT($E20:$G20)<3,MAX($E20:$G20),MEDIAN($E20:$G20))))))","v":59.22},0,0,0,0,0,0,0,0,0,0,0,0,59.22,{"$f":"IF(C20=\"x\",\"x\",IF(C20=\"\",\"\",IF(OR(W20=\"NP\",W20=\"DNF\"),IF(W20=\"NP\",MAX(W$12:W$309)+COUNTIF((W$12:W$309),MAX(W$12:W$309)),MAX(W$12:W$309)+COUNTIF((W$12:W$309),MAX(W$12:W$309))+COUNTIF((W$12:W$309),\"NP\")),W20)))","v":3},{"$f":"IF(A20=\"x\",\"x\",IF(C20=\"\",\"\",IF(OR(X20=\"NP\",X20=\"DNF\"),X20,RANK(X20,X$12:X$309,1))))","v":3},{"$f":"IF(A20=\"x\",\"x\",IF(C20=\"\",\"\",IF(OR(AND(U20=\"NP\",U21=\"NP\"),AND(U20=\"DNF\",U21=\"DNF\")),U20,IF(AND(U20=\"NP\",U21=\"DNF\"),U20,IF(AND(U20=\"DNF\",U21=\"NP\"),U21,MIN(U20,U21))))))","v":59.22}]
[null,null,null,"II.pokus",78.03,77.61,77.47,{"$f":"IF($C20=\"\",\"\",IF(OR($E21=\"DNF\",$F21=\"DNF\",$G21=\"DNF\"),\"DNF\",IF(OR($E21=\"NP\",$F21=\"NP\",$G21=\"NP\"),\"NP\",IF(ISERROR(MEDIAN($E21:$G21)),\"DNF\",IF(COUNT($E21:$G21)<3,MAX($E21:$G21),MEDIAN($E21:$G21))))))","v":77.61},0,0,0,0,0,0,0,0,0,0,0,0,77.61]
[{"$f":"IF('Start - jaro'!E11=\"\",\"\",\"x\")","v":""},6,{"$f":"IF('Start - jaro'!C11=\"\",\"\",'Start - jaro'!C11)","v":"Plešovice (ČK)"},"I.pokus",60.41,60.35,60.31,{"$f":"IF($C22=\"\",\"\",IF(OR($E22=\"DNF\",$F22=\"DNF\",$G22=\"DNF\"),\"DNF\",IF(OR($E22=\"NP\",$F22=\"NP\",$G22=\"NP\"),\"NP\",IF(ISERROR(MEDIAN($E22:$G22)),\"DNF\",IF(COUNT($E22:$G22)<3,MAX($E22:$G22),MEDIAN($E22:$G22))))))","v":60.35},0,0,0,0,0,0,0,0,0,0,0,0,60.35,{"$f":"IF(C22=\"x\",\"x\",IF(C22=\"\",\"\",IF(OR(W22=\"NP\",W22=\"DNF\"),IF(W22=\"NP\",MAX(W$12:W$309)+COUNTIF((W$12:W$309),MAX(W$12:W$309)),MAX(W$12:W$309)+COUNTIF((W$12:W$309),MAX(W$12:W$309))+COUNTIF((W$12:W$309),\"NP\")),W22)))","v":5},{"$f":"IF(A22=\"x\",\"x\",IF(C22=\"\",\"\",IF(OR(X22=\"NP\",X22=\"DNF\"),X22,RANK(X22,X$12:X$309,1))))","v":5},{"$f":"IF(A22=\"x\",\"x\",IF(C22=\"\",\"\",IF(OR(AND(U22=\"NP\",U23=\"NP\"),AND(U22=\"DNF\",U23=\"DNF\")),U22,IF(AND(U22=\"NP\",U23=\"DNF\"),U22,IF(AND(U22=\"DNF\",U23=\"NP\"),U23,MIN(U22,U23))))))","v":60.35}]
[null,null,null,"II.pokus",68.260000000000005,68.400000000000006,68.41,{"$f":"IF($C22=\"\",\"\",IF(OR($E23=\"DNF\",$F23=\"DNF\",$G23=\"DNF\"),\"DNF\",IF(OR($E23=\"NP\",$F23=\"NP\",$G23=\"NP\"),\"NP\",IF(ISERROR(MEDIAN($E23:$G23)),\"DNF\",IF(COUNT($E23:$G23)<3,MAX($E23:$G23),MEDIAN($E23:$G23))))))","v":68.400000000000006},20,0,0,0,0,0,0,0,0,0,0,0,88.4]
[{"$f":"IF('Start - jaro'!E12=\"\",\"\",\"x\")","v":""},7,{"$f":"IF('Start - jaro'!C12=\"\",\"\",'Start - jaro'!C12)","v":""},"I.pokus",null,null,null,{"$f":"IF($C24=\"\",\"\",IF(OR($E24=\"DNF\",$F24=\"DNF\",$G24=\"DNF\"),\"DNF\",IF(OR($E24=\"NP\",$F24=\"NP\",$G24=\"NP\"),\"NP\",IF(ISERROR(MEDIAN($E24:$G24)),\"DNF\",IF(COUNT($E24:$G24)<3,MAX($E24:$G24),MEDIAN($E24:$G24))))))","v":""},null,null,null,null,null,null,null,null,null,null,null,null,"",{"$f":"IF(C24=\"x\",\"x\",IF(C24=\"\",\"\",IF(OR(W24=\"NP\",W24=\"DNF\"),IF(W24=\"NP\",MAX(W$12:W$309)+COUNTIF((W$12:W$309),MAX(W$12:W$309)),MAX(W$12:W$309)+COUNTIF((W$12:W$309),MAX(W$12:W$309))+COUNTIF((W$12:W$309),\"NP\")),W24)))","v":""},{"$f":"IF(A24=\"x\",\"x\",IF(C24=\"\",\"\",IF(OR(X24=\"NP\",X24=\"DNF\"),X24,RANK(X24,X$12:X$309,1))))","v":""},{"$f":"IF(A24=\"x\",\"x\",IF(C24=\"\",\"\",IF(OR(AND(U24=\"NP\",U25=\"NP\"),AND(U24=\"DNF\",U25=\"DNF\")),U24,IF(AND(U24=\"NP\",U25=\"DNF\"),U24,IF(AND(U24=\"DNF\",U25=\"NP\"),U25,MIN(U24,U25))))))","v":""}]
[null,null,null,"II.pokus",null,null,null,{"$f":"IF($C24=\"\",\"\",IF(OR($E25=\"DNF\",$F25=\"DNF\",$G25=\"DNF\"),\"DNF\",IF(OR($E25=\"NP\",$F25=\"NP\",$G25=\"NP\"),\"NP\",IF(ISERROR(MEDIAN($E25:$G25)),\"DNF\",IF(COUNT($E25:$G25)<3,MAX($E25:$G25),MEDIAN($E25:$G25))))))","v":""},null,null,null,null,null,null,null,null,null,null,null,null,""]
[{"$f":"IF('Start - jaro'!E13=\"\",\"\",\"x\")","v":""},8,{"$f":"IF('Start - jaro'!C13=\"\",\"\",'Start - jaro'!C13)","v":""},"I.pokus",null,null,null,{"$f":"IF($C26=\"\",\"\",IF(OR($E26=\"DNF\",$F26=\"DNF\",$G26=\"DNF\"),\"DNF\",IF(OR($E26=\"NP\",$F26=\"NP\",$G26=\"NP\"),\"NP\",IF(ISERROR(MEDIAN($E26:$G26)),\"DNF\",IF(COUNT($E26:$G26)<3,MAX($E26:$G26),MEDIAN($E26:$G26))))))","v":""},null,null,null,null,null,null,null,null,null,null,null,null,"",{"$f":"IF(C26=\"x\",\"x\",IF(C26=\"\",\"\",IF(OR(W26=\"NP\",W26=\"DNF\"),IF(W26=\"NP\",MAX(W$12:W$309)+COUNTIF((W$12:W$309),MAX(W$12:W$309)),MAX(W$12:W$309)+COUNTIF((W$12:W$309),MAX(W$12:W$309))+COUNTIF((W$12:W$309),\"NP\")),W26)))","v":""},{"$f":"IF(A26=\"x\",\"x\",IF(C26=\"\",\"\",IF(OR(X26=\"NP\",X26=\"DNF\"),X26,RANK(X26,X$12:X$309,1))))","v":""},{"$f":"IF(A26=\"x\",\"x\",IF(C26=\"\",\"\",IF(OR(AND(U26=\"NP\",U27=\"NP\"),AND(U26=\"DNF\",U27=\"DNF\")),U26,IF(AND(U26=\"NP\",U27=\"DNF\"),U26,IF(AND(U26=\"DNF\",U27=\"NP\"),U27,MIN(U26,U27))))))","v":""}]
[null,null,null,"II.pokus",null,null,null,{"$f":"IF($C26=\"\",\"\",IF(OR($E27=\"DNF\",$F27=\"DNF\",$G27=\"DNF\"),\"DNF\",IF(OR($E27=\"NP\",$F27=\"NP\",$G27=\"NP\"),\"NP\",IF(ISERROR(MEDIAN($E27:$G27)),\"DNF\",IF(COUNT($E27:$G27)<3,MAX($E27:$G27),MEDIAN($E27:$G27))))))","v":""},null,null,null,null,null,null,null,null,null,null,null,null,""]
[{"$f":"IF('Start - jaro'!E14=\"\",\"\",\"x\")","v":""},9,{"$f":"IF('Start - jaro'!C14=\"\",\"\",'Start - jaro'!C14)","v":""},"I.pokus",null,null,null,{"$f":"IF($C28=\"\",\"\",IF(OR($E28=\"DNF\",$F28=\"DNF\",$G28=\"DNF\"),\"DNF\",IF(OR($E28=\"NP\",$F28=\"NP\",$G28=\"NP\"),\"NP\",IF(ISERROR(MEDIAN($E28:$G28)),\"DNF\",IF(COUNT($E28:$G28)<3,MAX($E28:$G28),MEDIAN($E28:$G28))))))","v":""},null,null,null,null,null,null,null,null,null,null,null,null,"",{"$f":"IF(C28=\"x\",\"x\",IF(C28=\"\",\"\",IF(OR(W28=\"NP\",W28=\"DNF\"),IF(W28=\"NP\",MAX(W$12:W$309)+COUNTIF((W$12:W$309),MAX(W$12:W$309)),MAX(W$12:W$309)+COUNTIF((W$12:W$309),MAX(W$12:W$309))+COUNTIF((W$12:W$309),\"NP\")),W28)))","v":""},{"$f":"IF(A28=\"x\",\"x\",IF(C28=\"\",\"\",IF(OR(X28=\"NP\",X28=\"DNF\"),X28,RANK(X28,X$12:X$309,1))))","v":""},{"$f":"IF(A28=\"x\",\"x\",IF(C28=\"\",\"\",IF(OR(AND(U28=\"NP\",U29=\"NP\"),AND(U28=\"DNF\",U29=\"DNF\")),U28,IF(AND(U28=\"NP\",U29=\"DNF\"),U28,IF(AND(U28=\"DNF\",U29=\"NP\"),U29,MIN(U28,U29))))))","v":""}]
[null,null,null,"II.pokus",null,null,null,{"$f":"IF($C28=\"\",\"\",IF(OR($E29=\"DNF\",$F29=\"DNF\",$G29=\"DNF\"),\"DNF\",IF(OR($E29=\"NP\",$F29=\"NP\",$G29=\"NP\"),\"NP\",IF(ISERROR(MEDIAN($E29:$G29)),\"DNF\",IF(COUNT($E29:$G29)<3,MAX($E29:$G29),MEDIAN($E29:$G29))))))","v":""},null,null,null,null,null,null,null,null,null,null,null,null,""]
[{"$f":"IF('Start - jaro'!E15=\"\",\"\",\"x\")","v":""},10,{"$f":"IF('Start - jaro'!C15=\"\",\"\",'Start - jaro'!C15)","v":""},"I.pokus",null,null,null,{"$f":"IF($C30=\"\",\"\",IF(OR($E30=\"DNF\",$F30=\"DNF\",$G30=\"DNF\"),\"DNF\",IF(OR($E30=\"NP\",$F30=\"NP\",$G30=\"NP\"),\"NP\",IF(ISERROR(MEDIAN($E30:$G30)),\"DNF\",IF(COUNT($E30:$G30)<3,MAX($E30:$G30),MEDIAN($E30:$G30))))))","v":""},null,null,null,null,null,null,null,null,null,null,null,null,"",{"$f":"IF(C30=\"x\",\"x\",IF(C30=\"\",\"\",IF(OR(W30=\"NP\",W30=\"DNF\"),IF(W30=\"NP\",MAX(W$12:W$309)+COUNTIF((W$12:W$309),MAX(W$12:W$309)),MAX(W$12:W$309)+COUNTIF((W$12:W$309),MAX(W$12:W$309))+COUNTIF((W$12:W$309),\"NP\")),W30)))","v":""},{"$f":"IF(A30=\"x\",\"x\",IF(C30=\"\",\"\",IF(OR(X30=\"NP\",X30=\"DNF\"),X30,RANK(X30,X$12:X$309,1))))","v":""},{"$f":"IF(A30=\"x\",\"x\",IF(C30=\"\",\"\",IF(OR(AND(U30=\"NP\",U31=\"NP\"),AND(U30=\"DNF\",U31=\"DNF\")),U30,IF(AND(U30=\"NP\",U31=\"DNF\"),U30,IF(AND(U30=\"DNF\",U31=\"NP\"),U31,MIN(U30,U31))))))","v":""}]
[null,null,null,"II.pokus",null,null,null,{"$f":"IF($C30=\"\",\"\",IF(OR($E31=\"DNF\",$F31=\"DNF\",$G31=\"DNF\"),\"DNF\",IF(OR($E31=\"NP\",$F31=\"NP\",$G31=\"NP\"),\"NP\",IF(ISERROR(MEDIAN($E31:$G31)),\"DNF\",IF(COUNT($E31:$G31)<3,MAX($E31:$G31),MEDIAN($E31:$G31))))))","v":""},null,null,null,null,null,null,null,null,null,null,null,null,""]
[null,"CELOSTÁTNÍ HRA PLAMEN"]
[]
[]
[null,"Výsledková listina č: 2"]
[null,"Štafeta požárních dvojic",null,null,"Základem je čas naměřený od vydání signálu startéra do proběhnutí posledního člena cílem",null,null,null,"K úřednímu času se připočítávají trest. Sekundy - za každý případ 10 sekund",null,null,null,null,null,null,null,null,null,null,null,"Výsledek soutěže"]
[null,null,null,null,null,null,null,null,"předčasné vyběhnutí","nesvinutí rozpadlého kotouče","nerozložení hadice proudnice na, nebo za čarou","nesprávné napojení hadice na proudnici či hydr. nástavec","nesprávné rozvinutí hadice u hydr. nástavce","neoběhnutí nebo nesprávné oběhnutí mety","neúplné svinutí mezi metou a nástavcem hydrantu","hození hadice nebo proudnice","chození po nesprávné straně hadicového vedení","nesprávné svinutí (dvojité přeložení)","za nesprávné odpojení proudnice nebo hadice","za pomoc při svinování hadice"]
[null,null,null,null,null,null,null,null,null,null,null,null,null,null,null,null,null,null,null,null,"součet trest. Sekund a úředního času","počet bodů za umístění"]
[null,{"$f":"\"KATEGORIE: \"&'Start - podzim'!$N$2","v":"KATEGORIE: STARŠÍ"},null,null,"I. časoměřič","II. časoměřič","III. časoměřič","úřední čas"]
[]
[null,"start. číslo","SOUTĚŽNÍ DRUŽSTVO","pokus"]
[]
[{"$f":"IF('Start - jaro'!E16=\"\",\"\",\"x\")","v":""},11,{"$f":"IF('Start - jaro'!C16=\"\",\"\",'Start - jaro'!C16)","v":""},"I.pokus",null,null,null,{"$f":"IF($C43=\"\",\"\",IF(OR($E43=\"DNF\",$F43=\"DNF\",$G43=\"DNF\"),\"DNF\",IF(OR($E43=\"NP\",$F43=\"NP\",$G43=\"NP\"),\"NP\",IF(ISERROR(MEDIAN($E43:$G43)),\"DNF\",IF(COUNT($E43:$G43)<3,MAX($E43:$G43),MEDIAN($E43:$G43))))))","v":""},null,null,null,null,null,null,null,null,null,null,null,null,{"$f":"IF(H43=\"\",\"\",IF(H43=\"NP\",\"NP\",IF(H43=\"DNF\",\"DNF\",SUM(I43:T43)+H43)))","v":""},{"$f":"IF(C43=\"x\",\"x\",IF(C43=\"\",\"\",IF(OR(W43=\"NP\",W43=\"DNF\"),IF(W43=\"NP\",MAX(W$12:W$309)+COUNTIF((W$12:W$309),MAX(W$12:W$309)),MAX(W$12:W$309)+COUNTIF((W$12:W$309),MAX(W$12:W$309))+COUNTIF((W$12:W$309),\"NP\")),W43)))","v":""},{"$f":"IF(A43=\"x\",\"x\",IF(C43=\"\",\"\",IF(OR(X43=\"NP\",X43=\"DNF\"),X43,RANK(X43,X$12:X$309,1))))","v":""},{"$f":"IF(A43=\"x\",\"x\",IF(C43=\"\",\"\",IF(OR(AND(U43=\"NP\",U44=\"NP\"),AND(U43=\"DNF\",U44=\"DNF\")),U43,IF(AND(U43=\"NP\",U44=\"DNF\"),U43,IF(AND(U43=\"DNF\",U44=\"NP\"),U44,MIN(U43,U44))))))","v":""}]
[null,null,null,"II.pokus",null,null,null,{"$f":"IF($C43=\"\",\"\",IF(OR($E44=\"DNF\",$F44=\"DNF\",$G44=\"DNF\"),\"DNF\",IF(OR($E44=\"NP\",$F44=\"NP\",$G44=\"NP\"),\"NP\",IF(ISERROR(MEDIAN($E44:$G44)),\"DNF\",IF(COUNT($E44:$G44)<3,MAX($E44:$G44),MEDIAN($E44:$G44))))))","v":""},null,null,null,null,null,null,null,null,null,null,null,null,""]
[{"$f":"IF('Start - jaro'!E17=\"\",\"\",\"x\")","v":""},12,{"$f":"IF('Start - jaro'!C17=\"\",\"\",'Start - jaro'!C17)","v":""},"I.pokus",null,null,null,{"$f":"IF($C45=\"\",\"\",IF(OR($E45=\"DNF\",$F45=\"DNF\",$G45=\"DNF\"),\"DNF\",IF(OR($E45=\"NP\",$F45=\"NP\",$G45=\"NP\"),\"NP\",IF(ISERROR(MEDIAN($E45:$G45)),\"DNF\",IF(COUNT($E45:$G45)<3,MAX($E45:$G45),MEDIAN($E45:$G45))))))","v":""},null,null,null,null,null,null,null,null,null,null,null,null,"",{"$f":"IF(C45=\"x\",\"x\",IF(C45=\"\",\"\",IF(OR(W45=\"NP\",W45=\"DNF\"),IF(W45=\"NP\",MAX(W$12:W$309)+COUNTIF((W$12:W$309),MAX(W$12:W$309)),MAX(W$12:W$309)+COUNTIF((W$12:W$309),MAX(W$12:W$309))+COUNTIF((W$12:W$309),\"NP\")),W45)))","v":""},{"$f":"IF(A45=\"x\",\"x\",IF(C45=\"\",\"\",IF(OR(X45=\"NP\",X45=\"DNF\"),X45,RANK(X45,X$12:X$309,1))))","v":""},{"$f":"IF(A45=\"x\",\"x\",IF(C45=\"\",\"\",IF(OR(AND(U45=\"NP\",U46=\"NP\"),AND(U45=\"DNF\",U46=\"DNF\")),U45,IF(AND(U45=\"NP\",U46=\"DNF\"),U45,IF(AND(U45=\"DNF\",U46=\"NP\"),U46,MIN(U45,U46))))))","v":""}]
[null,null,null,"II.pokus",null,null,null,{"$f":"IF($C45=\"\",\"\",IF(OR($E46=\"DNF\",$F46=\"DNF\",$G46=\"DNF\"),\"DNF\",IF(OR($E46=\"NP\",$F46=\"NP\",$G46=\"NP\"),\"NP\",IF(ISERROR(MEDIAN($E46:$G46)),\"DNF\",IF(COUNT($E46:$G46)<3,MAX($E46:$G46),MEDIAN($E46:$G46))))))","v":""},null,null,null,null,null,null,null,null,null,null,null,null,""]
[{"$f":"IF('Start - jaro'!E18=\"\",\"\",\"x\")","v":""},13,{"$f":"IF('Start - jaro'!C18=\"\",\"\",'Start - jaro'!C18)","v":""},"I.pokus",null,null,null,{"$f":"IF($C47=\"\",\"\",IF(OR($E47=\"DNF\",$F47=\"DNF\",$G47=\"DNF\"),\"DNF\",IF(OR($E47=\"NP\",$F47=\"NP\",$G47=\"NP\"),\"NP\",IF(ISERROR(MEDIAN($E47:$G47)),\"DNF\",IF(COUNT($E47:$G47)<3,MAX($E47:$G47),MEDIAN($E47:$G47))))))","v":""},null,null,null,null,null,null,null,null,null,null,null,null,"",{"$f":"IF(C47=\"x\",\"x\",IF(C47=\"\",\"\",IF(OR(W47=\"NP\",W47=\"DNF\"),IF(W47=\"NP\",MAX(W$12:W$309)+COUNTIF((W$12:W$309),MAX(W$12:W$309)),MAX(W$12:W$309)+COUNTIF((W$12:W$309),MAX(W$12:W$309))+COUNTIF((W$12:W$309),\"NP\")),W47)))","v":""},{"$f":"IF(A47=\"x\",\"x\",IF(C47=\"\",\"\",IF(OR(X47=\"NP\",X47=\"DNF\"),X47,RANK(X47,X$12:X$309,1))))","v":""},{"$f":"IF(A47=\"x\",\"x\",IF(C47=\"\",\"\",IF(OR(AND(U47=\"NP\",U48=\"NP\"),AND(U47=\"DNF\",U48=\"DNF\")),U47,IF(AND(U47=\"NP\",U48=\"DNF\"),U47,IF(AND(U47=\"DNF\",U48=\"NP\"),U48,MIN(U47,U48))))))","v":""}]
[null,null,null,"II.pokus",null,null,null,{"$f":"IF($C47=\"\",\"\",IF(OR($E48=\"DNF\",$F48=\"DNF\",$G48=\"DNF\"),\"DNF\",IF(OR($E48=\"NP\",$F48=\"NP\",$G48=\"NP\"),\"NP\",IF(ISERROR(MEDIAN($E48:$G48)),\"DNF\",IF(COUNT($E48:$G48)<3,MAX($E48:$G48),MEDIAN($E48:$G48))))))","v":""},null,null,null,null,null,null,null,null,null,null,null,null,""]
[{"$f":"IF('Start - jaro'!E19=\"\",\"\",\"x\")","v":""},14,{"$f":"IF('Start - jaro'!C19=\"\",\"\",'Start - jaro'!C19)","v":""},"I.pokus",null,null,null,{"$f":"IF($C49=\"\",\"\",IF(OR($E49=\"DNF\",$F49=\"DNF\",$G49=\"DNF\"),\"DNF\",IF(OR($E49=\"NP\",$F49=\"NP\",$G49=\"NP\"),\"NP\",IF(ISERROR(MEDIAN($E49:$G49)),\"DNF\",IF(COUNT($E49:$G49)<3,MAX($E49:$G49),MEDIAN($E49:$G49))))))","v":""},null,null,null,null,null,null,null,null,null,null,null,null,"",{"$f":"IF(C49=\"x\",\"x\",IF(C49=\"\",\"\",IF(OR(W49=\"NP\",W49=\"DNF\"),IF(W49=\"NP\",MAX(W$12:W$309)+COUNTIF((W$12:W$309),MAX(W$12:W$309)),MAX(W$12:W$309)+COUNTIF((W$12:W$309),MAX(W$12:W$309))+COUNTIF((W$12:W$309),\"NP\")),W49)))","v":""},{"$f":"IF(A49=\"x\",\"x\",IF(C49=\"\",\"\",IF(OR(X49=\"NP\",X49=\"DNF\"),X49,RANK(X49,X$12:X$309,1))))","v":""},{"$f":"IF(A49=\"x\",\"x\",IF(C49=\"\",\"\",IF(OR(AND(U49=\"NP\",U50=\"NP\"),AND(U49=\"DNF\",U50=\"DNF\")),U49,IF(AND(U49=\"NP\",U50=\"DNF\"),U49,IF(AND(U49=\"DNF\",U50=\"NP\"),U50,MIN(U49,U50))))))","v":""}]
[null,null,null,"II.pokus",null,null,null,{"$f":"IF($C49=\"\",\"\",IF(OR($E50=\"DNF\",$F50=\"DNF\",$G50=\"DNF\"),\"DNF\",IF(OR($E50=\"NP\",$F50=\"NP\",$G50=\"NP\"),\"NP\",IF(ISERROR(MEDIAN($E50:$G50)),\"DNF\",IF(COUNT($E50:$G50)<3,MAX($E50:$G50),MEDIAN($E50:$G50))))))","v":""},null,null,null,null,null,null,null,null,null,null,null,null,""]
[{"$f":"IF('Start - jaro'!E20=\"\",\"\",\"x\")","v":""},15,{"$f":"IF('Start - jaro'!C20=\"\",\"\",'Start - jaro'!C20)","v":""},"I.pokus",null,null,null,{"$f":"IF($C51=\"\",\"\",IF(OR($E51=\"DNF\",$F51=\"DNF\",$G51=\"DNF\"),\"DNF\",IF(OR($E51=\"NP\",$F51=\"NP\",$G51=\"NP\"),\"NP\",IF(ISERROR(MEDIAN($E51:$G51)),\"DNF\",IF(COUNT($E51:$G51)<3,MAX($E51:$G51),MEDIAN($E51:$G51))))))","v":""},null,null,null,null,null,null,null,null,null,null,null,null,"",{"$f":"IF(C51=\"x\",\"x\",IF(C51=\"\",\"\",IF(OR(W51=\"NP\",W51=\"DNF\"),IF(W51=\"NP\",MAX(W$12:W$309)+COUNTIF((W$12:W$309),MAX(W$12:W$309)),MAX(W$12:W$309)+COUNTIF((W$12:W$309),MAX(W$12:W$309))+COUNTIF((W$12:W$309),\"NP\")),W51)))","v":""},{"$f":"IF(A51=\"x\",\"x\",IF(C51=\"\",\"\",IF(OR(X51=\"NP\",X51=\"DNF\"),X51,RANK(X51,X$12:X$309,1))))","v":""},{"$f":"IF(A51=\"x\",\"x\",IF(C51=\"\",\"\",IF(OR(AND(U51=\"NP\",U52=\"NP\"),AND(U51=\"DNF\",U52=\"DNF\")),U51,IF(AND(U51=\"NP\",U52=\"DNF\"),U51,IF(AND(U51=\"DNF\",U52=\"NP\"),U52,MIN(U51,U52))))))","v":""}]
[null,null,null,"II.pokus",null,null,null,{"$f":"IF($C51=\"\",\"\",IF(OR($E52=\"DNF\",$F52=\"DNF\",$G52=\"DNF\"),\"DNF\",IF(OR($E52=\"NP\",$F52=\"NP\",$G52=\"NP\"),\"NP\",IF(ISERROR(MEDIAN($E52:$G52)),\"DNF\",IF(COUNT($E52:$G52)<3,MAX($E52:$G52),MEDIAN($E52:$G52))))))","v":""},null,null,null,null,null,null,null,null,null,null,null,null,""]
[{"$f":"IF('Start - jaro'!E21=\"\",\"\",\"x\")","v":""},16,{"$f":"IF('Start - jaro'!C21=\"\",\"\",'Start - jaro'!C21)","v":""},"I.pokus",null,null,null,{"$f":"IF($C53=\"\",\"\",IF(OR($E53=\"DNF\",$F53=\"DNF\",$G53=\"DNF\"),\"DNF\",IF(OR($E53=\"NP\",$F53=\"NP\",$G53=\"NP\"),\"NP\",IF(ISERROR(MEDIAN($E53:$G53)),\"DNF\",IF(COUNT($E53:$G53)<3,MAX($E53:$G53),MEDIAN($E53:$G53))))))","v":""},null,null,null,null,null,null,null,null,null,null,null,null,"",{"$f":"IF(C53=\"x\",\"x\",IF(C53=\"\",\"\",IF(OR(W53=\"NP\",W53=\"DNF\"),IF(W53=\"NP\",MAX(W$12:W$309)+COUNTIF((W$12:W$309),MAX(W$12:W$309)),MAX(W$12:W$309)+COUNTIF((W$12:W$309),MAX(W$12:W$309))+COUNTIF((W$12:W$309),\"NP\")),W53)))","v":""},{"$f":"IF(A53=\"x\",\"x\",IF(C53=\"\",\"\",IF(OR(X53=\"NP\",X53=\"DNF\"),X53,RANK(X53,X$12:X$309,1))))","v":""},{"$f":"IF(A53=\"x\",\"x\",IF(C53=\"\",\"\",IF(OR(AND(U53=\"NP\",U54=\"NP\"),AND(U53=\"DNF\",U54=\"DNF\")),U53,IF(AND(U53=\"NP\",U54=\"DNF\"),U53,IF(AND(U53=\"DNF\",U54=\"NP\"),U54,MIN(U53,U54))))))","v":""}]
[null,null,null,"II.pokus",null,null,null,{"$f":"IF($C53=\"\",\"\",IF(OR($E54=\"DNF\",$F54=\"DNF\",$G54=\"DNF\"),\"DNF\",IF(OR($E54=\"NP\",$F54=\"NP\",$G54=\"NP\"),\"NP\",IF(ISERROR(MEDIAN($E54:$G54)),\"DNF\",IF(COUNT($E54:$G54)<3,MAX($E54:$G54),MEDIAN($E54:$G54))))))","v":""},null,null,null,null,null,null,null,null,null,null,null,null,""]
[{"$f":"IF('Start - jaro'!E22=\"\",\"\",\"x\")","v":""},17,{"$f":"IF('Start - jaro'!C22=\"\",\"\",'Start - jaro'!C22)","v":""},"I.pokus",null,null,null,{"$f":"IF($C55=\"\",\"\",IF(OR($E55=\"DNF\",$F55=\"DNF\",$G55=\"DNF\"),\"DNF\",IF(OR($E55=\"NP\",$F55=\"NP\",$G55=\"NP\"),\"NP\",IF(ISERROR(MEDIAN($E55:$G55)),\"DNF\",IF(COUNT($E55:$G55)<3,MAX($E55:$G55),MEDIAN($E55:$G55))))))","v":""},null,null,null,null,null,null,null,null,null,null,null,null,"",{"$f":"IF(C55=\"x\",\"x\",IF(C55=\"\",\"\",IF(OR(W55=\"NP\",W55=\"DNF\"),IF(W55=\"NP\",MAX(W$12:W$309)+COUNTIF((W$12:W$309),MAX(W$12:W$309)),MAX(W$12:W$309)+COUNTIF((W$12:W$309),MAX(W$12:W$309))+COUNTIF((W$12:W$309),\"NP\")),W55)))","v":""},{"$f":"IF(A55=\"x\",\"x\",IF(C55=\"\",\"\",IF(OR(X55=\"NP\",X55=\"DNF\"),X55,RANK(X55,X$12:X$309,1))))","v":""},{"$f":"IF(A55=\"x\",\"x\",IF(C55=\"\",\"\",IF(OR(AND(U55=\"NP\",U56=\"NP\"),AND(U55=\"DNF\",U56=\"DNF\")),U55,IF(AND(U55=\"NP\",U56=\"DNF\"),U55,IF(AND(U55=\"DNF\",U56=\"NP\"),U56,MIN(U55,U56))))))","v":""}]
[null,null,null,"II.pokus",null,null,null,{"$f":"IF($C55=\"\",\"\",IF(OR($E56=\"DNF\",$F56=\"DNF\",$G56=\"DNF\"),\"DNF\",IF(OR($E56=\"NP\",$F56=\"NP\",$G56=\"NP\"),\"NP\",IF(ISERROR(MEDIAN($E56:$G56)),\"DNF\",IF(COUNT($E56:$G56)<3,MAX($E56:$G56),MEDIAN($E56:$G56))))))","v":""},null,null,null,null,null,null,null,null,null,null,null,null,""]
[{"$f":"IF('Start - jaro'!E23=\"\",\"\",\"x\")","v":""},18,{"$f":"IF('Start - jaro'!C23=\"\",\"\",'Start - jaro'!C23)","v":""},"I.pokus",null,null,null,{"$f":"IF($C57=\"\",\"\",IF(OR($E57=\"DNF\",$F57=\"DNF\",$G57=\"DNF\"),\"DNF\",IF(OR($E57=\"NP\",$F57=\"NP\",$G57=\"NP\"),\"NP\",IF(ISERROR(MEDIAN($E57:$G57)),\"DNF\",IF(COUNT($E57:$G57)<3,MAX($E57:$G57),MEDIAN($E57:$G57))))))","v":""},null,null,null,null,null,null,null,null,null,null,null,null,"",{"$f":"IF(C57=\"x\",\"x\",IF(C57=\"\",\"\",IF(OR(W57=\"NP\",W57=\"DNF\"),IF(W57=\"NP\",MAX(W$12:W$309)+COUNTIF((W$12:W$309),MAX(W$12:W$309)),MAX(W$12:W$309)+COUNTIF((W$12:W$309),MAX(W$12:W$309))+COUNTIF((W$12:W$309),\"NP\")),W57)))","v":""},{"$f":"IF(A57=\"x\",\"x\",IF(C57=\"\",\"\",IF(OR(X57=\"NP\",X57=\"DNF\"),X57,RANK(X57,X$12:X$309,1))))","v":""},{"$f":"IF(A57=\"x\",\"x\",IF(C57=\"\",\"\",IF(OR(AND(U57=\"NP\",U58=\"NP\"),AND(U57=\"DNF\",U58=\"DNF\")),U57,IF(AND(U57=\"NP\",U58=\"DNF\"),U57,IF(AND(U57=\"DNF\",U58=\"NP\"),U58,MIN(U57,U58))))))","v":""}]
[null,null,null,"II.pokus",null,null,null,{"$f":"IF($C57=\"\",\"\",IF(OR($E58=\"DNF\",$F58=\"DNF\",$G58=\"DNF\"),\"DNF\",IF(OR($E58=\"NP\",$F58=\"NP\",$G58=\"NP\"),\"NP\",IF(ISERROR(MEDIAN($E58:$G58)),\"DNF\",IF(COUNT($E58:$G58)<3,MAX($E58:$G58),MEDIAN($E58:$G58))))))","v":""},null,null,null,null,null,null,null,null,null,null,null,null,""]
[{"$f":"IF('Start - jaro'!E24=\"\",\"\",\"x\")","v":""},19,{"$f":"IF('Start - jaro'!C24=\"\",\"\",'Start - jaro'!C24)","v":""},"I.pokus",null,null,null,{"$f":"IF($C59=\"\",\"\",IF(OR($E59=\"DNF\",$F59=\"DNF\",$G59=\"DNF\"),\"DNF\",IF(OR($E59=\"NP\",$F59=\"NP\",$G59=\"NP\"),\"NP\",IF(ISERROR(MEDIAN($E59:$G59)),\"DNF\",IF(COUNT($E59:$G59)<3,MAX($E59:$G59),MEDIAN($E59:$G59))))))","v":""},null,null,null,null,null,null,null,null,null,null,null,null,"",{"$f":"IF(C59=\"x\",\"x\",IF(C59=\"\",\"\",IF(OR(W59=\"NP\",W59=\"DNF\"),IF(W59=\"NP\",MAX(W$12:W$309)+COUNTIF((W$12:W$309),MAX(W$12:W$309)),MAX(W$12:W$309)+COUNTIF((W$12:W$309),MAX(W$12:W$309))+COUNTIF((W$12:W$309),\"NP\")),W59)))","v":""},{"$f":"IF(A59=\"x\",\"x\",IF(C59=\"\",\"\",IF(OR(X59=\"NP\",X59=\"DNF\"),X59,RANK(X59,X$12:X$309,1))))","v":""},{"$f":"IF(A59=\"x\",\"x\",IF(C59=\"\",\"\",IF(OR(AND(U59=\"NP\",U60=\"NP\"),AND(U59=\"DNF\",U60=\"DNF\")),U59,IF(AND(U59=\"NP\",U60=\"DNF\"),U59,IF(AND(U59=\"DNF\",U60=\"NP\"),U60,MIN(U59,U60))))))","v":""}]
[null,null,null,"II.pokus",null,null,null,{"$f":"IF($C59=\"\",\"\",IF(OR($E60=\"DNF\",$F60=\"DNF\",$G60=\"DNF\"),\"DNF\",IF(OR($E60=\"NP\",$F60=\"NP\",$G60=\"NP\"),\"NP\",IF(ISERROR(MEDIAN($E60:$G60)),\"DNF\",IF(COUNT($E60:$G60)<3,MAX($E60:$G60),MEDIAN($E60:$G60))))))","v":""},null,null,null,null,null,null,null,null,null,null,null,null,""]
[{"$f":"IF('Start - jaro'!E25=\"\",\"\",\"x\")","v":""},20,{"$f":"IF('Start - jaro'!C25=\"\",\"\",'Start - jaro'!C25)","v":""},"I.pokus",null,null,null,{"$f":"IF($C61=\"\",\"\",IF(OR($E61=\"DNF\",$F61=\"DNF\",$G61=\"DNF\"),\"DNF\",IF(OR($E61=\"NP\",$F61=\"NP\",$G61=\"NP\"),\"NP\",IF(ISERROR(MEDIAN($E61:$G61)),\"DNF\",IF(COUNT($E61:$G61)<3,MAX($E61:$G61),MEDIAN($E61:$G61))))))","v":""},null,null,null,null,null,null,null,null,null,null,null,null,"",{"$f":"IF(C61=\"x\",\"x\",IF(C61=\"\",\"\",IF(OR(W61=\"NP\",W61=\"DNF\"),IF(W61=\"NP\",MAX(W$12:W$309)+COUNTIF((W$12:W$309),MAX(W$12:W$309)),MAX(W$12:W$309)+COUNTIF((W$12:W$309),MAX(W$12:W$309))+COUNTIF((W$12:W$309),\"NP\")),W61)))","v":""},{"$f":"IF(A61=\"x\",\"x\",IF(C61=\"\",\"\",IF(OR(X61=\"NP\",X61=\"DNF\"),X61,RANK(X61,X$12:X$309,1))))","v":""},{"$f":"IF(A61=\"x\",\"x\",IF(C61=\"\",\"\",IF(OR(AND(U61=\"NP\",U62=\"NP\"),AND(U61=\"DNF\",U62=\"DNF\")),U61,IF(AND(U61=\"NP\",U62=\"DNF\"),U61,IF(AND(U61=\"DNF\",U62=\"NP\"),U62,MIN(U61,U62))))))","v":""}]
[null,null,null,"II.pokus",null,null,null,{"$f":"IF($C61=\"\",\"\",IF(OR($E62=\"DNF\",$F62=\"DNF\",$G62=\"DNF\"),\"DNF\",IF(OR($E62=\"NP\",$F62=\"NP\",$G62=\"NP\"),\"NP\",IF(ISERROR(MEDIAN($E62:$G62)),\"DNF\",IF(COUNT($E62:$G62)<3,MAX($E62:$G62),MEDIAN($E62:$G62))))))","v":""},null,null,null,null,null,null,null,null,null,null,null,null,""]
[null,"CELOSTÁTNÍ HRA PLAMEN"]
[]
[]
[null,"Výsledková listina č: 3"]
[null,"Štafeta požárních dvojic",null,null,"Základem je čas naměřený od vydání signálu startéra do proběhnutí posledního člena cílem",null,null,null,"K úřednímu času se připočítávají trest. Sekundy - za každý případ 10 sekund",null,null,null,null,null,null,null,null,null,null,null,"Výsledek soutěže"]
[null,null,null,null,null,null,null,null,"předčasné vyběhnutí","nesvinutí rozpadlého kotouče","nerozložení hadice proudnice na, nebo za čarou","nesprávné napojení hadice na proudnici či hydr. nástavec","nesprávné rozvinutí hadice u hydr. nástavce","neoběhnutí nebo nesprávné oběhnutí mety","neúplné svinutí mezi metou a nástavcem hydrantu","hození hadice nebo proudnice","chození po nesprávné straně hadicového vedení","nesprávné svinutí (dvojité přeložení)","za nesprávné odpojení proudnice nebo hadice","za pomoc při svinování hadice"]
[null,null,null,null,null,null,null,null,null,null,null,null,null,null,null,null,null,null,null,null,"součet trest. Sekund a úředního času","počet bodů za umístění"]
[null,{"$f":"\"KATEGORIE: \"&'Start - podzim'!$N$2","v":"KATEGORIE: STARŠÍ"},null,null,"I. časoměřič","II. časoměřič","III. časoměřič","úřední čas"]
[]
[null,"start. číslo","SOUTĚŽNÍ DRUŽSTVO","pokus"]
[]
[{"$f":"IF('Start - jaro'!E26=\"\",\"\",\"x\")","v":""},21,{"$f":"IF('Start - jaro'!C26=\"\",\"\",'Start - jaro'!C26)","v":""},"I.pokus",null,null,null,{"$f":"IF($C74=\"\",\"\",IF(OR($E74=\"DNF\",$F74=\"DNF\",$G74=\"DNF\"),\"DNF\",IF(OR($E74=\"NP\",$F74=\"NP\",$G74=\"NP\"),\"NP\",IF(ISERROR(MEDIAN($E74:$G74)),\"DNF\",IF(COUNT($E74:$G74)<3,MAX($E74:$G74),MEDIAN($E74:$G74))))))","v":""},null,null,null,null,null,null,null,null,null,null,null,null,{"$f":"IF(H74=\"\",\"\",IF(H74=\"NP\",\"NP\",IF(H74=\"DNF\",\"DNF\",SUM(I74:T74)+H74)))","v":""},{"$f":"IF(C74=\"x\",\"x\",IF(C74=\"\",\"\",IF(OR(W74=\"NP\",W74=\"DNF\"),IF(W74=\"NP\",MAX(W$12:W$309)+COUNTIF((W$12:W$309),MAX(W$12:W$309)),MAX(W$12:W$309)+COUNTIF((W$12:W$309),MAX(W$12:W$309))+COUNTIF((W$12:W$309),\"NP\")),W74)))","v":""},{"$f":"IF(A74=\"x\",\"x\",IF(C74=\"\",\"\",IF(OR(X74=\"NP\",X74=\"DNF\"),X74,RANK(X74,X$12:X$309,1))))","v":""},{"$f":"IF(A74=\"x\",\"x\",IF(C74=\"\",\"\",IF(OR(AND(U74=\"NP\",U75=\"NP\"),AND(U74=\"DNF\",U75=\"DNF\")),U74,IF(AND(U74=\"NP\",U75=\"DNF\"),U74,IF(AND(U74=\"DNF\",U75=\"NP\"),U75,MIN(U74,U75))))))","v":""}]
[null,null,null,"II.pokus",null,null,null,{"$f":"IF($C74=\"\",\"\",IF(OR($E75=\"DNF\",$F75=\"DNF\",$G75=\"DNF\"),\"DNF\",IF(OR($E75=\"NP\",$F75=\"NP\",$G75=\"NP\"),\"NP\",IF(ISERROR(MEDIAN($E75:$G75)),\"DNF\",IF(COUNT($E75:$G75)<3,MAX($E75:$G75),MEDIAN($E75:$G75))))))","v":""},null,null,null,null,null,null,null,null,null,null,null,null,""]
[{"$f":"IF('Start - jaro'!E27=\"\",\"\",\"x\")","v":""},22,{"$f":"IF('Start - jaro'!C27=\"\",\"\",'Start - jaro'!C27)","v":""},"I.pokus",null,null,null,{"$f":"IF($C76=\"\",\"\",IF(OR($E76=\"DNF\",$F76=\"DNF\",$G76=\"DNF\"),\"DNF\",IF(OR($E76=\"NP\",$F76=\"NP\",$G76=\"NP\"),\"NP\",IF(ISERROR(MEDIAN($E76:$G76)),\"DNF\",IF(COUNT($E76:$G76)<3,MAX($E76:$G76),MEDIAN($E76:$G76))))))","v":""},null,null,null,null,null,null,null,null,null,null,null,null,"",{"$f":"IF(C76=\"x\",\"x\",IF(C76=\"\",\"\",IF(OR(W76=\"NP\",W76=\"DNF\"),IF(W76=\"NP\",MAX(W$12:W$309)+COUNTIF((W$12:W$309),MAX(W$12:W$309)),MAX(W$12:W$309)+COUNTIF((W$12:W$309),MAX(W$12:W$309))+COUNTIF((W$12:W$309),\"NP\")),W76)))","v":""},{"$f":"IF(A76=\"x\",\"x\",IF(C76=\"\",\"\",IF(OR(X76=\"NP\",X76=\"DNF\"),X76,RANK(X76,X$12:X$309,1))))","v":""},{"$f":"IF(A76=\"x\",\"x\",IF(C76=\"\",\"\",IF(OR(AND(U76=\"NP\",U77=\"NP\"),AND(U76=\"DNF\",U77=\"DNF\")),U76,IF(AND(U76=\"NP\",U77=\"DNF\"),U76,IF(AND(U76=\"DNF\",U77=\"NP\"),U77,MIN(U76,U77))))))","v":""}]
[null,null,null,"II.pokus",null,null,null,{"$f":"IF($C76=\"\",\"\",IF(OR($E77=\"DNF\",$F77=\"DNF\",$G77=\"DNF\"),\"DNF\",IF(OR($E77=\"NP\",$F77=\"NP\",$G77=\"NP\"),\"NP\",IF(ISERROR(MEDIAN($E77:$G77)),\"DNF\",IF(COUNT($E77:$G77)<3,MAX($E77:$G77),MEDIAN($E77:$G77))))))","v":""},null,null,null,null,null,null,null,null,null,null,null,null,""]
[{"$f":"IF('Start - jaro'!E28=\"\",\"\",\"x\")","v":""},23,{"$f":"IF('Start - jaro'!C28=\"\",\"\",'Start - jaro'!C28)","v":""},"I.pokus",null,null,null,{"$f":"IF($C78=\"\",\"\",IF(OR($E78=\"DNF\",$F78=\"DNF\",$G78=\"DNF\"),\"DNF\",IF(OR($E78=\"NP\",$F78=\"NP\",$G78=\"NP\"),\"NP\",IF(ISERROR(MEDIAN($E78:$G78)),\"DNF\",IF(COUNT($E78:$G78)<3,MAX($E78:$G78),MEDIAN($E78:$G78))))))","v":""},null,null,null,null,null,null,null,null,null,null,null,null,"",{"$f":"IF(C78=\"x\",\"x\",IF(C78=\"\",\"\",IF(OR(W78=\"NP\",W78=\"DNF\"),IF(W78=\"NP\",MAX(W$12:W$309)+COUNTIF((W$12:W$309),MAX(W$12:W$309)),MAX(W$12:W$309)+COUNTIF((W$12:W$309),MAX(W$12:W$309))+COUNTIF((W$12:W$309),\"NP\")),W78)))","v":""},{"$f":"IF(A78=\"x\",\"x\",IF(C78=\"\",\"\",IF(OR(X78=\"NP\",X78=\"DNF\"),X78,RANK(X78,X$12:X$309,1))))","v":""},{"$f":"IF(A78=\"x\",\"x\",IF(C78=\"\",\"\",IF(OR(AND(U78=\"NP\",U79=\"NP\"),AND(U78=\"DNF\",U79=\"DNF\")),U78,IF(AND(U78=\"NP\",U79=\"DNF\"),U78,IF(AND(U78=\"DNF\",U79=\"NP\"),U79,MIN(U78,U79))))))","v":""}]
[null,null,null,"II.pokus",null,null,null,{"$f":"IF($C78=\"\",\"\",IF(OR($E79=\"DNF\",$F79=\"DNF\",$G79=\"DNF\"),\"DNF\",IF(OR($E79=\"NP\",$F79=\"NP\",$G79=\"NP\"),\"NP\",IF(ISERROR(MEDIAN($E79:$G79)),\"DNF\",IF(COUNT($E79:$G79)<3,MAX($E79:$G79),MEDIAN($E79:$G79))))))","v":""},null,null,null,null,null,null,null,null,null,null,null,null,""]
[{"$f":"IF('Start - jaro'!E29=\"\",\"\",\"x\")","v":""},24,{"$f":"IF('Start - jaro'!C29=\"\",\"\",'Start - jaro'!C29)","v":""},"I.pokus",null,null,null,{"$f":"IF($C80=\"\",\"\",IF(OR($E80=\"DNF\",$F80=\"DNF\",$G80=\"DNF\"),\"DNF\",IF(OR($E80=\"NP\",$F80=\"NP\",$G80=\"NP\"),\"NP\",IF(ISERROR(MEDIAN($E80:$G80)),\"DNF\",IF(COUNT($E80:$G80)<3,MAX($E80:$G80),MEDIAN($E80:$G80))))))","v":""},null,null,null,null,null,null,null,null,null,null,null,null,"",{"$f":"IF(C80=\"x\",\"x\",IF(C80=\"\",\"\",IF(OR(W80=\"NP\",W80=\"DNF\"),IF(W80=\"NP\",MAX(W$12:W$309)+COUNTIF((W$12:W$309),MAX(W$12:W$309)),MAX(W$12:W$309)+COUNTIF((W$12:W$309),MAX(W$12:W$309))+COUNTIF((W$12:W$309),\"NP\")),W80)))","v":""},{"$f":"IF(A80=\"x\",\"x\",IF(C80=\"\",\"\",IF(OR(X80=\"NP\",X80=\"DNF\"),X80,RANK(X80,X$12:X$309,1))))","v":""},{"$f":"IF(A80=\"x\",\"x\",IF(C80=\"\",\"\",IF(OR(AND(U80=\"NP\",U81=\"NP\"),AND(U80=\"DNF\",U81=\"DNF\")),U80,IF(AND(U80=\"NP\",U81=\"DNF\"),U80,IF(AND(U80=\"DNF\",U81=\"NP\"),U81,MIN(U80,U81))))))","v":""}]
[null,null,null,"II.pokus",null,null,null,{"$f":"IF($C80=\"\",\"\",IF(OR($E81=\"DNF\",$F81=\"DNF\",$G81=\"DNF\"),\"DNF\",IF(OR($E81=\"NP\",$F81=\"NP\",$G81=\"NP\"),\"NP\",IF(ISERROR(MEDIAN($E81:$G81)),\"DNF\",IF(COUNT($E81:$G81)<3,MAX($E81:$G81),MEDIAN($E81:$G81))))))","v":""},null,null,null,null,null,null,null,null,null,null,null,null,""]
[{"$f":"IF('Start - jaro'!E30=\"\",\"\",\"x\")","v":""},25,{"$f":"IF('Start - jaro'!C30=\"\",\"\",'Start - jaro'!C30)","v":""},"I.pokus",null,null,null,{"$f":"IF($C82=\"\",\"\",IF(OR($E82=\"DNF\",$F82=\"DNF\",$G82=\"DNF\"),\"DNF\",IF(OR($E82=\"NP\",$F82=\"NP\",$G82=\"NP\"),\"NP\",IF(ISERROR(MEDIAN($E82:$G82)),\"DNF\",IF(COUNT($E82:$G82)<3,MAX($E82:$G82),MEDIAN($E82:$G82))))))","v":""},null,null,null,null,null,null,null,null,null,null,null,null,"",{"$f":"IF(C82=\"x\",\"x\",IF(C82=\"\",\"\",IF(OR(W82=\"NP\",W82=\"DNF\"),IF(W82=\"NP\",MAX(W$12:W$309)+COUNTIF((W$12:W$309),MAX(W$12:W$309)),MAX(W$12:W$309)+COUNTIF((W$12:W$309),MAX(W$12:W$309))+COUNTIF((W$12:W$309),\"NP\")),W82)))","v":""},{"$f":"IF(A82=\"x\",\"x\",IF(C82=\"\",\"\",IF(OR(X82=\"NP\",X82=\"DNF\"),X82,RANK(X82,X$12:X$309,1))))","v":""},{"$f":"IF(A82=\"x\",\"x\",IF(C82=\"\",\"\",IF(OR(AND(U82=\"NP\",U83=\"NP\"),AND(U82=\"DNF\",U83=\"DNF\")),U82,IF(AND(U82=\"NP\",U83=\"DNF\"),U82,IF(AND(U82=\"DNF\",U83=\"NP\"),U83,MIN(U82,U83))))))","v":""}]
[null,null,null,"II.pokus",null,null,null,{"$f":"IF($C82=\"\",\"\",IF(OR($E83=\"DNF\",$F83=\"DNF\",$G83=\"DNF\"),\"DNF\",IF(OR($E83=\"NP\",$F83=\"NP\",$G83=\"NP\"),\"NP\",IF(ISERROR(MEDIAN($E83:$G83)),\"DNF\",IF(COUNT($E83:$G83)<3,MAX($E83:$G83),MEDIAN($E83:$G83))))))","v":""},null,null,null,null,null,null,null,null,null,null,null,null,""]
[{"$f":"IF('Start - jaro'!I6=\"\",\"\",\"x\")","v":""},26,{"$f":"IF('Start - jaro'!G6=\"\",\"\",'Start - jaro'!G6)","v":""},"I.pokus",null,null,null,{"$f":"IF($C84=\"\",\"\",IF(OR($E84=\"DNF\",$F84=\"DNF\",$G84=\"DNF\"),\"DNF\",IF(OR($E84=\"NP\",$F84=\"NP\",$G84=\"NP\"),\"NP\",IF(ISERROR(MEDIAN($E84:$G84)),\"DNF\",IF(COUNT($E84:$G84)<3,MAX($E84:$G84),MEDIAN($E84:$G84))))))","v":""},null,null,null,null,null,null,null,null,null,null,null,null,"",{"$f":"IF(C84=\"x\",\"x\",IF(C84=\"\",\"\",IF(OR(W84=\"NP\",W84=\"DNF\"),IF(W84=\"NP\",MAX(W$12:W$309)+COUNTIF((W$12:W$309),MAX(W$12:W$309)),MAX(W$12:W$309)+COUNTIF((W$12:W$309),MAX(W$12:W$309))+COUNTIF((W$12:W$309),\"NP\")),W84)))","v":""},{"$f":"IF(A84=\"x\",\"x\",IF(C84=\"\",\"\",IF(OR(X84=\"NP\",X84=\"DNF\"),X84,RANK(X84,X$12:X$309,1))))","v":""},{"$f":"IF(A84=\"x\",\"x\",IF(C84=\"\",\"\",IF(OR(AND(U84=\"NP\",U85=\"NP\"),AND(U84=\"DNF\",U85=\"DNF\")),U84,IF(AND(U84=\"NP\",U85=\"DNF\"),U84,IF(AND(U84=\"DNF\",U85=\"NP\"),U85,MIN(U84,U85))))))","v":""}]
[null,null,null,"II.pokus",null,null,null,{"$f":"IF($C84=\"\",\"\",IF(OR($E85=\"DNF\",$F85=\"DNF\",$G85=\"DNF\"),\"DNF\",IF(OR($E85=\"NP\",$F85=\"NP\",$G85=\"NP\"),\"NP\",IF(ISERROR(MEDIAN($E85:$G85)),\"DNF\",IF(COUNT($E85:$G85)<3,MAX($E85:$G85),MEDIAN($E85:$G85))))))","v":""},null,null,null,null,null,null,null,null,null,null,null,null,""]
[{"$f":"IF('Start - jaro'!I7=\"\",\"\",\"x\")","v":""},27,{"$f":"IF('Start - jaro'!G7=\"\",\"\",'Start - jaro'!G7)","v":""},"I.pokus",null,null,null,{"$f":"IF($C86=\"\",\"\",IF(OR($E86=\"DNF\",$F86=\"DNF\",$G86=\"DNF\"),\"DNF\",IF(OR($E86=\"NP\",$F86=\"NP\",$G86=\"NP\"),\"NP\",IF(ISERROR(MEDIAN($E86:$G86)),\"DNF\",IF(COUNT($E86:$G86)<3,MAX($E86:$G86),MEDIAN($E86:$G86))))))","v":""},null,null,null,null,null,null,null,null,null,null,null,null,"",{"$f":"IF(C86=\"x\",\"x\",IF(C86=\"\",\"\",IF(OR(W86=\"NP\",W86=\"DNF\"),IF(W86=\"NP\",MAX(W$12:W$309)+COUNTIF((W$12:W$309),MAX(W$12:W$309)),MAX(W$12:W$309)+COUNTIF((W$12:W$309),MAX(W$12:W$309))+COUNTIF((W$12:W$309),\"NP\")),W86)))","v":""},{"$f":"IF(A86=\"x\",\"x\",IF(C86=\"\",\"\",IF(OR(X86=\"NP\",X86=\"DNF\"),X86,RANK(X86,X$12:X$309,1))))","v":""},{"$f":"IF(A86=\"x\",\"x\",IF(C86=\"\",\"\",IF(OR(AND(U86=\"NP\",U87=\"NP\"),AND(U86=\"DNF\",U87=\"DNF\")),U86,IF(AND(U86=\"NP\",U87=\"DNF\"),U86,IF(AND(U86=\"DNF\",U87=\"NP\"),U87,MIN(U86,U87))))))","v":""}]
[null,null,null,"II.pokus",null,null,null,{"$f":"IF($C86=\"\",\"\",IF(OR($E87=\"DNF\",$F87=\"DNF\",$G87=\"DNF\"),\"DNF\",IF(OR($E87=\"NP\",$F87=\"NP\",$G87=\"NP\"),\"NP\",IF(ISERROR(MEDIAN($E87:$G87)),\"DNF\",IF(COUNT($E87:$G87)<3,MAX($E87:$G87),MEDIAN($E87:$G87))))))","v":""},null,null,null,null,null,null,null,null,null,null,null,null,""]
[{"$f":"IF('Start - jaro'!I8=\"\",\"\",\"x\")","v":""},28,{"$f":"IF('Start - jaro'!G8=\"\",\"\",'Start - jaro'!G8)","v":""},"I.pokus",null,null,null,{"$f":"IF($C88=\"\",\"\",IF(OR($E88=\"DNF\",$F88=\"DNF\",$G88=\"DNF\"),\"DNF\",IF(OR($E88=\"NP\",$F88=\"NP\",$G88=\"NP\"),\"NP\",IF(ISERROR(MEDIAN($E88:$G88)),\"DNF\",IF(COUNT($E88:$G88)<3,MAX($E88:$G88),MEDIAN($E88:$G88))))))","v":""},null,null,null,null,null,null,null,null,null,null,null,null,"",{"$f":"IF(C88=\"x\",\"x\",IF(C88=\"\",\"\",IF(OR(W88=\"NP\",W88=\"DNF\"),IF(W88=\"NP\",MAX(W$12:W$309)+COUNTIF((W$12:W$309),MAX(W$12:W$309)),MAX(W$12:W$309)+COUNTIF((W$12:W$309),MAX(W$12:W$309))+COUNTIF((W$12:W$309),\"NP\")),W88)))","v":""},{"$f":"IF(A88=\"x\",\"x\",IF(C88=\"\",\"\",IF(OR(X88=\"NP\",X88=\"DNF\"),X88,RANK(X88,X$12:X$309,1))))","v":""},{"$f":"IF(A88=\"x\",\"x\",IF(C88=\"\",\"\",IF(OR(AND(U88=\"NP\",U89=\"NP\"),AND(U88=\"DNF\",U89=\"DNF\")),U88,IF(AND(U88=\"NP\",U89=\"DNF\"),U88,IF(AND(U88=\"DNF\",U89=\"NP\"),U89,MIN(U88,U89))))))","v":""}]
[null,null,null,"II.pokus",null,null,null,{"$f":"IF($C88=\"\",\"\",IF(OR($E89=\"DNF\",$F89=\"DNF\",$G89=\"DNF\"),\"DNF\",IF(OR($E89=\"NP\",$F89=\"NP\",$G89=\"NP\"),\"NP\",IF(ISERROR(MEDIAN($E89:$G89)),\"DNF\",IF(COUNT($E89:$G89)<3,MAX($E89:$G89),MEDIAN($E89:$G89))))))","v":""},null,null,null,null,null,null,null,null,null,null,null,null,""]
[{"$f":"IF('Start - jaro'!I9=\"\",\"\",\"x\")","v":""},29,{"$f":"IF('Start - jaro'!G9=\"\",\"\",'Start - jaro'!G9)","v":""},"I.pokus",null,null,null,{"$f":"IF($C90=\"\",\"\",IF(OR($E90=\"DNF\",$F90=\"DNF\",$G90=\"DNF\"),\"DNF\",IF(OR($E90=\"NP\",$F90=\"NP\",$G90=\"NP\"),\"NP\",IF(ISERROR(MEDIAN($E90:$G90)),\"DNF\",IF(COUNT($E90:$G90)<3,MAX($E90:$G90),MEDIAN($E90:$G90))))))","v":""},null,null,null,null,null,null,null,null,null,null,null,null,"",{"$f":"IF(C90=\"x\",\"x\",IF(C90=\"\",\"\",IF(OR(W90=\"NP\",W90=\"DNF\"),IF(W90=\"NP\",MAX(W$12:W$309)+COUNTIF((W$12:W$309),MAX(W$12:W$309)),MAX(W$12:W$309)+COUNTIF((W$12:W$309),MAX(W$12:W$309))+COUNTIF((W$12:W$309),\"NP\")),W90)))","v":""},{"$f":"IF(A90=\"x\",\"x\",IF(C90=\"\",\"\",IF(OR(X90=\"NP\",X90=\"DNF\"),X90,RANK(X90,X$12:X$309,1))))","v":""},{"$f":"IF(A90=\"x\",\"x\",IF(C90=\"\",\"\",IF(OR(AND(U90=\"NP\",U91=\"NP\"),AND(U90=\"DNF\",U91=\"DNF\")),U90,IF(AND(U90=\"NP\",U91=\"DNF\"),U90,IF(AND(U90=\"DNF\",U91=\"NP\"),U91,MIN(U90,U91))))))","v":""}]
[null,null,null,"II.pokus",null,null,null,{"$f":"IF($C90=\"\",\"\",IF(OR($E91=\"DNF\",$F91=\"DNF\",$G91=\"DNF\"),\"DNF\",IF(OR($E91=\"NP\",$F91=\"NP\",$G91=\"NP\"),\"NP\",IF(ISERROR(MEDIAN($E91:$G91)),\"DNF\",IF(COUNT($E91:$G91)<3,MAX($E91:$G91),MEDIAN($E91:$G91))))))","v":""},null,null,null,null,null,null,null,null,null,null,null,null,""]
[{"$f":"IF('Start - jaro'!I10=\"\",\"\",\"x\")","v":""},30,{"$f":"IF('Start - jaro'!G10=\"\",\"\",'Start - jaro'!G10)","v":""},"I.pokus",null,null,null,{"$f":"IF($C92=\"\",\"\",IF(OR($E92=\"DNF\",$F92=\"DNF\",$G92=\"DNF\"),\"DNF\",IF(OR($E92=\"NP\",$F92=\"NP\",$G92=\"NP\"),\"NP\",IF(ISERROR(MEDIAN($E92:$G92)),\"DNF\",IF(COUNT($E92:$G92)<3,MAX($E92:$G92),MEDIAN($E92:$G92))))))","v":""},null,null,null,null,null,null,null,null,null,null,null,null,"",{"$f":"IF(C92=\"x\",\"x\",IF(C92=\"\",\"\",IF(OR(W92=\"NP\",W92=\"DNF\"),IF(W92=\"NP\",MAX(W$12:W$309)+COUNTIF((W$12:W$309),MAX(W$12:W$309)),MAX(W$12:W$309)+COUNTIF((W$12:W$309),MAX(W$12:W$309))+COUNTIF((W$12:W$309),\"NP\")),W92)))","v":""},{"$f":"IF(A92=\"x\",\"x\",IF(C92=\"\",\"\",IF(OR(X92=\"NP\",X92=\"DNF\"),X92,RANK(X92,X$12:X$309,1))))","v":""},{"$f":"IF(A92=\"x\",\"x\",IF(C92=\"\",\"\",IF(OR(AND(U92=\"NP\",U93=\"NP\"),AND(U92=\"DNF\",U93=\"DNF\")),U92,IF(AND(U92=\"NP\",U93=\"DNF\"),U92,IF(AND(U92=\"DNF\",U93=\"NP\"),U93,MIN(U92,U93))))))","v":""}]
[null,null,null,"II.pokus",null,null,null,{"$f":"IF($C92=\"\",\"\",IF(OR($E93=\"DNF\",$F93=\"DNF\",$G93=\"DNF\"),\"DNF\",IF(OR($E93=\"NP\",$F93=\"NP\",$G93=\"NP\"),\"NP\",IF(ISERROR(MEDIAN($E93:$G93)),\"DNF\",IF(COUNT($E93:$G93)<3,MAX($E93:$G93),MEDIAN($E93:$G93))))))","v":""},null,null,null,null,null,null,null,null,null,null,null,null,""]
[null,"CELOSTÁTNÍ HRA PLAMEN"]
[]
[]
[null,"Výsledková listina č: 4"]
[null,"Štafeta požárních dvojic",null,null,"Základem je čas naměřený od vydání signálu startéra do proběhnutí posledního člena cílem",null,null,null,"K úřednímu času se připočítávají trest. Sekundy - za každý případ 10 sekund",null,null,null,null,null,null,null,null,null,null,null,"Výsledek soutěže"]
[null,null,null,null,null,null,null,null,"předčasné vyběhnutí","nesvinutí rozpadlého kotouče","nerozložení hadice proudnice na, nebo za čarou","nesprávné napojení hadice na proudnici či hydr. nástavec","nesprávné rozvinutí hadice u hydr. nástavce","neoběhnutí nebo nesprávné oběhnutí mety","neúplné svinutí mezi metou a nástavcem hydrantu","hození hadice nebo proudnice","chození po nesprávné straně hadicového vedení","nesprávné svinutí (dvojité přeložení)","za nesprávné odpojení proudnice nebo hadice","za pomoc při svinování hadice"]
[null,null,null,null,null,null,null,null,null,null,null,null,null,null,null,null,null,null,null,null,"součet trest. Sekund a úředního času","počet bodů za umístění"]
[null,{"$f":"\"KATEGORIE: \"&'Start - podzim'!$N$2","v":"KATEGORIE: STARŠÍ"},null,null,"I. časoměřič","II. časoměřič","III. časoměřič","úřední čas"]
[]
[null,"start. číslo","SOUTĚŽNÍ DRUŽSTVO","pokus"]
[]
[{"$f":"IF('Start - jaro'!I11=\"\",\"\",\"x\")","v":""},31,{"$f":"IF('Start - jaro'!G11=\"\",\"\",'Start - jaro'!G11)","v":""},"I.pokus",null,null,null,{"$f":"IF($C105=\"\",\"\",IF(OR($E105=\"DNF\",$F105=\"DNF\",$G105=\"DNF\"),\"DNF\",IF(OR($E105=\"NP\",$F105=\"NP\",$G105=\"NP\"),\"NP\",IF(ISERROR(MEDIAN($E105:$G105)),\"DNF\",IF(COUNT($E105:$G105)<3,MAX($E105:$G105),MEDIAN($E105:$G105))))))","v":""},null,null,null,null,null,null,null,null,null,null,null,null,{"$f":"IF(H105=\"\",\"\",IF(H105=\"NP\",\"NP\",IF(H105=\"DNF\",\"DNF\",SUM(I105:T105)+H105)))","v":""},{"$f":"IF(C105=\"x\",\"x\",IF(C105=\"\",\"\",IF(OR(W105=\"NP\",W105=\"DNF\"),IF(W105=\"NP\",MAX(W$12:W$309)+COUNTIF((W$12:W$309),MAX(W$12:W$309)),MAX(W$12:W$309)+COUNTIF((W$12:W$309),MAX(W$12:W$309))+COUNTIF((W$12:W$309),\"NP\")),W105)))","v":""},{"$f":"IF(A105=\"x\",\"x\",IF(C105=\"\",\"\",IF(OR(X105=\"NP\",X105=\"DNF\"),X105,RANK(X105,X$12:X$309,1))))","v":""},{"$f":"IF(A105=\"x\",\"x\",IF(C105=\"\",\"\",IF(OR(AND(U105=\"NP\",U106=\"NP\"),AND(U105=\"DNF\",U106=\"DNF\")),U105,IF(AND(U105=\"NP\",U106=\"DNF\"),U105,IF(AND(U105=\"DNF\",U106=\"NP\"),U106,MIN(U105,U106))))))","v":""}]
[null,null,null,"II.pokus",null,null,null,{"$f":"IF($C105=\"\",\"\",IF(OR($E106=\"DNF\",$F106=\"DNF\",$G106=\"DNF\"),\"DNF\",IF(OR($E106=\"NP\",$F106=\"NP\",$G106=\"NP\"),\"NP\",IF(ISERROR(MEDIAN($E106:$G106)),\"DNF\",IF(COUNT($E106:$G106)<3,MAX($E106:$G106),MEDIAN($E106:$G106))))))","v":""},null,null,null,null,null,null,null,null,null,null,null,null,""]
[{"$f":"IF('Start - jaro'!I12=\"\",\"\",\"x\")","v":""},32,{"$f":"IF('Start - jaro'!G12=\"\",\"\",'Start - jaro'!G12)","v":""},"I.pokus",null,null,null,{"$f":"IF($C107=\"\",\"\",IF(OR($E107=\"DNF\",$F107=\"DNF\",$G107=\"DNF\"),\"DNF\",IF(OR($E107=\"NP\",$F107=\"NP\",$G107=\"NP\"),\"NP\",IF(ISERROR(MEDIAN($E107:$G107)),\"DNF\",IF(COUNT($E107:$G107)<3,MAX($E107:$G107),MEDIAN($E107:$G107))))))","v":""},null,null,null,null,null,null,null,null,null,null,null,null,"",{"$f":"IF(C107=\"x\",\"x\",IF(C107=\"\",\"\",IF(OR(W107=\"NP\",W107=\"DNF\"),IF(W107=\"NP\",MAX(W$12:W$309)+COUNTIF((W$12:W$309),MAX(W$12:W$309)),MAX(W$12:W$309)+COUNTIF((W$12:W$309),MAX(W$12:W$309))+COUNTIF((W$12:W$309),\"NP\")),W107)))","v":""},{"$f":"IF(A107=\"x\",\"x\",IF(C107=\"\",\"\",IF(OR(X107=\"NP\",X107=\"DNF\"),X107,RANK(X107,X$12:X$309,1))))","v":""},{"$f":"IF(A107=\"x\",\"x\",IF(C107=\"\",\"\",IF(OR(AND(U107=\"NP\",U108=\"NP\"),AND(U107=\"DNF\",U108=\"DNF\")),U107,IF(AND(U107=\"NP\",U108=\"DNF\"),U107,IF(AND(U107=\"DNF\",U108=\"NP\"),U108,MIN(U107,U108))))))","v":""}]
[null,null,null,"II.pokus",null,null,null,{"$f":"IF($C107=\"\",\"\",IF(OR($E108=\"DNF\",$F108=\"DNF\",$G108=\"DNF\"),\"DNF\",IF(OR($E108=\"NP\",$F108=\"NP\",$G108=\"NP\"),\"NP\",IF(ISERROR(MEDIAN($E108:$G108)),\"DNF\",IF(COUNT($E108:$G108)<3,MAX($E108:$G108),MEDIAN($E108:$G108))))))","v":""},null,null,null,null,null,null,null,null,null,null,null,null,""]
[{"$f":"IF('Start - jaro'!I13=\"\",\"\",\"x\")","v":""},33,{"$f":"IF('Start - jaro'!G13=\"\",\"\",'Start - jaro'!G13)","v":""},"I.pokus",null,null,null,{"$f":"IF($C109=\"\",\"\",IF(OR($E109=\"DNF\",$F109=\"DNF\",$G109=\"DNF\"),\"DNF\",IF(OR($E109=\"NP\",$F109=\"NP\",$G109=\"NP\"),\"NP\",IF(ISERROR(MEDIAN($E109:$G109)),\"DNF\",IF(COUNT($E109:$G109)<3,MAX($E109:$G109),MEDIAN($E109:$G109))))))","v":""},null,null,null,null,null,null,null,null,null,null,null,null,"",{"$f":"IF(C109=\"x\",\"x\",IF(C109=\"\",\"\",IF(OR(W109=\"NP\",W109=\"DNF\"),IF(W109=\"NP\",MAX(W$12:W$309)+COUNTIF((W$12:W$309),MAX(W$12:W$309)),MAX(W$12:W$309)+COUNTIF((W$12:W$309),MAX(W$12:W$309))+COUNTIF((W$12:W$309),\"NP\")),W109)))","v":""},{"$f":"IF(A109=\"x\",\"x\",IF(C109=\"\",\"\",IF(OR(X109=\"NP\",X109=\"DNF\"),X109,RANK(X109,X$12:X$309,1))))","v":""},{"$f":"IF(A109=\"x\",\"x\",IF(C109=\"\",\"\",IF(OR(AND(U109=\"NP\",U110=\"NP\"),AND(U109=\"DNF\",U110=\"DNF\")),U109,IF(AND(U109=\"NP\",U110=\"DNF\"),U109,IF(AND(U109=\"DNF\",U110=\"NP\"),U110,MIN(U109,U110))))))","v":""}]
[null,null,null,"II.pokus",null,null,null,{"$f":"IF($C109=\"\",\"\",IF(OR($E110=\"DNF\",$F110=\"DNF\",$G110=\"DNF\"),\"DNF\",IF(OR($E110=\"NP\",$F110=\"NP\",$G110=\"NP\"),\"NP\",IF(ISERROR(MEDIAN($E110:$G110)),\"DNF\",IF(COUNT($E110:$G110)<3,MAX($E110:$G110),MEDIAN($E110:$G110))))))","v":""},null,null,null,null,null,null,null,null,null,null,null,null,""]
[{"$f":"IF('Start - jaro'!I14=\"\",\"\",\"x\")","v":""},34,{"$f":"IF('Start - jaro'!G14=\"\",\"\",'Start - jaro'!G14)","v":""},"I.pokus",null,null,null,{"$f":"IF($C111=\"\",\"\",IF(OR($E111=\"DNF\",$F111=\"DNF\",$G111=\"DNF\"),\"DNF\",IF(OR($E111=\"NP\",$F111=\"NP\",$G111=\"NP\"),\"NP\",IF(ISERROR(MEDIAN($E111:$G111)),\"DNF\",IF(COUNT($E111:$G111)<3,MAX($E111:$G111),MEDIAN($E111:$G111))))))","v":""},null,null,null,null,null,null,null,null,null,null,null,null,"",{"$f":"IF(C111=\"x\",\"x\",IF(C111=\"\",\"\",IF(OR(W111=\"NP\",W111=\"DNF\"),IF(W111=\"NP\",MAX(W$12:W$309)+COUNTIF((W$12:W$309),MAX(W$12:W$309)),MAX(W$12:W$309)+COUNTIF((W$12:W$309),MAX(W$12:W$309))+COUNTIF((W$12:W$309),\"NP\")),W111)))","v":""},{"$f":"IF(A111=\"x\",\"x\",IF(C111=\"\",\"\",IF(OR(X111=\"NP\",X111=\"DNF\"),X111,RANK(X111,X$12:X$309,1))))","v":""},{"$f":"IF(A111=\"x\",\"x\",IF(C111=\"\",\"\",IF(OR(AND(U111=\"NP\",U112=\"NP\"),AND(U111=\"DNF\",U112=\"DNF\")),U111,IF(AND(U111=\"NP\",U112=\"DNF\"),U111,IF(AND(U111=\"DNF\",U112=\"NP\"),U112,MIN(U111,U112))))))","v":""}]
[null,null,null,"II.pokus",null,null,null,{"$f":"IF($C111=\"\",\"\",IF(OR($E112=\"DNF\",$F112=\"DNF\",$G112=\"DNF\"),\"DNF\",IF(OR($E112=\"NP\",$F112=\"NP\",$G112=\"NP\"),\"NP\",IF(ISERROR(MEDIAN($E112:$G112)),\"DNF\",IF(COUNT($E112:$G112)<3,MAX($E112:$G112),MEDIAN($E112:$G112))))))","v":""},null,null,null,null,null,null,null,null,null,null,null,null,""]
[{"$f":"IF('Start - jaro'!I15=\"\",\"\",\"x\")","v":""},35,{"$f":"IF('Start - jaro'!G15=\"\",\"\",'Start - jaro'!G15)","v":""},"I.pokus",null,null,null,{"$f":"IF($C113=\"\",\"\",IF(OR($E113=\"DNF\",$F113=\"DNF\",$G113=\"DNF\"),\"DNF\",IF(OR($E113=\"NP\",$F113=\"NP\",$G113=\"NP\"),\"NP\",IF(ISERROR(MEDIAN($E113:$G113)),\"DNF\",IF(COUNT($E113:$G113)<3,MAX($E113:$G113),MEDIAN($E113:$G113))))))","v":""},null,null,null,null,null,null,null,null,null,null,null,null,"",{"$f":"IF(C113=\"x\",\"x\",IF(C113=\"\",\"\",IF(OR(W113=\"NP\",W113=\"DNF\"),IF(W113=\"NP\",MAX(W$12:W$309)+COUNTIF((W$12:W$309),MAX(W$12:W$309)),MAX(W$12:W$309)+COUNTIF((W$12:W$309),MAX(W$12:W$309))+COUNTIF((W$12:W$309),\"NP\")),W113)))","v":""},{"$f":"IF(A113=\"x\",\"x\",IF(C113=\"\",\"\",IF(OR(X113=\"NP\",X113=\"DNF\"),X113,RANK(X113,X$12:X$309,1))))","v":""},{"$f":"IF(A113=\"x\",\"x\",IF(C113=\"\",\"\",IF(OR(AND(U113=\"NP\",U114=\"NP\"),AND(U113=\"DNF\",U114=\"DNF\")),U113,IF(AND(U113=\"NP\",U114=\"DNF\"),U113,IF(AND(U113=\"DNF\",U114=\"NP\"),U114,MIN(U113,U114))))))","v":""}]
[null,null,null,"II.pokus",null,null,null,{"$f":"IF($C113=\"\",\"\",IF(OR($E114=\"DNF\",$F114=\"DNF\",$G114=\"DNF\"),\"DNF\",IF(OR($E114=\"NP\",$F114=\"NP\",$G114=\"NP\"),\"NP\",IF(ISERROR(MEDIAN($E114:$G114)),\"DNF\",IF(COUNT($E114:$G114)<3,MAX($E114:$G114),MEDIAN($E114:$G114))))))","v":""},null,null,null,null,null,null,null,null,null,null,null,null,""]
[{"$f":"IF('Start - jaro'!I16=\"\",\"\",\"x\")","v":""},36,{"$f":"IF('Start - jaro'!G16=\"\",\"\",'Start - jaro'!G16)","v":""},"I.pokus",null,null,null,{"$f":"IF($C115=\"\",\"\",IF(OR($E115=\"DNF\",$F115=\"DNF\",$G115=\"DNF\"),\"DNF\",IF(OR($E115=\"NP\",$F115=\"NP\",$G115=\"NP\"),\"NP\",IF(ISERROR(MEDIAN($E115:$G115)),\"DNF\",IF(COUNT($E115:$G115)<3,MAX($E115:$G115),MEDIAN($E115:$G115))))))","v":""},null,null,null,null,null,null,null,null,null,null,null,null,"",{"$f":"IF(C115=\"x\",\"x\",IF(C115=\"\",\"\",IF(OR(W115=\"NP\",W115=\"DNF\"),IF(W115=\"NP\",MAX(W$12:W$309)+COUNTIF((W$12:W$309),MAX(W$12:W$309)),MAX(W$12:W$309)+COUNTIF((W$12:W$309),MAX(W$12:W$309))+COUNTIF((W$12:W$309),\"NP\")),W115)))","v":""},{"$f":"IF(A115=\"x\",\"x\",IF(C115=\"\",\"\",IF(OR(X115=\"NP\",X115=\"DNF\"),X115,RANK(X115,X$12:X$309,1))))","v":""},{"$f":"IF(A115=\"x\",\"x\",IF(C115=\"\",\"\",IF(OR(AND(U115=\"NP\",U116=\"NP\"),AND(U115=\"DNF\",U116=\"DNF\")),U115,IF(AND(U115=\"NP\",U116=\"DNF\"),U115,IF(AND(U115=\"DNF\",U116=\"NP\"),U116,MIN(U115,U116))))))","v":""}]
[null,null,null,"II.pokus",null,null,null,{"$f":"IF($C115=\"\",\"\",IF(OR($E116=\"DNF\",$F116=\"DNF\",$G116=\"DNF\"),\"DNF\",IF(OR($E116=\"NP\",$F116=\"NP\",$G116=\"NP\"),\"NP\",IF(ISERROR(MEDIAN($E116:$G116)),\"DNF\",IF(COUNT($E116:$G116)<3,MAX($E116:$G116),MEDIAN($E116:$G116))))))","v":""},null,null,null,null,null,null,null,null,null,null,null,null,""]
[{"$f":"IF('Start - jaro'!I17=\"\",\"\",\"x\")","v":""},37,{"$f":"IF('Start - jaro'!G17=\"\",\"\",'Start - jaro'!G17)","v":""},"I.pokus",null,null,null,{"$f":"IF($C117=\"\",\"\",IF(OR($E117=\"DNF\",$F117=\"DNF\",$G117=\"DNF\"),\"DNF\",IF(OR($E117=\"NP\",$F117=\"NP\",$G117=\"NP\"),\"NP\",IF(ISERROR(MEDIAN($E117:$G117)),\"DNF\",IF(COUNT($E117:$G117)<3,MAX($E117:$G117),MEDIAN($E117:$G117))))))","v":""},null,null,null,null,null,null,null,null,null,null,null,null,"",{"$f":"IF(C117=\"x\",\"x\",IF(C117=\"\",\"\",IF(OR(W117=\"NP\",W117=\"DNF\"),IF(W117=\"NP\",MAX(W$12:W$309)+COUNTIF((W$12:W$309),MAX(W$12:W$309)),MAX(W$12:W$309)+COUNTIF((W$12:W$309),MAX(W$12:W$309))+COUNTIF((W$12:W$309),\"NP\")),W117)))","v":""},{"$f":"IF(A117=\"x\",\"x\",IF(C117=\"\",\"\",IF(OR(X117=\"NP\",X117=\"DNF\"),X117,RANK(X117,X$12:X$309,1))))","v":""},{"$f":"IF(A117=\"x\",\"x\",IF(C117=\"\",\"\",IF(OR(AND(U117=\"NP\",U118=\"NP\"),AND(U117=\"DNF\",U118=\"DNF\")),U117,IF(AND(U117=\"NP\",U118=\"DNF\"),U117,IF(AND(U117=\"DNF\",U118=\"NP\"),U118,MIN(U117,U118))))))","v":""}]
[null,null,null,"II.pokus",null,null,null,{"$f":"IF($C117=\"\",\"\",IF(OR($E118=\"DNF\",$F118=\"DNF\",$G118=\"DNF\"),\"DNF\",IF(OR($E118=\"NP\",$F118=\"NP\",$G118=\"NP\"),\"NP\",IF(ISERROR(MEDIAN($E118:$G118)),\"DNF\",IF(COUNT($E118:$G118)<3,MAX($E118:$G118),MEDIAN($E118:$G118))))))","v":""},null,null,null,null,null,null,null,null,null,null,null,null,""]
[{"$f":"IF('Start - jaro'!I18=\"\",\"\",\"x\")","v":""},38,{"$f":"IF('Start - jaro'!G18=\"\",\"\",'Start - jaro'!G18)","v":""},"I.pokus",null,null,null,{"$f":"IF($C119=\"\",\"\",IF(OR($E119=\"DNF\",$F119=\"DNF\",$G119=\"DNF\"),\"DNF\",IF(OR($E119=\"NP\",$F119=\"NP\",$G119=\"NP\"),\"NP\",IF(ISERROR(MEDIAN($E119:$G119)),\"DNF\",IF(COUNT($E119:$G119)<3,MAX($E119:$G119),MEDIAN($E119:$G119))))))","v":""},null,null,null,null,null,null,null,null,null,null,null,null,"",{"$f":"IF(C119=\"x\",\"x\",IF(C119=\"\",\"\",IF(OR(W119=\"NP\",W119=\"DNF\"),IF(W119=\"NP\",MAX(W$12:W$309)+COUNTIF((W$12:W$309),MAX(W$12:W$309)),MAX(W$12:W$309)+COUNTIF((W$12:W$309),MAX(W$12:W$309))+COUNTIF((W$12:W$309),\"NP\")),W119)))","v":""},{"$f":"IF(A119=\"x\",\"x\",IF(C119=\"\",\"\",IF(OR(X119=\"NP\",X119=\"DNF\"),X119,RANK(X119,X$12:X$309,1))))","v":""},{"$f":"IF(A119=\"x\",\"x\",IF(C119=\"\",\"\",IF(OR(AND(U119=\"NP\",U120=\"NP\"),AND(U119=\"DNF\",U120=\"DNF\")),U119,IF(AND(U119=\"NP\",U120=\"DNF\"),U119,IF(AND(U119=\"DNF\",U120=\"NP\"),U120,MIN(U119,U120))))))","v":""}]
[null,null,null,"II.pokus",null,null,null,{"$f":"IF($C119=\"\",\"\",IF(OR($E120=\"DNF\",$F120=\"DNF\",$G120=\"DNF\"),\"DNF\",IF(OR($E120=\"NP\",$F120=\"NP\",$G120=\"NP\"),\"NP\",IF(ISERROR(MEDIAN($E120:$G120)),\"DNF\",IF(COUNT($E120:$G120)<3,MAX($E120:$G120),MEDIAN($E120:$G120))))))","v":""},null,null,null,null,null,null,null,null,null,null,null,null,""]
[{"$f":"IF('Start - jaro'!I19=\"\",\"\",\"x\")","v":""},39,{"$f":"IF('Start - jaro'!G19=\"\",\"\",'Start - jaro'!G19)","v":""},"I.pokus",null,null,null,{"$f":"IF($C121=\"\",\"\",IF(OR($E121=\"DNF\",$F121=\"DNF\",$G121=\"DNF\"),\"DNF\",IF(OR($E121=\"NP\",$F121=\"NP\",$G121=\"NP\"),\"NP\",IF(ISERROR(MEDIAN($E121:$G121)),\"DNF\",IF(COUNT($E121:$G121)<3,MAX($E121:$G121),MEDIAN($E121:$G121))))))","v":""},null,null,null,null,null,null,null,null,null,null,null,null,"",{"$f":"IF(C121=\"x\",\"x\",IF(C121=\"\",\"\",IF(OR(W121=\"NP\",W121=\"DNF\"),IF(W121=\"NP\",MAX(W$12:W$309)+COUNTIF((W$12:W$309),MAX(W$12:W$309)),MAX(W$12:W$309)+COUNTIF((W$12:W$309),MAX(W$12:W$309))+COUNTIF((W$12:W$309),\"NP\")),W121)))","v":""},{"$f":"IF(A121=\"x\",\"x\",IF(C121=\"\",\"\",IF(OR(X121=\"NP\",X121=\"DNF\"),X121,RANK(X121,X$12:X$309,1))))","v":""},{"$f":"IF(A121=\"x\",\"x\",IF(C121=\"\",\"\",IF(OR(AND(U121=\"NP\",U122=\"NP\"),AND(U121=\"DNF\",U122=\"DNF\")),U121,IF(AND(U121=\"NP\",U122=\"DNF\"),U121,IF(AND(U121=\"DNF\",U122=\"NP\"),U122,MIN(U121,U122))))))","v":""}]
[null,null,null,"II.pokus",null,null,null,{"$f":"IF($C121=\"\",\"\",IF(OR($E122=\"DNF\",$F122=\"DNF\",$G122=\"DNF\"),\"DNF\",IF(OR($E122=\"NP\",$F122=\"NP\",$G122=\"NP\"),\"NP\",IF(ISERROR(MEDIAN($E122:$G122)),\"DNF\",IF(COUNT($E122:$G122)<3,MAX($E122:$G122),MEDIAN($E122:$G122))))))","v":""},null,null,null,null,null,null,null,null,null,null,null,null,""]
[{"$f":"IF('Start - jaro'!I20=\"\",\"\",\"x\")","v":""},40,{"$f":"IF('Start - jaro'!G20=\"\",\"\",'Start - jaro'!G20)","v":""},"I.pokus",null,null,null,{"$f":"IF($C123=\"\",\"\",IF(OR($E123=\"DNF\",$F123=\"DNF\",$G123=\"DNF\"),\"DNF\",IF(OR($E123=\"NP\",$F123=\"NP\",$G123=\"NP\"),\"NP\",IF(ISERROR(MEDIAN($E123:$G123)),\"DNF\",IF(COUNT($E123:$G123)<3,MAX($E123:$G123),MEDIAN($E123:$G123))))))","v":""},null,null,null,null,null,null,null,null,null,null,null,null,"",{"$f":"IF(C123=\"x\",\"x\",IF(C123=\"\",\"\",IF(OR(W123=\"NP\",W123=\"DNF\"),IF(W123=\"NP\",MAX(W$12:W$309)+COUNTIF((W$12:W$309),MAX(W$12:W$309)),MAX(W$12:W$309)+COUNTIF((W$12:W$309),MAX(W$12:W$309))+COUNTIF((W$12:W$309),\"NP\")),W123)))","v":""},{"$f":"IF(A123=\"x\",\"x\",IF(C123=\"\",\"\",IF(OR(X123=\"NP\",X123=\"DNF\"),X123,RANK(X123,X$12:X$309,1))))","v":""},{"$f":"IF(A123=\"x\",\"x\",IF(C123=\"\",\"\",IF(OR(AND(U123=\"NP\",U124=\"NP\"),AND(U123=\"DNF\",U124=\"DNF\")),U123,IF(AND(U123=\"NP\",U124=\"DNF\"),U123,IF(AND(U123=\"DNF\",U124=\"NP\"),U124,MIN(U123,U124))))))","v":""}]
[null,null,null,"II.pokus",null,null,null,{"$f":"IF($C123=\"\",\"\",IF(OR($E124=\"DNF\",$F124=\"DNF\",$G124=\"DNF\"),\"DNF\",IF(OR($E124=\"NP\",$F124=\"NP\",$G124=\"NP\"),\"NP\",IF(ISERROR(MEDIAN($E124:$G124)),\"DNF\",IF(COUNT($E124:$G124)<3,MAX($E124:$G124),MEDIAN($E124:$G124))))))","v":""},null,null,null,null,null,null,null,null,null,null,null,null,""]
[null,"CELOSTÁTNÍ HRA PLAMEN"]
[]
[]
[null,"Výsledková listina č: 5"]
[null,"Štafeta požárních dvojic",null,null,"Základem je čas naměřený od vydání signálu startéra do proběhnutí posledního člena cílem",null,null,null,"K úřednímu času se připočítávají trest. Sekundy - za každý případ 10 sekund",null,null,null,null,null,null,null,null,null,null,null,"Výsledek soutěže"]
[null,null,null,null,null,null,null,null,"předčasné vyběhnutí","nesvinutí rozpadlého kotouče","nerozložení hadice proudnice na, nebo za čarou","nesprávné napojení hadice na proudnici či hydr. nástavec","nesprávné rozvinutí hadice u hydr. nástavce","neoběhnutí nebo nesprávné oběhnutí mety","neúplné svinutí mezi metou a nástavcem hydrantu","hození hadice nebo proudnice","chození po nesprávné straně hadicového vedení","nesprávné svinutí (dvojité přeložení)","za nesprávné odpojení proudnice nebo hadice","za pomoc při svinování hadice"]
[null,null,null,null,null,null,null,null,null,null,null,null,null,null,null,null,null,null,null,null,"součet trest. Sekund a úředního času","počet bodů za umístění"]
[null,{"$f":"\"KATEGORIE: \"&'Start - podzim'!$N$2","v":"KATEGORIE: STARŠÍ"},null,null,"I. časoměřič","II. časoměřič","III. časoměřič","úřední čas"]
[]
[null,"start. číslo","SOUTĚŽNÍ DRUŽSTVO","pokus"]
[]
[{"$f":"IF('Start - jaro'!I21=\"\",\"\",\"x\")","v":""},41,{"$f":"IF('Start - jaro'!G21=\"\",\"\",'Start - jaro'!G21)","v":""},"I.pokus",null,null,null,{"$f":"IF($C136=\"\",\"\",IF(OR($E136=\"DNF\",$F136=\"DNF\",$G136=\"DNF\"),\"DNF\",IF(OR($E136=\"NP\",$F136=\"NP\",$G136=\"NP\"),\"NP\",IF(ISERROR(MEDIAN($E136:$G136)),\"DNF\",IF(COUNT($E136:$G136)<3,MAX($E136:$G136),MEDIAN($E136:$G136))))))","v":""},null,null,null,null,null,null,null,null,null,null,null,null,{"$f":"IF(H136=\"\",\"\",IF(H136=\"NP\",\"NP\",IF(H136=\"DNF\",\"DNF\",SUM(I136:T136)+H136)))","v":""},{"$f":"IF(C136=\"x\",\"x\",IF(C136=\"\",\"\",IF(OR(W136=\"NP\",W136=\"DNF\"),IF(W136=\"NP\",MAX(W$12:W$309)+COUNTIF((W$12:W$309),MAX(W$12:W$309)),MAX(W$12:W$309)+COUNTIF((W$12:W$309),MAX(W$12:W$309))+COUNTIF((W$12:W$309),\"NP\")),W136)))","v":""},{"$f":"IF(A136=\"x\",\"x\",IF(C136=\"\",\"\",IF(OR(X136=\"NP\",X136=\"DNF\"),X136,RANK(X136,X$12:X$309,1))))","v":""},{"$f":"IF(A136=\"x\",\"x\",IF(C136=\"\",\"\",IF(OR(AND(U136=\"NP\",U137=\"NP\"),AND(U136=\"DNF\",U137=\"DNF\")),U136,IF(AND(U136=\"NP\",U137=\"DNF\"),U136,IF(AND(U136=\"DNF\",U137=\"NP\"),U137,MIN(U136,U137))))))","v":""}]
[null,null,null,"II.pokus",null,null,null,{"$f":"IF($C136=\"\",\"\",IF(OR($E137=\"DNF\",$F137=\"DNF\",$G137=\"DNF\"),\"DNF\",IF(OR($E137=\"NP\",$F137=\"NP\",$G137=\"NP\"),\"NP\",IF(ISERROR(MEDIAN($E137:$G137)),\"DNF\",IF(COUNT($E137:$G137)<3,MAX($E137:$G137),MEDIAN($E137:$G137))))))","v":""},null,null,null,null,null,null,null,null,null,null,null,null,""]
[{"$f":"IF('Start - jaro'!I22=\"\",\"\",\"x\")","v":""},42,{"$f":"IF('Start - jaro'!G22=\"\",\"\",'Start - jaro'!G22)","v":""},"I.pokus",null,null,null,{"$f":"IF($C138=\"\",\"\",IF(OR($E138=\"DNF\",$F138=\"DNF\",$G138=\"DNF\"),\"DNF\",IF(OR($E138=\"NP\",$F138=\"NP\",$G138=\"NP\"),\"NP\",IF(ISERROR(MEDIAN($E138:$G138)),\"DNF\",IF(COUNT($E138:$G138)<3,MAX($E138:$G138),MEDIAN($E138:$G138))))))","v":""},null,null,null,null,null,null,null,null,null,null,null,null,"",{"$f":"IF(C138=\"x\",\"x\",IF(C138=\"\",\"\",IF(OR(W138=\"NP\",W138=\"DNF\"),IF(W138=\"NP\",MAX(W$12:W$309)+COUNTIF((W$12:W$309),MAX(W$12:W$309)),MAX(W$12:W$309)+COUNTIF((W$12:W$309),MAX(W$12:W$309))+COUNTIF((W$12:W$309),\"NP\")),W138)))","v":""},{"$f":"IF(A138=\"x\",\"x\",IF(C138=\"\",\"\",IF(OR(X138=\"NP\",X138=\"DNF\"),X138,RANK(X138,X$12:X$309,1))))","v":""},{"$f":"IF(A138=\"x\",\"x\",IF(C138=\"\",\"\",IF(OR(AND(U138=\"NP\",U139=\"NP\"),AND(U138=\"DNF\",U139=\"DNF\")),U138,IF(AND(U138=\"NP\",U139=\"DNF\"),U138,IF(AND(U138=\"DNF\",U139=\"NP\"),U139,MIN(U138,U139))))))","v":""}]
[null,null,null,"II.pokus",null,null,null,{"$f":"IF($C138=\"\",\"\",IF(OR($E139=\"DNF\",$F139=\"DNF\",$G139=\"DNF\"),\"DNF\",IF(OR($E139=\"NP\",$F139=\"NP\",$G139=\"NP\"),\"NP\",IF(ISERROR(MEDIAN($E139:$G139)),\"DNF\",IF(COUNT($E139:$G139)<3,MAX($E139:$G139),MEDIAN($E139:$G139))))))","v":""},null,null,null,null,null,null,null,null,null,null,null,null,""]
[{"$f":"IF('Start - jaro'!I23=\"\",\"\",\"x\")","v":""},43,{"$f":"IF('Start - jaro'!G23=\"\",\"\",'Start - jaro'!G23)","v":""},"I.pokus",null,null,null,{"$f":"IF($C140=\"\",\"\",IF(OR($E140=\"DNF\",$F140=\"DNF\",$G140=\"DNF\"),\"DNF\",IF(OR($E140=\"NP\",$F140=\"NP\",$G140=\"NP\"),\"NP\",IF(ISERROR(MEDIAN($E140:$G140)),\"DNF\",IF(COUNT($E140:$G140)<3,MAX($E140:$G140),MEDIAN($E140:$G140))))))","v":""},null,null,null,null,null,null,null,null,null,null,null,null,"",{"$f":"IF(C140=\"x\",\"x\",IF(C140=\"\",\"\",IF(OR(W140=\"NP\",W140=\"DNF\"),IF(W140=\"NP\",MAX(W$12:W$309)+COUNTIF((W$12:W$309),MAX(W$12:W$309)),MAX(W$12:W$309)+COUNTIF((W$12:W$309),MAX(W$12:W$309))+COUNTIF((W$12:W$309),\"NP\")),W140)))","v":""},{"$f":"IF(A140=\"x\",\"x\",IF(C140=\"\",\"\",IF(OR(X140=\"NP\",X140=\"DNF\"),X140,RANK(X140,X$12:X$309,1))))","v":""},{"$f":"IF(A140=\"x\",\"x\",IF(C140=\"\",\"\",IF(OR(AND(U140=\"NP\",U141=\"NP\"),AND(U140=\"DNF\",U141=\"DNF\")),U140,IF(AND(U140=\"NP\",U141=\"DNF\"),U140,IF(AND(U140=\"DNF\",U141=\"NP\"),U141,MIN(U140,U141))))))","v":""}]
[null,null,null,"II.pokus",null,null,null,{"$f":"IF($C140=\"\",\"\",IF(OR($E141=\"DNF\",$F141=\"DNF\",$G141=\"DNF\"),\"DNF\",IF(OR($E141=\"NP\",$F141=\"NP\",$G141=\"NP\"),\"NP\",IF(ISERROR(MEDIAN($E141:$G141)),\"DNF\",IF(COUNT($E141:$G141)<3,MAX($E141:$G141),MEDIAN($E141:$G141))))))","v":""},null,null,null,null,null,null,null,null,null,null,null,null,""]
[{"$f":"IF('Start - jaro'!I24=\"\",\"\",\"x\")","v":""},44,{"$f":"IF('Start - jaro'!G24=\"\",\"\",'Start - jaro'!G24)","v":""},"I.pokus",null,null,null,{"$f":"IF($C142=\"\",\"\",IF(OR($E142=\"DNF\",$F142=\"DNF\",$G142=\"DNF\"),\"DNF\",IF(OR($E142=\"NP\",$F142=\"NP\",$G142=\"NP\"),\"NP\",IF(ISERROR(MEDIAN($E142:$G142)),\"DNF\",IF(COUNT($E142:$G142)<3,MAX($E142:$G142),MEDIAN($E142:$G142))))))","v":""},null,null,null,null,null,null,null,null,null,null,null,null,"",{"$f":"IF(C142=\"x\",\"x\",IF(C142=\"\",\"\",IF(OR(W142=\"NP\",W142=\"DNF\"),IF(W142=\"NP\",MAX(W$12:W$309)+COUNTIF((W$12:W$309),MAX(W$12:W$309)),MAX(W$12:W$309)+COUNTIF((W$12:W$309),MAX(W$12:W$309))+COUNTIF((W$12:W$309),\"NP\")),W142)))","v":""},{"$f":"IF(A142=\"x\",\"x\",IF(C142=\"\",\"\",IF(OR(X142=\"NP\",X142=\"DNF\"),X142,RANK(X142,X$12:X$309,1))))","v":""},{"$f":"IF(A142=\"x\",\"x\",IF(C142=\"\",\"\",IF(OR(AND(U142=\"NP\",U143=\"NP\"),AND(U142=\"DNF\",U143=\"DNF\")),U142,IF(AND(U142=\"NP\",U143=\"DNF\"),U142,IF(AND(U142=\"DNF\",U143=\"NP\"),U143,MIN(U142,U143))))))","v":""}]
[null,null,null,"II.pokus",null,null,null,{"$f":"IF($C142=\"\",\"\",IF(OR($E143=\"DNF\",$F143=\"DNF\",$G143=\"DNF\"),\"DNF\",IF(OR($E143=\"NP\",$F143=\"NP\",$G143=\"NP\"),\"NP\",IF(ISERROR(MEDIAN($E143:$G143)),\"DNF\",IF(COUNT($E143:$G143)<3,MAX($E143:$G143),MEDIAN($E143:$G143))))))","v":""},null,null,null,null,null,null,null,null,null,null,null,null,""]
[{"$f":"IF('Start - jaro'!I25=\"\",\"\",\"x\")","v":""},45,{"$f":"IF('Start - jaro'!G25=\"\",\"\",'Start - jaro'!G25)","v":""},"I.pokus",null,null,null,{"$f":"IF($C144=\"\",\"\",IF(OR($E144=\"DNF\",$F144=\"DNF\",$G144=\"DNF\"),\"DNF\",IF(OR($E144=\"NP\",$F144=\"NP\",$G144=\"NP\"),\"NP\",IF(ISERROR(MEDIAN($E144:$G144)),\"DNF\",IF(COUNT($E144:$G144)<3,MAX($E144:$G144),MEDIAN($E144:$G144))))))","v":""},null,null,null,null,null,null,null,null,null,null,null,null,"",{"$f":"IF(C144=\"x\",\"x\",IF(C144=\"\",\"\",IF(OR(W144=\"NP\",W144=\"DNF\"),IF(W144=\"NP\",MAX(W$12:W$309)+COUNTIF((W$12:W$309),MAX(W$12:W$309)),MAX(W$12:W$309)+COUNTIF((W$12:W$309),MAX(W$12:W$309))+COUNTIF((W$12:W$309),\"NP\")),W144)))","v":""},{"$f":"IF(A144=\"x\",\"x\",IF(C144=\"\",\"\",IF(OR(X144=\"NP\",X144=\"DNF\"),X144,RANK(X144,X$12:X$309,1))))","v":""},{"$f":"IF(A144=\"x\",\"x\",IF(C144=\"\",\"\",IF(OR(AND(U144=\"NP\",U145=\"NP\"),AND(U144=\"DNF\",U145=\"DNF\")),U144,IF(AND(U144=\"NP\",U145=\"DNF\"),U144,IF(AND(U144=\"DNF\",U145=\"NP\"),U145,MIN(U144,U145))))))","v":""}]
[null,null,null,"II.pokus",null,null,null,{"$f":"IF($C144=\"\",\"\",IF(OR($E145=\"DNF\",$F145=\"DNF\",$G145=\"DNF\"),\"DNF\",IF(OR($E145=\"NP\",$F145=\"NP\",$G145=\"NP\"),\"NP\",IF(ISERROR(MEDIAN($E145:$G145)),\"DNF\",IF(COUNT($E145:$G145)<3,MAX($E145:$G145),MEDIAN($E145:$G145))))))","v":""},null,null,null,null,null,null,null,null,null,null,null,null,""]
[{"$f":"IF('Start - jaro'!I26=\"\",\"\",\"x\")","v":""},46,{"$f":"IF('Start - jaro'!G26=\"\",\"\",'Start - jaro'!G26)","v":""},"I.pokus",null,null,null,{"$f":"IF($C146=\"\",\"\",IF(OR($E146=\"DNF\",$F146=\"DNF\",$G146=\"DNF\"),\"DNF\",IF(OR($E146=\"NP\",$F146=\"NP\",$G146=\"NP\"),\"NP\",IF(ISERROR(MEDIAN($E146:$G146)),\"DNF\",IF(COUNT($E146:$G146)<3,MAX($E146:$G146),MEDIAN($E146:$G146))))))","v":""},null,null,null,null,null,null,null,null,null,null,null,null,"",{"$f":"IF(C146=\"x\",\"x\",IF(C146=\"\",\"\",IF(OR(W146=\"NP\",W146=\"DNF\"),IF(W146=\"NP\",MAX(W$12:W$309)+COUNTIF((W$12:W$309),MAX(W$12:W$309)),MAX(W$12:W$309)+COUNTIF((W$12:W$309),MAX(W$12:W$309))+COUNTIF((W$12:W$309),\"NP\")),W146)))","v":""},{"$f":"IF(A146=\"x\",\"x\",IF(C146=\"\",\"\",IF(OR(X146=\"NP\",X146=\"DNF\"),X146,RANK(X146,X$12:X$309,1))))","v":""},{"$f":"IF(A146=\"x\",\"x\",IF(C146=\"\",\"\",IF(OR(AND(U146=\"NP\",U147=\"NP\"),AND(U146=\"DNF\",U147=\"DNF\")),U146,IF(AND(U146=\"NP\",U147=\"DNF\"),U146,IF(AND(U146=\"DNF\",U147=\"NP\"),U147,MIN(U146,U147))))))","v":""}]
[null,null,null,"II.pokus",null,null,null,{"$f":"IF($C146=\"\",\"\",IF(OR($E147=\"DNF\",$F147=\"DNF\",$G147=\"DNF\"),\"DNF\",IF(OR($E147=\"NP\",$F147=\"NP\",$G147=\"NP\"),\"NP\",IF(ISERROR(MEDIAN($E147:$G147)),\"DNF\",IF(COUNT($E147:$G147)<3,MAX($E147:$G147),MEDIAN($E147:$G147))))))","v":""},null,null,null,null,null,null,null,null,null,null,null,null,""]
[{"$f":"IF('Start - jaro'!I27=\"\",\"\",\"x\")","v":""},47,{"$f":"IF('Start - jaro'!G27=\"\",\"\",'Start - jaro'!G27)","v":""},"I.pokus",null,null,null,{"$f":"IF($C148=\"\",\"\",IF(OR($E148=\"DNF\",$F148=\"DNF\",$G148=\"DNF\"),\"DNF\",IF(OR($E148=\"NP\",$F148=\"NP\",$G148=\"NP\"),\"NP\",IF(ISERROR(MEDIAN($E148:$G148)),\"DNF\",IF(COUNT($E148:$G148)<3,MAX($E148:$G148),MEDIAN($E148:$G148))))))","v":""},null,null,null,null,null,null,null,null,null,null,null,null,"",{"$f":"IF(C148=\"x\",\"x\",IF(C148=\"\",\"\",IF(OR(W148=\"NP\",W148=\"DNF\"),IF(W148=\"NP\",MAX(W$12:W$309)+COUNTIF((W$12:W$309),MAX(W$12:W$309)),MAX(W$12:W$309)+COUNTIF((W$12:W$309),MAX(W$12:W$309))+COUNTIF((W$12:W$309),\"NP\")),W148)))","v":""},{"$f":"IF(A148=\"x\",\"x\",IF(C148=\"\",\"\",IF(OR(X148=\"NP\",X148=\"DNF\"),X148,RANK(X148,X$12:X$309,1))))","v":""},{"$f":"IF(A148=\"x\",\"x\",IF(C148=\"\",\"\",IF(OR(AND(U148=\"NP\",U149=\"NP\"),AND(U148=\"DNF\",U149=\"DNF\")),U148,IF(AND(U148=\"NP\",U149=\"DNF\"),U148,IF(AND(U148=\"DNF\",U149=\"NP\"),U149,MIN(U148,U149))))))","v":""}]
[null,null,null,"II.pokus",null,null,null,{"$f":"IF($C148=\"\",\"\",IF(OR($E149=\"DNF\",$F149=\"DNF\",$G149=\"DNF\"),\"DNF\",IF(OR($E149=\"NP\",$F149=\"NP\",$G149=\"NP\"),\"NP\",IF(ISERROR(MEDIAN($E149:$G149)),\"DNF\",IF(COUNT($E149:$G149)<3,MAX($E149:$G149),MEDIAN($E149:$G149))))))","v":""},null,null,null,null,null,null,null,null,null,null,null,null,""]
[{"$f":"IF('Start - jaro'!I28=\"\",\"\",\"x\")","v":""},48,{"$f":"IF('Start - jaro'!G28=\"\",\"\",'Start - jaro'!G28)","v":""},"I.pokus",null,null,null,{"$f":"IF($C150=\"\",\"\",IF(OR($E150=\"DNF\",$F150=\"DNF\",$G150=\"DNF\"),\"DNF\",IF(OR($E150=\"NP\",$F150=\"NP\",$G150=\"NP\"),\"NP\",IF(ISERROR(MEDIAN($E150:$G150)),\"DNF\",IF(COUNT($E150:$G150)<3,MAX($E150:$G150),MEDIAN($E150:$G150))))))","v":""},null,null,null,null,null,null,null,null,null,null,null,null,"",{"$f":"IF(C150=\"x\",\"x\",IF(C150=\"\",\"\",IF(OR(W150=\"NP\",W150=\"DNF\"),IF(W150=\"NP\",MAX(W$12:W$309)+COUNTIF((W$12:W$309),MAX(W$12:W$309)),MAX(W$12:W$309)+COUNTIF((W$12:W$309),MAX(W$12:W$309))+COUNTIF((W$12:W$309),\"NP\")),W150)))","v":""},{"$f":"IF(A150=\"x\",\"x\",IF(C150=\"\",\"\",IF(OR(X150=\"NP\",X150=\"DNF\"),X150,RANK(X150,X$12:X$309,1))))","v":""},{"$f":"IF(A150=\"x\",\"x\",IF(C150=\"\",\"\",IF(OR(AND(U150=\"NP\",U151=\"NP\"),AND(U150=\"DNF\",U151=\"DNF\")),U150,IF(AND(U150=\"NP\",U151=\"DNF\"),U150,IF(AND(U150=\"DNF\",U151=\"NP\"),U151,MIN(U150,U151))))))","v":""}]
[null,null,null,"II.pokus",null,null,null,{"$f":"IF($C150=\"\",\"\",IF(OR($E151=\"DNF\",$F151=\"DNF\",$G151=\"DNF\"),\"DNF\",IF(OR($E151=\"NP\",$F151=\"NP\",$G151=\"NP\"),\"NP\",IF(ISERROR(MEDIAN($E151:$G151)),\"DNF\",IF(COUNT($E151:$G151)<3,MAX($E151:$G151),MEDIAN($E151:$G151))))))","v":""},null,null,null,null,null,null,null,null,null,null,null,null,""]
[{"$f":"IF('Start - jaro'!I29=\"\",\"\",\"x\")","v":""},49,{"$f":"IF('Start - jaro'!G29=\"\",\"\",'Start - jaro'!G29)","v":""},"I.pokus",null,null,null,{"$f":"IF($C152=\"\",\"\",IF(OR($E152=\"DNF\",$F152=\"DNF\",$G152=\"DNF\"),\"DNF\",IF(OR($E152=\"NP\",$F152=\"NP\",$G152=\"NP\"),\"NP\",IF(ISERROR(MEDIAN($E152:$G152)),\"DNF\",IF(COUNT($E152:$G152)<3,MAX($E152:$G152),MEDIAN($E152:$G152))))))","v":""},null,null,null,null,null,null,null,null,null,null,null,null,"",{"$f":"IF(C152=\"x\",\"x\",IF(C152=\"\",\"\",IF(OR(W152=\"NP\",W152=\"DNF\"),IF(W152=\"NP\",MAX(W$12:W$309)+COUNTIF((W$12:W$309),MAX(W$12:W$309)),MAX(W$12:W$309)+COUNTIF((W$12:W$309),MAX(W$12:W$309))+COUNTIF((W$12:W$309),\"NP\")),W152)))","v":""},{"$f":"IF(A152=\"x\",\"x\",IF(C152=\"\",\"\",IF(OR(X152=\"NP\",X152=\"DNF\"),X152,RANK(X152,X$12:X$309,1))))","v":""},{"$f":"IF(A152=\"x\",\"x\",IF(C152=\"\",\"\",IF(OR(AND(U152=\"NP\",U153=\"NP\"),AND(U152=\"DNF\",U153=\"DNF\")),U152,IF(AND(U152=\"NP\",U153=\"DNF\"),U152,IF(AND(U152=\"DNF\",U153=\"NP\"),U153,MIN(U152,U153))))))","v":""}]
[null,null,null,"II.pokus",null,null,null,{"$f":"IF($C152=\"\",\"\",IF(OR($E153=\"DNF\",$F153=\"DNF\",$G153=\"DNF\"),\"DNF\",IF(OR($E153=\"NP\",$F153=\"NP\",$G153=\"NP\"),\"NP\",IF(ISERROR(MEDIAN($E153:$G153)),\"DNF\",IF(COUNT($E153:$G153)<3,MAX($E153:$G153),MEDIAN($E153:$G153))))))","v":""},null,null,null,null,null,null,null,null,null,null,null,null,""]
[{"$f":"IF('Start - jaro'!I30=\"\",\"\",\"x\")","v":""},50,{"$f":"IF('Start - jaro'!G30=\"\",\"\",'Start - jaro'!G30)","v":""},"I.pokus",null,null,null,{"$f":"IF($C154=\"\",\"\",IF(OR($E154=\"DNF\",$F154=\"DNF\",$G154=\"DNF\"),\"DNF\",IF(OR($E154=\"NP\",$F154=\"NP\",$G154=\"NP\"),\"NP\",IF(ISERROR(MEDIAN($E154:$G154)),\"DNF\",IF(COUNT($E154:$G154)<3,MAX($E154:$G154),MEDIAN($E154:$G154))))))","v":""},null,null,null,null,null,null,null,null,null,null,null,null,"",{"$f":"IF(C154=\"x\",\"x\",IF(C154=\"\",\"\",IF(OR(W154=\"NP\",W154=\"DNF\"),IF(W154=\"NP\",MAX(W$12:W$309)+COUNTIF((W$12:W$309),MAX(W$12:W$309)),MAX(W$12:W$309)+COUNTIF((W$12:W$309),MAX(W$12:W$309))+COUNTIF((W$12:W$309),\"NP\")),W154)))","v":""},{"$f":"IF(A154=\"x\",\"x\",IF(C154=\"\",\"\",IF(OR(X154=\"NP\",X154=\"DNF\"),X154,RANK(X154,X$12:X$309,1))))","v":""},{"$f":"IF(A154=\"x\",\"x\",IF(C154=\"\",\"\",IF(OR(AND(U154=\"NP\",U155=\"NP\"),AND(U154=\"DNF\",U155=\"DNF\")),U154,IF(AND(U154=\"NP\",U155=\"DNF\"),U154,IF(AND(U154=\"DNF\",U155=\"NP\"),U155,MIN(U154,U155))))))","v":""}]
[null,null,null,"II.pokus",null,null,null,{"$f":"IF($C154=\"\",\"\",IF(OR($E155=\"DNF\",$F155=\"DNF\",$G155=\"DNF\"),\"DNF\",IF(OR($E155=\"NP\",$F155=\"NP\",$G155=\"NP\"),\"NP\",IF(ISERROR(MEDIAN($E155:$G155)),\"DNF\",IF(COUNT($E155:$G155)<3,MAX($E155:$G155),MEDIAN($E155:$G155))))))","v":""},null,null,null,null,null,null,null,null,null,null,null,null,""]
[null,"CELOSTÁTNÍ HRA PLAMEN"]
[]
[]
[null,"Výsledková listina č: 6"]
[null,"Štafeta požárních dvojic",null,null,"Základem je čas naměřený od vydání signálu startéra do proběhnutí posledního člena cílem",null,null,null,"K úřednímu času se připočítávají trest. Sekundy - za každý případ 10 sekund",null,null,null,null,null,null,null,null,null,null,null,"Výsledek soutěže"]
[null,null,null,null,null,null,null,null,"předčasné vyběhnutí","nesvinutí rozpadlého kotouče","nerozložení hadice proudnice na, nebo za čarou","nesprávné napojení hadice na proudnici či hydr. nástavec","nesprávné rozvinutí hadice u hydr. nástavce","neoběhnutí nebo nesprávné oběhnutí mety","neúplné svinutí mezi metou a nástavcem hydrantu","hození hadice nebo proudnice","chození po nesprávné straně hadicového vedení","nesprávné svinutí (dvojité přeložení)","za nesprávné odpojení proudnice nebo hadice","za pomoc při svinování hadice"]
[null,null,null,null,null,null,null,null,null,null,null,null,null,null,null,null,null,null,null,null,"součet trest. Sekund a úředního času","počet bodů za umístění"]
[null,{"$f":"\"KATEGORIE: \"&'Start - podzim'!$N$2","v":"KATEGORIE: STARŠÍ"},null,null,"I. časoměřič","II. časoměřič","III. časoměřič","úřední čas"]
[]
[null,"start. číslo","SOUTĚŽNÍ DRUŽSTVO","pokus"]
[]
[{"$f":"IF('Start - jaro'!M6=\"\",\"\",\"x\")","v":""},51,{"$f":"IF('Start - jaro'!K6=\"\",\"\",'Start - jaro'!K6)","v":""},"I.pokus",null,null,null,{"$f":"IF($C167=\"\",\"\",IF(OR($E167=\"DNF\",$F167=\"DNF\",$G167=\"DNF\"),\"DNF\",IF(OR($E167=\"NP\",$F167=\"NP\",$G167=\"NP\"),\"NP\",IF(ISERROR(MEDIAN($E167:$G167)),\"DNF\",IF(COUNT($E167:$G167)<3,MAX($E167:$G167),MEDIAN($E167:$G167))))))","v":""},null,null,null,null,null,null,null,null,null,null,null,null,{"$f":"IF(H167=\"\",\"\",IF(H167=\"NP\",\"NP\",IF(H167=\"DNF\",\"DNF\",SUM(I167:T167)+H167)))","v":""},{"$f":"IF(C167=\"x\",\"x\",IF(C167=\"\",\"\",IF(OR(W167=\"NP\",W167=\"DNF\"),IF(W167=\"NP\",MAX(W$12:W$309)+COUNTIF((W$12:W$309),MAX(W$12:W$309)),MAX(W$12:W$309)+COUNTIF((W$12:W$309),MAX(W$12:W$309))+COUNTIF((W$12:W$309),\"NP\")),W167)))","v":""},{"$f":"IF(A167=\"x\",\"x\",IF(C167=\"\",\"\",IF(OR(X167=\"NP\",X167=\"DNF\"),X167,RANK(X167,X$12:X$309,1))))","v":""},{"$f":"IF(A167=\"x\",\"x\",IF(C167=\"\",\"\",IF(OR(AND(U167=\"NP\",U168=\"NP\"),AND(U167=\"DNF\",U168=\"DNF\")),U167,IF(AND(U167=\"NP\",U168=\"DNF\"),U167,IF(AND(U167=\"DNF\",U168=\"NP\"),U168,MIN(U167,U168))))))","v":""}]
[null,null,null,"II.pokus",null,null,null,{"$f":"IF($C167=\"\",\"\",IF(OR($E168=\"DNF\",$F168=\"DNF\",$G168=\"DNF\"),\"DNF\",IF(OR($E168=\"NP\",$F168=\"NP\",$G168=\"NP\"),\"NP\",IF(ISERROR(MEDIAN($E168:$G168)),\"DNF\",IF(COUNT($E168:$G168)<3,MAX($E168:$G168),MEDIAN($E168:$G168))))))","v":""},null,null,null,null,null,null,null,null,null,null,null,null,""]
[{"$f":"IF('Start - jaro'!M7=\"\",\"\",\"x\")","v":""},52,{"$f":"IF('Start - jaro'!K7=\"\",\"\",'Start - jaro'!K7)","v":""},"I.pokus",null,null,null,{"$f":"IF($C169=\"\",\"\",IF(OR($E169=\"DNF\",$F169=\"DNF\",$G169=\"DNF\"),\"DNF\",IF(OR($E169=\"NP\",$F169=\"NP\",$G169=\"NP\"),\"NP\",IF(ISERROR(MEDIAN($E169:$G169)),\"DNF\",IF(COUNT($E169:$G169)<3,MAX($E169:$G169),MEDIAN($E169:$G169))))))","v":""},null,null,null,null,null,null,null,null,null,null,null,null,"",{"$f":"IF(C169=\"x\",\"x\",IF(C169=\"\",\"\",IF(OR(W169=\"NP\",W169=\"DNF\"),IF(W169=\"NP\",MAX(W$12:W$309)+COUNTIF((W$12:W$309),MAX(W$12:W$309)),MAX(W$12:W$309)+COUNTIF((W$12:W$309),MAX(W$12:W$309))+COUNTIF((W$12:W$309),\"NP\")),W169)))","v":""},"",{"$f":"IF(A169=\"x\",\"x\",IF(C169=\"\",\"\",IF(OR(AND(U169=\"NP\",U170=\"NP\"),AND(U169=\"DNF\",U170=\"DNF\")),U169,IF(AND(U169=\"NP\",U170=\"DNF\"),U169,IF(AND(U169=\"DNF\",U170=\"NP\"),U170,MIN(U169,U170))))))","v":""}]
[null,null,null,"II.pokus",null,null,null,{"$f":"IF($C169=\"\",\"\",IF(OR($E170=\"DNF\",$F170=\"DNF\",$G170=\"DNF\"),\"DNF\",IF(OR($E170=\"NP\",$F170=\"NP\",$G170=\"NP\"),\"NP\",IF(ISERROR(MEDIAN($E170:$G170)),\"DNF\",IF(COUNT($E170:$G170)<3,MAX($E170:$G170),MEDIAN($E170:$G170))))))","v":""},null,null,null,null,null,null,null,null,null,null,null,null,""]
[{"$f":"IF('Start - jaro'!M8=\"\",\"\",\"x\")","v":""},53,{"$f":"IF('Start - jaro'!K8=\"\",\"\",'Start - jaro'!K8)","v":""},"I.pokus",null,null,null,{"$f":"IF($C171=\"\",\"\",IF(OR($E171=\"DNF\",$F171=\"DNF\",$G171=\"DNF\"),\"DNF\",IF(OR($E171=\"NP\",$F171=\"NP\",$G171=\"NP\"),\"NP\",IF(ISERROR(MEDIAN($E171:$G171)),\"DNF\",IF(COUNT($E171:$G171)<3,MAX($E171:$G171),MEDIAN($E171:$G171))))))","v":""},null,null,null,null,null,null,null,null,null,null,null,null,"",{"$f":"IF(C171=\"x\",\"x\",IF(C171=\"\",\"\",IF(OR(W171=\"NP\",W171=\"DNF\"),IF(W171=\"NP\",MAX(W$12:W$309)+COUNTIF((W$12:W$309),MAX(W$12:W$309)),MAX(W$12:W$309)+COUNTIF((W$12:W$309),MAX(W$12:W$309))+COUNTIF((W$12:W$309),\"NP\")),W171)))","v":""},"",{"$f":"IF(A171=\"x\",\"x\",IF(C171=\"\",\"\",IF(OR(AND(U171=\"NP\",U172=\"NP\"),AND(U171=\"DNF\",U172=\"DNF\")),U171,IF(AND(U171=\"NP\",U172=\"DNF\"),U171,IF(AND(U171=\"DNF\",U172=\"NP\"),U172,MIN(U171,U172))))))","v":""}]
[null,null,null,"II.pokus",null,null,null,{"$f":"IF($C171=\"\",\"\",IF(OR($E172=\"DNF\",$F172=\"DNF\",$G172=\"DNF\"),\"DNF\",IF(OR($E172=\"NP\",$F172=\"NP\",$G172=\"NP\"),\"NP\",IF(ISERROR(MEDIAN($E172:$G172)),\"DNF\",IF(COUNT($E172:$G172)<3,MAX($E172:$G172),MEDIAN($E172:$G172))))))","v":""},null,null,null,null,null,null,null,null,null,null,null,null,""]
[{"$f":"IF('Start - jaro'!M9=\"\",\"\",\"x\")","v":""},54,{"$f":"IF('Start - jaro'!K9=\"\",\"\",'Start - jaro'!K9)","v":""},"I.pokus",null,null,null,{"$f":"IF($C173=\"\",\"\",IF(OR($E173=\"DNF\",$F173=\"DNF\",$G173=\"DNF\"),\"DNF\",IF(OR($E173=\"NP\",$F173=\"NP\",$G173=\"NP\"),\"NP\",IF(ISERROR(MEDIAN($E173:$G173)),\"DNF\",IF(COUNT($E173:$G173)<3,MAX($E173:$G173),MEDIAN($E173:$G173))))))","v":""},null,null,null,null,null,null,null,null,null,null,null,null,"",{"$f":"IF(C173=\"x\",\"x\",IF(C173=\"\",\"\",IF(OR(W173=\"NP\",W173=\"DNF\"),IF(W173=\"NP\",MAX(W$12:W$309)+COUNTIF((W$12:W$309),MAX(W$12:W$309)),MAX(W$12:W$309)+COUNTIF((W$12:W$309),MAX(W$12:W$309))+COUNTIF((W$12:W$309),\"NP\")),W173)))","v":""},"",{"$f":"IF(A173=\"x\",\"x\",IF(C173=\"\",\"\",IF(OR(AND(U173=\"NP\",U174=\"NP\"),AND(U173=\"DNF\",U174=\"DNF\")),U173,IF(AND(U173=\"NP\",U174=\"DNF\"),U173,IF(AND(U173=\"DNF\",U174=\"NP\"),U174,MIN(U173,U174))))))","v":""}]
[null,null,null,"II.pokus",null,null,null,{"$f":"IF($C173=\"\",\"\",IF(OR($E174=\"DNF\",$F174=\"DNF\",$G174=\"DNF\"),\"DNF\",IF(OR($E174=\"NP\",$F174=\"NP\",$G174=\"NP\"),\"NP\",IF(ISERROR(MEDIAN($E174:$G174)),\"DNF\",IF(COUNT($E174:$G174)<3,MAX($E174:$G174),MEDIAN($E174:$G174))))))","v":""},null,null,null,null,null,null,null,null,null,null,null,null,""]
[{"$f":"IF('Start - jaro'!M10=\"\",\"\",\"x\")","v":""},55,{"$f":"IF('Start - jaro'!K10=\"\",\"\",'Start - jaro'!K10)","v":""},"I.pokus",null,null,null,{"$f":"IF($C175=\"\",\"\",IF(OR($E175=\"DNF\",$F175=\"DNF\",$G175=\"DNF\"),\"DNF\",IF(OR($E175=\"NP\",$F175=\"NP\",$G175=\"NP\"),\"NP\",IF(ISERROR(MEDIAN($E175:$G175)),\"DNF\",IF(COUNT($E175:$G175)<3,MAX($E175:$G175),MEDIAN($E175:$G175))))))","v":""},null,null,null,null,null,null,null,null,null,null,null,null,"",{"$f":"IF(C175=\"x\",\"x\",IF(C175=\"\",\"\",IF(OR(W175=\"NP\",W175=\"DNF\"),IF(W175=\"NP\",MAX(W$12:W$309)+COUNTIF((W$12:W$309),MAX(W$12:W$309)),MAX(W$12:W$309)+COUNTIF((W$12:W$309),MAX(W$12:W$309))+COUNTIF((W$12:W$309),\"NP\")),W175)))","v":""},"",{"$f":"IF(A175=\"x\",\"x\",IF(C175=\"\",\"\",IF(OR(AND(U175=\"NP\",U176=\"NP\"),AND(U175=\"DNF\",U176=\"DNF\")),U175,IF(AND(U175=\"NP\",U176=\"DNF\"),U175,IF(AND(U175=\"DNF\",U176=\"NP\"),U176,MIN(U175,U176))))))","v":""}]
[null,null,null,"II.pokus",null,null,null,{"$f":"IF($C175=\"\",\"\",IF(OR($E176=\"DNF\",$F176=\"DNF\",$G176=\"DNF\"),\"DNF\",IF(OR($E176=\"NP\",$F176=\"NP\",$G176=\"NP\"),\"NP\",IF(ISERROR(MEDIAN($E176:$G176)),\"DNF\",IF(COUNT($E176:$G176)<3,MAX($E176:$G176),MEDIAN($E176:$G176))))))","v":""},null,null,null,null,null,null,null,null,null,null,null,null,""]
[{"$f":"IF('Start - jaro'!M11=\"\",\"\",\"x\")","v":""},56,{"$f":"IF('Start - jaro'!K11=\"\",\"\",'Start - jaro'!K11)","v":""},"I.pokus",null,null,null,{"$f":"IF($C177=\"\",\"\",IF(OR($E177=\"DNF\",$F177=\"DNF\",$G177=\"DNF\"),\"DNF\",IF(OR($E177=\"NP\",$F177=\"NP\",$G177=\"NP\"),\"NP\",IF(ISERROR(MEDIAN($E177:$G177)),\"DNF\",IF(COUNT($E177:$G177)<3,MAX($E177:$G177),MEDIAN($E177:$G177))))))","v":""},null,null,null,null,null,null,null,null,null,null,null,null,"",{"$f":"IF(C177=\"x\",\"x\",IF(C177=\"\",\"\",IF(OR(W177=\"NP\",W177=\"DNF\"),IF(W177=\"NP\",MAX(W$12:W$309)+COUNTIF((W$12:W$309),MAX(W$12:W$309)),MAX(W$12:W$309)+COUNTIF((W$12:W$309),MAX(W$12:W$309))+COUNTIF((W$12:W$309),\"NP\")),W177)))","v":""},"",{"$f":"IF(A177=\"x\",\"x\",IF(C177=\"\",\"\",IF(OR(AND(U177=\"NP\",U178=\"NP\"),AND(U177=\"DNF\",U178=\"DNF\")),U177,IF(AND(U177=\"NP\",U178=\"DNF\"),U177,IF(AND(U177=\"DNF\",U178=\"NP\"),U178,MIN(U177,U178))))))","v":""}]
[null,null,null,"II.pokus",null,null,null,{"$f":"IF($C177=\"\",\"\",IF(OR($E178=\"DNF\",$F178=\"DNF\",$G178=\"DNF\"),\"DNF\",IF(OR($E178=\"NP\",$F178=\"NP\",$G178=\"NP\"),\"NP\",IF(ISERROR(MEDIAN($E178:$G178)),\"DNF\",IF(COUNT($E178:$G178)<3,MAX($E178:$G178),MEDIAN($E178:$G178))))))","v":""},null,null,null,null,null,null,null,null,null,null,null,null,""]
[{"$f":"IF('Start - jaro'!M12=\"\",\"\",\"x\")","v":""},57,{"$f":"IF('Start - jaro'!K12=\"\",\"\",'Start - jaro'!K12)","v":""},"I.pokus",null,null,null,{"$f":"IF($C179=\"\",\"\",IF(OR($E179=\"DNF\",$F179=\"DNF\",$G179=\"DNF\"),\"DNF\",IF(OR($E179=\"NP\",$F179=\"NP\",$G179=\"NP\"),\"NP\",IF(ISERROR(MEDIAN($E179:$G179)),\"DNF\",IF(COUNT($E179:$G179)<3,MAX($E179:$G179),MEDIAN($E179:$G179))))))","v":""},null,null,null,null,null,null,null,null,null,null,null,null,"",{"$f":"IF(C179=\"x\",\"x\",IF(C179=\"\",\"\",IF(OR(W179=\"NP\",W179=\"DNF\"),IF(W179=\"NP\",MAX(W$12:W$309)+COUNTIF((W$12:W$309),MAX(W$12:W$309)),MAX(W$12:W$309)+COUNTIF((W$12:W$309),MAX(W$12:W$309))+COUNTIF((W$12:W$309),\"NP\")),W179)))","v":""},"",{"$f":"IF(A179=\"x\",\"x\",IF(C179=\"\",\"\",IF(OR(AND(U179=\"NP\",U180=\"NP\"),AND(U179=\"DNF\",U180=\"DNF\")),U179,IF(AND(U179=\"NP\",U180=\"DNF\"),U179,IF(AND(U179=\"DNF\",U180=\"NP\"),U180,MIN(U179,U180))))))","v":""}]
[null,null,null,"II.pokus",null,null,null,{"$f":"IF($C179=\"\",\"\",IF(OR($E180=\"DNF\",$F180=\"DNF\",$G180=\"DNF\"),\"DNF\",IF(OR($E180=\"NP\",$F180=\"NP\",$G180=\"NP\"),\"NP\",IF(ISERROR(MEDIAN($E180:$G180)),\"DNF\",IF(COUNT($E180:$G180)<3,MAX($E180:$G180),MEDIAN($E180:$G180))))))","v":""},null,null,null,null,null,null,null,null,null,null,null,null,""]
[{"$f":"IF('Start - jaro'!M13=\"\",\"\",\"x\")","v":""},58,{"$f":"IF('Start - jaro'!K13=\"\",\"\",'Start - jaro'!K13)","v":""},"I.pokus",null,null,null,{"$f":"IF($C181=\"\",\"\",IF(OR($E181=\"DNF\",$F181=\"DNF\",$G181=\"DNF\"),\"DNF\",IF(OR($E181=\"NP\",$F181=\"NP\",$G181=\"NP\"),\"NP\",IF(ISERROR(MEDIAN($E181:$G181)),\"DNF\",IF(COUNT($E181:$G181)<3,MAX($E181:$G181),MEDIAN($E181:$G181))))))","v":""},null,null,null,null,null,null,null,null,null,null,null,null,"",{"$f":"IF(C181=\"x\",\"x\",IF(C181=\"\",\"\",IF(OR(W181=\"NP\",W181=\"DNF\"),IF(W181=\"NP\",MAX(W$12:W$309)+COUNTIF((W$12:W$309),MAX(W$12:W$309)),MAX(W$12:W$309)+COUNTIF((W$12:W$309),MAX(W$12:W$309))+COUNTIF((W$12:W$309),\"NP\")),W181)))","v":""},"",{"$f":"IF(A181=\"x\",\"x\",IF(C181=\"\",\"\",IF(OR(AND(U181=\"NP\",U182=\"NP\"),AND(U181=\"DNF\",U182=\"DNF\")),U181,IF(AND(U181=\"NP\",U182=\"DNF\"),U181,IF(AND(U181=\"DNF\",U182=\"NP\"),U182,MIN(U181,U182))))))","v":""}]
[null,null,null,"II.pokus",null,null,null,{"$f":"IF($C181=\"\",\"\",IF(OR($E182=\"DNF\",$F182=\"DNF\",$G182=\"DNF\"),\"DNF\",IF(OR($E182=\"NP\",$F182=\"NP\",$G182=\"NP\"),\"NP\",IF(ISERROR(MEDIAN($E182:$G182)),\"DNF\",IF(COUNT($E182:$G182)<3,MAX($E182:$G182),MEDIAN($E182:$G182))))))","v":""},null,null,null,null,null,null,null,null,null,null,null,null,""]
[{"$f":"IF('Start - jaro'!M14=\"\",\"\",\"x\")","v":""},59,{"$f":"IF('Start - jaro'!K14=\"\",\"\",'Start - jaro'!K14)","v":""},"I.pokus",null,null,null,{"$f":"IF($C183=\"\",\"\",IF(OR($E183=\"DNF\",$F183=\"DNF\",$G183=\"DNF\"),\"DNF\",IF(OR($E183=\"NP\",$F183=\"NP\",$G183=\"NP\"),\"NP\",IF(ISERROR(MEDIAN($E183:$G183)),\"DNF\",IF(COUNT($E183:$G183)<3,MAX($E183:$G183),MEDIAN($E183:$G183))))))","v":""},null,null,null,null,null,null,null,null,null,null,null,null,"",{"$f":"IF(C183=\"x\",\"x\",IF(C183=\"\",\"\",IF(OR(W183=\"NP\",W183=\"DNF\"),IF(W183=\"NP\",MAX(W$12:W$309)+COUNTIF((W$12:W$309),MAX(W$12:W$309)),MAX(W$12:W$309)+COUNTIF((W$12:W$309),MAX(W$12:W$309))+COUNTIF((W$12:W$309),\"NP\")),W183)))","v":""},"",{"$f":"IF(A183=\"x\",\"x\",IF(C183=\"\",\"\",IF(OR(AND(U183=\"NP\",U184=\"NP\"),AND(U183=\"DNF\",U184=\"DNF\")),U183,IF(AND(U183=\"NP\",U184=\"DNF\"),U183,IF(AND(U183=\"DNF\",U184=\"NP\"),U184,MIN(U183,U184))))))","v":""}]
[null,null,null,"II.pokus",null,null,null,{"$f":"IF($C183=\"\",\"\",IF(OR($E184=\"DNF\",$F184=\"DNF\",$G184=\"DNF\"),\"DNF\",IF(OR($E184=\"NP\",$F184=\"NP\",$G184=\"NP\"),\"NP\",IF(ISERROR(MEDIAN($E184:$G184)),\"DNF\",IF(COUNT($E184:$G184)<3,MAX($E184:$G184),MEDIAN($E184:$G184))))))","v":""},null,null,null,null,null,null,null,null,null,null,null,null,""]
[{"$f":"IF('Start - jaro'!M15=\"\",\"\",\"x\")","v":""},60,{"$f":"IF('Start - jaro'!K15=\"\",\"\",'Start - jaro'!K15)","v":""},"I.pokus",null,null,null,{"$f":"IF($C185=\"\",\"\",IF(OR($E185=\"DNF\",$F185=\"DNF\",$G185=\"DNF\"),\"DNF\",IF(OR($E185=\"NP\",$F185=\"NP\",$G185=\"NP\"),\"NP\",IF(ISERROR(MEDIAN($E185:$G185)),\"DNF\",IF(COUNT($E185:$G185)<3,MAX($E185:$G185),MEDIAN($E185:$G185))))))","v":""},null,null,null,null,null,null,null,null,null,null,null,null,"",{"$f":"IF(C185=\"x\",\"x\",IF(C185=\"\",\"\",IF(OR(W185=\"NP\",W185=\"DNF\"),IF(W185=\"NP\",MAX(W$12:W$309)+COUNTIF((W$12:W$309),MAX(W$12:W$309)),MAX(W$12:W$309)+COUNTIF((W$12:W$309),MAX(W$12:W$309))+COUNTIF((W$12:W$309),\"NP\")),W185)))","v":""},"",{"$f":"IF(A185=\"x\",\"x\",IF(C185=\"\",\"\",IF(OR(AND(U185=\"NP\",U186=\"NP\"),AND(U185=\"DNF\",U186=\"DNF\")),U185,IF(AND(U185=\"NP\",U186=\"DNF\"),U185,IF(AND(U185=\"DNF\",U186=\"NP\"),U186,MIN(U185,U186))))))","v":""}]
[null,null,null,"II.pokus",null,null,null,{"$f":"IF($C185=\"\",\"\",IF(OR($E186=\"DNF\",$F186=\"DNF\",$G186=\"DNF\"),\"DNF\",IF(OR($E186=\"NP\",$F186=\"NP\",$G186=\"NP\"),\"NP\",IF(ISERROR(MEDIAN($E186:$G186)),\"DNF\",IF(COUNT($E186:$G186)<3,MAX($E186:$G186),MEDIAN($E186:$G186))))))","v":""},null,null,null,null,null,null,null,null,null,null,null,null,""]
[null,"CELOSTÁTNÍ HRA PLAMEN"]
[]
[]
[null,"Výsledková listina č: 7"]
[null,"Štafeta požárních dvojic",null,null,"Základem je čas naměřený od vydání signálu startéra do proběhnutí posledního člena cílem",null,null,null,"K úřednímu času se připočítávají trest. Sekundy - za každý případ 10 sekund",null,null,null,null,null,null,null,null,null,null,null,"Výsledek soutěže"]
[null,null,null,null,null,null,null,null,"předčasné vyběhnutí","nesvinutí rozpadlého kotouče","nerozložení hadice proudnice na, nebo za čarou","nesprávné napojení hadice na proudnici či hydr. nástavec","nesprávné rozvinutí hadice u hydr. nástavce","neoběhnutí nebo nesprávné oběhnutí mety","neúplné svinutí mezi metou a nástavcem hydrantu","hození hadice nebo proudnice","chození po nesprávné straně hadicového vedení","nesprávné svinutí (dvojité přeložení)","za nesprávné odpojení proudnice nebo hadice","za pomoc při svinování hadice"]
[null,null,null,null,null,null,null,null,null,null,null,null,null,null,null,null,null,null,null,null,"součet trest. Sekund a úředního času","počet bodů za umístění"]
[null,{"$f":"\"KATEGORIE: \"&'Start - podzim'!$N$2","v":"KATEGORIE: STARŠÍ"},null,null,"I. časoměřič","II. časoměřič","III. časoměřič","úřední čas"]
[]
[null,"start. číslo","SOUTĚŽNÍ DRUŽSTVO","pokus"]
[]
[{"$f":"IF('Start - jaro'!M16=\"\",\"\",\"x\")","v":""},61,{"$f":"IF('Start - jaro'!K16=\"\",\"\",'Start - jaro'!K16)","v":""},"I.pokus",null,null,null,{"$f":"IF($C198=\"\",\"\",IF(OR($E198=\"DNF\",$F198=\"DNF\",$G198=\"DNF\"),\"DNF\",IF(OR($E198=\"NP\",$F198=\"NP\",$G198=\"NP\"),\"NP\",IF(ISERROR(MEDIAN($E198:$G198)),\"DNF\",IF(COUNT($E198:$G198)<3,MAX($E198:$G198),MEDIAN($E198:$G198))))))","v":""},null,null,null,null,null,null,null,null,null,null,null,null,{"$f":"IF(H198=\"\",\"\",IF(H198=\"NP\",\"NP\",IF(H198=\"DNF\",\"DNF\",SUM(I198:T198)+H198)))","v":""},{"$f":"IF(C198=\"x\",\"x\",IF(C198=\"\",\"\",IF(OR(W198=\"NP\",W198=\"DNF\"),IF(W198=\"NP\",MAX(W$12:W$309)+COUNTIF((W$12:W$309),MAX(W$12:W$309)),MAX(W$12:W$309)+COUNTIF((W$12:W$309),MAX(W$12:W$309))+COUNTIF((W$12:W$309),\"NP\")),W198)))","v":""},{"$f":"IF(A198=\"x\",\"x\",IF(C198=\"\",\"\",IF(OR(X198=\"NP\",X198=\"DNF\"),X198,RANK(X198,X$12:X$309,1))))","v":""},{"$f":"IF(A198=\"x\",\"x\",IF(C198=\"\",\"\",IF(OR(AND(U198=\"NP\",U199=\"NP\"),AND(U198=\"DNF\",U199=\"DNF\")),U198,IF(AND(U198=\"NP\",U199=\"DNF\"),U198,IF(AND(U198=\"DNF\",U199=\"NP\"),U199,MIN(U198,U199))))))","v":""}]
[null,null,null,"II.pokus",null,null,null,{"$f":"IF($C198=\"\",\"\",IF(OR($E199=\"DNF\",$F199=\"DNF\",$G199=\"DNF\"),\"DNF\",IF(OR($E199=\"NP\",$F199=\"NP\",$G199=\"NP\"),\"NP\",IF(ISERROR(MEDIAN($E199:$G199)),\"DNF\",IF(COUNT($E199:$G199)<3,MAX($E199:$G199),MEDIAN($E199:$G199))))))","v":""},null,null,null,null,null,null,null,null,null,null,null,null,""]
[{"$f":"IF('Start - jaro'!M17=\"\",\"\",\"x\")","v":""},62,{"$f":"IF('Start - jaro'!K17=\"\",\"\",'Start - jaro'!K17)","v":""},"I.pokus",null,null,null,{"$f":"IF($C200=\"\",\"\",IF(OR($E200=\"DNF\",$F200=\"DNF\",$G200=\"DNF\"),\"DNF\",IF(OR($E200=\"NP\",$F200=\"NP\",$G200=\"NP\"),\"NP\",IF(ISERROR(MEDIAN($E200:$G200)),\"DNF\",IF(COUNT($E200:$G200)<3,MAX($E200:$G200),MEDIAN($E200:$G200))))))","v":""},null,null,null,null,null,null,null,null,null,null,null,null,"",{"$f":"IF(C200=\"x\",\"x\",IF(C200=\"\",\"\",IF(OR(W200=\"NP\",W200=\"DNF\"),IF(W200=\"NP\",MAX(W$12:W$309)+COUNTIF((W$12:W$309),MAX(W$12:W$309)),MAX(W$12:W$309)+COUNTIF((W$12:W$309),MAX(W$12:W$309))+COUNTIF((W$12:W$309),\"NP\")),W200)))","v":""},"",{"$f":"IF(A200=\"x\",\"x\",IF(C200=\"\",\"\",IF(OR(AND(U200=\"NP\",U201=\"NP\"),AND(U200=\"DNF\",U201=\"DNF\")),U200,IF(AND(U200=\"NP\",U201=\"DNF\"),U200,IF(AND(U200=\"DNF\",U201=\"NP\"),U201,MIN(U200,U201))))))","v":""}]
[null,null,null,"II.pokus",null,null,null,{"$f":"IF($C200=\"\",\"\",IF(OR($E201=\"DNF\",$F201=\"DNF\",$G201=\"DNF\"),\"DNF\",IF(OR($E201=\"NP\",$F201=\"NP\",$G201=\"NP\"),\"NP\",IF(ISERROR(MEDIAN($E201:$G201)),\"DNF\",IF(COUNT($E201:$G201)<3,MAX($E201:$G201),MEDIAN($E201:$G201))))))","v":""},null,null,null,null,null,null,null,null,null,null,null,null,""]
[{"$f":"IF('Start - jaro'!M18=\"\",\"\",\"x\")","v":""},63,{"$f":"IF('Start - jaro'!K18=\"\",\"\",'Start - jaro'!K18)","v":""},"I.pokus",null,null,null,{"$f":"IF($C202=\"\",\"\",IF(OR($E202=\"DNF\",$F202=\"DNF\",$G202=\"DNF\"),\"DNF\",IF(OR($E202=\"NP\",$F202=\"NP\",$G202=\"NP\"),\"NP\",IF(ISERROR(MEDIAN($E202:$G202)),\"DNF\",IF(COUNT($E202:$G202)<3,MAX($E202:$G202),MEDIAN($E202:$G202))))))","v":""},null,null,null,null,null,null,null,null,null,null,null,null,"",{"$f":"IF(C202=\"x\",\"x\",IF(C202=\"\",\"\",IF(OR(W202=\"NP\",W202=\"DNF\"),IF(W202=\"NP\",MAX(W$12:W$309)+COUNTIF((W$12:W$309),MAX(W$12:W$309)),MAX(W$12:W$309)+COUNTIF((W$12:W$309),MAX(W$12:W$309))+COUNTIF((W$12:W$309),\"NP\")),W202)))","v":""},"",{"$f":"IF(A202=\"x\",\"x\",IF(C202=\"\",\"\",IF(OR(AND(U202=\"NP\",U203=\"NP\"),AND(U202=\"DNF\",U203=\"DNF\")),U202,IF(AND(U202=\"NP\",U203=\"DNF\"),U202,IF(AND(U202=\"DNF\",U203=\"NP\"),U203,MIN(U202,U203))))))","v":""}]
[null,null,null,"II.pokus",null,null,null,{"$f":"IF($C202=\"\",\"\",IF(OR($E203=\"DNF\",$F203=\"DNF\",$G203=\"DNF\"),\"DNF\",IF(OR($E203=\"NP\",$F203=\"NP\",$G203=\"NP\"),\"NP\",IF(ISERROR(MEDIAN($E203:$G203)),\"DNF\",IF(COUNT($E203:$G203)<3,MAX($E203:$G203),MEDIAN($E203:$G203))))))","v":""},null,null,null,null,null,null,null,null,null,null,null,null,""]
[{"$f":"IF('Start - jaro'!M19=\"\",\"\",\"x\")","v":""},64,{"$f":"IF('Start - jaro'!K19=\"\",\"\",'Start - jaro'!K19)","v":""},"I.pokus",null,null,null,{"$f":"IF($C204=\"\",\"\",IF(OR($E204=\"DNF\",$F204=\"DNF\",$G204=\"DNF\"),\"DNF\",IF(OR($E204=\"NP\",$F204=\"NP\",$G204=\"NP\"),\"NP\",IF(ISERROR(MEDIAN($E204:$G204)),\"DNF\",IF(COUNT($E204:$G204)<3,MAX($E204:$G204),MEDIAN($E204:$G204))))))","v":""},null,null,null,null,null,null,null,null,null,null,null,null,"",{"$f":"IF(C204=\"x\",\"x\",IF(C204=\"\",\"\",IF(OR(W204=\"NP\",W204=\"DNF\"),IF(W204=\"NP\",MAX(W$12:W$309)+COUNTIF((W$12:W$309),MAX(W$12:W$309)),MAX(W$12:W$309)+COUNTIF((W$12:W$309),MAX(W$12:W$309))+COUNTIF((W$12:W$309),\"NP\")),W204)))","v":""},"",{"$f":"IF(A204=\"x\",\"x\",IF(C204=\"\",\"\",IF(OR(AND(U204=\"NP\",U205=\"NP\"),AND(U204=\"DNF\",U205=\"DNF\")),U204,IF(AND(U204=\"NP\",U205=\"DNF\"),U204,IF(AND(U204=\"DNF\",U205=\"NP\"),U205,MIN(U204,U205))))))","v":""}]
[null,null,null,"II.pokus",null,null,null,{"$f":"IF($C204=\"\",\"\",IF(OR($E205=\"DNF\",$F205=\"DNF\",$G205=\"DNF\"),\"DNF\",IF(OR($E205=\"NP\",$F205=\"NP\",$G205=\"NP\"),\"NP\",IF(ISERROR(MEDIAN($E205:$G205)),\"DNF\",IF(COUNT($E205:$G205)<3,MAX($E205:$G205),MEDIAN($E205:$G205))))))","v":""},null,null,null,null,null,null,null,null,null,null,null,null,""]
[{"$f":"IF('Start - jaro'!M20=\"\",\"\",\"x\")","v":""},65,{"$f":"IF('Start - jaro'!K20=\"\",\"\",'Start - jaro'!K20)","v":""},"I.pokus",null,null,null,{"$f":"IF($C206=\"\",\"\",IF(OR($E206=\"DNF\",$F206=\"DNF\",$G206=\"DNF\"),\"DNF\",IF(OR($E206=\"NP\",$F206=\"NP\",$G206=\"NP\"),\"NP\",IF(ISERROR(MEDIAN($E206:$G206)),\"DNF\",IF(COUNT($E206:$G206)<3,MAX($E206:$G206),MEDIAN($E206:$G206))))))","v":""},null,null,null,null,null,null,null,null,null,null,null,null,"",{"$f":"IF(C206=\"x\",\"x\",IF(C206=\"\",\"\",IF(OR(W206=\"NP\",W206=\"DNF\"),IF(W206=\"NP\",MAX(W$12:W$309)+COUNTIF((W$12:W$309),MAX(W$12:W$309)),MAX(W$12:W$309)+COUNTIF((W$12:W$309),MAX(W$12:W$309))+COUNTIF((W$12:W$309),\"NP\")),W206)))","v":""},"",{"$f":"IF(A206=\"x\",\"x\",IF(C206=\"\",\"\",IF(OR(AND(U206=\"NP\",U207=\"NP\"),AND(U206=\"DNF\",U207=\"DNF\")),U206,IF(AND(U206=\"NP\",U207=\"DNF\"),U206,IF(AND(U206=\"DNF\",U207=\"NP\"),U207,MIN(U206,U207))))))","v":""}]
[null,null,null,"II.pokus",null,null,null,{"$f":"IF($C206=\"\",\"\",IF(OR($E207=\"DNF\",$F207=\"DNF\",$G207=\"DNF\"),\"DNF\",IF(OR($E207=\"NP\",$F207=\"NP\",$G207=\"NP\"),\"NP\",IF(ISERROR(MEDIAN($E207:$G207)),\"DNF\",IF(COUNT($E207:$G207)<3,MAX($E207:$G207),MEDIAN($E207:$G207))))))","v":""},null,null,null,null,null,null,null,null,null,null,null,null,""]
[{"$f":"IF('Start - jaro'!M21=\"\",\"\",\"x\")","v":""},66,{"$f":"IF('Start - jaro'!K21=\"\",\"\",'Start - jaro'!K21)","v":""},"I.pokus",null,null,null,{"$f":"IF($C208=\"\",\"\",IF(OR($E208=\"DNF\",$F208=\"DNF\",$G208=\"DNF\"),\"DNF\",IF(OR($E208=\"NP\",$F208=\"NP\",$G208=\"NP\"),\"NP\",IF(ISERROR(MEDIAN($E208:$G208)),\"DNF\",IF(COUNT($E208:$G208)<3,MAX($E208:$G208),MEDIAN($E208:$G208))))))","v":""},null,null,null,null,null,null,null,null,null,null,null,null,"",{"$f":"IF(C208=\"x\",\"x\",IF(C208=\"\",\"\",IF(OR(W208=\"NP\",W208=\"DNF\"),IF(W208=\"NP\",MAX(W$12:W$309)+COUNTIF((W$12:W$309),MAX(W$12:W$309)),MAX(W$12:W$309)+COUNTIF((W$12:W$309),MAX(W$12:W$309))+COUNTIF((W$12:W$309),\"NP\")),W208)))","v":""},"",{"$f":"IF(A208=\"x\",\"x\",IF(C208=\"\",\"\",IF(OR(AND(U208=\"NP\",U209=\"NP\"),AND(U208=\"DNF\",U209=\"DNF\")),U208,IF(AND(U208=\"NP\",U209=\"DNF\"),U208,IF(AND(U208=\"DNF\",U209=\"NP\"),U209,MIN(U208,U209))))))","v":""}]
[null,null,null,"II.pokus",null,null,null,{"$f":"IF($C208=\"\",\"\",IF(OR($E209=\"DNF\",$F209=\"DNF\",$G209=\"DNF\"),\"DNF\",IF(OR($E209=\"NP\",$F209=\"NP\",$G209=\"NP\"),\"NP\",IF(ISERROR(MEDIAN($E209:$G209)),\"DNF\",IF(COUNT($E209:$G209)<3,MAX($E209:$G209),MEDIAN($E209:$G209))))))","v":""},null,null,null,null,null,null,null,null,null,null,null,null,""]
[{"$f":"IF('Start - jaro'!M22=\"\",\"\",\"x\")","v":""},67,{"$f":"IF('Start - jaro'!K22=\"\",\"\",'Start - jaro'!K22)","v":""},"I.pokus",null,null,null,{"$f":"IF($C210=\"\",\"\",IF(OR($E210=\"DNF\",$F210=\"DNF\",$G210=\"DNF\"),\"DNF\",IF(OR($E210=\"NP\",$F210=\"NP\",$G210=\"NP\"),\"NP\",IF(ISERROR(MEDIAN($E210:$G210)),\"DNF\",IF(COUNT($E210:$G210)<3,MAX($E210:$G210),MEDIAN($E210:$G210))))))","v":""},null,null,null,null,null,null,null,null,null,null,null,null,"",{"$f":"IF(C210=\"x\",\"x\",IF(C210=\"\",\"\",IF(OR(W210=\"NP\",W210=\"DNF\"),IF(W210=\"NP\",MAX(W$12:W$309)+COUNTIF((W$12:W$309),MAX(W$12:W$309)),MAX(W$12:W$309)+COUNTIF((W$12:W$309),MAX(W$12:W$309))+COUNTIF((W$12:W$309),\"NP\")),W210)))","v":""},"",{"$f":"IF(A210=\"x\",\"x\",IF(C210=\"\",\"\",IF(OR(AND(U210=\"NP\",U211=\"NP\"),AND(U210=\"DNF\",U211=\"DNF\")),U210,IF(AND(U210=\"NP\",U211=\"DNF\"),U210,IF(AND(U210=\"DNF\",U211=\"NP\"),U211,MIN(U210,U211))))))","v":""}]
[null,null,null,"II.pokus",null,null,null,{"$f":"IF($C210=\"\",\"\",IF(OR($E211=\"DNF\",$F211=\"DNF\",$G211=\"DNF\"),\"DNF\",IF(OR($E211=\"NP\",$F211=\"NP\",$G211=\"NP\"),\"NP\",IF(ISERROR(MEDIAN($E211:$G211)),\"DNF\",IF(COUNT($E211:$G211)<3,MAX($E211:$G211),MEDIAN($E211:$G211))))))","v":""},null,null,null,null,null,null,null,null,null,null,null,null,""]
[{"$f":"IF('Start - jaro'!M23=\"\",\"\",\"x\")","v":""},68,{"$f":"IF('Start - jaro'!K23=\"\",\"\",'Start - jaro'!K23)","v":""},"I.pokus",null,null,null,{"$f":"IF($C212=\"\",\"\",IF(OR($E212=\"DNF\",$F212=\"DNF\",$G212=\"DNF\"),\"DNF\",IF(OR($E212=\"NP\",$F212=\"NP\",$G212=\"NP\"),\"NP\",IF(ISERROR(MEDIAN($E212:$G212)),\"DNF\",IF(COUNT($E212:$G212)<3,MAX($E212:$G212),MEDIAN($E212:$G212))))))","v":""},null,null,null,null,null,null,null,null,null,null,null,null,"",{"$f":"IF(C212=\"x\",\"x\",IF(C212=\"\",\"\",IF(OR(W212=\"NP\",W212=\"DNF\"),IF(W212=\"NP\",MAX(W$12:W$309)+COUNTIF((W$12:W$309),MAX(W$12:W$309)),MAX(W$12:W$309)+COUNTIF((W$12:W$309),MAX(W$12:W$309))+COUNTIF((W$12:W$309),\"NP\")),W212)))","v":""},"",{"$f":"IF(A212=\"x\",\"x\",IF(C212=\"\",\"\",IF(OR(AND(U212=\"NP\",U213=\"NP\"),AND(U212=\"DNF\",U213=\"DNF\")),U212,IF(AND(U212=\"NP\",U213=\"DNF\"),U212,IF(AND(U212=\"DNF\",U213=\"NP\"),U213,MIN(U212,U213))))))","v":""}]
[null,null,null,"II.pokus",null,null,null,{"$f":"IF($C212=\"\",\"\",IF(OR($E213=\"DNF\",$F213=\"DNF\",$G213=\"DNF\"),\"DNF\",IF(OR($E213=\"NP\",$F213=\"NP\",$G213=\"NP\"),\"NP\",IF(ISERROR(MEDIAN($E213:$G213)),\"DNF\",IF(COUNT($E213:$G213)<3,MAX($E213:$G213),MEDIAN($E213:$G213))))))","v":""},null,null,null,null,null,null,null,null,null,null,null,null,""]
[{"$f":"IF('Start - jaro'!M24=\"\",\"\",\"x\")","v":""},69,{"$f":"IF('Start - jaro'!K24=\"\",\"\",'Start - jaro'!K24)","v":""},"I.pokus",null,null,null,{"$f":"IF($C214=\"\",\"\",IF(OR($E214=\"DNF\",$F214=\"DNF\",$G214=\"DNF\"),\"DNF\",IF(OR($E214=\"NP\",$F214=\"NP\",$G214=\"NP\"),\"NP\",IF(ISERROR(MEDIAN($E214:$G214)),\"DNF\",IF(COUNT($E214:$G214)<3,MAX($E214:$G214),MEDIAN($E214:$G214))))))","v":""},null,null,null,null,null,null,null,null,null,null,null,null,"",{"$f":"IF(C214=\"x\",\"x\",IF(C214=\"\",\"\",IF(OR(W214=\"NP\",W214=\"DNF\"),IF(W214=\"NP\",MAX(W$12:W$309)+COUNTIF((W$12:W$309),MAX(W$12:W$309)),MAX(W$12:W$309)+COUNTIF((W$12:W$309),MAX(W$12:W$309))+COUNTIF((W$12:W$309),\"NP\")),W214)))","v":""},"",{"$f":"IF(A214=\"x\",\"x\",IF(C214=\"\",\"\",IF(OR(AND(U214=\"NP\",U215=\"NP\"),AND(U214=\"DNF\",U215=\"DNF\")),U214,IF(AND(U214=\"NP\",U215=\"DNF\"),U214,IF(AND(U214=\"DNF\",U215=\"NP\"),U215,MIN(U214,U215))))))","v":""}]
[null,null,null,"II.pokus",null,null,null,{"$f":"IF($C214=\"\",\"\",IF(OR($E215=\"DNF\",$F215=\"DNF\",$G215=\"DNF\"),\"DNF\",IF(OR($E215=\"NP\",$F215=\"NP\",$G215=\"NP\"),\"NP\",IF(ISERROR(MEDIAN($E215:$G215)),\"DNF\",IF(COUNT($E215:$G215)<3,MAX($E215:$G215),MEDIAN($E215:$G215))))))","v":""},null,null,null,null,null,null,null,null,null,null,null,null,""]
[{"$f":"IF('Start - jaro'!M25=\"\",\"\",\"x\")","v":""},70,{"$f":"IF('Start - jaro'!K25=\"\",\"\",'Start - jaro'!K25)","v":""},"I.pokus",null,null,null,{"$f":"IF($C216=\"\",\"\",IF(OR($E216=\"DNF\",$F216=\"DNF\",$G216=\"DNF\"),\"DNF\",IF(OR($E216=\"NP\",$F216=\"NP\",$G216=\"NP\"),\"NP\",IF(ISERROR(MEDIAN($E216:$G216)),\"DNF\",IF(COUNT($E216:$G216)<3,MAX($E216:$G216),MEDIAN($E216:$G216))))))","v":""},null,null,null,null,null,null,null,null,null,null,null,null,"",{"$f":"IF(C216=\"x\",\"x\",IF(C216=\"\",\"\",IF(OR(W216=\"NP\",W216=\"DNF\"),IF(W216=\"NP\",MAX(W$12:W$309)+COUNTIF((W$12:W$309),MAX(W$12:W$309)),MAX(W$12:W$309)+COUNTIF((W$12:W$309),MAX(W$12:W$309))+COUNTIF((W$12:W$309),\"NP\")),W216)))","v":""},"",{"$f":"IF(A216=\"x\",\"x\",IF(C216=\"\",\"\",IF(OR(AND(U216=\"NP\",U217=\"NP\"),AND(U216=\"DNF\",U217=\"DNF\")),U216,IF(AND(U216=\"NP\",U217=\"DNF\"),U216,IF(AND(U216=\"DNF\",U217=\"NP\"),U217,MIN(U216,U217))))))","v":""}]
[null,null,null,"II.pokus",null,null,null,{"$f":"IF($C216=\"\",\"\",IF(OR($E217=\"DNF\",$F217=\"DNF\",$G217=\"DNF\"),\"DNF\",IF(OR($E217=\"NP\",$F217=\"NP\",$G217=\"NP\"),\"NP\",IF(ISERROR(MEDIAN($E217:$G217)),\"DNF\",IF(COUNT($E217:$G217)<3,MAX($E217:$G217),MEDIAN($E217:$G217))))))","v":""},null,null,null,null,null,null,null,null,null,null,null,null,""]
[null,"CELOSTÁTNÍ HRA PLAMEN"]
[]
[]
[null,"Výsledková listina č: 8"]
[null,"Štafeta požárních dvojic",null,null,"Základem je čas naměřený od vydání signálu startéra do proběhnutí posledního člena cílem",null,null,null,"K úřednímu času se připočítávají trest. Sekundy - za každý případ 10 sekund",null,null,null,null,null,null,null,null,null,null,null,"Výsledek soutěže"]
[null,null,null,null,null,null,null,null,"předčasné vyběhnutí","nesvinutí rozpadlého kotouče","nerozložení hadice proudnice na, nebo za čarou","nesprávné napojení hadice na proudnici či hydr. nástavec","nesprávné rozvinutí hadice u hydr. nástavce","neoběhnutí nebo nesprávné oběhnutí mety","neúplné svinutí mezi metou a nástavcem hydrantu","hození hadice nebo proudnice","chození po nesprávné straně hadicového vedení","nesprávné svinutí (dvojité přeložení)","za nesprávné odpojení proudnice nebo hadice","za pomoc při svinování hadice"]
[null,null,null,null,null,null,null,null,null,null,null,null,null,null,null,null,null,null,null,null,"součet trest. Sekund a úředního času","počet bodů za umístění"]
[null,{"$f":"\"KATEGORIE: \"&'Start - podzim'!$N$2","v":"KATEGORIE: STARŠÍ"},null,null,"I. časoměřič","II. časoměřič","III. časoměřič","úřední čas"]
[]
[null,"start. číslo","SOUTĚŽNÍ DRUŽSTVO","pokus"]
[]
[{"$f":"IF('Start - jaro'!M26=\"\",\"\",\"x\")","v":""},71,{"$f":"IF('Start - jaro'!K26=\"\",\"\",'Start - jaro'!K26)","v":""},"I.pokus",null,null,null,{"$f":"IF($C229=\"\",\"\",IF(OR($E229=\"DNF\",$F229=\"DNF\",$G229=\"DNF\"),\"DNF\",IF(OR($E229=\"NP\",$F229=\"NP\",$G229=\"NP\"),\"NP\",IF(ISERROR(MEDIAN($E229:$G229)),\"DNF\",IF(COUNT($E229:$G229)<3,MAX($E229:$G229),MEDIAN($E229:$G229))))))","v":""},null,null,null,null,null,null,null,null,null,null,null,null,{"$f":"IF(H229=\"\",\"\",IF(H229=\"NP\",\"NP\",IF(H229=\"DNF\",\"DNF\",SUM(I229:T229)+H229)))","v":""},{"$f":"IF(C229=\"x\",\"x\",IF(C229=\"\",\"\",IF(OR(W229=\"NP\",W229=\"DNF\"),IF(W229=\"NP\",MAX(W$12:W$309)+COUNTIF((W$12:W$309),MAX(W$12:W$309)),MAX(W$12:W$309)+COUNTIF((W$12:W$309),MAX(W$12:W$309))+COUNTIF((W$12:W$309),\"NP\")),W229)))","v":""},{"$f":"IF(A229=\"x\",\"x\",IF(C229=\"\",\"\",IF(OR(X229=\"NP\",X229=\"DNF\"),X229,RANK(X229,X$12:X$309,1))))","v":""},{"$f":"IF(A229=\"x\",\"x\",IF(C229=\"\",\"\",IF(OR(AND(U229=\"NP\",U230=\"NP\"),AND(U229=\"DNF\",U230=\"DNF\")),U229,IF(AND(U229=\"NP\",U230=\"DNF\"),U229,IF(AND(U229=\"DNF\",U230=\"NP\"),U230,MIN(U229,U230))))))","v":""}]
[null,null,null,"II.pokus",null,null,null,{"$f":"IF($C229=\"\",\"\",IF(OR($E230=\"DNF\",$F230=\"DNF\",$G230=\"DNF\"),\"DNF\",IF(OR($E230=\"NP\",$F230=\"NP\",$G230=\"NP\"),\"NP\",IF(ISERROR(MEDIAN($E230:$G230)),\"DNF\",IF(COUNT($E230:$G230)<3,MAX($E230:$G230),MEDIAN($E230:$G230))))))","v":""},null,null,null,null,null,null,null,null,null,null,null,null,""]
[{"$f":"IF('Start - jaro'!M27=\"\",\"\",\"x\")","v":""},72,{"$f":"IF('Start - jaro'!K27=\"\",\"\",'Start - jaro'!K27)","v":""},"I.pokus",null,null,null,{"$f":"IF($C231=\"\",\"\",IF(OR($E231=\"DNF\",$F231=\"DNF\",$G231=\"DNF\"),\"DNF\",IF(OR($E231=\"NP\",$F231=\"NP\",$G231=\"NP\"),\"NP\",IF(ISERROR(MEDIAN($E231:$G231)),\"DNF\",IF(COUNT($E231:$G231)<3,MAX($E231:$G231),MEDIAN($E231:$G231))))))","v":""},null,null,null,null,null,null,null,null,null,null,null,null,"",{"$f":"IF(C231=\"x\",\"x\",IF(C231=\"\",\"\",IF(OR(W231=\"NP\",W231=\"DNF\"),IF(W231=\"NP\",MAX(W$12:W$309)+COUNTIF((W$12:W$309),MAX(W$12:W$309)),MAX(W$12:W$309)+COUNTIF((W$12:W$309),MAX(W$12:W$309))+COUNTIF((W$12:W$309),\"NP\")),W231)))","v":""},"",{"$f":"IF(A231=\"x\",\"x\",IF(C231=\"\",\"\",IF(OR(AND(U231=\"NP\",U232=\"NP\"),AND(U231=\"DNF\",U232=\"DNF\")),U231,IF(AND(U231=\"NP\",U232=\"DNF\"),U231,IF(AND(U231=\"DNF\",U232=\"NP\"),U232,MIN(U231,U232))))))","v":""}]
[null,null,null,"II.pokus",null,null,null,{"$f":"IF($C231=\"\",\"\",IF(OR($E232=\"DNF\",$F232=\"DNF\",$G232=\"DNF\"),\"DNF\",IF(OR($E232=\"NP\",$F232=\"NP\",$G232=\"NP\"),\"NP\",IF(ISERROR(MEDIAN($E232:$G232)),\"DNF\",IF(COUNT($E232:$G232)<3,MAX($E232:$G232),MEDIAN($E232:$G232))))))","v":""},null,null,null,null,null,null,null,null,null,null,null,null,""]
[{"$f":"IF('Start - jaro'!M28=\"\",\"\",\"x\")","v":""},73,{"$f":"IF('Start - jaro'!K28=\"\",\"\",'Start - jaro'!K28)","v":""},"I.pokus",null,null,null,{"$f":"IF($C233=\"\",\"\",IF(OR($E233=\"DNF\",$F233=\"DNF\",$G233=\"DNF\"),\"DNF\",IF(OR($E233=\"NP\",$F233=\"NP\",$G233=\"NP\"),\"NP\",IF(ISERROR(MEDIAN($E233:$G233)),\"DNF\",IF(COUNT($E233:$G233)<3,MAX($E233:$G233),MEDIAN($E233:$G233))))))","v":""},null,null,null,null,null,null,null,null,null,null,null,null,"",{"$f":"IF(C233=\"x\",\"x\",IF(C233=\"\",\"\",IF(OR(W233=\"NP\",W233=\"DNF\"),IF(W233=\"NP\",MAX(W$12:W$309)+COUNTIF((W$12:W$309),MAX(W$12:W$309)),MAX(W$12:W$309)+COUNTIF((W$12:W$309),MAX(W$12:W$309))+COUNTIF((W$12:W$309),\"NP\")),W233)))","v":""},"",{"$f":"IF(A233=\"x\",\"x\",IF(C233=\"\",\"\",IF(OR(AND(U233=\"NP\",U234=\"NP\"),AND(U233=\"DNF\",U234=\"DNF\")),U233,IF(AND(U233=\"NP\",U234=\"DNF\"),U233,IF(AND(U233=\"DNF\",U234=\"NP\"),U234,MIN(U233,U234))))))","v":""}]
[null,null,null,"II.pokus",null,null,null,{"$f":"IF($C233=\"\",\"\",IF(OR($E234=\"DNF\",$F234=\"DNF\",$G234=\"DNF\"),\"DNF\",IF(OR($E234=\"NP\",$F234=\"NP\",$G234=\"NP\"),\"NP\",IF(ISERROR(MEDIAN($E234:$G234)),\"DNF\",IF(COUNT($E234:$G234)<3,MAX($E234:$G234),MEDIAN($E234:$G234))))))","v":""},null,null,null,null,null,null,null,null,null,null,null,null,""]
[{"$f":"IF('Start - jaro'!M29=\"\",\"\",\"x\")","v":""},74,{"$f":"IF('Start - jaro'!K29=\"\",\"\",'Start - jaro'!K29)","v":""},"I.pokus",null,null,null,{"$f":"IF($C235=\"\",\"\",IF(OR($E235=\"DNF\",$F235=\"DNF\",$G235=\"DNF\"),\"DNF\",IF(OR($E235=\"NP\",$F235=\"NP\",$G235=\"NP\"),\"NP\",IF(ISERROR(MEDIAN($E235:$G235)),\"DNF\",IF(COUNT($E235:$G235)<3,MAX($E235:$G235),MEDIAN($E235:$G235))))))","v":""},null,null,null,null,null,null,null,null,null,null,null,null,"",{"$f":"IF(C235=\"x\",\"x\",IF(C235=\"\",\"\",IF(OR(W235=\"NP\",W235=\"DNF\"),IF(W235=\"NP\",MAX(W$12:W$309)+COUNTIF((W$12:W$309),MAX(W$12:W$309)),MAX(W$12:W$309)+COUNTIF((W$12:W$309),MAX(W$12:W$309))+COUNTIF((W$12:W$309),\"NP\")),W235)))","v":""},"",{"$f":"IF(A235=\"x\",\"x\",IF(C235=\"\",\"\",IF(OR(AND(U235=\"NP\",U236=\"NP\"),AND(U235=\"DNF\",U236=\"DNF\")),U235,IF(AND(U235=\"NP\",U236=\"DNF\"),U235,IF(AND(U235=\"DNF\",U236=\"NP\"),U236,MIN(U235,U236))))))","v":""}]
[null,null,null,"II.pokus",null,null,null,{"$f":"IF($C235=\"\",\"\",IF(OR($E236=\"DNF\",$F236=\"DNF\",$G236=\"DNF\"),\"DNF\",IF(OR($E236=\"NP\",$F236=\"NP\",$G236=\"NP\"),\"NP\",IF(ISERROR(MEDIAN($E236:$G236)),\"DNF\",IF(COUNT($E236:$G236)<3,MAX($E236:$G236),MEDIAN($E236:$G236))))))","v":""},null,null,null,null,null,null,null,null,null,null,null,null,""]
[{"$f":"IF('Start - jaro'!M30=\"\",\"\",\"x\")","v":""},75,{"$f":"IF('Start - jaro'!K30=\"\",\"\",'Start - jaro'!K30)","v":""},"I.pokus",null,null,null,{"$f":"IF($C237=\"\",\"\",IF(OR($E237=\"DNF\",$F237=\"DNF\",$G237=\"DNF\"),\"DNF\",IF(OR($E237=\"NP\",$F237=\"NP\",$G237=\"NP\"),\"NP\",IF(ISERROR(MEDIAN($E237:$G237)),\"DNF\",IF(COUNT($E237:$G237)<3,MAX($E237:$G237),MEDIAN($E237:$G237))))))","v":""},null,null,null,null,null,null,null,null,null,null,null,null,"",{"$f":"IF(C237=\"x\",\"x\",IF(C237=\"\",\"\",IF(OR(W237=\"NP\",W237=\"DNF\"),IF(W237=\"NP\",MAX(W$12:W$309)+COUNTIF((W$12:W$309),MAX(W$12:W$309)),MAX(W$12:W$309)+COUNTIF((W$12:W$309),MAX(W$12:W$309))+COUNTIF((W$12:W$309),\"NP\")),W237)))","v":""},"",{"$f":"IF(A237=\"x\",\"x\",IF(C237=\"\",\"\",IF(OR(AND(U237=\"NP\",U238=\"NP\"),AND(U237=\"DNF\",U238=\"DNF\")),U237,IF(AND(U237=\"NP\",U238=\"DNF\"),U237,IF(AND(U237=\"DNF\",U238=\"NP\"),U238,MIN(U237,U238))))))","v":""}]
[null,null,null,"II.pokus",null,null,null,{"$f":"IF($C237=\"\",\"\",IF(OR($E238=\"DNF\",$F238=\"DNF\",$G238=\"DNF\"),\"DNF\",IF(OR($E238=\"NP\",$F238=\"NP\",$G238=\"NP\"),\"NP\",IF(ISERROR(MEDIAN($E238:$G238)),\"DNF\",IF(COUNT($E238:$G238)<3,MAX($E238:$G238),MEDIAN($E238:$G238))))))","v":""},null,null,null,null,null,null,null,null,null,null,null,null,""]
[{"$f":"IF('Start - jaro'!Q6=\"\",\"\",\"x\")","v":""},76,{"$f":"IF('Start - jaro'!O6=\"\",\"\",'Start - jaro'!O6)","v":""},"I.pokus",null,null,null,{"$f":"IF($C239=\"\",\"\",IF(OR($E239=\"DNF\",$F239=\"DNF\",$G239=\"DNF\"),\"DNF\",IF(OR($E239=\"NP\",$F239=\"NP\",$G239=\"NP\"),\"NP\",IF(ISERROR(MEDIAN($E239:$G239)),\"DNF\",IF(COUNT($E239:$G239)<3,MAX($E239:$G239),MEDIAN($E239:$G239))))))","v":""},null,null,null,null,null,null,null,null,null,null,null,null,"",{"$f":"IF(C239=\"x\",\"x\",IF(C239=\"\",\"\",IF(OR(W239=\"NP\",W239=\"DNF\"),IF(W239=\"NP\",MAX(W$12:W$309)+COUNTIF((W$12:W$309),MAX(W$12:W$309)),MAX(W$12:W$309)+COUNTIF((W$12:W$309),MAX(W$12:W$309))+COUNTIF((W$12:W$309),\"NP\")),W239)))","v":""},"",{"$f":"IF(A239=\"x\",\"x\",IF(C239=\"\",\"\",IF(OR(AND(U239=\"NP\",U240=\"NP\"),AND(U239=\"DNF\",U240=\"DNF\")),U239,IF(AND(U239=\"NP\",U240=\"DNF\"),U239,IF(AND(U239=\"DNF\",U240=\"NP\"),U240,MIN(U239,U240))))))","v":""}]
[null,null,null,"II.pokus",null,null,null,{"$f":"IF($C239=\"\",\"\",IF(OR($E240=\"DNF\",$F240=\"DNF\",$G240=\"DNF\"),\"DNF\",IF(OR($E240=\"NP\",$F240=\"NP\",$G240=\"NP\"),\"NP\",IF(ISERROR(MEDIAN($E240:$G240)),\"DNF\",IF(COUNT($E240:$G240)<3,MAX($E240:$G240),MEDIAN($E240:$G240))))))","v":""},null,null,null,null,null,null,null,null,null,null,null,null,""]
[{"$f":"IF('Start - jaro'!Q7=\"\",\"\",\"x\")","v":""},77,{"$f":"IF('Start - jaro'!O7=\"\",\"\",'Start - jaro'!O7)","v":""},"I.pokus",null,null,null,{"$f":"IF($C241=\"\",\"\",IF(OR($E241=\"DNF\",$F241=\"DNF\",$G241=\"DNF\"),\"DNF\",IF(OR($E241=\"NP\",$F241=\"NP\",$G241=\"NP\"),\"NP\",IF(ISERROR(MEDIAN($E241:$G241)),\"DNF\",IF(COUNT($E241:$G241)<3,MAX($E241:$G241),MEDIAN($E241:$G241))))))","v":""},null,null,null,null,null,null,null,null,null,null,null,null,"",{"$f":"IF(C241=\"x\",\"x\",IF(C241=\"\",\"\",IF(OR(W241=\"NP\",W241=\"DNF\"),IF(W241=\"NP\",MAX(W$12:W$309)+COUNTIF((W$12:W$309),MAX(W$12:W$309)),MAX(W$12:W$309)+COUNTIF((W$12:W$309),MAX(W$12:W$309))+COUNTIF((W$12:W$309),\"NP\")),W241)))","v":""},"",{"$f":"IF(A241=\"x\",\"x\",IF(C241=\"\",\"\",IF(OR(AND(U241=\"NP\",U242=\"NP\"),AND(U241=\"DNF\",U242=\"DNF\")),U241,IF(AND(U241=\"NP\",U242=\"DNF\"),U241,IF(AND(U241=\"DNF\",U242=\"NP\"),U242,MIN(U241,U242))))))","v":""}]
[null,null,null,"II.pokus",null,null,null,{"$f":"IF($C241=\"\",\"\",IF(OR($E242=\"DNF\",$F242=\"DNF\",$G242=\"DNF\"),\"DNF\",IF(OR($E242=\"NP\",$F242=\"NP\",$G242=\"NP\"),\"NP\",IF(ISERROR(MEDIAN($E242:$G242)),\"DNF\",IF(COUNT($E242:$G242)<3,MAX($E242:$G242),MEDIAN($E242:$G242))))))","v":""},null,null,null,null,null,null,null,null,null,null,null,null,""]
[{"$f":"IF('Start - jaro'!Q8=\"\",\"\",\"x\")","v":""},78,{"$f":"IF('Start - jaro'!O8=\"\",\"\",'Start - jaro'!O8)","v":""},"I.pokus",null,null,null,{"$f":"IF($C243=\"\",\"\",IF(OR($E243=\"DNF\",$F243=\"DNF\",$G243=\"DNF\"),\"DNF\",IF(OR($E243=\"NP\",$F243=\"NP\",$G243=\"NP\"),\"NP\",IF(ISERROR(MEDIAN($E243:$G243)),\"DNF\",IF(COUNT($E243:$G243)<3,MAX($E243:$G243),MEDIAN($E243:$G243))))))","v":""},null,null,null,null,null,null,null,null,null,null,null,null,"",{"$f":"IF(C243=\"x\",\"x\",IF(C243=\"\",\"\",IF(OR(W243=\"NP\",W243=\"DNF\"),IF(W243=\"NP\",MAX(W$12:W$309)+COUNTIF((W$12:W$309),MAX(W$12:W$309)),MAX(W$12:W$309)+COUNTIF((W$12:W$309),MAX(W$12:W$309))+COUNTIF((W$12:W$309),\"NP\")),W243)))","v":""},"",{"$f":"IF(A243=\"x\",\"x\",IF(C243=\"\",\"\",IF(OR(AND(U243=\"NP\",U244=\"NP\"),AND(U243=\"DNF\",U244=\"DNF\")),U243,IF(AND(U243=\"NP\",U244=\"DNF\"),U243,IF(AND(U243=\"DNF\",U244=\"NP\"),U244,MIN(U243,U244))))))","v":""}]
[null,null,null,"II.pokus",null,null,null,{"$f":"IF($C243=\"\",\"\",IF(OR($E244=\"DNF\",$F244=\"DNF\",$G244=\"DNF\"),\"DNF\",IF(OR($E244=\"NP\",$F244=\"NP\",$G244=\"NP\"),\"NP\",IF(ISERROR(MEDIAN($E244:$G244)),\"DNF\",IF(COUNT($E244:$G244)<3,MAX($E244:$G244),MEDIAN($E244:$G244))))))","v":""},null,null,null,null,null,null,null,null,null,null,null,null,""]
[{"$f":"IF('Start - jaro'!Q9=\"\",\"\",\"x\")","v":""},79,{"$f":"IF('Start - jaro'!O9=\"\",\"\",'Start - jaro'!O9)","v":""},"I.pokus",null,null,null,{"$f":"IF($C245=\"\",\"\",IF(OR($E245=\"DNF\",$F245=\"DNF\",$G245=\"DNF\"),\"DNF\",IF(OR($E245=\"NP\",$F245=\"NP\",$G245=\"NP\"),\"NP\",IF(ISERROR(MEDIAN($E245:$G245)),\"DNF\",IF(COUNT($E245:$G245)<3,MAX($E245:$G245),MEDIAN($E245:$G245))))))","v":""},null,null,null,null,null,null,null,null,null,null,null,null,"",{"$f":"IF(C245=\"x\",\"x\",IF(C245=\"\",\"\",IF(OR(W245=\"NP\",W245=\"DNF\"),IF(W245=\"NP\",MAX(W$12:W$309)+COUNTIF((W$12:W$309),MAX(W$12:W$309)),MAX(W$12:W$309)+COUNTIF((W$12:W$309),MAX(W$12:W$309))+COUNTIF((W$12:W$309),\"NP\")),W245)))","v":""},"",{"$f":"IF(A245=\"x\",\"x\",IF(C245=\"\",\"\",IF(OR(AND(U245=\"NP\",U246=\"NP\"),AND(U245=\"DNF\",U246=\"DNF\")),U245,IF(AND(U245=\"NP\",U246=\"DNF\"),U245,IF(AND(U245=\"DNF\",U246=\"NP\"),U246,MIN(U245,U246))))))","v":""}]
[null,null,null,"II.pokus",null,null,null,{"$f":"IF($C245=\"\",\"\",IF(OR($E246=\"DNF\",$F246=\"DNF\",$G246=\"DNF\"),\"DNF\",IF(OR($E246=\"NP\",$F246=\"NP\",$G246=\"NP\"),\"NP\",IF(ISERROR(MEDIAN($E246:$G246)),\"DNF\",IF(COUNT($E246:$G246)<3,MAX($E246:$G246),MEDIAN($E246:$G246))))))","v":""},null,null,null,null,null,null,null,null,null,null,null,null,""]
[{"$f":"IF('Start - jaro'!Q10=\"\",\"\",\"x\")","v":""},80,{"$f":"IF('Start - jaro'!O10=\"\",\"\",'Start - jaro'!O10)","v":""},"I.pokus",null,null,null,{"$f":"IF($C247=\"\",\"\",IF(OR($E247=\"DNF\",$F247=\"DNF\",$G247=\"DNF\"),\"DNF\",IF(OR($E247=\"NP\",$F247=\"NP\",$G247=\"NP\"),\"NP\",IF(ISERROR(MEDIAN($E247:$G247)),\"DNF\",IF(COUNT($E247:$G247)<3,MAX($E247:$G247),MEDIAN($E247:$G247))))))","v":""},null,null,null,null,null,null,null,null,null,null,null,null,"",{"$f":"IF(C247=\"x\",\"x\",IF(C247=\"\",\"\",IF(OR(W247=\"NP\",W247=\"DNF\"),IF(W247=\"NP\",MAX(W$12:W$309)+COUNTIF((W$12:W$309),MAX(W$12:W$309)),MAX(W$12:W$309)+COUNTIF((W$12:W$309),MAX(W$12:W$309))+COUNTIF((W$12:W$309),\"NP\")),W247)))","v":""},"",{"$f":"IF(A247=\"x\",\"x\",IF(C247=\"\",\"\",IF(OR(AND(U247=\"NP\",U248=\"NP\"),AND(U247=\"DNF\",U248=\"DNF\")),U247,IF(AND(U247=\"NP\",U248=\"DNF\"),U247,IF(AND(U247=\"DNF\",U248=\"NP\"),U248,MIN(U247,U248))))))","v":""}]
[null,null,null,"II.pokus",null,null,null,{"$f":"IF($C247=\"\",\"\",IF(OR($E248=\"DNF\",$F248=\"DNF\",$G248=\"DNF\"),\"DNF\",IF(OR($E248=\"NP\",$F248=\"NP\",$G248=\"NP\"),\"NP\",IF(ISERROR(MEDIAN($E248:$G248)),\"DNF\",IF(COUNT($E248:$G248)<3,MAX($E248:$G248),MEDIAN($E248:$G248))))))","v":""},null,null,null,null,null,null,null,null,null,null,null,null,""]
[null,"CELOSTÁTNÍ HRA PLAMEN"]
[]
[]
[null,"Výsledková listina č: 9"]
[null,"Štafeta požárních dvojic",null,null,"Základem je čas naměřený od vydání signálu startéra do proběhnutí posledního člena cílem",null,null,null,"K úřednímu času se připočítávají trest. Sekundy - za každý případ 10 sekund",null,null,null,null,null,null,null,null,null,null,null,"Výsledek soutěže"]
[null,null,null,null,null,null,null,null,"předčasné vyběhnutí","nesvinutí rozpadlého kotouče","nerozložení hadice proudnice na, nebo za čarou","nesprávné napojení hadice na proudnici či hydr. nástavec","nesprávné rozvinutí hadice u hydr. nástavce","neoběhnutí nebo nesprávné oběhnutí mety","neúplné svinutí mezi metou a nástavcem hydrantu","hození hadice nebo proudnice","chození po nesprávné straně hadicového vedení","nesprávné svinutí (dvojité přeložení)","za nesprávné odpojení proudnice nebo hadice","za pomoc při svinování hadice"]
[null,null,null,null,null,null,null,null,null,null,null,null,null,null,null,null,null,null,null,null,"součet trest. Sekund a úředního času","počet bodů za umístění"]
[null,{"$f":"\"KATEGORIE: \"&'Start - podzim'!$N$2","v":"KATEGORIE: STARŠÍ"},null,null,"I. časoměřič","II. časoměřič","III. časoměřič","úřední čas"]
[]
[null,"start. číslo","SOUTĚŽNÍ DRUŽSTVO","pokus"]
[]
[{"$f":"IF('Start - jaro'!Q11=\"\",\"\",\"x\")","v":""},81,{"$f":"IF('Start - jaro'!O11=\"\",\"\",'Start - jaro'!O11)","v":""},"I.pokus",null,null,null,{"$f":"IF($C260=\"\",\"\",IF(OR($E260=\"DNF\",$F260=\"DNF\",$G260=\"DNF\"),\"DNF\",IF(OR($E260=\"NP\",$F260=\"NP\",$G260=\"NP\"),\"NP\",IF(ISERROR(MEDIAN($E260:$G260)),\"DNF\",IF(COUNT($E260:$G260)<3,MAX($E260:$G260),MEDIAN($E260:$G260))))))","v":""},null,null,null,null,null,null,null,null,null,null,null,null,{"$f":"IF(H260=\"\",\"\",IF(H260=\"NP\",\"NP\",IF(H260=\"DNF\",\"DNF\",SUM(I260:T260)+H260)))","v":""},{"$f":"IF(C260=\"x\",\"x\",IF(C260=\"\",\"\",IF(OR(W260=\"NP\",W260=\"DNF\"),IF(W260=\"NP\",MAX(W$12:W$309)+COUNTIF((W$12:W$309),MAX(W$12:W$309)),MAX(W$12:W$309)+COUNTIF((W$12:W$309),MAX(W$12:W$309))+COUNTIF((W$12:W$309),\"NP\")),W260)))","v":""},{"$f":"IF(A260=\"x\",\"x\",IF(C260=\"\",\"\",IF(OR(X260=\"NP\",X260=\"DNF\"),X260,RANK(X260,X$12:X$309,1))))","v":""},{"$f":"IF(A260=\"x\",\"x\",IF(C260=\"\",\"\",IF(OR(AND(U260=\"NP\",U261=\"NP\"),AND(U260=\"DNF\",U261=\"DNF\")),U260,IF(AND(U260=\"NP\",U261=\"DNF\"),U260,IF(AND(U260=\"DNF\",U261=\"NP\"),U261,MIN(U260,U261))))))","v":""}]
[null,null,null,"II.pokus",null,null,null,{"$f":"IF($C260=\"\",\"\",IF(OR($E261=\"DNF\",$F261=\"DNF\",$G261=\"DNF\"),\"DNF\",IF(OR($E261=\"NP\",$F261=\"NP\",$G261=\"NP\"),\"NP\",IF(ISERROR(MEDIAN($E261:$G261)),\"DNF\",IF(COUNT($E261:$G261)<3,MAX($E261:$G261),MEDIAN($E261:$G261))))))","v":""},null,null,null,null,null,null,null,null,null,null,null,null,""]
[{"$f":"IF('Start - jaro'!Q12=\"\",\"\",\"x\")","v":""},82,{"$f":"IF('Start - jaro'!O12=\"\",\"\",'Start - jaro'!O12)","v":""},"I.pokus",null,null,null,{"$f":"IF($C262=\"\",\"\",IF(OR($E262=\"DNF\",$F262=\"DNF\",$G262=\"DNF\"),\"DNF\",IF(OR($E262=\"NP\",$F262=\"NP\",$G262=\"NP\"),\"NP\",IF(ISERROR(MEDIAN($E262:$G262)),\"DNF\",IF(COUNT($E262:$G262)<3,MAX($E262:$G262),MEDIAN($E262:$G262))))))","v":""},null,null,null,null,null,null,null,null,null,null,null,null,"",{"$f":"IF(C262=\"x\",\"x\",IF(C262=\"\",\"\",IF(OR(W262=\"NP\",W262=\"DNF\"),IF(W262=\"NP\",MAX(W$12:W$309)+COUNTIF((W$12:W$309),MAX(W$12:W$309)),MAX(W$12:W$309)+COUNTIF((W$12:W$309),MAX(W$12:W$309))+COUNTIF((W$12:W$309),\"NP\")),W262)))","v":""},"",{"$f":"IF(A262=\"x\",\"x\",IF(C262=\"\",\"\",IF(OR(AND(U262=\"NP\",U263=\"NP\"),AND(U262=\"DNF\",U263=\"DNF\")),U262,IF(AND(U262=\"NP\",U263=\"DNF\"),U262,IF(AND(U262=\"DNF\",U263=\"NP\"),U263,MIN(U262,U263))))))","v":""}]
[null,null,null,"II.pokus",null,null,null,{"$f":"IF($C262=\"\",\"\",IF(OR($E263=\"DNF\",$F263=\"DNF\",$G263=\"DNF\"),\"DNF\",IF(OR($E263=\"NP\",$F263=\"NP\",$G263=\"NP\"),\"NP\",IF(ISERROR(MEDIAN($E263:$G263)),\"DNF\",IF(COUNT($E263:$G263)<3,MAX($E263:$G263),MEDIAN($E263:$G263))))))","v":""},null,null,null,null,null,null,null,null,null,null,null,null,""]
[{"$f":"IF('Start - jaro'!Q13=\"\",\"\",\"x\")","v":""},83,{"$f":"IF('Start - jaro'!O13=\"\",\"\",'Start - jaro'!O13)","v":""},"I.pokus",null,null,null,{"$f":"IF($C264=\"\",\"\",IF(OR($E264=\"DNF\",$F264=\"DNF\",$G264=\"DNF\"),\"DNF\",IF(OR($E264=\"NP\",$F264=\"NP\",$G264=\"NP\"),\"NP\",IF(ISERROR(MEDIAN($E264:$G264)),\"DNF\",IF(COUNT($E264:$G264)<3,MAX($E264:$G264),MEDIAN($E264:$G264))))))","v":""},null,null,null,null,null,null,null,null,null,null,null,null,"",{"$f":"IF(C264=\"x\",\"x\",IF(C264=\"\",\"\",IF(OR(W264=\"NP\",W264=\"DNF\"),IF(W264=\"NP\",MAX(W$12:W$309)+COUNTIF((W$12:W$309),MAX(W$12:W$309)),MAX(W$12:W$309)+COUNTIF((W$12:W$309),MAX(W$12:W$309))+COUNTIF((W$12:W$309),\"NP\")),W264)))","v":""},"",{"$f":"IF(A264=\"x\",\"x\",IF(C264=\"\",\"\",IF(OR(AND(U264=\"NP\",U265=\"NP\"),AND(U264=\"DNF\",U265=\"DNF\")),U264,IF(AND(U264=\"NP\",U265=\"DNF\"),U264,IF(AND(U264=\"DNF\",U265=\"NP\"),U265,MIN(U264,U265))))))","v":""}]
[null,null,null,"II.pokus",null,null,null,{"$f":"IF($C264=\"\",\"\",IF(OR($E265=\"DNF\",$F265=\"DNF\",$G265=\"DNF\"),\"DNF\",IF(OR($E265=\"NP\",$F265=\"NP\",$G265=\"NP\"),\"NP\",IF(ISERROR(MEDIAN($E265:$G265)),\"DNF\",IF(COUNT($E265:$G265)<3,MAX($E265:$G265),MEDIAN($E265:$G265))))))","v":""},null,null,null,null,null,null,null,null,null,null,null,null,""]
[{"$f":"IF('Start - jaro'!Q14=\"\",\"\",\"x\")","v":""},84,{"$f":"IF('Start - jaro'!O14=\"\",\"\",'Start - jaro'!O14)","v":""},"I.pokus",null,null,null,{"$f":"IF($C266=\"\",\"\",IF(OR($E266=\"DNF\",$F266=\"DNF\",$G266=\"DNF\"),\"DNF\",IF(OR($E266=\"NP\",$F266=\"NP\",$G266=\"NP\"),\"NP\",IF(ISERROR(MEDIAN($E266:$G266)),\"DNF\",IF(COUNT($E266:$G266)<3,MAX($E266:$G266),MEDIAN($E266:$G266))))))","v":""},null,null,null,null,null,null,null,null,null,null,null,null,"",{"$f":"IF(C266=\"x\",\"x\",IF(C266=\"\",\"\",IF(OR(W266=\"NP\",W266=\"DNF\"),IF(W266=\"NP\",MAX(W$12:W$309)+COUNTIF((W$12:W$309),MAX(W$12:W$309)),MAX(W$12:W$309)+COUNTIF((W$12:W$309),MAX(W$12:W$309))+COUNTIF((W$12:W$309),\"NP\")),W266)))","v":""},"",{"$f":"IF(A266=\"x\",\"x\",IF(C266=\"\",\"\",IF(OR(AND(U266=\"NP\",U267=\"NP\"),AND(U266=\"DNF\",U267=\"DNF\")),U266,IF(AND(U266=\"NP\",U267=\"DNF\"),U266,IF(AND(U266=\"DNF\",U267=\"NP\"),U267,MIN(U266,U267))))))","v":""}]
[null,null,null,"II.pokus",null,null,null,{"$f":"IF($C266=\"\",\"\",IF(OR($E267=\"DNF\",$F267=\"DNF\",$G267=\"DNF\"),\"DNF\",IF(OR($E267=\"NP\",$F267=\"NP\",$G267=\"NP\"),\"NP\",IF(ISERROR(MEDIAN($E267:$G267)),\"DNF\",IF(COUNT($E267:$G267)<3,MAX($E267:$G267),MEDIAN($E267:$G267))))))","v":""},null,null,null,null,null,null,null,null,null,null,null,null,""]
[{"$f":"IF('Start - jaro'!Q15=\"\",\"\",\"x\")","v":""},85,{"$f":"IF('Start - jaro'!O15=\"\",\"\",'Start - jaro'!O15)","v":""},"I.pokus",null,null,null,{"$f":"IF($C268=\"\",\"\",IF(OR($E268=\"DNF\",$F268=\"DNF\",$G268=\"DNF\"),\"DNF\",IF(OR($E268=\"NP\",$F268=\"NP\",$G268=\"NP\"),\"NP\",IF(ISERROR(MEDIAN($E268:$G268)),\"DNF\",IF(COUNT($E268:$G268)<3,MAX($E268:$G268),MEDIAN($E268:$G268))))))","v":""},null,null,null,null,null,null,null,null,null,null,null,null,"",{"$f":"IF(C268=\"x\",\"x\",IF(C268=\"\",\"\",IF(OR(W268=\"NP\",W268=\"DNF\"),IF(W268=\"NP\",MAX(W$12:W$309)+COUNTIF((W$12:W$309),MAX(W$12:W$309)),MAX(W$12:W$309)+COUNTIF((W$12:W$309),MAX(W$12:W$309))+COUNTIF((W$12:W$309),\"NP\")),W268)))","v":""},"",{"$f":"IF(A268=\"x\",\"x\",IF(C268=\"\",\"\",IF(OR(AND(U268=\"NP\",U269=\"NP\"),AND(U268=\"DNF\",U269=\"DNF\")),U268,IF(AND(U268=\"NP\",U269=\"DNF\"),U268,IF(AND(U268=\"DNF\",U269=\"NP\"),U269,MIN(U268,U269))))))","v":""}]
[null,null,null,"II.pokus",null,null,null,{"$f":"IF($C268=\"\",\"\",IF(OR($E269=\"DNF\",$F269=\"DNF\",$G269=\"DNF\"),\"DNF\",IF(OR($E269=\"NP\",$F269=\"NP\",$G269=\"NP\"),\"NP\",IF(ISERROR(MEDIAN($E269:$G269)),\"DNF\",IF(COUNT($E269:$G269)<3,MAX($E269:$G269),MEDIAN($E269:$G269))))))","v":""},null,null,null,null,null,null,null,null,null,null,null,null,""]
[{"$f":"IF('Start - jaro'!Q16=\"\",\"\",\"x\")","v":""},86,{"$f":"IF('Start - jaro'!O16=\"\",\"\",'Start - jaro'!O16)","v":""},"I.pokus",null,null,null,{"$f":"IF($C270=\"\",\"\",IF(OR($E270=\"DNF\",$F270=\"DNF\",$G270=\"DNF\"),\"DNF\",IF(OR($E270=\"NP\",$F270=\"NP\",$G270=\"NP\"),\"NP\",IF(ISERROR(MEDIAN($E270:$G270)),\"DNF\",IF(COUNT($E270:$G270)<3,MAX($E270:$G270),MEDIAN($E270:$G270))))))","v":""},null,null,null,null,null,null,null,null,null,null,null,null,"",{"$f":"IF(C270=\"x\",\"x\",IF(C270=\"\",\"\",IF(OR(W270=\"NP\",W270=\"DNF\"),IF(W270=\"NP\",MAX(W$12:W$309)+COUNTIF((W$12:W$309),MAX(W$12:W$309)),MAX(W$12:W$309)+COUNTIF((W$12:W$309),MAX(W$12:W$309))+COUNTIF((W$12:W$309),\"NP\")),W270)))","v":""},"",{"$f":"IF(A270=\"x\",\"x\",IF(C270=\"\",\"\",IF(OR(AND(U270=\"NP\",U271=\"NP\"),AND(U270=\"DNF\",U271=\"DNF\")),U270,IF(AND(U270=\"NP\",U271=\"DNF\"),U270,IF(AND(U270=\"DNF\",U271=\"NP\"),U271,MIN(U270,U271))))))","v":""}]
[null,null,null,"II.pokus",null,null,null,{"$f":"IF($C270=\"\",\"\",IF(OR($E271=\"DNF\",$F271=\"DNF\",$G271=\"DNF\"),\"DNF\",IF(OR($E271=\"NP\",$F271=\"NP\",$G271=\"NP\"),\"NP\",IF(ISERROR(MEDIAN($E271:$G271)),\"DNF\",IF(COUNT($E271:$G271)<3,MAX($E271:$G271),MEDIAN($E271:$G271))))))","v":""},null,null,null,null,null,null,null,null,null,null,null,null,""]
[{"$f":"IF('Start - jaro'!Q17=\"\",\"\",\"x\")","v":""},87,{"$f":"IF('Start - jaro'!O17=\"\",\"\",'Start - jaro'!O17)","v":""},"I.pokus",null,null,null,{"$f":"IF($C272=\"\",\"\",IF(OR($E272=\"DNF\",$F272=\"DNF\",$G272=\"DNF\"),\"DNF\",IF(OR($E272=\"NP\",$F272=\"NP\",$G272=\"NP\"),\"NP\",IF(ISERROR(MEDIAN($E272:$G272)),\"DNF\",IF(COUNT($E272:$G272)<3,MAX($E272:$G272),MEDIAN($E272:$G272))))))","v":""},null,null,null,null,null,null,null,null,null,null,null,null,"",{"$f":"IF(C272=\"x\",\"x\",IF(C272=\"\",\"\",IF(OR(W272=\"NP\",W272=\"DNF\"),IF(W272=\"NP\",MAX(W$12:W$309)+COUNTIF((W$12:W$309),MAX(W$12:W$309)),MAX(W$12:W$309)+COUNTIF((W$12:W$309),MAX(W$12:W$309))+COUNTIF((W$12:W$309),\"NP\")),W272)))","v":""},"",{"$f":"IF(A272=\"x\",\"x\",IF(C272=\"\",\"\",IF(OR(AND(U272=\"NP\",U273=\"NP\"),AND(U272=\"DNF\",U273=\"DNF\")),U272,IF(AND(U272=\"NP\",U273=\"DNF\"),U272,IF(AND(U272=\"DNF\",U273=\"NP\"),U273,MIN(U272,U273))))))","v":""}]
[null,null,null,"II.pokus",null,null,null,{"$f":"IF($C272=\"\",\"\",IF(OR($E273=\"DNF\",$F273=\"DNF\",$G273=\"DNF\"),\"DNF\",IF(OR($E273=\"NP\",$F273=\"NP\",$G273=\"NP\"),\"NP\",IF(ISERROR(MEDIAN($E273:$G273)),\"DNF\",IF(COUNT($E273:$G273)<3,MAX($E273:$G273),MEDIAN($E273:$G273))))))","v":""},null,null,null,null,null,null,null,null,null,null,null,null,""]
[{"$f":"IF('Start - jaro'!Q18=\"\",\"\",\"x\")","v":""},88,{"$f":"IF('Start - jaro'!O18=\"\",\"\",'Start - jaro'!O18)","v":""},"I.pokus",null,null,null,{"$f":"IF($C274=\"\",\"\",IF(OR($E274=\"DNF\",$F274=\"DNF\",$G274=\"DNF\"),\"DNF\",IF(OR($E274=\"NP\",$F274=\"NP\",$G274=\"NP\"),\"NP\",IF(ISERROR(MEDIAN($E274:$G274)),\"DNF\",IF(COUNT($E274:$G274)<3,MAX($E274:$G274),MEDIAN($E274:$G274))))))","v":""},null,null,null,null,null,null,null,null,null,null,null,null,"",{"$f":"IF(C274=\"x\",\"x\",IF(C274=\"\",\"\",IF(OR(W274=\"NP\",W274=\"DNF\"),IF(W274=\"NP\",MAX(W$12:W$309)+COUNTIF((W$12:W$309),MAX(W$12:W$309)),MAX(W$12:W$309)+COUNTIF((W$12:W$309),MAX(W$12:W$309))+COUNTIF((W$12:W$309),\"NP\")),W274)))","v":""},"",{"$f":"IF(A274=\"x\",\"x\",IF(C274=\"\",\"\",IF(OR(AND(U274=\"NP\",U275=\"NP\"),AND(U274=\"DNF\",U275=\"DNF\")),U274,IF(AND(U274=\"NP\",U275=\"DNF\"),U274,IF(AND(U274=\"DNF\",U275=\"NP\"),U275,MIN(U274,U275))))))","v":""}]
[null,null,null,"II.pokus",null,null,null,{"$f":"IF($C274=\"\",\"\",IF(OR($E275=\"DNF\",$F275=\"DNF\",$G275=\"DNF\"),\"DNF\",IF(OR($E275=\"NP\",$F275=\"NP\",$G275=\"NP\"),\"NP\",IF(ISERROR(MEDIAN($E275:$G275)),\"DNF\",IF(COUNT($E275:$G275)<3,MAX($E275:$G275),MEDIAN($E275:$G275))))))","v":""},null,null,null,null,null,null,null,null,null,null,null,null,""]
[{"$f":"IF('Start - jaro'!Q19=\"\",\"\",\"x\")","v":""},89,{"$f":"IF('Start - jaro'!O19=\"\",\"\",'Start - jaro'!O19)","v":""},"I.pokus",null,null,null,{"$f":"IF($C276=\"\",\"\",IF(OR($E276=\"DNF\",$F276=\"DNF\",$G276=\"DNF\"),\"DNF\",IF(OR($E276=\"NP\",$F276=\"NP\",$G276=\"NP\"),\"NP\",IF(ISERROR(MEDIAN($E276:$G276)),\"DNF\",IF(COUNT($E276:$G276)<3,MAX($E276:$G276),MEDIAN($E276:$G276))))))","v":""},null,null,null,null,null,null,null,null,null,null,null,null,"",{"$f":"IF(C276=\"x\",\"x\",IF(C276=\"\",\"\",IF(OR(W276=\"NP\",W276=\"DNF\"),IF(W276=\"NP\",MAX(W$12:W$309)+COUNTIF((W$12:W$309),MAX(W$12:W$309)),MAX(W$12:W$309)+COUNTIF((W$12:W$309),MAX(W$12:W$309))+COUNTIF((W$12:W$309),\"NP\")),W276)))","v":""},"",{"$f":"IF(A276=\"x\",\"x\",IF(C276=\"\",\"\",IF(OR(AND(U276=\"NP\",U277=\"NP\"),AND(U276=\"DNF\",U277=\"DNF\")),U276,IF(AND(U276=\"NP\",U277=\"DNF\"),U276,IF(AND(U276=\"DNF\",U277=\"NP\"),U277,MIN(U276,U277))))))","v":""}]
[null,null,null,"II.pokus",null,null,null,{"$f":"IF($C276=\"\",\"\",IF(OR($E277=\"DNF\",$F277=\"DNF\",$G277=\"DNF\"),\"DNF\",IF(OR($E277=\"NP\",$F277=\"NP\",$G277=\"NP\"),\"NP\",IF(ISERROR(MEDIAN($E277:$G277)),\"DNF\",IF(COUNT($E277:$G277)<3,MAX($E277:$G277),MEDIAN($E277:$G277))))))","v":""},null,null,null,null,null,null,null,null,null,null,null,null,""]
[{"$f":"IF('Start - jaro'!Q20=\"\",\"\",\"x\")","v":""},90,{"$f":"IF('Start - jaro'!O20=\"\",\"\",'Start - jaro'!O20)","v":""},"I.pokus",null,null,null,{"$f":"IF($C278=\"\",\"\",IF(OR($E278=\"DNF\",$F278=\"DNF\",$G278=\"DNF\"),\"DNF\",IF(OR($E278=\"NP\",$F278=\"NP\",$G278=\"NP\"),\"NP\",IF(ISERROR(MEDIAN($E278:$G278)),\"DNF\",IF(COUNT($E278:$G278)<3,MAX($E278:$G278),MEDIAN($E278:$G278))))))","v":""},null,null,null,null,null,null,null,null,null,null,null,null,"",{"$f":"IF(C278=\"x\",\"x\",IF(C278=\"\",\"\",IF(OR(W278=\"NP\",W278=\"DNF\"),IF(W278=\"NP\",MAX(W$12:W$309)+COUNTIF((W$12:W$309),MAX(W$12:W$309)),MAX(W$12:W$309)+COUNTIF((W$12:W$309),MAX(W$12:W$309))+COUNTIF((W$12:W$309),\"NP\")),W278)))","v":""},"",{"$f":"IF(A278=\"x\",\"x\",IF(C278=\"\",\"\",IF(OR(AND(U278=\"NP\",U279=\"NP\"),AND(U278=\"DNF\",U279=\"DNF\")),U278,IF(AND(U278=\"NP\",U279=\"DNF\"),U278,IF(AND(U278=\"DNF\",U279=\"NP\"),U279,MIN(U278,U279))))))","v":""}]
[null,null,null,"II.pokus",null,null,null,{"$f":"IF($C278=\"\",\"\",IF(OR($E279=\"DNF\",$F279=\"DNF\",$G279=\"DNF\"),\"DNF\",IF(OR($E279=\"NP\",$F279=\"NP\",$G279=\"NP\"),\"NP\",IF(ISERROR(MEDIAN($E279:$G279)),\"DNF\",IF(COUNT($E279:$G279)<3,MAX($E279:$G279),MEDIAN($E279:$G279))))))","v":""},null,null,null,null,null,null,null,null,null,null,null,null,""]
[null,"CELOSTÁTNÍ HRA PLAMEN"]
[]
[]
[null,"Výsledková listina č: 10"]
[null,"Štafeta požárních dvojic",null,null,"Základem je čas naměřený od vydání signálu startéra do proběhnutí posledního člena cílem",null,null,null,"K úřednímu času se připočítávají trest. Sekundy - za každý případ 10 sekund",null,null,null,null,null,null,null,null,null,null,null,"Výsledek soutěže"]
[null,null,null,null,null,null,null,null,"předčasné vyběhnutí","nesvinutí rozpadlého kotouče","nerozložení hadice proudnice na, nebo za čarou","nesprávné napojení hadice na proudnici či hydr. nástavec","nesprávné rozvinutí hadice u hydr. nástavce","neoběhnutí nebo nesprávné oběhnutí mety","neúplné svinutí mezi metou a nástavcem hydrantu","hození hadice nebo proudnice","chození po nesprávné straně hadicového vedení","nesprávné svinutí (dvojité přeložení)","za nesprávné odpojení proudnice nebo hadice","za pomoc při svinování hadice"]
[null,null,null,null,null,null,null,null,null,null,null,null,null,null,null,null,null,null,null,null,"součet trest. Sekund a úředního času","počet bodů za umístění"]
[null,{"$f":"\"KATEGORIE: \"&'Start - podzim'!$N$2","v":"KATEGORIE: STARŠÍ"},null,null,"I. časoměřič","II. časoměřič","III. časoměřič","úřední čas"]
[]
[null,"start. číslo","SOUTĚŽNÍ DRUŽSTVO","pokus"]
[]
[{"$f":"IF('Start - jaro'!Q21=\"\",\"\",\"x\")","v":""},91,{"$f":"IF('Start - jaro'!O21=\"\",\"\",'Start - jaro'!O21)","v":""},"I.pokus",null,null,null,{"$f":"IF($C291=\"\",\"\",IF(OR($E291=\"DNF\",$F291=\"DNF\",$G291=\"DNF\"),\"DNF\",IF(OR($E291=\"NP\",$F291=\"NP\",$G291=\"NP\"),\"NP\",IF(ISERROR(MEDIAN($E291:$G291)),\"DNF\",IF(COUNT($E291:$G291)<3,MAX($E291:$G291),MEDIAN($E291:$G291))))))","v":""},null,null,null,null,null,null,null,null,null,null,null,null,{"$f":"IF(H291=\"\",\"\",IF(H291=\"NP\",\"NP\",IF(H291=\"DNF\",\"DNF\",SUM(I291:T291)+H291)))","v":""},{"$f":"IF(C291=\"x\",\"x\",IF(C291=\"\",\"\",IF(OR(W291=\"NP\",W291=\"DNF\"),IF(W291=\"NP\",MAX(W$12:W$309)+COUNTIF((W$12:W$309),MAX(W$12:W$309)),MAX(W$12:W$309)+COUNTIF((W$12:W$309),MAX(W$12:W$309))+COUNTIF((W$12:W$309),\"NP\")),W291)))","v":""},{"$f":"IF(A291=\"x\",\"x\",IF(C291=\"\",\"\",IF(OR(X291=\"NP\",X291=\"DNF\"),X291,RANK(X291,X$12:X$61,1))))","v":""},{"$f":"IF(A291=\"x\",\"x\",IF(C291=\"\",\"\",IF(OR(AND(U291=\"NP\",U292=\"NP\"),AND(U291=\"DNF\",U292=\"DNF\")),U291,IF(AND(U291=\"NP\",U292=\"DNF\"),U291,IF(AND(U291=\"DNF\",U292=\"NP\"),U292,MIN(U291,U292))))))","v":""}]
[null,null,null,"II.pokus",null,null,null,{"$f":"IF($C291=\"\",\"\",IF(OR($E292=\"DNF\",$F292=\"DNF\",$G292=\"DNF\"),\"DNF\",IF(OR($E292=\"NP\",$F292=\"NP\",$G292=\"NP\"),\"NP\",IF(ISERROR(MEDIAN($E292:$G292)),\"DNF\",IF(COUNT($E292:$G292)<3,MAX($E292:$G292),MEDIAN($E292:$G292))))))","v":""},null,null,null,null,null,null,null,null,null,null,null,null,""]
[{"$f":"IF('Start - jaro'!Q22=\"\",\"\",\"x\")","v":""},92,{"$f":"IF('Start - jaro'!O22=\"\",\"\",'Start - jaro'!O22)","v":""},"I.pokus",null,null,null,{"$f":"IF($C293=\"\",\"\",IF(OR($E293=\"DNF\",$F293=\"DNF\",$G293=\"DNF\"),\"DNF\",IF(OR($E293=\"NP\",$F293=\"NP\",$G293=\"NP\"),\"NP\",IF(ISERROR(MEDIAN($E293:$G293)),\"DNF\",IF(COUNT($E293:$G293)<3,MAX($E293:$G293),MEDIAN($E293:$G293))))))","v":""},null,null,null,null,null,null,null,null,null,null,null,null,"",{"$f":"IF(C293=\"x\",\"x\",IF(C293=\"\",\"\",IF(OR(W293=\"NP\",W293=\"DNF\"),IF(W293=\"NP\",MAX(W$12:W$309)+COUNTIF((W$12:W$309),MAX(W$12:W$309)),MAX(W$12:W$309)+COUNTIF((W$12:W$309),MAX(W$12:W$309))+COUNTIF((W$12:W$309),\"NP\")),W293)))","v":""},{"$f":"IF(A293=\"x\",\"x\",IF(C293=\"\",\"\",IF(OR(X293=\"NP\",X293=\"DNF\"),X293,RANK(X293,X$12:X$61,1))))","v":""},{"$f":"IF(A293=\"x\",\"x\",IF(C293=\"\",\"\",IF(OR(AND(U293=\"NP\",U294=\"NP\"),AND(U293=\"DNF\",U294=\"DNF\")),U293,IF(AND(U293=\"NP\",U294=\"DNF\"),U293,IF(AND(U293=\"DNF\",U294=\"NP\"),U294,MIN(U293,U294))))))","v":""}]
[null,null,null,"II.pokus",null,null,null,{"$f":"IF($C293=\"\",\"\",IF(OR($E294=\"DNF\",$F294=\"DNF\",$G294=\"DNF\"),\"DNF\",IF(OR($E294=\"NP\",$F294=\"NP\",$G294=\"NP\"),\"NP\",IF(ISERROR(MEDIAN($E294:$G294)),\"DNF\",IF(COUNT($E294:$G294)<3,MAX($E294:$G294),MEDIAN($E294:$G294))))))","v":""},null,null,null,null,null,null,null,null,null,null,null,null,""]
[{"$f":"IF('Start - jaro'!Q23=\"\",\"\",\"x\")","v":""},93,{"$f":"IF('Start - jaro'!O23=\"\",\"\",'Start - jaro'!O23)","v":""},"I.pokus",null,null,null,{"$f":"IF($C295=\"\",\"\",IF(OR($E295=\"DNF\",$F295=\"DNF\",$G295=\"DNF\"),\"DNF\",IF(OR($E295=\"NP\",$F295=\"NP\",$G295=\"NP\"),\"NP\",IF(ISERROR(MEDIAN($E295:$G295)),\"DNF\",IF(COUNT($E295:$G295)<3,MAX($E295:$G295),MEDIAN($E295:$G295))))))","v":""},null,null,null,null,null,null,null,null,null,null,null,null,"",{"$f":"IF(C295=\"x\",\"x\",IF(C295=\"\",\"\",IF(OR(W295=\"NP\",W295=\"DNF\"),IF(W295=\"NP\",MAX(W$12:W$309)+COUNTIF((W$12:W$309),MAX(W$12:W$309)),MAX(W$12:W$309)+COUNTIF((W$12:W$309),MAX(W$12:W$309))+COUNTIF((W$12:W$309),\"NP\")),W295)))","v":""},{"$f":"IF(A295=\"x\",\"x\",IF(C295=\"\",\"\",IF(OR(X295=\"NP\",X295=\"DNF\"),X295,RANK(X295,X$12:X$61,1))))","v":""},{"$f":"IF(A295=\"x\",\"x\",IF(C295=\"\",\"\",IF(OR(AND(U295=\"NP\",U296=\"NP\"),AND(U295=\"DNF\",U296=\"DNF\")),U295,IF(AND(U295=\"NP\",U296=\"DNF\"),U295,IF(AND(U295=\"DNF\",U296=\"NP\"),U296,MIN(U295,U296))))))","v":""}]
[null,null,null,"II.pokus",null,null,null,{"$f":"IF($C295=\"\",\"\",IF(OR($E296=\"DNF\",$F296=\"DNF\",$G296=\"DNF\"),\"DNF\",IF(OR($E296=\"NP\",$F296=\"NP\",$G296=\"NP\"),\"NP\",IF(ISERROR(MEDIAN($E296:$G296)),\"DNF\",IF(COUNT($E296:$G296)<3,MAX($E296:$G296),MEDIAN($E296:$G296))))))","v":""},null,null,null,null,null,null,null,null,null,null,null,null,""]
[{"$f":"IF('Start - jaro'!Q24=\"\",\"\",\"x\")","v":""},94,{"$f":"IF('Start - jaro'!O24=\"\",\"\",'Start - jaro'!O24)","v":""},"I.pokus",null,null,null,{"$f":"IF($C297=\"\",\"\",IF(OR($E297=\"DNF\",$F297=\"DNF\",$G297=\"DNF\"),\"DNF\",IF(OR($E297=\"NP\",$F297=\"NP\",$G297=\"NP\"),\"NP\",IF(ISERROR(MEDIAN($E297:$G297)),\"DNF\",IF(COUNT($E297:$G297)<3,MAX($E297:$G297),MEDIAN($E297:$G297))))))","v":""},null,null,null,null,null,null,null,null,null,null,null,null,"",{"$f":"IF(C297=\"x\",\"x\",IF(C297=\"\",\"\",IF(OR(W297=\"NP\",W297=\"DNF\"),IF(W297=\"NP\",MAX(W$12:W$309)+COUNTIF((W$12:W$309),MAX(W$12:W$309)),MAX(W$12:W$309)+COUNTIF((W$12:W$309),MAX(W$12:W$309))+COUNTIF((W$12:W$309),\"NP\")),W297)))","v":""},{"$f":"IF(A297=\"x\",\"x\",IF(C297=\"\",\"\",IF(OR(X297=\"NP\",X297=\"DNF\"),X297,RANK(X297,X$12:X$61,1))))","v":""},{"$f":"IF(A297=\"x\",\"x\",IF(C297=\"\",\"\",IF(OR(AND(U297=\"NP\",U298=\"NP\"),AND(U297=\"DNF\",U298=\"DNF\")),U297,IF(AND(U297=\"NP\",U298=\"DNF\"),U297,IF(AND(U297=\"DNF\",U298=\"NP\"),U298,MIN(U297,U298))))))","v":""}]
[null,null,null,"II.pokus",null,null,null,{"$f":"IF($C297=\"\",\"\",IF(OR($E298=\"DNF\",$F298=\"DNF\",$G298=\"DNF\"),\"DNF\",IF(OR($E298=\"NP\",$F298=\"NP\",$G298=\"NP\"),\"NP\",IF(ISERROR(MEDIAN($E298:$G298)),\"DNF\",IF(COUNT($E298:$G298)<3,MAX($E298:$G298),MEDIAN($E298:$G298))))))","v":""},null,null,null,null,null,null,null,null,null,null,null,null,""]
[{"$f":"IF('Start - jaro'!Q25=\"\",\"\",\"x\")","v":""},95,{"$f":"IF('Start - jaro'!O25=\"\",\"\",'Start - jaro'!O25)","v":""},"I.pokus",null,null,null,{"$f":"IF($C299=\"\",\"\",IF(OR($E299=\"DNF\",$F299=\"DNF\",$G299=\"DNF\"),\"DNF\",IF(OR($E299=\"NP\",$F299=\"NP\",$G299=\"NP\"),\"NP\",IF(ISERROR(MEDIAN($E299:$G299)),\"DNF\",IF(COUNT($E299:$G299)<3,MAX($E299:$G299),MEDIAN($E299:$G299))))))","v":""},null,null,null,null,null,null,null,null,null,null,null,null,"",{"$f":"IF(C299=\"x\",\"x\",IF(C299=\"\",\"\",IF(OR(W299=\"NP\",W299=\"DNF\"),IF(W299=\"NP\",MAX(W$12:W$309)+COUNTIF((W$12:W$309),MAX(W$12:W$309)),MAX(W$12:W$309)+COUNTIF((W$12:W$309),MAX(W$12:W$309))+COUNTIF((W$12:W$309),\"NP\")),W299)))","v":""},{"$f":"IF(A299=\"x\",\"x\",IF(C299=\"\",\"\",IF(OR(X299=\"NP\",X299=\"DNF\"),X299,RANK(X299,X$12:X$61,1))))","v":""},{"$f":"IF(A299=\"x\",\"x\",IF(C299=\"\",\"\",IF(OR(AND(U299=\"NP\",U300=\"NP\"),AND(U299=\"DNF\",U300=\"DNF\")),U299,IF(AND(U299=\"NP\",U300=\"DNF\"),U299,IF(AND(U299=\"DNF\",U300=\"NP\"),U300,MIN(U299,U300))))))","v":""}]
[null,null,null,"II.pokus",null,null,null,{"$f":"IF($C299=\"\",\"\",IF(OR($E300=\"DNF\",$F300=\"DNF\",$G300=\"DNF\"),\"DNF\",IF(OR($E300=\"NP\",$F300=\"NP\",$G300=\"NP\"),\"NP\",IF(ISERROR(MEDIAN($E300:$G300)),\"DNF\",IF(COUNT($E300:$G300)<3,MAX($E300:$G300),MEDIAN($E300:$G300))))))","v":""},null,null,null,null,null,null,null,null,null,null,null,null,""]
[{"$f":"IF('Start - jaro'!Q26=\"\",\"\",\"x\")","v":""},96,{"$f":"IF('Start - jaro'!O26=\"\",\"\",'Start - jaro'!O26)","v":""},"I.pokus",null,null,null,{"$f":"IF($C301=\"\",\"\",IF(OR($E301=\"DNF\",$F301=\"DNF\",$G301=\"DNF\"),\"DNF\",IF(OR($E301=\"NP\",$F301=\"NP\",$G301=\"NP\"),\"NP\",IF(ISERROR(MEDIAN($E301:$G301)),\"DNF\",IF(COUNT($E301:$G301)<3,MAX($E301:$G301),MEDIAN($E301:$G301))))))","v":""},null,null,null,null,null,null,null,null,null,null,null,null,"",{"$f":"IF(C301=\"x\",\"x\",IF(C301=\"\",\"\",IF(OR(W301=\"NP\",W301=\"DNF\"),IF(W301=\"NP\",MAX(W$12:W$309)+COUNTIF((W$12:W$309),MAX(W$12:W$309)),MAX(W$12:W$309)+COUNTIF((W$12:W$309),MAX(W$12:W$309))+COUNTIF((W$12:W$309),\"NP\")),W301)))","v":""},{"$f":"IF(A301=\"x\",\"x\",IF(C301=\"\",\"\",IF(OR(X301=\"NP\",X301=\"DNF\"),X301,RANK(X301,X$12:X$61,1))))","v":""},{"$f":"IF(A301=\"x\",\"x\",IF(C301=\"\",\"\",IF(OR(AND(U301=\"NP\",U302=\"NP\"),AND(U301=\"DNF\",U302=\"DNF\")),U301,IF(AND(U301=\"NP\",U302=\"DNF\"),U301,IF(AND(U301=\"DNF\",U302=\"NP\"),U302,MIN(U301,U302))))))","v":""}]
[null,null,null,"II.pokus",null,null,null,{"$f":"IF($C301=\"\",\"\",IF(OR($E302=\"DNF\",$F302=\"DNF\",$G302=\"DNF\"),\"DNF\",IF(OR($E302=\"NP\",$F302=\"NP\",$G302=\"NP\"),\"NP\",IF(ISERROR(MEDIAN($E302:$G302)),\"DNF\",IF(COUNT($E302:$G302)<3,MAX($E302:$G302),MEDIAN($E302:$G302))))))","v":""},null,null,null,null,null,null,null,null,null,null,null,null,""]
[{"$f":"IF('Start - jaro'!Q27=\"\",\"\",\"x\")","v":""},97,{"$f":"IF('Start - jaro'!O27=\"\",\"\",'Start - jaro'!O27)","v":""},"I.pokus",null,null,null,{"$f":"IF($C303=\"\",\"\",IF(OR($E303=\"DNF\",$F303=\"DNF\",$G303=\"DNF\"),\"DNF\",IF(OR($E303=\"NP\",$F303=\"NP\",$G303=\"NP\"),\"NP\",IF(ISERROR(MEDIAN($E303:$G303)),\"DNF\",IF(COUNT($E303:$G303)<3,MAX($E303:$G303),MEDIAN($E303:$G303))))))","v":""},null,null,null,null,null,null,null,null,null,null,null,null,"",{"$f":"IF(C303=\"x\",\"x\",IF(C303=\"\",\"\",IF(OR(W303=\"NP\",W303=\"DNF\"),IF(W303=\"NP\",MAX(W$12:W$309)+COUNTIF((W$12:W$309),MAX(W$12:W$309)),MAX(W$12:W$309)+COUNTIF((W$12:W$309),MAX(W$12:W$309))+COUNTIF((W$12:W$309),\"NP\")),W303)))","v":""},{"$f":"IF(A303=\"x\",\"x\",IF(C303=\"\",\"\",IF(OR(X303=\"NP\",X303=\"DNF\"),X303,RANK(X303,X$12:X$61,1))))","v":""},{"$f":"IF(A303=\"x\",\"x\",IF(C303=\"\",\"\",IF(OR(AND(U303=\"NP\",U304=\"NP\"),AND(U303=\"DNF\",U304=\"DNF\")),U303,IF(AND(U303=\"NP\",U304=\"DNF\"),U303,IF(AND(U303=\"DNF\",U304=\"NP\"),U304,MIN(U303,U304))))))","v":""}]
[null,null,null,"II.pokus",null,null,null,{"$f":"IF($C303=\"\",\"\",IF(OR($E304=\"DNF\",$F304=\"DNF\",$G304=\"DNF\"),\"DNF\",IF(OR($E304=\"NP\",$F304=\"NP\",$G304=\"NP\"),\"NP\",IF(ISERROR(MEDIAN($E304:$G304)),\"DNF\",IF(COUNT($E304:$G304)<3,MAX($E304:$G304),MEDIAN($E304:$G304))))))","v":""},null,null,null,null,null,null,null,null,null,null,null,null,""]
[{"$f":"IF('Start - jaro'!Q28=\"\",\"\",\"x\")","v":""},98,{"$f":"IF('Start - jaro'!O28=\"\",\"\",'Start - jaro'!O28)","v":""},"I.pokus",null,null,null,{"$f":"IF($C305=\"\",\"\",IF(OR($E305=\"DNF\",$F305=\"DNF\",$G305=\"DNF\"),\"DNF\",IF(OR($E305=\"NP\",$F305=\"NP\",$G305=\"NP\"),\"NP\",IF(ISERROR(MEDIAN($E305:$G305)),\"DNF\",IF(COUNT($E305:$G305)<3,MAX($E305:$G305),MEDIAN($E305:$G305))))))","v":""},null,null,null,null,null,null,null,null,null,null,null,null,"",{"$f":"IF(C305=\"x\",\"x\",IF(C305=\"\",\"\",IF(OR(W305=\"NP\",W305=\"DNF\"),IF(W305=\"NP\",MAX(W$12:W$309)+COUNTIF((W$12:W$309),MAX(W$12:W$309)),MAX(W$12:W$309)+COUNTIF((W$12:W$309),MAX(W$12:W$309))+COUNTIF((W$12:W$309),\"NP\")),W305)))","v":""},{"$f":"IF(A305=\"x\",\"x\",IF(C305=\"\",\"\",IF(OR(X305=\"NP\",X305=\"DNF\"),X305,RANK(X305,X$12:X$61,1))))","v":""},{"$f":"IF(A305=\"x\",\"x\",IF(C305=\"\",\"\",IF(OR(AND(U305=\"NP\",U306=\"NP\"),AND(U305=\"DNF\",U306=\"DNF\")),U305,IF(AND(U305=\"NP\",U306=\"DNF\"),U305,IF(AND(U305=\"DNF\",U306=\"NP\"),U306,MIN(U305,U306))))))","v":""}]
[null,null,null,"II.pokus",null,null,null,{"$f":"IF($C305=\"\",\"\",IF(OR($E306=\"DNF\",$F306=\"DNF\",$G306=\"DNF\"),\"DNF\",IF(OR($E306=\"NP\",$F306=\"NP\",$G306=\"NP\"),\"NP\",IF(ISERROR(MEDIAN($E306:$G306)),\"DNF\",IF(COUNT($E306:$G306)<3,MAX($E306:$G306),MEDIAN($E306:$G306))))))","v":""},null,null,null,null,null,null,null,null,null,null,null,null,""]
[{"$f":"IF('Start - jaro'!Q29=\"\",\"\",\"x\")","v":""},99,{"$f":"IF('Start - jaro'!O29=\"\",\"\",'Start - jaro'!O29)","v":""},"I.pokus",null,null,null,{"$f":"IF($C307=\"\",\"\",IF(OR($E307=\"DNF\",$F307=\"DNF\",$G307=\"DNF\"),\"DNF\",IF(OR($E307=\"NP\",$F307=\"NP\",$G307=\"NP\"),\"NP\",IF(ISERROR(MEDIAN($E307:$G307)),\"DNF\",IF(COUNT($E307:$G307)<3,MAX($E307:$G307),MEDIAN($E307:$G307))))))","v":""},null,null,null,null,null,null,null,null,null,null,null,null,"",{"$f":"IF(C307=\"x\",\"x\",IF(C307=\"\",\"\",IF(OR(W307=\"NP\",W307=\"DNF\"),IF(W307=\"NP\",MAX(W$12:W$309)+COUNTIF((W$12:W$309),MAX(W$12:W$309)),MAX(W$12:W$309)+COUNTIF((W$12:W$309),MAX(W$12:W$309))+COUNTIF((W$12:W$309),\"NP\")),W307)))","v":""},{"$f":"IF(A307=\"x\",\"x\",IF(C307=\"\",\"\",IF(OR(X307=\"NP\",X307=\"DNF\"),X307,RANK(X307,X$12:X$61,1))))","v":""},{"$f":"IF(A307=\"x\",\"x\",IF(C307=\"\",\"\",IF(OR(AND(U307=\"NP\",U308=\"NP\"),AND(U307=\"DNF\",U308=\"DNF\")),U307,IF(AND(U307=\"NP\",U308=\"DNF\"),U307,IF(AND(U307=\"DNF\",U308=\"NP\"),U308,MIN(U307,U308))))))","v":""}]
[null,null,null,"II.pokus",null,null,null,{"$f":"IF($C307=\"\",\"\",IF(OR($E308=\"DNF\",$F308=\"DNF\",$G308=\"DNF\"),\"DNF\",IF(OR($E308=\"NP\",$F308=\"NP\",$G308=\"NP\"),\"NP\",IF(ISERROR(MEDIAN($E308:$G308)),\"DNF\",IF(COUNT($E308:$G308)<3,MAX($E308:$G308),MEDIAN($E308:$G308))))))","v":""},null,null,null,null,null,null,null,null,null,null,null,null,""]
[{"$f":"IF('Start - jaro'!Q30=\"\",\"\",\"x\")","v":""},100,{"$f":"IF('Start - jaro'!O30=\"\",\"\",'Start - jaro'!O30)","v":""},"I.pokus",null,null,null,{"$f":"IF($C309=\"\",\"\",IF(OR($E309=\"DNF\",$F309=\"DNF\",$G309=\"DNF\"),\"DNF\",IF(OR($E309=\"NP\",$F309=\"NP\",$G309=\"NP\"),\"NP\",IF(ISERROR(MEDIAN($E309:$G309)),\"DNF\",IF(COUNT($E309:$G309)<3,MAX($E309:$G309),MEDIAN($E309:$G309))))))","v":""},null,null,null,null,null,null,null,null,null,null,null,null,"",{"$f":"IF(C309=\"x\",\"x\",IF(C309=\"\",\"\",IF(OR(W309=\"NP\",W309=\"DNF\"),IF(W309=\"NP\",MAX(W$12:W$309)+COUNTIF((W$12:W$309),MAX(W$12:W$309)),MAX(W$12:W$309)+COUNTIF((W$12:W$309),MAX(W$12:W$309))+COUNTIF((W$12:W$309),\"NP\")),W309)))","v":""},{"$f":"IF(A309=\"x\",\"x\",IF(C309=\"\",\"\",IF(OR(X309=\"NP\",X309=\"DNF\"),X309,RANK(X309,X$12:X$61,1))))","v":""},{"$f":"IF(A309=\"x\",\"x\",IF(C309=\"\",\"\",IF(OR(AND(U309=\"NP\",U310=\"NP\"),AND(U309=\"DNF\",U310=\"DNF\")),U309,IF(AND(U309=\"NP\",U310=\"DNF\"),U309,IF(AND(U309=\"DNF\",U310=\"NP\"),U310,MIN(U309,U310))))))","v":""}]
[null,null,null,"II.pokus",null,null,null,{"$f":"IF($C309=\"\",\"\",IF(OR($E310=\"DNF\",$F310=\"DNF\",$G310=\"DNF\"),\"DNF\",IF(OR($E310=\"NP\",$F310=\"NP\",$G310=\"NP\"),\"NP\",IF(ISERROR(MEDIAN($E310:$G310)),\"DNF\",IF(COUNT($E310:$G310)<3,MAX($E310:$G310),MEDIAN($E310:$G310))))))","v":""},null,null,null,null,null,null,null,null,null,null,null,null,""]

{"sheet":"Št.4x60m","index":8,"n_rows":155,"n_cols":22,"rows_kept":155,"cut":false,"hidden":false,"merged":[[29,20,30,20],[29,21,30,21],[23,20,24,20],[23,21,24,21],[25,20,26,20],[25,21,26,21],[27,20,28,20],[27,21,28,21],[17,20,18,20],[17,21,18,21],[19,20,20,20],[19,21,20,21],[21,20,22,20],[21,21,22,21],[11,20,12,20],[11,21,12,21],[13,20,14,20],[13,21,14,21],[15,20,16,20],[15,21,16,21],[29,9,30,9],[29,10,30,10],[50,9,51,9],[50,10,51,10],[11,9,12,9],[11,10,12,10],[13,9,14,9],[13,10,14,10],[15,9,16,9],[15,10,16,10],[23,11,24,11],[25,11,26,11],[27,11,28,11],[29,11,30,11],[46,11,47,11],[48,11,49,11],[42,11,43,11],[11,11,12,11],[23,10,24,10],[25,9,26,9],[25,10,26,10],[27,9,28,9],[27,10,28,10],[17,9,18,9],[17,10,18,10],[19,9,20,9],[19,10,20,10],[21,9,22,9],[21,10,22,10],[19,11,20,11],[21,11,22,11],[50,0,51,0],[52,0,53,0],[54,0,55,0],[56,0,57,0],[44,1,45,1],[44,2,45,2],[52,2,53,2],[48,8,49,8],[50,8,51,8],[52,1,53,1],[44,8,45,8],[35,1,37,3],[35,4,37,8],[27,1,28,1],[27,2,28,2],[27,8,28,8],[29,1,30,1],[29,2,30,2],[29,8,30,8],[52,9,53,9],[52,10,53,10],[23,9,24,9],[58,0,59,0],[60,0,61,0],[27,0,28,0],[29,0,30,0],[46,0,47,0],[48,0,49,0],[42,0,43,0],[44,0,45,0],[56,13,57,13],[60,13,61,13],[56,8,57,8],[50,1,51,1],[50,2,51,2],[52,8,53,8],[46,1,47,1],[46,2,47,2],[48,1,49,1],[48,2,49,2],[46,8,47,8],[50,13,51,13],[46,10,47,10],[48,13,49,13],[42,1,43,1],[42,2,43,2],[11,0,12,0],[13,0,14,0],[15,0,16,0],[17,0,18,0],[19,0,20,0],[21,0,22,0],[23,0,24,0],[25,0,26,0],[50,19,51,19],[50,11,51,11],[29,12,30,12],[29,13,30,13],[29,19,30,19],[13,13,14,13],[15,13,16,13],[15,12,16,12],[25,12,26,12],[25,13,26,13],[25,19,26,19],[27,12,28,12],[27,13,28,13],[13,11,14,11],[15,11,16,11],[17,11,18,11],[44,10,45,10],[46,9,47,9],[46,19,47,19],[44,11,45,11],[58,10,59,10],[56,12,57,12],[56,11,57,11],[60,9,61,9],[60,10,61,10],[48,9,49,9],[48,10,49,10],[46,12,47,12],[46,13,47,13],[48,12,49,12],[50,12,51,12],[56,19,57,19],[54,11,55,11],[52,11,53,11],[27,19,28,19],[21,12,22,12],[21,13,22,13],[21,19,22,19],[23,12,24,12],[23,13,24,13],[23,19,24,19],[17,12,18,12],[17,13,18,13],[17,19,18,19],[19,12,20,12],[19,13,20,13],[19,19,20,19],[4,12,6,14],[7,12,8,14],[4,15,6,19],[7,15,10,15],[7,18,10,18],[15,19,16,19],[9,12,10,12],[9,13,10,13],[7,19,10,19],[7,16,10,16],[7,17,10,17],[11,19,12,19],[13,12,14,12],[13,19,14,19],[11,12,12,12],[11,13,12,13],[35,12,37,14],[35,15,37,19],[38,19,41,19],[38,12,39,14],[38,15,41,15],[38,16,41,16],[40,12,41,12],[40,13,41,13],[38,17,41,17],[25,1,26,1],[25,2,26,2],[25,8,26,8],[19,1,20,1],[19,2,20,2],[19,8,20,8],[21,1,22,1],[21,2,22,2],[21,8,22,8],[0,13,3,19],[9,14,10,14],[11,8,12,8],[31,13,34,19],[40,14,41,14],[17,1,18,1],[17,2,18,2],[17,8,18,8],[13,1,14,1],[13,2,14,2],[13,8,14,8],[4,1,6,3],[7,1,8,3],[7,4,10,4],[7,5,10,5],[7,6,10,6],[9,1,10,1],[9,2,10,2],[4,4,6,8],[7,7,10,7],[7,8,10,8],[23,1,24,1],[23,2,24,2],[23,8,24,8],[44,20,45,20],[44,21,45,21],[44,12,45,12],[44,13,45,13],[44,19,45,19],[40,2,41,2],[40,3,41,3],[42,20,43,20],[42,21,43,21],[38,8,41,8],[42,8,43,8],[42,12,43,12],[42,13,43,13],[42,19,43,19],[38,18,41,18],[38,5,41,5],[38,6,41,6],[38,1,39,3],[38,4,41,4],[38,7,41,7],[40,1,41,1],[42,9,43,9],[42,10,43,10],[44,9,45,9],[50,20,51,20],[50,21,51,21],[52,20,53,20],[52,21,53,21],[46,20,47,20],[46,21,47,21],[48,20,49,20],[48,21,49,21],[54,1,55,1],[54,2,55,2],[54,20,55,20],[54,21,55,21],[54,8,55,8],[54,12,55,12],[54,13,55,13],[54,9,55,9],[54,10,55,10],[52,12,53,12],[52,13,53,13],[52,19,53,19],[54,19,55,19],[48,19,49,19],[56,1,57,1],[56,20,57,20],[58,8,59,8],[58,12,59,12],[58,11,59,11],[58,9,59,9],[56,21,57,21],[58,1,59,1],[58,2,59,2],[58,13,59,13],[58,19,59,19],[58,20,59,20],[58,21,59,21],[56,2,57,2],[56,9,57,9],[56,10,57,10],[60,20,61,20],[60,21,61,21],[62,13,65,19],[60,1,61,1],[60,2,61,2],[62,1,64,8],[65,1,65,8],[60,8,61,8],[60,12,61,12],[60,11,61,11],[60,19,61,19],[69,1,70,3],[69,4,72,4],[69,5,72,5],[69,6,72,6],[71,1,72,1],[71,2,72,2],[71,3,72,3],[69,16,72,16],[66,1,68,3],[66,4,68,8],[66,12,68,14],[66,15,68,19],[69,17,72,17],[69,18,72,18],[69,19,72,19],[69,7,72,7],[69,8,72,8],[69,12,70,14],[69,15,72,15],[71,12,72,12],[71,13,72,13],[71,14,72,14],[73,20,74,20],[73,21,74,21],[73,9,74,9],[73,10,74,10],[73,11,74,11],[73,12,74,12],[75,0,76,0],[75,1,76,1],[75,2,76,2],[75,8,76,8],[73,13,74,13],[73,19,74,19],[73,0,74,0],[73,1,74,1],[73,2,74,2],[73,8,74,8],[75,13,76,13],[75,19,76,19],[75,20,76,20],[75,21,76,21],[75,9,76,9],[75,10,76,10],[75,11,76,11],[75,12,76,12],[77,20,78,20],[77,21,78,21],[77,9,78,9],[77,10,78,10],[77,11,78,11],[77,12,78,12],[79,0,80,0],[79,1,80,1],[79,2,80,2],[79,8,80,8],[77,13,78,13],[77,19,78,19],[77,0,78,0],[77,1,78,1],[77,2,78,2],[77,8,78,8],[79,13,80,13],[79,19,80,19],[79,20,80,20],[79,21,80,21],[79,9,80,9],[79,10,80,10],[79,11,80,11],[79,12,80,12],[81,20,82,20],[81,21,82,21],[81,9,82,9],[81,10,82,10],[81,11,82,11],[81,12,82,12],[83,0,84,0],[83,1,84,1],[83,2,84,2],[83,8,84,8],[81,13,82,13],[81,19,82,19],[81,0,82,0],[81,1,82,1],[81,2,82,2],[81,8,82,8],[83,13,84,13],[83,19,84,19],[83,20,84,20],[83,21,84,21],[83,9,84,9],[83,10,84,10],[83,11,84,11],[83,12,84,12],[85,20,86,20],[85,21,86,21],[85,9,86,9],[85,10,86,10],[85,11,86,11],[85,12,86,12],[87,0,88,0],[87,1,88,1],[87,2,88,2],[87,8,88,8],[85,13,86,13],[85,19,86,19],[85,0,86,0],[85,1,86,1],[85,2,86,2],[85,8,86,8],[87,13,88,13],[87,19,88,19],[87,20,88,20],[87,21,88,21],[87,9,88,9],[87,10,88,10],[87,11,88,11],[87,12,88,12],[89,20,90,20],[89,21,90,21],[89,9,90,9],[89,10,90,10],[89,11,90,11],[89,12,90,12],[91,0,92,0],[91,1,92,1],[91,2,92,2],[91,8,92,8],[89,13,90,13],[89,19,90,19],[89,0,90,0],[89,1,90,1],[89,2,90,2],[89,8,90,8],[91,13,92,13],[91,19,92,19],[91,20,92,20],[91,21,92,21],[91,9,92,9],[91,10,92,10],[91,11,92,11],[91,12,92,12],[93,13,96,19],[97,1,99,3],[97,4,99,8],[97,12,99,14],[97,15,99,19],[93,1,95,8],[96,1,96,8],[102,14,103,14],[100,1,101,3],[100,4,103,4],[100,5,103,5],[100,6,103,6],[102,1,103,1],[102,2,103,2],[102,3,103,3],[100,16,103,16],[100,17,103,17],[100,18,103,18],[100,19,103,19],[100,7,103,7],[100,8,103,8],[100,12,101,14],[100,15,103,15],[102,12,103,12],[102,13,103,13],[104,20,105,20],[104,21,105,21],[104,9,105,9],[104,10,105,10],[104,11,105,11],[104,12,105,12],[106,0,107,0],[106,1,107,1],[106,2,107,2],[106,8,107,8],[104,13,105,13],[104,19,105,19],[104,0,105,0],[104,1,105,1],[104,2,105,2],[104,8,105,8],[106,13,107,13],[106,19,107,19],[106,20,107,20],[106,21,107,21],[106,9,107,9],[106,10,107,10],[106,11,107,11],[106,12,107,12],[108,20,109,20],[108,21,109,21],[108,9,109,9],[108,10,109,10],[108,11,109,11],[108,12,109,12],[110,0,111,0],[110,1,111,1],[110,2,111,2],[110,8,111,8],[108,13,109,13],[108,19,109,19],[108,0,109,0],[108,1,109,1],[108,2,109,2],[108,8,109,8],[110,13,111,13],[110,19,111,19],[110,20,111,20],[110,21,111,21],[110,9,111,9],[110,10,111,10],[110,11,111,11],[110,12,111,12],[112,20,113,20],[112,21,113,21],[112,9,113,9],[112,10,113,10],[112,11,113,11],[112,12,113,12],[114,0,115,0],[114,1,115,1],[114,2,115,2],[114,8,115,8],[112,13,113,13],[112,19,113,19],[112,0,113,0],[112,1,113,1],[112,2,113,2],[112,8,113,8],[114,13,115,13],[114,19,115,19],[114,20,115,20],[114,21,115,21],[114,9,115,9],[114,10,115,10],[114,11,115,11],[116,20,117,20],[116,21,117,21],[116,9,117,9],[116,10,117,10],[116,11,117,11],[116,12,117,12],[118,0,119,0],[118,1,119,1],[118,2,119,2],[118,8,119,8],[116,13,117,13],[116,19,117,19],[116,0,117,0],[116,1,117,1],[116,2,117,2],[116,8,117,8],[118,13,119,13],[118,19,119,19],[118,20,119,20],[118,21,119,21],[118,9,119,9],[118,10,119,10],[118,11,119,11],[120,20,121,20],[120,21,121,21],[120,9,121,9],[120,10,121,10],[120,11,121,11],[120,12,121,12],[122,0,123,0],[122,1,123,1],[122,2,123,2],[122,8,123,8],[120,13,121,13],[120,19,121,19],[120,0,121,0],[120,1,121,1],[120,2,121,2],[120,8,121,8],[122,13,123,13],[122,19,123,19],[122,20,123,20],[122,21,123,21],[122,9,123,9],[122,10,123,10],[122,11,123,11],[124,13,127,19],[128,1,130,3],[128,4,130,8],[128,12,130,14],[128,15,130,19],[124,1,126,8],[127,1,127,8],[133,14,134,14],[131,1,132,3],[131,4,134,4],[131,5,134,5],[131,6,134,6],[133,1,134,1],[133,2,134,2],[133,3,134,3],[131,16,134,16],[131,17,134,17],[131,18,134,18],[131,19,134,19],[131,7,134,7],[131,8,134,8],[131,12,132,14],[131,15,134,15],[133,13,134,13],[135,20,136,20],[135,21,136,21],[135,9,136,9],[135,10,136,10],[135,11,136,11],[135,12,136,12],[137,0,138,0],[137,1,138,1],[137,2,138,2],[137,8,138,8],[135,13,136,13],[135,19,136,19],[135,0,136,0],[135,1,136,1],[135,2,136,2],[135,8,136,8],[137,13,138,13],[137,19,138,19],[137,20,138,20],[137,21,138,21],[137,9,138,9],[137,10,138,10],[139,20,140,20],[139,21,140,21],[139,9,140,9],[139,10,140,10],[139,11,140,11],[139,12,140,12],[141,0,142,0],[141,1,142,1],[141,2,142,2],[141,8,142,8],[139,13,140,13],[139,19,140,19],[139,0,140,0],[139,1,140,1],[139,2,140,2],[139,8,140,8],[141,13,142,13],[141,19,142,19],[141,20,142,20],[141,21,142,21],[141,9,142,9],[141,10,142,10],[143,20,144,20],[143,21,144,21],[143,9,144,9],[143,10,144,10],[143,11,144,11],[143,12,144,12],[145,0,146,0],[145,1,146,1],[145,2,146,2],[145,8,146,8],[143,13,144,13],[143,19,144,19],[143,0,144,0],[143,1,144,1],[143,2,144,2],[143,8,144,8],[145,13,146,13],[145,19,146,19],[145,20,146,20],[145,21,146,21],[145,9,146,9],[145,10,146,10],[147,20,148,20],[147,21,148,21],[147,9,148,9],[147,10,148,10],[147,11,148,11],[147,12,148,12],[149,0,150,0],[149,1,150,1],[149,2,150,2],[149,8,150,8],[147,13,148,13],[147,19,148,19],[147,0,148,0],[147,1,148,1],[147,2,148,2],[147,8,148,8],[149,13,150,13],[149,19,150,19],[149,20,150,20],[149,21,150,21],[149,9,150,9],[149,10,150,10],[151,20,152,20],[151,21,152,21],[151,9,152,9],[151,10,152,10],[151,11,152,11],[151,12,152,12],[153,0,154,0],[153,1,154,1],[153,2,154,2],[153,8,154,8],[151,13,152,13],[151,19,152,19],[151,0,152,0],[151,1,152,1],[151,2,152,2],[151,8,152,8],[153,13,154,13],[153,19,154,19],[153,20,154,20],[153,21,154,21],[153,9,154,9],[153,10,154,10],[153,11,154,11],[153,12,154,12],[0,1,2,8],[3,1,3,8],[31,1,33,8],[34,1,34,8],[15,1,16,1],[15,2,16,2],[15,8,16,8],[9,3,10,3],[11,1,12,1],[11,2,12,2],[149,11,150,11],[149,12,150,12],[145,11,146,11],[145,12,146,12],[141,11,142,11],[141,12,142,12],[137,11,138,11],[137,12,138,12],[133,12,134,12],[122,12,123,12],[118,12,119,12],[114,12,115,12]]}
[null," CELOSTÁTNÍ HRA PLAMEN"]
[]
[]
[null," Výsledková listina č: 1"]
[null,"Štafeta 4x60 m",null,null,"Základem je čas naměřený od vydání signálu startéra do proběhnutí posledního člena cílem",null,null,null,null,null,null,null,"Štafeta 4x60 m",null,null,"Základem je čas naměřený od vydání signálu startéra do proběhnutí posledního člena cílem"]
[]
[]
[null,{"$f":"\"KATEGORIE: \"&'Start - podzim'!$N$2","v":"KATEGORIE: STARŠÍ"},null,null,"I. časoměřič","II. časoměřič","III. časoměřič","úřední čas","počet bodů za umístění",null,null,null,{"$f":"\"KATEGORIE: \"&'Start - podzim'!$N$2","v":"KATEGORIE: STARŠÍ"},null,null,"I. časoměřič","II. časoměřič","III. časoměřič","úřední čas","počet bodů za umístění"]
[]
[null,"start. číslo","SOUTĚŽNÍ DRUŽSTVO","pokus",null,null,null,null,null,null,null,null,"start. číslo","SOUTĚŽNÍ DRUŽSTVO","pokus"]
[]
[{"$f":"IF('Start - jaro'!E6=\"\",\"\",\"x\")","v":""},1,{"$f":"IF('Start - jaro'!C6=\"\",\"\",'Start - jaro'!C6)","v":"Srubec (ČB)"},"I.pokus",45.77,null,null,{"$f":"IF($C12=\"\",\"\",IF(OR($E12=\"DNF\",$F12=\"DNF\",$G12=\"DNF\"),\"DNF\",IF(OR($E12=\"NP\",$F12=\"NP\",$G12=\"NP\"),\"NP\",IF(ISERROR(MEDIAN($E12:$G12)),\"DNF\",IF(COUNT($E12:$G12)<3,MAX($E12:$G12),MEDIAN($E12:$G12))))))","v":45.77},{"$f":"IF($A12=\"x\",\"x\",IF($C12=\"\",\"\",IF(OR(J12=\"NP\",J12=\"DNF\"),IF(J12=\"NP\",MAX(Oblast2)+COUNTIF(($J$12:$J$154),MAX(Oblast2))+COUNTIF(($U$12:$U$154),MAX(Oblast2)),MAX(Oblast2)+COUNTIF(($J$12:$J$154),MAX(Oblast2))+COUNTIF(($U$12:$U$154),MAX(Oblast2))+COUNTIF(($J$12:$J$154),\"NP\")+COUNTIF(($U$12:$U$154),\"NP\")),J12)))","v":3},{"$f":"IF($A12=\"x\",\"x\",IF($C12=\"\",\"\",IF(OR(K12=\"NP\",K12=\"DNF\"),K12,RANK(K12,Oblast,1))))","v":3},{"$f":"IF($A12=\"x\",\"x\",IF($C12=\"\",\"\",IF(OR(AND(H12=\"NP\",H13=\"NP\"),AND(H12=\"DNF\",H13=\"DNF\")),H12,IF(AND(H12=\"NP\",H13=\"DNF\"),H12,IF(AND(H12=\"DNF\",H13=\"NP\"),H13,MIN(H12,H13))))))","v":45.77},{"$f":"IF('Start - jaro'!E16=\"\",\"\",\"x\")","v":""},11,{"$f":"IF('Start - jaro'!C16=\"\",\"\",'Start - jaro'!C16)","v":""},"I.pokus",null,null,null,{"$f":"IF($N12=\"\",\"\",IF(OR($P12=\"DNF\",$Q12=\"DNF\",$R12=\"DNF\"),\"DNF\",IF(OR($P12=\"NP\",$Q12=\"NP\",$R12=\"NP\"),\"NP\",IF(ISERROR(MEDIAN($P12:$R12)),\"DNF\",IF(COUNT($P12:$R12)<3,MAX($P12:$R12),MEDIAN($P12:$R12))))))","v":""},{"$f":"IF($L12=\"x\",\"x\",IF($N12=\"\",\"\",IF(OR(U12=\"NP\",U12=\"DNF\"),IF(U12=\"NP\",MAX(Oblast2)+COUNTIF(($J$12:$J$154),MAX(Oblast2))+COUNTIF(($U$12:$U$154),MAX(Oblast2)),MAX(Oblast2)+COUNTIF(($J$12:$J$154),MAX(Oblast2))+COUNTIF(($U$12:$U$154),MAX(Oblast2))+COUNTIF(($J$12:$J$154),\"NP\")+COUNTIF(($U$12:$U$154),\"NP\")),U12)))","v":""},{"$f":"IF($L12=\"x\",\"x\",IF($N12=\"\",\"\",IF(OR(V12=\"NP\",V12=\"DNF\"),V12,RANK(V12,Oblast,1))))","v":""},{"$f":"IF($L12=\"x\",\"x\",IF($N12=\"\",\"\",IF(OR(AND(S12=\"NP\",S13=\"NP\"),AND(S12=\"DNF\",S13=\"DNF\")),S12,IF(AND(S12=\"NP\",S13=\"DNF\"),S12,IF(AND(S12=\"DNF\",S13=\"NP\"),S13,MIN(S12,S13))))))","v":""}]
[null,null,null,"II.pokus",49.78,null,null,{"$f":"IF($C12=\"\",\"\",IF(OR($E13=\"DNF\",$F13=\"DNF\",$G13=\"DNF\"),\"DNF\",IF(OR($E13=\"NP\",$F13=\"NP\",$G13=\"NP\"),\"NP\",IF(ISERROR(MEDIAN($E13:$G13)),\"DNF\",IF(COUNT($E13:$G13)<3,MAX($E13:$G13),MEDIAN($E13:$G13))))))","v":49.78},null,null,null,null,null,null,"II.pokus",null,null,null,{"$f":"IF($N12=\"\",\"\",IF(OR($P13=\"DNF\",$Q13=\"DNF\",$R13=\"DNF\"),\"DNF\",IF(OR($P13=\"NP\",$Q13=\"NP\",$R13=\"NP\"),\"NP\",IF(ISERROR(MEDIAN($P13:$R13)),\"DNF\",IF(COUNT($P13:$R13)<3,MAX($P13:$R13),MEDIAN($P13:$R13))))))","v":""}]
[{"$f":"IF('Start - jaro'!E7=\"\",\"\",\"x\")","v":""},2,{"$f":"IF('Start - jaro'!C7=\"\",\"\",'Start - jaro'!C7)","v":"Zhoř u Tábora (TÁ)"},"I.pokus",46.93,null,null,{"$f":"IF($C14=\"\",\"\",IF(OR($E14=\"DNF\",$F14=\"DNF\",$G14=\"DNF\"),\"DNF\",IF(OR($E14=\"NP\",$F14=\"NP\",$G14=\"NP\"),\"NP\",IF(ISERROR(MEDIAN($E14:$G14)),\"DNF\",IF(COUNT($E14:$G14)<3,MAX($E14:$G14),MEDIAN($E14:$G14))))))","v":46.93},{"$f":"IF($A14=\"x\",\"x\",IF($C14=\"\",\"\",IF(OR(J14=\"NP\",J14=\"DNF\"),IF(J14=\"NP\",MAX(Oblast2)+COUNTIF(($J$12:$J$154),MAX(Oblast2))+COUNTIF(($U$12:$U$154),MAX(Oblast2)),MAX(Oblast2)+COUNTIF(($J$12:$J$154),MAX(Oblast2))+COUNTIF(($U$12:$U$154),MAX(Oblast2))+COUNTIF(($J$12:$J$154),\"NP\")+COUNTIF(($U$12:$U$154),\"NP\")),J14)))","v":4},{"$f":"IF($A14=\"x\",\"x\",IF($C14=\"\",\"\",IF(OR(K14=\"NP\",K14=\"DNF\"),K14,RANK(K14,Oblast,1))))","v":4},{"$f":"IF($A14=\"x\",\"x\",IF($C14=\"\",\"\",IF(OR(AND(H14=\"NP\",H15=\"NP\"),AND(H14=\"DNF\",H15=\"DNF\")),H14,IF(AND(H14=\"NP\",H15=\"DNF\"),H14,IF(AND(H14=\"DNF\",H15=\"NP\"),H15,MIN(H14,H15))))))","v":46.93},{"$f":"IF('Start - jaro'!E17=\"\",\"\",\"x\")","v":""},12,{"$f":"IF('Start - jaro'!C17=\"\",\"\",'Start - jaro'!C17)","v":""},"I.pokus",null,null,null,{"$f":"IF($N14=\"\",\"\",IF(OR($P14=\"DNF\",$Q14=\"DNF\",$R14=\"DNF\"),\"DNF\",IF(OR($P14=\"NP\",$Q14=\"NP\",$R14=\"NP\"),\"NP\",IF(ISERROR(MEDIAN($P14:$R14)),\"DNF\",IF(COUNT($P14:$R14)<3,MAX($P14:$R14),MEDIAN($P14:$R14))))))","v":""},{"$f":"IF($L14=\"x\",\"x\",IF($N14=\"\",\"\",IF(OR(U14=\"NP\",U14=\"DNF\"),IF(U14=\"NP\",MAX(Oblast2)+COUNTIF(($J$12:$J$154),MAX(Oblast2))+COUNTIF(($U$12:$U$154),MAX(Oblast2)),MAX(Oblast2)+COUNTIF(($J$12:$J$154),MAX(Oblast2))+COUNTIF(($U$12:$U$154),MAX(Oblast2))+COUNTIF(($J$12:$J$154),\"NP\")+COUNTIF(($U$12:$U$154),\"NP\")),U14)))","v":""},{"$f":"IF($L14=\"x\",\"x\",IF($N14=\"\",\"\",IF(OR(V14=\"NP\",V14=\"DNF\"),V14,RANK(V14,Oblast,1))))","v":""},{"$f":"IF($L14=\"x\",\"x\",IF($N14=\"\",\"\",IF(OR(AND(S14=\"NP\",S15=\"NP\"),AND(S14=\"DNF\",S15=\"DNF\")),S14,IF(AND(S14=\"NP\",S15=\"DNF\"),S14,IF(AND(S14=\"DNF\",S15=\"NP\"),S15,MIN(S14,S15))))))","v":""}]
[null,null,null,"II.pokus",49.5,null,null,{"$f":"IF($C14=\"\",\"\",IF(OR($E15=\"DNF\",$F15=\"DNF\",$G15=\"DNF\"),\"DNF\",IF(OR($E15=\"NP\",$F15=\"NP\",$G15=\"NP\"),\"NP\",IF(ISERROR(MEDIAN($E15:$G15)),\"DNF\",IF(COUNT($E15:$G15)<3,MAX($E15:$G15),MEDIAN($E15:$G15))))))","v":49.5},null,null,null,null,null,null,"II.pokus",null,null,null,{"$f":"IF($N14=\"\",\"\",IF(OR($P15=\"DNF\",$Q15=\"DNF\",$R15=\"DNF\"),\"DNF\",IF(OR($P15=\"NP\",$Q15=\"NP\",$R15=\"NP\"),\"NP\",IF(ISERROR(MEDIAN($P15:$R15)),\"DNF\",IF(COUNT($P15:$R15)<3,MAX($P15:$R15),MEDIAN($P15:$R15))))))","v":""}]
[{"$f":"IF('Start - jaro'!E8=\"\",\"\",\"x\")","v":""},3,{"$f":"IF('Start - jaro'!C8=\"\",\"\",'Start - jaro'!C8)","v":"Svatá Maří (PT)"},"I.pokus",44.45,null,null,{"$f":"IF($C16=\"\",\"\",IF(OR($E16=\"DNF\",$F16=\"DNF\",$G16=\"DNF\"),\"DNF\",IF(OR($E16=\"NP\",$F16=\"NP\",$G16=\"NP\"),\"NP\",IF(ISERROR(MEDIAN($E16:$G16)),\"DNF\",IF(COUNT($E16:$G16)<3,MAX($E16:$G16),MEDIAN($E16:$G16))))))","v":44.45},{"$f":"IF($A16=\"x\",\"x\",IF($C16=\"\",\"\",IF(OR(J16=\"NP\",J16=\"DNF\"),IF(J16=\"NP\",MAX(Oblast2)+COUNTIF(($J$12:$J$154),MAX(Oblast2))+COUNTIF(($U$12:$U$154),MAX(Oblast2)),MAX(Oblast2)+COUNTIF(($J$12:$J$154),MAX(Oblast2))+COUNTIF(($U$12:$U$154),MAX(Oblast2))+COUNTIF(($J$12:$J$154),\"NP\")+COUNTIF(($U$12:$U$154),\"NP\")),J16)))","v":1},{"$f":"IF($A16=\"x\",\"x\",IF($C16=\"\",\"\",IF(OR(K16=\"NP\",K16=\"DNF\"),K16,RANK(K16,Oblast,1))))","v":1},{"$f":"IF($A16=\"x\",\"x\",IF($C16=\"\",\"\",IF(OR(AND(H16=\"NP\",H17=\"NP\"),AND(H16=\"DNF\",H17=\"DNF\")),H16,IF(AND(H16=\"NP\",H17=\"DNF\"),H16,IF(AND(H16=\"DNF\",H17=\"NP\"),H17,MIN(H16,H17))))))","v":44.45},{"$f":"IF('Start - jaro'!E18=\"\",\"\",\"x\")","v":""},13,{"$f":"IF('Start - jaro'!C18=\"\",\"\",'Start - jaro'!C18)","v":""},"I.pokus",null,null,null,{"$f":"IF($N16=\"\",\"\",IF(OR($P16=\"DNF\",$Q16=\"DNF\",$R16=\"DNF\"),\"DNF\",IF(OR($P16=\"NP\",$Q16=\"NP\",$R16=\"NP\"),\"NP\",IF(ISERROR(MEDIAN($P16:$R16)),\"DNF\",IF(COUNT($P16:$R16)<3,MAX($P16:$R16),MEDIAN($P16:$R16))))))","v":""},{"$f":"IF($L16=\"x\",\"x\",IF($N16=\"\",\"\",IF(OR(U16=\"NP\",U16=\"DNF\"),IF(U16=\"NP\",MAX(Oblast2)+COUNTIF(($J$12:$J$154),MAX(Oblast2))+COUNTIF(($U$12:$U$154),MAX(Oblast2)),MAX(Oblast2)+COUNTIF(($J$12:$J$154),MAX(Oblast2))+COUNTIF(($U$12:$U$154),MAX(Oblast2))+COUNTIF(($J$12:$J$154),\"NP\")+COUNTIF(($U$12:$U$154),\"NP\")),U16)))","v":""},{"$f":"IF($L16=\"x\",\"x\",IF($N16=\"\",\"\",IF(OR(V16=\"NP\",V16=\"DNF\"),V16,RANK(V16,Oblast,1))))","v":""},{"$f":"IF($L16=\"x\",\"x\",IF($N16=\"\",\"\",IF(OR(AND(S16=\"NP\",S17=\"NP\"),AND(S16=\"DNF\",S17=\"DNF\")),S16,IF(AND(S16=\"NP\",S17=\"DNF\"),S16,IF(AND(S16=\"DNF\",S17=\"NP\"),S17,MIN(S16,S17))))))","v":""}]
[null,null,null,"II.pokus","NP",null,null,{"$f":"IF($C16=\"\",\"\",IF(OR($E17=\"DNF\",$F17=\"DNF\",$G17=\"DNF\"),\"DNF\",IF(OR($E17=\"NP\",$F17=\"NP\",$G17=\"NP\"),\"NP\",IF(ISERROR(MEDIAN($E17:$G17)),\"DNF\",IF(COUNT($E17:$G17)<3,MAX($E17:$G17),MEDIAN($E17:$G17))))))","v":"NP"},null,null,null,null,null,null,"II.pokus",null,null,null,{"$f":"IF($N16=\"\",\"\",IF(OR($P17=\"DNF\",$Q17=\"DNF\",$R17=\"DNF\"),\"DNF\",IF(OR($P17=\"NP\",$Q17=\"NP\",$R17=\"NP\"),\"NP\",IF(ISERROR(MEDIAN($P17:$R17)),\"DNF\",IF(COUNT($P17:$R17)<3,MAX($P17:$R17),MEDIAN($P17:$R17))))))","v":""}]
[{"$f":"IF('Start - jaro'!E9=\"\",\"\",\"x\")","v":""},4,{"$f":"IF('Start - jaro'!C9=\"\",\"\",'Start - jaro'!C9)","v":"Drahonice (ST)"},"I.pokus",45.6,null,null,{"$f":"IF($C18=\"\",\"\",IF(OR($E18=\"DNF\",$F18=\"DNF\",$G18=\"DNF\"),\"DNF\",IF(OR($E18=\"NP\",$F18=\"NP\",$G18=\"NP\"),\"NP\",IF(ISERROR(MEDIAN($E18:$G18)),\"DNF\",IF(COUNT($E18:$G18)<3,MAX($E18:$G18),MEDIAN($E18:$G18))))))","v":45.6},{"$f":"IF($A18=\"x\",\"x\",IF($C18=\"\",\"\",IF(OR(J18=\"NP\",J18=\"DNF\"),IF(J18=\"NP\",MAX(Oblast2)+COUNTIF(($J$12:$J$154),MAX(Oblast2))+COUNTIF(($U$12:$U$154),MAX(Oblast2)),MAX(Oblast2)+COUNTIF(($J$12:$J$154),MAX(Oblast2))+COUNTIF(($U$12:$U$154),MAX(Oblast2))+COUNTIF(($J$12:$J$154),\"NP\")+COUNTIF(($U$12:$U$154),\"NP\")),J18)))","v":2},{"$f":"IF($A18=\"x\",\"x\",IF($C18=\"\",\"\",IF(OR(K18=\"NP\",K18=\"DNF\"),K18,RANK(K18,Oblast,1))))","v":2},{"$f":"IF($A18=\"x\",\"x\",IF($C18=\"\",\"\",IF(OR(AND(H18=\"NP\",H19=\"NP\"),AND(H18=\"DNF\",H19=\"DNF\")),H18,IF(AND(H18=\"NP\",H19=\"DNF\"),H18,IF(AND(H18=\"DNF\",H19=\"NP\"),H19,MIN(H18,H19))))))","v":45.6},{"$f":"IF('Start - jaro'!E19=\"\",\"\",\"x\")","v":""},14,{"$f":"IF('Start - jaro'!C19=\"\",\"\",'Start - jaro'!C19)","v":""},"I.pokus",null,null,null,{"$f":"IF($N18=\"\",\"\",IF(OR($P18=\"DNF\",$Q18=\"DNF\",$R18=\"DNF\"),\"DNF\",IF(OR($P18=\"NP\",$Q18=\"NP\",$R18=\"NP\"),\"NP\",IF(ISERROR(MEDIAN($P18:$R18)),\"DNF\",IF(COUNT($P18:$R18)<3,MAX($P18:$R18),MEDIAN($P18:$R18))))))","v":""},{"$f":"IF($L18=\"x\",\"x\",IF($N18=\"\",\"\",IF(OR(U18=\"NP\",U18=\"DNF\"),IF(U18=\"NP\",MAX(Oblast2)+COUNTIF(($J$12:$J$154),MAX(Oblast2))+COUNTIF(($U$12:$U$154),MAX(Oblast2)),MAX(Oblast2)+COUNTIF(($J$12:$J$154),MAX(Oblast2))+COUNTIF(($U$12:$U$154),MAX(Oblast2))+COUNTIF(($J$12:$J$154),\"NP\")+COUNTIF(($U$12:$U$154),\"NP\")),U18)))","v":""},{"$f":"IF($L18=\"x\",\"x\",IF($N18=\"\",\"\",IF(OR(V18=\"NP\",V18=\"DNF\"),V18,RANK(V18,Oblast,1))))","v":""},{"$f":"IF($L18=\"x\",\"x\",IF($N18=\"\",\"\",IF(OR(AND(S18=\"NP\",S19=\"NP\"),AND(S18=\"DNF\",S19=\"DNF\")),S18,IF(AND(S18=\"NP\",S19=\"DNF\"),S18,IF(AND(S18=\"DNF\",S19=\"NP\"),S19,MIN(S18,S19))))))","v":""}]
[null,null,null,"II.pokus",53.21,null,null,{"$f":"IF($C18=\"\",\"\",IF(OR($E19=\"DNF\",$F19=\"DNF\",$G19=\"DNF\"),\"DNF\",IF(OR($E19=\"NP\",$F19=\"NP\",$G19=\"NP\"),\"NP\",IF(ISERROR(MEDIAN($E19:$G19)),\"DNF\",IF(COUNT($E19:$G19)<3,MAX($E19:$G19),MEDIAN($E19:$G19))))))","v":53.21},null,null,null,null,null,null,"II.pokus",null,null,null,{"$f":"IF($N18=\"\",\"\",IF(OR($P19=\"DNF\",$Q19=\"DNF\",$R19=\"DNF\"),\"DNF\",IF(OR($P19=\"NP\",$Q19=\"NP\",$R19=\"NP\"),\"NP\",IF(ISERROR(MEDIAN($P19:$R19)),\"DNF\",IF(COUNT($P19:$R19)<3,MAX($P19:$R19),MEDIAN($P19:$R19))))))","v":""}]
[{"$f":"IF('Start - jaro'!E10=\"\",\"\",\"x\")","v":""},5,{"$f":"IF('Start - jaro'!C10=\"\",\"\",'Start - jaro'!C10)","v":"Dobrošov (PÍ)"},"I.pokus",59.31,null,null,{"$f":"IF($C20=\"\",\"\",IF(OR($E20=\"DNF\",$F20=\"DNF\",$G20=\"DNF\"),\"DNF\",IF(OR($E20=\"NP\",$F20=\"NP\",$G20=\"NP\"),\"NP\",IF(ISERROR(MEDIAN($E20:$G20)),\"DNF\",IF(COUNT($E20:$G20)<3,MAX($E20:$G20),MEDIAN($E20:$G20))))))","v":59.31},{"$f":"IF($A20=\"x\",\"x\",IF($C20=\"\",\"\",IF(OR(J20=\"NP\",J20=\"DNF\"),IF(J20=\"NP\",MAX(Oblast2)+COUNTIF(($J$12:$J$154),MAX(Oblast2))+COUNTIF(($U$12:$U$154),MAX(Oblast2)),MAX(Oblast2)+COUNTIF(($J$12:$J$154),MAX(Oblast2))+COUNTIF(($U$12:$U$154),MAX(Oblast2))+COUNTIF(($J$12:$J$154),\"NP\")+COUNTIF(($U$12:$U$154),\"NP\")),J20)))","v":6},{"$f":"IF($A20=\"x\",\"x\",IF($C20=\"\",\"\",IF(OR(K20=\"NP\",K20=\"DNF\"),K20,RANK(K20,Oblast,1))))","v":6},{"$f":"IF($A20=\"x\",\"x\",IF($C20=\"\",\"\",IF(OR(AND(H20=\"NP\",H21=\"NP\"),AND(H20=\"DNF\",H21=\"DNF\")),H20,IF(AND(H20=\"NP\",H21=\"DNF\"),H20,IF(AND(H20=\"DNF\",H21=\"NP\"),H21,MIN(H20,H21))))))","v":59.31},{"$f":"IF('Start - jaro'!E20=\"\",\"\",\"x\")","v":""},15,{"$f":"IF('Start - jaro'!C20=\"\",\"\",'Start - jaro'!C20)","v":""},"I.pokus",null,null,null,{"$f":"IF($N20=\"\",\"\",IF(OR($P20=\"DNF\",$Q20=\"DNF\",$R20=\"DNF\"),\"DNF\",IF(OR($P20=\"NP\",$Q20=\"NP\",$R20=\"NP\"),\"NP\",IF(ISERROR(MEDIAN($P20:$R20)),\"DNF\",IF(COUNT($P20:$R20)<3,MAX($P20:$R20),MEDIAN($P20:$R20))))))","v":""},{"$f":"IF($L20=\"x\",\"x\",IF($N20=\"\",\"\",IF(OR(U20=\"NP\",U20=\"DNF\"),IF(U20=\"NP\",MAX(Oblast2)+COUNTIF(($J$12:$J$154),MAX(Oblast2))+COUNTIF(($U$12:$U$154),MAX(Oblast2)),MAX(Oblast2)+COUNTIF(($J$12:$J$154),MAX(Oblast2))+COUNTIF(($U$12:$U$154),MAX(Oblast2))+COUNTIF(($J$12:$J$154),\"NP\")+COUNTIF(($U$12:$U$154),\"NP\")),U20)))","v":""},{"$f":"IF($L20=\"x\",\"x\",IF($N20=\"\",\"\",IF(OR(V20=\"NP\",V20=\"DNF\"),V20,RANK(V20,Oblast,1))))","v":""},{"$f":"IF($L20=\"x\",\"x\",IF($N20=\"\",\"\",IF(OR(AND(S20=\"NP\",S21=\"NP\"),AND(S20=\"DNF\",S21=\"DNF\")),S20,IF(AND(S20=\"NP\",S21=\"DNF\"),S20,IF(AND(S20=\"DNF\",S21=\"NP\"),S21,MIN(S20,S21))))))","v":""}]
[null,null,null,"II.pokus",67.39,null,null,{"$f":"IF($C20=\"\",\"\",IF(OR($E21=\"DNF\",$F21=\"DNF\",$G21=\"DNF\"),\"DNF\",IF(OR($E21=\"NP\",$F21=\"NP\",$G21=\"NP\"),\"NP\",IF(ISERROR(MEDIAN($E21:$G21)),\"DNF\",IF(COUNT($E21:$G21)<3,MAX($E21:$G21),MEDIAN($E21:$G21))))))","v":67.39},null,null,null,null,null,null,"II.pokus",null,null,null,{"$f":"IF($N20=\"\",\"\",IF(OR($P21=\"DNF\",$Q21=\"DNF\",$R21=\"DNF\"),\"DNF\",IF(OR($P21=\"NP\",$Q21=\"NP\",$R21=\"NP\"),\"NP\",IF(ISERROR(MEDIAN($P21:$R21)),\"DNF\",IF(COUNT($P21:$R21)<3,MAX($P21:$R21),MEDIAN($P21:$R21))))))","v":""}]
[{"$f":"IF('Start - jaro'!E11=\"\",\"\",\"x\")","v":""},6,{"$f":"IF('Start - jaro'!C11=\"\",\"\",'Start - jaro'!C11)","v":"Plešovice (ČK)"},"I.pokus",47.66,null,null,{"$f":"IF($C22=\"\",\"\",IF(OR($E22=\"DNF\",$F22=\"DNF\",$G22=\"DNF\"),\"DNF\",IF(OR($E22=\"NP\",$F22=\"NP\",$G22=\"NP\"),\"NP\",IF(ISERROR(MEDIAN($E22:$G22)),\"DNF\",IF(COUNT($E22:$G22)<3,MAX($E22:$G22),MEDIAN($E22:$G22))))))","v":47.66},{"$f":"IF($A22=\"x\",\"x\",IF($C22=\"\",\"\",IF(OR(J22=\"NP\",J22=\"DNF\"),IF(J22=\"NP\",MAX(Oblast2)+COUNTIF(($J$12:$J$154),MAX(Oblast2))+COUNTIF(($U$12:$U$154),MAX(Oblast2)),MAX(Oblast2)+COUNTIF(($J$12:$J$154),MAX(Oblast2))+COUNTIF(($U$12:$U$154),MAX(Oblast2))+COUNTIF(($J$12:$J$154),\"NP\")+COUNTIF(($U$12:$U$154),\"NP\")),J22)))","v":5},{"$f":"IF($A22=\"x\",\"x\",IF($C22=\"\",\"\",IF(OR(K22=\"NP\",K22=\"DNF\"),K22,RANK(K22,Oblast,1))))","v":5},{"$f":"IF($A22=\"x\",\"x\",IF($C22=\"\",\"\",IF(OR(AND(H22=\"NP\",H23=\"NP\"),AND(H22=\"DNF\",H23=\"DNF\")),H22,IF(AND(H22=\"NP\",H23=\"DNF\"),H22,IF(AND(H22=\"DNF\",H23=\"NP\"),H23,MIN(H22,H23))))))","v":47.66},{"$f":"IF('Start - jaro'!E21=\"\",\"\",\"x\")","v":""},16,{"$f":"IF('Start - jaro'!C21=\"\",\"\",'Start - jaro'!C21)","v":""},"I.pokus",null,null,null,{"$f":"IF($N22=\"\",\"\",IF(OR($P22=\"DNF\",$Q22=\"DNF\",$R22=\"DNF\"),\"DNF\",IF(OR($P22=\"NP\",$Q22=\"NP\",$R22=\"NP\"),\"NP\",IF(ISERROR(MEDIAN($P22:$R22)),\"DNF\",IF(COUNT($P22:$R22)<3,MAX($P22:$R22),MEDIAN($P22:$R22))))))","v":""},{"$f":"IF($L22=\"x\",\"x\",IF($N22=\"\",\"\",IF(OR(U22=\"NP\",U22=\"DNF\"),IF(U22=\"NP\",MAX(Oblast2)+COUNTIF(($J$12:$J$154),MAX(Oblast2))+COUNTIF(($U$12:$U$154),MAX(Oblast2)),MAX(Oblast2)+COUNTIF(($J$12:$J$154),MAX(Oblast2))+COUNTIF(($U$12:$U$154),MAX(Oblast2))+COUNTIF(($J$12:$J$154),\"NP\")+COUNTIF(($U$12:$U$154),\"NP\")),U22)))","v":""},{"$f":"IF($L22=\"x\",\"x\",IF($N22=\"\",\"\",IF(OR(V22=\"NP\",V22=\"DNF\"),V22,RANK(V22,Oblast,1))))","v":""},{"$f":"IF($L22=\"x\",\"x\",IF($N22=\"\",\"\",IF(OR(AND(S22=\"NP\",S23=\"NP\"),AND(S22=\"DNF\",S23=\"DNF\")),S22,IF(AND(S22=\"NP\",S23=\"DNF\"),S22,IF(AND(S22=\"DNF\",S23=\"NP\"),S23,MIN(S22,S23))))))","v":""}]
[null,null,null,"II.pokus",50.29,null,null,{"$f":"IF($C22=\"\",\"\",IF(OR($E23=\"DNF\",$F23=\"DNF\",$G23=\"DNF\"),\"DNF\",IF(OR($E23=\"NP\",$F23=\"NP\",$G23=\"NP\"),\"NP\",IF(ISERROR(MEDIAN($E23:$G23)),\"DNF\",IF(COUNT($E23:$G23)<3,MAX($E23:$G23),MEDIAN($E23:$G23))))))","v":50.29},null,null,null,null,null,null,"II.pokus",null,null,null,{"$f":"IF($N22=\"\",\"\",IF(OR($P23=\"DNF\",$Q23=\"DNF\",$R23=\"DNF\"),\"DNF\",IF(OR($P23=\"NP\",$Q23=\"NP\",$R23=\"NP\"),\"NP\",IF(ISERROR(MEDIAN($P23:$R23)),\"DNF\",IF(COUNT($P23:$R23)<3,MAX($P23:$R23),MEDIAN($P23:$R23))))))","v":""}]
[{"$f":"IF('Start - jaro'!E12=\"\",\"\",\"x\")","v":""},7,{"$f":"IF('Start - jaro'!C12=\"\",\"\",'Start - jaro'!C12)","v":""},"I.pokus",null,null,null,{"$f":"IF($C24=\"\",\"\",IF(OR($E24=\"DNF\",$F24=\"DNF\",$G24=\"DNF\"),\"DNF\",IF(OR($E24=\"NP\",$F24=\"NP\",$G24=\"NP\"),\"NP\",IF(ISERROR(MEDIAN($E24:$G24)),\"DNF\",IF(COUNT($E24:$G24)<3,MAX($E24:$G24),MEDIAN($E24:$G24))))))","v":""},{"$f":"IF($A24=\"x\",\"x\",IF($C24=\"\",\"\",IF(OR(J24=\"NP\",J24=\"DNF\"),IF(J24=\"NP\",MAX(Oblast2)+COUNTIF(($J$12:$J$154),MAX(Oblast2))+COUNTIF(($U$12:$U$154),MAX(Oblast2)),MAX(Oblast2)+COUNTIF(($J$12:$J$154),MAX(Oblast2))+COUNTIF(($U$12:$U$154),MAX(Oblast2))+COUNTIF(($J$12:$J$154),\"NP\")+COUNTIF(($U$12:$U$154),\"NP\")),J24)))","v":""},{"$f":"IF($A24=\"x\",\"x\",IF($C24=\"\",\"\",IF(OR(K24=\"NP\",K24=\"DNF\"),K24,RANK(K24,Oblast,1))))","v":""},{"$f":"IF($A24=\"x\",\"x\",IF($C24=\"\",\"\",IF(OR(AND(H24=\"NP\",H25=\"NP\"),AND(H24=\"DNF\",H25=\"DNF\")),H24,IF(AND(H24=\"NP\",H25=\"DNF\"),H24,IF(AND(H24=\"DNF\",H25=\"NP\"),H25,MIN(H24,H25))))))","v":""},{"$f":"IF('Start - jaro'!E22=\"\",\"\",\"x\")","v":""},17,{"$f":"IF('Start - jaro'!C22=\"\",\"\",'Start - jaro'!C22)","v":""},"I.pokus",null,null,null,{"$f":"IF($N24=\"\",\"\",IF(OR($P24=\"DNF\",$Q24=\"DNF\",$R24=\"DNF\"),\"DNF\",IF(OR($P24=\"NP\",$Q24=\"NP\",$R24=\"NP\"),\"NP\",IF(ISERROR(MEDIAN($P24:$R24)),\"DNF\",IF(COUNT($P24:$R24)<3,MAX($P24:$R24),MEDIAN($P24:$R24))))))","v":""},{"$f":"IF($L24=\"x\",\"x\",IF($N24=\"\",\"\",IF(OR(U24=\"NP\",U24=\"DNF\"),IF(U24=\"NP\",MAX(Oblast2)+COUNTIF(($J$12:$J$154),MAX(Oblast2))+COUNTIF(($U$12:$U$154),MAX(Oblast2)),MAX(Oblast2)+COUNTIF(($J$12:$J$154),MAX(Oblast2))+COUNTIF(($U$12:$U$154),MAX(Oblast2))+COUNTIF(($J$12:$J$154),\"NP\")+COUNTIF(($U$12:$U$154),\"NP\")),U24)))","v":""},{"$f":"IF($L24=\"x\",\"x\",IF($N24=\"\",\"\",IF(OR(V24=\"NP\",V24=\"DNF\"),V24,RANK(V24,Oblast,1))))","v":""},{"$f":"IF($L24=\"x\",\"x\",IF($N24=\"\",\"\",IF(OR(AND(S24=\"NP\",S25=\"NP\"),AND(S24=\"DNF\",S25=\"DNF\")),S24,IF(AND(S24=\"NP\",S25=\"DNF\"),S24,IF(AND(S24=\"DNF\",S25=\"NP\"),S25,MIN(S24,S25))))))","v":""}]
[null,null,null,"II.pokus",null,null,null,{"$f":"IF($C24=\"\",\"\",IF(OR($E25=\"DNF\",$F25=\"DNF\",$G25=\"DNF\"),\"DNF\",IF(OR($E25=\"NP\",$F25=\"NP\",$G25=\"NP\"),\"NP\",IF(ISERROR(MEDIAN($E25:$G25)),\"DNF\",IF(COUNT($E25:$G25)<3,MAX($E25:$G25),MEDIAN($E25:$G25))))))","v":""},null,null,null,null,null,null,"II.pokus",null,null,null,{"$f":"IF($N24=\"\",\"\",IF(OR($P25=\"DNF\",$Q25=\"DNF\",$R25=\"DNF\"),\"DNF\",IF(OR($P25=\"NP\",$Q25=\"NP\",$R25=\"NP\"),\"NP\",IF(ISERROR(MEDIAN($P25:$R25)),\"DNF\",IF(COUNT($P25:$R25)<3,MAX($P25:$R25),MEDIAN($P25:$R25))))))","v":""}]
[{"$f":"IF('Start - jaro'!E13=\"\",\"\",\"x\")","v":""},8,{"$f":"IF('Start - jaro'!C13=\"\",\"\",'Start - jaro'!C13)","v":""},"I.pokus",null,null,null,{"$f":"IF($C26=\"\",\"\",IF(OR($E26=\"DNF\",$F26=\"DNF\",$G26=\"DNF\"),\"DNF\",IF(OR($E26=\"NP\",$F26=\"NP\",$G26=\"NP\"),\"NP\",IF(ISERROR(MEDIAN($E26:$G26)),\"DNF\",IF(COUNT($E26:$G26)<3,MAX($E26:$G26),MEDIAN($E26:$G26))))))","v":""},{"$f":"IF($A26=\"x\",\"x\",IF($C26=\"\",\"\",IF(OR(J26=\"NP\",J26=\"DNF\"),IF(J26=\"NP\",MAX(Oblast2)+COUNTIF(($J$12:$J$154),MAX(Oblast2))+COUNTIF(($U$12:$U$154),MAX(Oblast2)),MAX(Oblast2)+COUNTIF(($J$12:$J$154),MAX(Oblast2))+COUNTIF(($U$12:$U$154),MAX(Oblast2))+COUNTIF(($J$12:$J$154),\"NP\")+COUNTIF(($U$12:$U$154),\"NP\")),J26)))","v":""},{"$f":"IF($A26=\"x\",\"x\",IF($C26=\"\",\"\",IF(OR(K26=\"NP\",K26=\"DNF\"),K26,RANK(K26,Oblast,1))))","v":""},{"$f":"IF($A26=\"x\",\"x\",IF($C26=\"\",\"\",IF(OR(AND(H26=\"NP\",H27=\"NP\"),AND(H26=\"DNF\",H27=\"DNF\")),H26,IF(AND(H26=\"NP\",H27=\"DNF\"),H26,IF(AND(H26=\"DNF\",H27=\"NP\"),H27,MIN(H26,H27))))))","v":""},{"$f":"IF('Start - jaro'!E23=\"\",\"\",\"x\")","v":""},18,{"$f":"IF('Start - jaro'!C23=\"\",\"\",'Start - jaro'!C23)","v":""},"I.pokus",null,null,null,{"$f":"IF($N26=\"\",\"\",IF(OR($P26=\"DNF\",$Q26=\"DNF\",$R26=\"DNF\"),\"DNF\",IF(OR($P26=\"NP\",$Q26=\"NP\",$R26=\"NP\"),\"NP\",IF(ISERROR(MEDIAN($P26:$R26)),\"DNF\",IF(COUNT($P26:$R26)<3,MAX($P26:$R26),MEDIAN($P26:$R26))))))","v":""},{"$f":"IF($L26=\"x\",\"x\",IF($N26=\"\",\"\",IF(OR(U26=\"NP\",U26=\"DNF\"),IF(U26=\"NP\",MAX(Oblast2)+COUNTIF(($J$12:$J$154),MAX(Oblast2))+COUNTIF(($U$12:$U$154),MAX(Oblast2)),MAX(Oblast2)+COUNTIF(($J$12:$J$154),MAX(Oblast2))+COUNTIF(($U$12:$U$154),MAX(Oblast2))+COUNTIF(($J$12:$J$154),\"NP\")+COUNTIF(($U$12:$U$154),\"NP\")),U26)))","v":""},{"$f":"IF($L26=\"x\",\"x\",IF($N26=\"\",\"\",IF(OR(V26=\"NP\",V26=\"DNF\"),V26,RANK(V26,Oblast,1))))","v":""},{"$f":"IF($L26=\"x\",\"x\",IF($N26=\"\",\"\",IF(OR(AND(S26=\"NP\",S27=\"NP\"),AND(S26=\"DNF\",S27=\"DNF\")),S26,IF(AND(S26=\"NP\",S27=\"DNF\"),S26,IF(AND(S26=\"DNF\",S27=\"NP\"),S27,MIN(S26,S27))))))","v":""}]
[null,null,null,"II.pokus",null,null,null,{"$f":"IF($C26=\"\",\"\",IF(OR($E27=\"DNF\",$F27=\"DNF\",$G27=\"DNF\"),\"DNF\",IF(OR($E27=\"NP\",$F27=\"NP\",$G27=\"NP\"),\"NP\",IF(ISERROR(MEDIAN($E27:$G27)),\"DNF\",IF(COUNT($E27:$G27)<3,MAX($E27:$G27),MEDIAN($E27:$G27))))))","v":""},null,null,null,null,null,null,"II.pokus",null,null,null,{"$f":"IF($N26=\"\",\"\",IF(OR($P27=\"DNF\",$Q27=\"DNF\",$R27=\"DNF\"),\"DNF\",IF(OR($P27=\"NP\",$Q27=\"NP\",$R27=\"NP\"),\"NP\",IF(ISERROR(MEDIAN($P27:$R27)),\"DNF\",IF(COUNT($P27:$R27)<3,MAX($P27:$R27),MEDIAN($P27:$R27))))))","v":""}]
[{"$f":"IF('Start - jaro'!E14=\"\",\"\",\"x\")","v":""},9,{"$f":"IF('Start - jaro'!C14=\"\",\"\",'Start - jaro'!C14)","v":""},"I.pokus",null,null,null,{"$f":"IF($C28=\"\",\"\",IF(OR($E28=\"DNF\",$F28=\"DNF\",$G28=\"DNF\"),\"DNF\",IF(OR($E28=\"NP\",$F28=\"NP\",$G28=\"NP\"),\"NP\",IF(ISERROR(MEDIAN($E28:$G28)),\"DNF\",IF(COUNT($E28:$G28)<3,MAX($E28:$G28),MEDIAN($E28:$G28))))))","v":""},{"$f":"IF($A28=\"x\",\"x\",IF($C28=\"\",\"\",IF(OR(J28=\"NP\",J28=\"DNF\"),IF(J28=\"NP\",MAX(Oblast2)+COUNTIF(($J$12:$J$154),MAX(Oblast2))+COUNTIF(($U$12:$U$154),MAX(Oblast2)),MAX(Oblast2)+COUNTIF(($J$12:$J$154),MAX(Oblast2))+COUNTIF(($U$12:$U$154),MAX(Oblast2))+COUNTIF(($J$12:$J$154),\"NP\")+COUNTIF(($U$12:$U$154),\"NP\")),J28)))","v":""},{"$f":"IF($A28=\"x\",\"x\",IF($C28=\"\",\"\",IF(OR(K28=\"NP\",K28=\"DNF\"),K28,RANK(K28,Oblast,1))))","v":""},{"$f":"IF($A28=\"x\",\"x\",IF($C28=\"\",\"\",IF(OR(AND(H28=\"NP\",H29=\"NP\"),AND(H28=\"DNF\",H29=\"DNF\")),H28,IF(AND(H28=\"NP\",H29=\"DNF\"),H28,IF(AND(H28=\"DNF\",H29=\"NP\"),H29,MIN(H28,H29))))))","v":""},{"$f":"IF('Start - jaro'!E24=\"\",\"\",\"x\")","v":""},19,{"$f":"IF('Start - jaro'!C24=\"\",\"\",'Start - jaro'!C24)","v":""},"I.pokus",null,null,null,{"$f":"IF($N28=\"\",\"\",IF(OR($P28=\"DNF\",$Q28=\"DNF\",$R28=\"DNF\"),\"DNF\",IF(OR($P28=\"NP\",$Q28=\"NP\",$R28=\"NP\"),\"NP\",IF(ISERROR(MEDIAN($P28:$R28)),\"DNF\",IF(COUNT($P28:$R28)<3,MAX($P28:$R28),MEDIAN($P28:$R28))))))","v":""},{"$f":"IF($L28=\"x\",\"x\",IF($N28=\"\",\"\",IF(OR(U28=\"NP\",U28=\"DNF\"),IF(U28=\"NP\",MAX(Oblast2)+COUNTIF(($J$12:$J$154),MAX(Oblast2))+COUNTIF(($U$12:$U$154),MAX(Oblast2)),MAX(Oblast2)+COUNTIF(($J$12:$J$154),MAX(Oblast2))+COUNTIF(($U$12:$U$154),MAX(Oblast2))+COUNTIF(($J$12:$J$154),\"NP\")+COUNTIF(($U$12:$U$154),\"NP\")),U28)))","v":""},{"$f":"IF($L28=\"x\",\"x\",IF($N28=\"\",\"\",IF(OR(V28=\"NP\",V28=\"DNF\"),V28,RANK(V28,Oblast,1))))","v":""},{"$f":"IF($L28=\"x\",\"x\",IF($N28=\"\",\"\",IF(OR(AND(S28=\"NP\",S29=\"NP\"),AND(S28=\"DNF\",S29=\"DNF\")),S28,IF(AND(S28=\"NP\",S29=\"DNF\"),S28,IF(AND(S28=\"DNF\",S29=\"NP\"),S29,MIN(S28,S29))))))","v":""}]
[null,null,null,"II.pokus",null,null,null,{"$f":"IF($C28=\"\",\"\",IF(OR($E29=\"DNF\",$F29=\"DNF\",$G29=\"DNF\"),\"DNF\",IF(OR($E29=\"NP\",$F29=\"NP\",$G29=\"NP\"),\"NP\",IF(ISERROR(MEDIAN($E29:$G29)),\"DNF\",IF(COUNT($E29:$G29)<3,MAX($E29:$G29),MEDIAN($E29:$G29))))))","v":""},null,null,null,null,null,null,"II.pokus",null,null,null,{"$f":"IF($N28=\"\",\"\",IF(OR($P29=\"DNF\",$Q29=\"DNF\",$R29=\"DNF\"),\"DNF\",IF(OR($P29=\"NP\",$Q29=\"NP\",$R29=\"NP\"),\"NP\",IF(ISERROR(MEDIAN($P29:$R29)),\"DNF\",IF(COUNT($P29:$R29)<3,MAX($P29:$R29),MEDIAN($P29:$R29))))))","v":""}]
[{"$f":"IF('Start - jaro'!E15=\"\",\"\",\"x\")","v":""},10,{"$f":"IF('Start - jaro'!C15=\"\",\"\",'Start - jaro'!C15)","v":""},"I.pokus",null,null,null,{"$f":"IF($C30=\"\",\"\",IF(OR($E30=\"DNF\",$F30=\"DNF\",$G30=\"DNF\"),\"DNF\",IF(OR($E30=\"NP\",$F30=\"NP\",$G30=\"NP\"),\"NP\",IF(ISERROR(MEDIAN($E30:$G30)),\"DNF\",IF(COUNT($E30:$G30)<3,MAX($E30:$G30),MEDIAN($E30:$G30))))))","v":""},{"$f":"IF($A30=\"x\",\"x\",IF($C30=\"\",\"\",IF(OR(J30=\"NP\",J30=\"DNF\"),IF(J30=\"NP\",MAX(Oblast2)+COUNTIF(($J$12:$J$154),MAX(Oblast2))+COUNTIF(($U$12:$U$154),MAX(Oblast2)),MAX(Oblast2)+COUNTIF(($J$12:$J$154),MAX(Oblast2))+COUNTIF(($U$12:$U$154),MAX(Oblast2))+COUNTIF(($J$12:$J$154),\"NP\")+COUNTIF(($U$12:$U$154),\"NP\")),J30)))","v":""},{"$f":"IF($A30=\"x\",\"x\",IF($C30=\"\",\"\",IF(OR(K30=\"NP\",K30=\"DNF\"),K30,RANK(K30,Oblast,1))))","v":""},{"$f":"IF($A30=\"x\",\"x\",IF($C30=\"\",\"\",IF(OR(AND(H30=\"NP\",H31=\"NP\"),AND(H30=\"DNF\",H31=\"DNF\")),H30,IF(AND(H30=\"NP\",H31=\"DNF\"),H30,IF(AND(H30=\"DNF\",H31=\"NP\"),H31,MIN(H30,H31))))))","v":""},{"$f":"IF('Start - jaro'!E25=\"\",\"\",\"x\")","v":""},20,{"$f":"IF('Start - jaro'!C25=\"\",\"\",'Start - jaro'!C25)","v":""},"I.pokus",null,null,null,{"$f":"IF($N30=\"\",\"\",IF(OR($P30=\"DNF\",$Q30=\"DNF\",$R30=\"DNF\"),\"DNF\",IF(OR($P30=\"NP\",$Q30=\"NP\",$R30=\"NP\"),\"NP\",IF(ISERROR(MEDIAN($P30:$R30)),\"DNF\",IF(COUNT($P30:$R30)<3,MAX($P30:$R30),MEDIAN($P30:$R30))))))","v":""},{"$f":"IF($L30=\"x\",\"x\",IF($N30=\"\",\"\",IF(OR(U30=\"NP\",U30=\"DNF\"),IF(U30=\"NP\",MAX(Oblast2)+COUNTIF(($J$12:$J$154),MAX(Oblast2))+COUNTIF(($U$12:$U$154),MAX(Oblast2)),MAX(Oblast2)+COUNTIF(($J$12:$J$154),MAX(Oblast2))+COUNTIF(($U$12:$U$154),MAX(Oblast2))+COUNTIF(($J$12:$J$154),\"NP\")+COUNTIF(($U$12:$U$154),\"NP\")),U30)))","v":""},{"$f":"IF($L30=\"x\",\"x\",IF($N30=\"\",\"\",IF(OR(V30=\"NP\",V30=\"DNF\"),V30,RANK(V30,Oblast,1))))","v":""},{"$f":"IF($L30=\"x\",\"x\",IF($N30=\"\",\"\",IF(OR(AND(S30=\"NP\",S31=\"NP\"),AND(S30=\"DNF\",S31=\"DNF\")),S30,IF(AND(S30=\"NP\",S31=\"DNF\"),S30,IF(AND(S30=\"DNF\",S31=\"NP\"),S31,MIN(S30,S31))))))","v":""}]
[null,null,null,"II.pokus",null,null,null,{"$f":"IF($C30=\"\",\"\",IF(OR($E31=\"DNF\",$F31=\"DNF\",$G31=\"DNF\"),\"DNF\",IF(OR($E31=\"NP\",$F31=\"NP\",$G31=\"NP\"),\"NP\",IF(ISERROR(MEDIAN($E31:$G31)),\"DNF\",IF(COUNT($E31:$G31)<3,MAX($E31:$G31),MEDIAN($E31:$G31))))))","v":""},null,null,null,null,null,null,"II.pokus",null,null,null,{"$f":"IF($N30=\"\",\"\",IF(OR($P31=\"DNF\",$Q31=\"DNF\",$R31=\"DNF\"),\"DNF\",IF(OR($P31=\"NP\",$Q31=\"NP\",$R31=\"NP\"),\"NP\",IF(ISERROR(MEDIAN($P31:$R31)),\"DNF\",IF(COUNT($P31:$R31)<3,MAX($P31:$R31),MEDIAN($P31:$R31))))))","v":""}]
[null," CELOSTÁTNÍ HRA PLAMEN"]
[]
[]
[null,"Výsledková listina č: 2"]
[null,"Štafeta 4x60 m",null,null,"Základem je čas naměřený od vydání signálu startéra do proběhnutí posledního člena cílem",null,null,null,null,null,null,null,"Štafeta 4x60 m",null,null,"Základem je čas naměřený od vydání signálu startéra do proběhnutí posledního člena cílem"]
[]
[]
[null,{"$f":"\"KATEGORIE: \"&'Start - podzim'!$N$2","v":"KATEGORIE: STARŠÍ"},null,null,"I. časoměřič","II. časoměřič","III. časoměřič","úřední čas","počet bodů za umístění",null,null,null,{"$f":"\"KATEGORIE: \"&'Start - podzim'!$N$2","v":"KATEGORIE: STARŠÍ"},null,null,"I. časoměřič","II. časoměřič","III. časoměřič","úřední čas","počet bodů za umístění"]
[]
[null,"start. číslo","SOUTĚŽNÍ DRUŽSTVO","pokus",null,null,null,null,null,null,null,null,"start. číslo","SOUTĚŽNÍ DRUŽSTVO","pokus"]
[]
[{"$f":"IF('Start - jaro'!E26=\"\",\"\",\"x\")","v":""},21,{"$f":"IF('Start - jaro'!C26=\"\",\"\",'Start - jaro'!C26)","v":""},"I.pokus",null,null,null,{"$f":"IF($C43=\"\",\"\",IF(OR($E43=\"DNF\",$F43=\"DNF\",$G43=\"DNF\"),\"DNF\",IF(OR($E43=\"NP\",$F43=\"NP\",$G43=\"NP\"),\"NP\",IF(ISERROR(MEDIAN($E43:$G43)),\"DNF\",IF(COUNT($E43:$G43)<3,MAX($E43:$G43),MEDIAN($E43:$G43))))))","v":""},{"$f":"IF($A43=\"x\",\"x\",IF($C43=\"\",\"\",IF(OR(J43=\"NP\",J43=\"DNF\"),IF(J43=\"NP\",MAX(Oblast2)+COUNTIF(($J$12:$J$154),MAX(Oblast2))+COUNTIF(($U$12:$U$154),MAX(Oblast2)),MAX(Oblast2)+COUNTIF(($J$12:$J$154),MAX(Oblast2))+COUNTIF(($U$12:$U$154),MAX(Oblast2))+COUNTIF(($J$12:$J$154),\"NP\")+COUNTIF(($U$12:$U$154),\"NP\")),J43)))","v":""},{"$f":"IF($A43=\"x\",\"x\",IF($C43=\"\",\"\",IF(OR(K43=\"NP\",K43=\"DNF\"),K43,RANK(K43,Oblast,1))))","v":""},{"$f":"IF($A43=\"x\",\"x\",IF($C43=\"\",\"\",IF(OR(AND(H43=\"NP\",H44=\"NP\"),AND(H43=\"DNF\",H44=\"DNF\")),H43,IF(AND(H43=\"NP\",H44=\"DNF\"),H43,IF(AND(H43=\"DNF\",H44=\"NP\"),H44,MIN(H43,H44))))))","v":""},{"$f":"IF('Start - jaro'!I11=\"\",\"\",\"x\")","v":""},31,{"$f":"IF('Start - jaro'!G11=\"\",\"\",'Start - jaro'!G11)","v":""},"I.pokus",null,null,null,{"$f":"IF($N43=\"\",\"\",IF(OR($P43=\"DNF\",$Q43=\"DNF\",$R43=\"DNF\"),\"DNF\",IF(OR($P43=\"NP\",$Q43=\"NP\",$R43=\"NP\"),\"NP\",IF(ISERROR(MEDIAN($P43:$R43)),\"DNF\",IF(COUNT($P43:$R43)<3,MAX($P43:$R43),MEDIAN($P43:$R43))))))","v":""},{"$f":"IF($L43=\"x\",\"x\",IF($N43=\"\",\"\",IF(OR(U43=\"NP\",U43=\"DNF\"),IF(U43=\"NP\",MAX(Oblast2)+COUNTIF(($J$12:$J$154),MAX(Oblast2))+COUNTIF(($U$12:$U$154),MAX(Oblast2)),MAX(Oblast2)+COUNTIF(($J$12:$J$154),MAX(Oblast2))+COUNTIF(($U$12:$U$154),MAX(Oblast2))+COUNTIF(($J$12:$J$154),\"NP\")+COUNTIF(($U$12:$U$154),\"NP\")),U43)))","v":""},{"$f":"IF($L43=\"x\",\"x\",IF($N43=\"\",\"\",IF(OR(V43=\"NP\",V43=\"DNF\"),V43,RANK(V43,Oblast,1))))","v":""},{"$f":"IF($L43=\"x\",\"x\",IF($N43=\"\",\"\",IF(OR(AND(S43=\"NP\",S44=\"NP\"),AND(S43=\"DNF\",S44=\"DNF\")),S43,IF(AND(S43=\"NP\",S44=\"DNF\"),S43,IF(AND(S43=\"DNF\",S44=\"NP\"),S44,MIN(S43,S44))))))","v":""}]
[null,null,null,"II.pokus",null,null,null,{"$f":"IF($C43=\"\",\"\",IF(OR($E44=\"DNF\",$F44=\"DNF\",$G44=\"DNF\"),\"DNF\",IF(OR($E44=\"NP\",$F44=\"NP\",$G44=\"NP\"),\"NP\",IF(ISERROR(MEDIAN($E44:$G44)),\"DNF\",IF(COUNT($E44:$G44)<3,MAX($E44:$G44),MEDIAN($E44:$G44))))))","v":""},null,null,null,null,null,null,"II.pokus",null,null,null,{"$f":"IF($N43=\"\",\"\",IF(OR($P44=\"DNF\",$Q44=\"DNF\",$R44=\"DNF\"),\"DNF\",IF(OR($P44=\"NP\",$Q44=\"NP\",$R44=\"NP\"),\"NP\",IF(ISERROR(MEDIAN($P44:$R44)),\"DNF\",IF(COUNT($P44:$R44)<3,MAX($P44:$R44),MEDIAN($P44:$R44))))))","v":""}]
[{"$f":"IF('Start - jaro'!E27=\"\",\"\",\"x\")","v":""},22,{"$f":"IF('Start - jaro'!C27=\"\",\"\",'Start - jaro'!C27)","v":""},"I.pokus",null,null,null,{"$f":"IF($C45=\"\",\"\",IF(OR($E45=\"DNF\",$F45=\"DNF\",$G45=\"DNF\"),\"DNF\",IF(OR($E45=\"NP\",$F45=\"NP\",$G45=\"NP\"),\"NP\",IF(ISERROR(MEDIAN($E45:$G45)),\"DNF\",IF(COUNT($E45:$G45)<3,MAX($E45:$G45),MEDIAN($E45:$G45))))))","v":""},{"$f":"IF($A45=\"x\",\"x\",IF($C45=\"\",\"\",IF(OR(J45=\"NP\",J45=\"DNF\"),IF(J45=\"NP\",MAX(Oblast2)+COUNTIF(($J$12:$J$154),MAX(Oblast2))+COUNTIF(($U$12:$U$154),MAX(Oblast2)),MAX(Oblast2)+COUNTIF(($J$12:$J$154),MAX(Oblast2))+COUNTIF(($U$12:$U$154),MAX(Oblast2))+COUNTIF(($J$12:$J$154),\"NP\")+COUNTIF(($U$12:$U$154),\"NP\")),J45)))","v":""},{"$f":"IF($A45=\"x\",\"x\",IF($C45=\"\",\"\",IF(OR(K45=\"NP\",K45=\"DNF\"),K45,RANK(K45,Oblast,1))))","v":""},{"$f":"IF($A45=\"x\",\"x\",IF($C45=\"\",\"\",IF(OR(AND(H45=\"NP\",H46=\"NP\"),AND(H45=\"DNF\",H46=\"DNF\")),H45,IF(AND(H45=\"NP\",H46=\"DNF\"),H45,IF(AND(H45=\"DNF\",H46=\"NP\"),H46,MIN(H45,H46))))))","v":""},{"$f":"IF('Start - jaro'!I12=\"\",\"\",\"x\")","v":""},32,{"$f":"IF('Start - jaro'!G12=\"\",\"\",'Start - jaro'!G12)","v":""},"I.pokus",null,null,null,{"$f":"IF($N45=\"\",\"\",IF(OR($P45=\"DNF\",$Q45=\"DNF\",$R45=\"DNF\"),\"DNF\",IF(OR($P45=\"NP\",$Q45=\"NP\",$R45=\"NP\"),\"NP\",IF(ISERROR(MEDIAN($P45:$R45)),\"DNF\",IF(COUNT($P45:$R45)<3,MAX($P45:$R45),MEDIAN($P45:$R45))))))","v":""},{"$f":"IF($L45=\"x\",\"x\",IF($N45=\"\",\"\",IF(OR(U45=\"NP\",U45=\"DNF\"),IF(U45=\"NP\",MAX(Oblast2)+COUNTIF(($J$12:$J$154),MAX(Oblast2))+COUNTIF(($U$12:$U$154),MAX(Oblast2)),MAX(Oblast2)+COUNTIF(($J$12:$J$154),MAX(Oblast2))+COUNTIF(($U$12:$U$154),MAX(Oblast2))+COUNTIF(($J$12:$J$154),\"NP\")+COUNTIF(($U$12:$U$154),\"NP\")),U45)))","v":""},{"$f":"IF($L45=\"x\",\"x\",IF($N45=\"\",\"\",IF(OR(V45=\"NP\",V45=\"DNF\"),V45,RANK(V45,Oblast,1))))","v":""},{"$f":"IF($L45=\"x\",\"x\",IF($N45=\"\",\"\",IF(OR(AND(S45=\"NP\",S46=\"NP\"),AND(S45=\"DNF\",S46=\"DNF\")),S45,IF(AND(S45=\"NP\",S46=\"DNF\"),S45,IF(AND(S45=\"DNF\",S46=\"NP\"),S46,MIN(S45,S46))))))","v":""}]
[null,null,null,"II.pokus",null,null,null,{"$f":"IF($C45=\"\",\"\",IF(OR($E46=\"DNF\",$F46=\"DNF\",$G46=\"DNF\"),\"DNF\",IF(OR($E46=\"NP\",$F46=\"NP\",$G46=\"NP\"),\"NP\",IF(ISERROR(MEDIAN($E46:$G46)),\"DNF\",IF(COUNT($E46:$G46)<3,MAX($E46:$G46),MEDIAN($E46:$G46))))))","v":""},null,null,null,null,null,null,"II.pokus",null,null,null,{"$f":"IF($N45=\"\",\"\",IF(OR($P46=\"DNF\",$Q46=\"DNF\",$R46=\"DNF\"),\"DNF\",IF(OR($P46=\"NP\",$Q46=\"NP\",$R46=\"NP\"),\"NP\",IF(ISERROR(MEDIAN($P46:$R46)),\"DNF\",IF(COUNT($P46:$R46)<3,MAX($P46:$R46),MEDIAN($P46:$R46))))))","v":""}]
[{"$f":"IF('Start - jaro'!E28=\"\",\"\",\"x\")","v":""},23,{"$f":"IF('Start - jaro'!C28=\"\",\"\",'Start - jaro'!C28)","v":""},"I.pokus",null,null,null,{"$f":"IF($C47=\"\",\"\",IF(OR($E47=\"DNF\",$F47=\"DNF\",$G47=\"DNF\"),\"DNF\",IF(OR($E47=\"NP\",$F47=\"NP\",$G47=\"NP\"),\"NP\",IF(ISERROR(MEDIAN($E47:$G47)),\"DNF\",IF(COUNT($E47:$G47)<3,MAX($E47:$G47),MEDIAN($E47:$G47))))))","v":""},{"$f":"IF($A47=\"x\",\"x\",IF($C47=\"\",\"\",IF(OR(J47=\"NP\",J47=\"DNF\"),IF(J47=\"NP\",MAX(Oblast2)+COUNTIF(($J$12:$J$154),MAX(Oblast2))+COUNTIF(($U$12:$U$154),MAX(Oblast2)),MAX(Oblast2)+COUNTIF(($J$12:$J$154),MAX(Oblast2))+COUNTIF(($U$12:$U$154),MAX(Oblast2))+COUNTIF(($J$12:$J$154),\"NP\")+COUNTIF(($U$12:$U$154),\"NP\")),J47)))","v":""},{"$f":"IF($A47=\"x\",\"x\",IF($C47=\"\",\"\",IF(OR(K47=\"NP\",K47=\"DNF\"),K47,RANK(K47,Oblast,1))))","v":""},{"$f":"IF($A47=\"x\",\"x\",IF($C47=\"\",\"\",IF(OR(AND(H47=\"NP\",H48=\"NP\"),AND(H47=\"DNF\",H48=\"DNF\")),H47,IF(AND(H47=\"NP\",H48=\"DNF\"),H47,IF(AND(H47=\"DNF\",H48=\"NP\"),H48,MIN(H47,H48))))))","v":""},{"$f":"IF('Start - jaro'!I13=\"\",\"\",\"x\")","v":""},33,{"$f":"IF('Start - jaro'!G13=\"\",\"\",'Start - jaro'!G13)","v":""},"I.pokus",null,null,null,{"$f":"IF($N47=\"\",\"\",IF(OR($P47=\"DNF\",$Q47=\"DNF\",$R47=\"DNF\"),\"DNF\",IF(OR($P47=\"NP\",$Q47=\"NP\",$R47=\"NP\"),\"NP\",IF(ISERROR(MEDIAN($P47:$R47)),\"DNF\",IF(COUNT($P47:$R47)<3,MAX($P47:$R47),MEDIAN($P47:$R47))))))","v":""},{"$f":"IF($L47=\"x\",\"x\",IF($N47=\"\",\"\",IF(OR(U47=\"NP\",U47=\"DNF\"),IF(U47=\"NP\",MAX(Oblast2)+COUNTIF(($J$12:$J$154),MAX(Oblast2))+COUNTIF(($U$12:$U$154),MAX(Oblast2)),MAX(Oblast2)+COUNTIF(($J$12:$J$154),MAX(Oblast2))+COUNTIF(($U$12:$U$154),MAX(Oblast2))+COUNTIF(($J$12:$J$154),\"NP\")+COUNTIF(($U$12:$U$154),\"NP\")),U47)))","v":""},{"$f":"IF($L47=\"x\",\"x\",IF($N47=\"\",\"\",IF(OR(V47=\"NP\",V47=\"DNF\"),V47,RANK(V47,Oblast,1))))","v":""},{"$f":"IF($L47=\"x\",\"x\",IF($N47=\"\",\"\",IF(OR(AND(S47=\"NP\",S48=\"NP\"),AND(S47=\"DNF\",S48=\"DNF\")),S47,IF(AND(S47=\"NP\",S48=\"DNF\"),S47,IF(AND(S47=\"DNF\",S48=\"NP\"),S48,MIN(S47,S48))))))","v":""}]
[null,null,null,"II.pokus",null,null,null,{"$f":"IF($C47=\"\",\"\",IF(OR($E48=\"DNF\",$F48=\"DNF\",$G48=\"DNF\"),\"DNF\",IF(OR($E48=\"NP\",$F48=\"NP\",$G48=\"NP\"),\"NP\",IF(ISERROR(MEDIAN($E48:$G48)),\"DNF\",IF(COUNT($E48:$G48)<3,MAX($E48:$G48),MEDIAN($E48:$G48))))))","v":""},null,null,null,null,null,null,"II.pokus",null,null,null,{"$f":"IF($N47=\"\",\"\",IF(OR($P48=\"DNF\",$Q48=\"DNF\",$R48=\"DNF\"),\"DNF\",IF(OR($P48=\"NP\",$Q48=\"NP\",$R48=\"NP\"),\"NP\",IF(ISERROR(MEDIAN($P48:$R48)),\"DNF\",IF(COUNT($P48:$R48)<3,MAX($P48:$R48),MEDIAN($P48:$R48))))))","v":""}]
[{"$f":"IF('Start - jaro'!E29=\"\",\"\",\"x\")","v":""},24,{"$f":"IF('Start - jaro'!C29=\"\",\"\",'Start - jaro'!C29)","v":""},"I.pokus",null,null,null,{"$f":"IF($C49=\"\",\"\",IF(OR($E49=\"DNF\",$F49=\"DNF\",$G49=\"DNF\"),\"DNF\",IF(OR($E49=\"NP\",$F49=\"NP\",$G49=\"NP\"),\"NP\",IF(ISERROR(MEDIAN($E49:$G49)),\"DNF\",IF(COUNT($E49:$G49)<3,MAX($E49:$G49),MEDIAN($E49:$G49))))))","v":""},{"$f":"IF($A49=\"x\",\"x\",IF($C49=\"\",\"\",IF(OR(J49=\"NP\",J49=\"DNF\"),IF(J49=\"NP\",MAX(Oblast2)+COUNTIF(($J$12:$J$154),MAX(Oblast2))+COUNTIF(($U$12:$U$154),MAX(Oblast2)),MAX(Oblast2)+COUNTIF(($J$12:$J$154),MAX(Oblast2))+COUNTIF(($U$12:$U$154),MAX(Oblast2))+COUNTIF(($J$12:$J$154),\"NP\")+COUNTIF(($U$12:$U$154),\"NP\")),J49)))","v":""},{"$f":"IF($A49=\"x\",\"x\",IF($C49=\"\",\"\",IF(OR(K49=\"NP\",K49=\"DNF\"),K49,RANK(K49,Oblast,1))))","v":""},{"$f":"IF($A49=\"x\",\"x\",IF($C49=\"\",\"\",IF(OR(AND(H49=\"NP\",H50=\"NP\"),AND(H49=\"DNF\",H50=\"DNF\")),H49,IF(AND(H49=\"NP\",H50=\"DNF\"),H49,IF(AND(H49=\"DNF\",H50=\"NP\"),H50,MIN(H49,H50))))))","v":""},{"$f":"IF('Start - jaro'!I14=\"\",\"\",\"x\")","v":""},34,{"$f":"IF('Start - jaro'!G14=\"\",\"\",'Start - jaro'!G14)","v":""},"I.pokus",null,null,null,{"$f":"IF($N49=\"\",\"\",IF(OR($P49=\"DNF\",$Q49=\"DNF\",$R49=\"DNF\"),\"DNF\",IF(OR($P49=\"NP\",$Q49=\"NP\",$R49=\"NP\"),\"NP\",IF(ISERROR(MEDIAN($P49:$R49)),\"DNF\",IF(COUNT($P49:$R49)<3,MAX($P49:$R49),MEDIAN($P49:$R49))))))","v":""},{"$f":"IF($L49=\"x\",\"x\",IF($N49=\"\",\"\",IF(OR(U49=\"NP\",U49=\"DNF\"),IF(U49=\"NP\",MAX(Oblast2)+COUNTIF(($J$12:$J$154),MAX(Oblast2))+COUNTIF(($U$12:$U$154),MAX(Oblast2)),MAX(Oblast2)+COUNTIF(($J$12:$J$154),MAX(Oblast2))+COUNTIF(($U$12:$U$154),MAX(Oblast2))+COUNTIF(($J$12:$J$154),\"NP\")+COUNTIF(($U$12:$U$154),\"NP\")),U49)))","v":""},{"$f":"IF($L49=\"x\",\"x\",IF($N49=\"\",\"\",IF(OR(V49=\"NP\",V49=\"DNF\"),V49,RANK(V49,Oblast,1))))","v":""},{"$f":"IF($L49=\"x\",\"x\",IF($N49=\"\",\"\",IF(OR(AND(S49=\"NP\",S50=\"NP\"),AND(S49=\"DNF\",S50=\"DNF\")),S49,IF(AND(S49=\"NP\",S50=\"DNF\"),S49,IF(AND(S49=\"DNF\",S50=\"NP\"),S50,MIN(S49,S50))))))","v":""}]
[null,null,null,"II.pokus",null,null,null,{"$f":"IF($C49=\"\",\"\",IF(OR($E50=\"DNF\",$F50=\"DNF\",$G50=\"DNF\"),\"DNF\",IF(OR($E50=\"NP\",$F50=\"NP\",$G50=\"NP\"),\"NP\",IF(ISERROR(MEDIAN($E50:$G50)),\"DNF\",IF(COUNT($E50:$G50)<3,MAX($E50:$G50),MEDIAN($E50:$G50))))))","v":""},null,null,null,null,null,null,"II.pokus",null,null,null,{"$f":"IF($N49=\"\",\"\",IF(OR($P50=\"DNF\",$Q50=\"DNF\",$R50=\"DNF\"),\"DNF\",IF(OR($P50=\"NP\",$Q50=\"NP\",$R50=\"NP\"),\"NP\",IF(ISERROR(MEDIAN($P50:$R50)),\"DNF\",IF(COUNT($P50:$R50)<3,MAX($P50:$R50),MEDIAN($P50:$R50))))))","v":""}]
[{"$f":"IF('Start - jaro'!E30=\"\",\"\",\"x\")","v":""},25,{"$f":"IF('Start - jaro'!C30=\"\",\"\",'Start - jaro'!C30)","v":""},"I.pokus",null,null,null,{"$f":"IF($C51=\"\",\"\",IF(OR($E51=\"DNF\",$F51=\"DNF\",$G51=\"DNF\"),\"DNF\",IF(OR($E51=\"NP\",$F51=\"NP\",$G51=\"NP\"),\"NP\",IF(ISERROR(MEDIAN($E51:$G51)),\"DNF\",IF(COUNT($E51:$G51)<3,MAX($E51:$G51),MEDIAN($E51:$G51))))))","v":""},{"$f":"IF($A51=\"x\",\"x\",IF($C51=\"\",\"\",IF(OR(J51=\"NP\",J51=\"DNF\"),IF(J51=\"NP\",MAX(Oblast2)+COUNTIF(($J$12:$J$154),MAX(Oblast2))+COUNTIF(($U$12:$U$154),MAX(Oblast2)),MAX(Oblast2)+COUNTIF(($J$12:$J$154),MAX(Oblast2))+COUNTIF(($U$12:$U$154),MAX(Oblast2))+COUNTIF(($J$12:$J$154),\"NP\")+COUNTIF(($U$12:$U$154),\"NP\")),J51)))","v":""},{"$f":"IF($A51=\"x\",\"x\",IF($C51=\"\",\"\",IF(OR(K51=\"NP\",K51=\"DNF\"),K51,RANK(K51,Oblast,1))))","v":""},{"$f":"IF($A51=\"x\",\"x\",IF($C51=\"\",\"\",IF(OR(AND(H51=\"NP\",H52=\"NP\"),AND(H51=\"DNF\",H52=\"DNF\")),H51,IF(AND(H51=\"NP\",H52=\"DNF\"),H51,IF(AND(H51=\"DNF\",H52=\"NP\"),H52,MIN(H51,H52))))))","v":""},{"$f":"IF('Start - jaro'!I15=\"\",\"\",\"x\")","v":""},35,{"$f":"IF('Start - jaro'!G15=\"\",\"\",'Start - jaro'!G15)","v":""},"I.pokus",null,null,null,{"$f":"IF($N51=\"\",\"\",IF(OR($P51=\"DNF\",$Q51=\"DNF\",$R51=\"DNF\"),\"DNF\",IF(OR($P51=\"NP\",$Q51=\"NP\",$R51=\"NP\"),\"NP\",IF(ISERROR(MEDIAN($P51:$R51)),\"DNF\",IF(COUNT($P51:$R51)<3,MAX($P51:$R51),MEDIAN($P51:$R51))))))","v":""},{"$f":"IF($L51=\"x\",\"x\",IF($N51=\"\",\"\",IF(OR(U51=\"NP\",U51=\"DNF\"),IF(U51=\"NP\",MAX(Oblast2)+COUNTIF(($J$12:$J$154),MAX(Oblast2))+COUNTIF(($U$12:$U$154),MAX(Oblast2)),MAX(Oblast2)+COUNTIF(($J$12:$J$154),MAX(Oblast2))+COUNTIF(($U$12:$U$154),MAX(Oblast2))+COUNTIF(($J$12:$J$154),\"NP\")+COUNTIF(($U$12:$U$154),\"NP\")),U51)))","v":""},{"$f":"IF($L51=\"x\",\"x\",IF($N51=\"\",\"\",IF(OR(V51=\"NP\",V51=\"DNF\"),V51,RANK(V51,Oblast,1))))","v":""},{"$f":"IF($L51=\"x\",\"x\",IF($N51=\"\",\"\",IF(OR(AND(S51=\"NP\",S52=\"NP\"),AND(S51=\"DNF\",S52=\"DNF\")),S51,IF(AND(S51=\"NP\",S52=\"DNF\"),S51,IF(AND(S51=\"DNF\",S52=\"NP\"),S52,MIN(S51,S52))))))","v":""}]
[null,null,null,"II.pokus",null,null,null,{"$f":"IF($C51=\"\",\"\",IF(OR($E52=\"DNF\",$F52=\"DNF\",$G52=\"DNF\"),\"DNF\",IF(OR($E52=\"NP\",$F52=\"NP\",$G52=\"NP\"),\"NP\",IF(ISERROR(MEDIAN($E52:$G52)),\"DNF\",IF(COUNT($E52:$G52)<3,MAX($E52:$G52),MEDIAN($E52:$G52))))))","v":""},null,null,null,null,null,null,"II.pokus",null,null,null,{"$f":"IF($N51=\"\",\"\",IF(OR($P52=\"DNF\",$Q52=\"DNF\",$R52=\"DNF\"),\"DNF\",IF(OR($P52=\"NP\",$Q52=\"NP\",$R52=\"NP\"),\"NP\",IF(ISERROR(MEDIAN($P52:$R52)),\"DNF\",IF(COUNT($P52:$R52)<3,MAX($P52:$R52),MEDIAN($P52:$R52))))))","v":""}]
[{"$f":"IF('Start - jaro'!I6=\"\",\"\",\"x\")","v":""},26,{"$f":"IF('Start - jaro'!G6=\"\",\"\",'Start - jaro'!G6)","v":""},"I.pokus",null,null,null,{"$f":"IF($C53=\"\",\"\",IF(OR($E53=\"DNF\",$F53=\"DNF\",$G53=\"DNF\"),\"DNF\",IF(OR($E53=\"NP\",$F53=\"NP\",$G53=\"NP\"),\"NP\",IF(ISERROR(MEDIAN($E53:$G53)),\"DNF\",IF(COUNT($E53:$G53)<3,MAX($E53:$G53),MEDIAN($E53:$G53))))))","v":""},{"$f":"IF($A53=\"x\",\"x\",IF($C53=\"\",\"\",IF(OR(J53=\"NP\",J53=\"DNF\"),IF(J53=\"NP\",MAX(Oblast2)+COUNTIF(($J$12:$J$154),MAX(Oblast2))+COUNTIF(($U$12:$U$154),MAX(Oblast2)),MAX(Oblast2)+COUNTIF(($J$12:$J$154),MAX(Oblast2))+COUNTIF(($U$12:$U$154),MAX(Oblast2))+COUNTIF(($J$12:$J$154),\"NP\")+COUNTIF(($U$12:$U$154),\"NP\")),J53)))","v":""},{"$f":"IF($A53=\"x\",\"x\",IF($C53=\"\",\"\",IF(OR(K53=\"NP\",K53=\"DNF\"),K53,RANK(K53,Oblast,1))))","v":""},{"$f":"IF($A53=\"x\",\"x\",IF($C53=\"\",\"\",IF(OR(AND(H53=\"NP\",H54=\"NP\"),AND(H53=\"DNF\",H54=\"DNF\")),H53,IF(AND(H53=\"NP\",H54=\"DNF\"),H53,IF(AND(H53=\"DNF\",H54=\"NP\"),H54,MIN(H53,H54))))))","v":""},{"$f":"IF('Start - jaro'!I16=\"\",\"\",\"x\")","v":""},36,{"$f":"IF('Start - jaro'!G16=\"\",\"\",'Start - jaro'!G16)","v":""},"I.pokus",null,null,null,{"$f":"IF($N53=\"\",\"\",IF(OR($P53=\"DNF\",$Q53=\"DNF\",$R53=\"DNF\"),\"DNF\",IF(OR($P53=\"NP\",$Q53=\"NP\",$R53=\"NP\"),\"NP\",IF(ISERROR(MEDIAN($P53:$R53)),\"DNF\",IF(COUNT($P53:$R53)<3,MAX($P53:$R53),MEDIAN($P53:$R53))))))","v":""},{"$f":"IF($L53=\"x\",\"x\",IF($N53=\"\",\"\",IF(OR(U53=\"NP\",U53=\"DNF\"),IF(U53=\"NP\",MAX(Oblast2)+COUNTIF(($J$12:$J$154),MAX(Oblast2))+COUNTIF(($U$12:$U$154),MAX(Oblast2)),MAX(Oblast2)+COUNTIF(($J$12:$J$154),MAX(Oblast2))+COUNTIF(($U$12:$U$154),MAX(Oblast2))+COUNTIF(($J$12:$J$154),\"NP\")+COUNTIF(($U$12:$U$154),\"NP\")),U53)))","v":""},{"$f":"IF($L53=\"x\",\"x\",IF($N53=\"\",\"\",IF(OR(V53=\"NP\",V53=\"DNF\"),V53,RANK(V53,Oblast,1))))","v":""},{"$f":"IF($L53=\"x\",\"x\",IF($N53=\"\",\"\",IF(OR(AND(S53=\"NP\",S54=\"NP\"),AND(S53=\"DNF\",S54=\"DNF\")),S53,IF(AND(S53=\"NP\",S54=\"DNF\"),S53,IF(AND(S53=\"DNF\",S54=\"NP\"),S54,MIN(S53,S54))))))","v":""}]
[null,null,null,"II.pokus",null,null,null,{"$f":"IF($C53=\"\",\"\",IF(OR($E54=\"DNF\",$F54=\"DNF\",$G54=\"DNF\"),\"DNF\",IF(OR($E54=\"NP\",$F54=\"NP\",$G54=\"NP\"),\"NP\",IF(ISERROR(MEDIAN($E54:$G54)),\"DNF\",IF(COUNT($E54:$G54)<3,MAX($E54:$G54),MEDIAN($E54:$G54))))))","v":""},null,null,null,null,null,null,"II.pokus",null,null,null,{"$f":"IF($N53=\"\",\"\",IF(OR($P54=\"DNF\",$Q54=\"DNF\",$R54=\"DNF\"),\"DNF\",IF(OR($P54=\"NP\",$Q54=\"NP\",$R54=\"NP\"),\"NP\",IF(ISERROR(MEDIAN($P54:$R54)),\"DNF\",IF(COUNT($P54:$R54)<3,MAX($P54:$R54),MEDIAN($P54:$R54))))))","v":""}]
[{"$f":"IF('Start - jaro'!I7=\"\",\"\",\"x\")","v":""},27,{"$f":"IF('Start - jaro'!G7=\"\",\"\",'Start - jaro'!G7)","v":""},"I.pokus",null,null,null,{"$f":"IF($C55=\"\",\"\",IF(OR($E55=\"DNF\",$F55=\"DNF\",$G55=\"DNF\"),\"DNF\",IF(OR($E55=\"NP\",$F55=\"NP\",$G55=\"NP\"),\"NP\",IF(ISERROR(MEDIAN($E55:$G55)),\"DNF\",IF(COUNT($E55:$G55)<3,MAX($E55:$G55),MEDIAN($E55:$G55))))))","v":""},{"$f":"IF($A55=\"x\",\"x\",IF($C55=\"\",\"\",IF(OR(J55=\"NP\",J55=\"DNF\"),IF(J55=\"NP\",MAX(Oblast2)+COUNTIF(($J$12:$J$154),MAX(Oblast2))+COUNTIF(($U$12:$U$154),MAX(Oblast2)),MAX(Oblast2)+COUNTIF(($J$12:$J$154),MAX(Oblast2))+COUNTIF(($U$12:$U$154),MAX(Oblast2))+COUNTIF(($J$12:$J$154),\"NP\")+COUNTIF(($U$12:$U$154),\"NP\")),J55)))","v":""},{"$f":"IF($A55=\"x\",\"x\",IF($C55=\"\",\"\",IF(OR(K55=\"NP\",K55=\"DNF\"),K55,RANK(K55,Oblast,1))))","v":""},{"$f":"IF($A55=\"x\",\"x\",IF($C55=\"\",\"\",IF(OR(AND(H55=\"NP\",H56=\"NP\"),AND(H55=\"DNF\",H56=\"DNF\")),H55,IF(AND(H55=\"NP\",H56=\"DNF\"),H55,IF(AND(H55=\"DNF\",H56=\"NP\"),H56,MIN(H55,H56))))))","v":""},{"$f":"IF('Start - jaro'!I17=\"\",\"\",\"x\")","v":""},37,{"$f":"IF('Start - jaro'!G17=\"\",\"\",'Start - jaro'!G17)","v":""},"I.pokus",null,null,null,{"$f":"IF($N55=\"\",\"\",IF(OR($P55=\"DNF\",$Q55=\"DNF\",$R55=\"DNF\"),\"DNF\",IF(OR($P55=\"NP\",$Q55=\"NP\",$R55=\"NP\"),\"NP\",IF(ISERROR(MEDIAN($P55:$R55)),\"DNF\",IF(COUNT($P55:$R55)<3,MAX($P55:$R55),MEDIAN($P55:$R55))))))","v":""},{"$f":"IF($L55=\"x\",\"x\",IF($N55=\"\",\"\",IF(OR(U55=\"NP\",U55=\"DNF\"),IF(U55=\"NP\",MAX(Oblast2)+COUNTIF(($J$12:$J$154),MAX(Oblast2))+COUNTIF(($U$12:$U$154),MAX(Oblast2)),MAX(Oblast2)+COUNTIF(($J$12:$J$154),MAX(Oblast2))+COUNTIF(($U$12:$U$154),MAX(Oblast2))+COUNTIF(($J$12:$J$154),\"NP\")+COUNTIF(($U$12:$U$154),\"NP\")),U55)))","v":""},{"$f":"IF($L55=\"x\",\"x\",IF($N55=\"\",\"\",IF(OR(V55=\"NP\",V55=\"DNF\"),V55,RANK(V55,Oblast,1))))","v":""},{"$f":"IF($L55=\"x\",\"x\",IF($N55=\"\",\"\",IF(OR(AND(S55=\"NP\",S56=\"NP\"),AND(S55=\"DNF\",S56=\"DNF\")),S55,IF(AND(S55=\"NP\",S56=\"DNF\"),S55,IF(AND(S55=\"DNF\",S56=\"NP\"),S56,MIN(S55,S56))))))","v":""}]
[null,null,null,"II.pokus",null,null,null,{"$f":"IF($C55=\"\",\"\",IF(OR($E56=\"DNF\",$F56=\"DNF\",$G56=\"DNF\"),\"DNF\",IF(OR($E56=\"NP\",$F56=\"NP\",$G56=\"NP\"),\"NP\",IF(ISERROR(MEDIAN($E56:$G56)),\"DNF\",IF(COUNT($E56:$G56)<3,MAX($E56:$G56),MEDIAN($E56:$G56))))))","v":""},null,null,null,null,null,null,"II.pokus",null,null,null,{"$f":"IF($N55=\"\",\"\",IF(OR($P56=\"DNF\",$Q56=\"DNF\",$R56=\"DNF\"),\"DNF\",IF(OR($P56=\"NP\",$Q56=\"NP\",$R56=\"NP\"),\"NP\",IF(ISERROR(MEDIAN($P56:$R56)),\"DNF\",IF(COUNT($P56:$R56)<3,MAX($P56:$R56),MEDIAN($P56:$R56))))))","v":""}]
[{"$f":"IF('Start - jaro'!I8=\"\",\"\",\"x\")","v":""},28,{"$f":"IF('Start - jaro'!G8=\"\",\"\",'Start - jaro'!G8)","v":""},"I.pokus",null,null,null,{"$f":"IF($C57=\"\",\"\",IF(OR($E57=\"DNF\",$F57=\"DNF\",$G57=\"DNF\"),\"DNF\",IF(OR($E57=\"NP\",$F57=\"NP\",$G57=\"NP\"),\"NP\",IF(ISERROR(MEDIAN($E57:$G57)),\"DNF\",IF(COUNT($E57:$G57)<3,MAX($E57:$G57),MEDIAN($E57:$G57))))))","v":""},{"$f":"IF($A57=\"x\",\"x\",IF($C57=\"\",\"\",IF(OR(J57=\"NP\",J57=\"DNF\"),IF(J57=\"NP\",MAX(Oblast2)+COUNTIF(($J$12:$J$154),MAX(Oblast2))+COUNTIF(($U$12:$U$154),MAX(Oblast2)),MAX(Oblast2)+COUNTIF(($J$12:$J$154),MAX(Oblast2))+COUNTIF(($U$12:$U$154),MAX(Oblast2))+COUNTIF(($J$12:$J$154),\"NP\")+COUNTIF(($U$12:$U$154),\"NP\")),J57)))","v":""},{"$f":"IF($A57=\"x\",\"x\",IF($C57=\"\",\"\",IF(OR(K57=\"NP\",K57=\"DNF\"),K57,RANK(K57,Oblast,1))))","v":""},{"$f":"IF($A57=\"x\",\"x\",IF($C57=\"\",\"\",IF(OR(AND(H57=\"NP\",H58=\"NP\"),AND(H57=\"DNF\",H58=\"DNF\")),H57,IF(AND(H57=\"NP\",H58=\"DNF\"),H57,IF(AND(H57=\"DNF\",H58=\"NP\"),H58,MIN(H57,H58))))))","v":""},{"$f":"IF('Start - jaro'!I18=\"\",\"\",\"x\")","v":""},38,{"$f":"IF('Start - jaro'!G18=\"\",\"\",'Start - jaro'!G18)","v":""},"I.pokus",null,null,null,{"$f":"IF($N57=\"\",\"\",IF(OR($P57=\"DNF\",$Q57=\"DNF\",$R57=\"DNF\"),\"DNF\",IF(OR($P57=\"NP\",$Q57=\"NP\",$R57=\"NP\"),\"NP\",IF(ISERROR(MEDIAN($P57:$R57)),\"DNF\",IF(COUNT($P57:$R57)<3,MAX($P57:$R57),MEDIAN($P57:$R57))))))","v":""},{"$f":"IF($L57=\"x\",\"x\",IF($N57=\"\",\"\",IF(OR(U57=\"NP\",U57=\"DNF\"),IF(U57=\"NP\",MAX(Oblast2)+COUNTIF(($J$12:$J$154),MAX(Oblast2))+COUNTIF(($U$12:$U$154),MAX(Oblast2)),MAX(Oblast2)+COUNTIF(($J$12:$J$154),MAX(Oblast2))+COUNTIF(($U$12:$U$154),MAX(Oblast2))+COUNTIF(($J$12:$J$154),\"NP\")+COUNTIF(($U$12:$U$154),\"NP\")),U57)))","v":""},{"$f":"IF($L57=\"x\",\"x\",IF($N57=\"\",\"\",IF(OR(V57=\"NP\",V57=\"DNF\"),V57,RANK(V57,Oblast,1))))","v":""},{"$f":"IF($L57=\"x\",\"x\",IF($N57=\"\",\"\",IF(OR(AND(S57=\"NP\",S58=\"NP\"),AND(S57=\"DNF\",S58=\"DNF\")),S57,IF(AND(S57=\"NP\",S58=\"DNF\"),S57,IF(AND(S57=\"DNF\",S58=\"NP\"),S58,MIN(S57,S58))))))","v":""}]
[null,null,null,"II.pokus",null,null,null,{"$f":"IF($C57=\"\",\"\",IF(OR($E58=\"DNF\",$F58=\"DNF\",$G58=\"DNF\"),\"DNF\",IF(OR($E58=\"NP\",$F58=\"NP\",$G58=\"NP\"),\"NP\",IF(ISERROR(MEDIAN($E58:$G58)),\"DNF\",IF(COUNT($E58:$G58)<3,MAX($E58:$G58),MEDIAN($E58:$G58))))))","v":""},null,null,null,null,null,null,"II.pokus",null,null,null,{"$f":"IF($N57=\"\",\"\",IF(OR($P58=\"DNF\",$Q58=\"DNF\",$R58=\"DNF\"),\"DNF\",IF(OR($P58=\"NP\",$Q58=\"NP\",$R58=\"NP\"),\"NP\",IF(ISERROR(MEDIAN($P58:$R58)),\"DNF\",IF(COUNT($P58:$R58)<3,MAX($P58:$R58),MEDIAN($P58:$R58))))))","v":""}]
[{"$f":"IF('Start - jaro'!I9=\"\",\"\",\"x\")","v":""},29,{"$f":"IF('Start - jaro'!G9=\"\",\"\",'Start - jaro'!G9)","v":""},"I.pokus",null,null,null,{"$f":"IF($C59=\"\",\"\",IF(OR($E59=\"DNF\",$F59=\"DNF\",$G59=\"DNF\"),\"DNF\",IF(OR($E59=\"NP\",$F59=\"NP\",$G59=\"NP\"),\"NP\",IF(ISERROR(MEDIAN($E59:$G59)),\"DNF\",IF(COUNT($E59:$G59)<3,MAX($E59:$G59),MEDIAN($E59:$G59))))))","v":""},{"$f":"IF($A59=\"x\",\"x\",IF($C59=\"\",\"\",IF(OR(J59=\"NP\",J59=\"DNF\"),IF(J59=\"NP\",MAX(Oblast2)+COUNTIF(($J$12:$J$154),MAX(Oblast2))+COUNTIF(($U$12:$U$154),MAX(Oblast2)),MAX(Oblast2)+COUNTIF(($J$12:$J$154),MAX(Oblast2))+COUNTIF(($U$12:$U$154),MAX(Oblast2))+COUNTIF(($J$12:$J$154),\"NP\")+COUNTIF(($U$12:$U$154),\"NP\")),J59)))","v":""},{"$f":"IF($A59=\"x\",\"x\",IF($C59=\"\",\"\",IF(OR(K59=\"NP\",K59=\"DNF\"),K59,RANK(K59,Oblast,1))))","v":""},{"$f":"IF($A59=\"x\",\"x\",IF($C59=\"\",\"\",IF(OR(AND(H59=\"NP\",H60=\"NP\"),AND(H59=\"DNF\",H60=\"DNF\")),H59,IF(AND(H59=\"NP\",H60=\"DNF\"),H59,IF(AND(H59=\"DNF\",H60=\"NP\"),H60,MIN(H59,H60))))))","v":""},{"$f":"IF('Start - jaro'!I19=\"\",\"\",\"x\")","v":""},39,{"$f":"IF('Start - jaro'!G19=\"\",\"\",'Start - jaro'!G19)","v":""},"I.pokus",null,null,null,{"$f":"IF($N59=\"\",\"\",IF(OR($P59=\"DNF\",$Q59=\"DNF\",$R59=\"DNF\"),\"DNF\",IF(OR($P59=\"NP\",$Q59=\"NP\",$R59=\"NP\"),\"NP\",IF(ISERROR(MEDIAN($P59:$R59)),\"DNF\",IF(COUNT($P59:$R59)<3,MAX($P59:$R59),MEDIAN($P59:$R59))))))","v":""},{"$f":"IF($L59=\"x\",\"x\",IF($N59=\"\",\"\",IF(OR(U59=\"NP\",U59=\"DNF\"),IF(U59=\"NP\",MAX(Oblast2)+COUNTIF(($J$12:$J$154),MAX(Oblast2))+COUNTIF(($U$12:$U$154),MAX(Oblast2)),MAX(Oblast2)+COUNTIF(($J$12:$J$154),MAX(Oblast2))+COUNTIF(($U$12:$U$154),MAX(Oblast2))+COUNTIF(($J$12:$J$154),\"NP\")+COUNTIF(($U$12:$U$154),\"NP\")),U59)))","v":""},{"$f":"IF($L59=\"x\",\"x\",IF($N59=\"\",\"\",IF(OR(V59=\"NP\",V59=\"DNF\"),V59,RANK(V59,Oblast,1))))","v":""},{"$f":"IF($L59=\"x\",\"x\",IF($N59=\"\",\"\",IF(OR(AND(S59=\"NP\",S60=\"NP\"),AND(S59=\"DNF\",S60=\"DNF\")),S59,IF(AND(S59=\"NP\",S60=\"DNF\"),S59,IF(AND(S59=\"DNF\",S60=\"NP\"),S60,MIN(S59,S60))))))","v":""}]
[null,null,null,"II.pokus",null,null,null,{"$f":"IF($C59=\"\",\"\",IF(OR($E60=\"DNF\",$F60=\"DNF\",$G60=\"DNF\"),\"DNF\",IF(OR($E60=\"NP\",$F60=\"NP\",$G60=\"NP\"),\"NP\",IF(ISERROR(MEDIAN($E60:$G60)),\"DNF\",IF(COUNT($E60:$G60)<3,MAX($E60:$G60),MEDIAN($E60:$G60))))))","v":""},null,null,null,null,null,null,"II.pokus",null,null,null,{"$f":"IF($N59=\"\",\"\",IF(OR($P60=\"DNF\",$Q60=\"DNF\",$R60=\"DNF\"),\"DNF\",IF(OR($P60=\"NP\",$Q60=\"NP\",$R60=\"NP\"),\"NP\",IF(ISERROR(MEDIAN($P60:$R60)),\"DNF\",IF(COUNT($P60:$R60)<3,MAX($P60:$R60),MEDIAN($P60:$R60))))))","v":""}]
[{"$f":"IF('Start - jaro'!I10=\"\",\"\",\"x\")","v":""},30,{"$f":"IF('Start - jaro'!G10=\"\",\"\",'Start - jaro'!G10)","v":""},"I.pokus",null,null,null,{"$f":"IF($C61=\"\",\"\",IF(OR($E61=\"DNF\",$F61=\"DNF\",$G61=\"DNF\"),\"DNF\",IF(OR($E61=\"NP\",$F61=\"NP\",$G61=\"NP\"),\"NP\",IF(ISERROR(MEDIAN($E61:$G61)),\"DNF\",IF(COUNT($E61:$G61)<3,MAX($E61:$G61),MEDIAN($E61:$G61))))))","v":""},{"$f":"IF($A61=\"x\",\"x\",IF($C61=\"\",\"\",IF(OR(J61=\"NP\",J61=\"DNF\"),IF(J61=\"NP\",MAX(Oblast2)+COUNTIF(($J$12:$J$154),MAX(Oblast2))+COUNTIF(($U$12:$U$154),MAX(Oblast2)),MAX(Oblast2)+COUNTIF(($J$12:$J$154),MAX(Oblast2))+COUNTIF(($U$12:$U$154),MAX(Oblast2))+COUNTIF(($J$12:$J$154),\"NP\")+COUNTIF(($U$12:$U$154),\"NP\")),J61)))","v":""},{"$f":"IF($A61=\"x\",\"x\",IF($C61=\"\",\"\",IF(OR(K61=\"NP\",K61=\"DNF\"),K61,RANK(K61,Oblast,1))))","v":""},{"$f":"IF($A61=\"x\",\"x\",IF($C61=\"\",\"\",IF(OR(AND(H61=\"NP\",H62=\"NP\"),AND(H61=\"DNF\",H62=\"DNF\")),H61,IF(AND(H61=\"NP\",H62=\"DNF\"),H61,IF(AND(H61=\"DNF\",H62=\"NP\"),H62,MIN(H61,H62))))))","v":""},{"$f":"IF('Start - jaro'!I20=\"\",\"\",\"x\")","v":""},40,{"$f":"IF('Start - jaro'!G20=\"\",\"\",'Start - jaro'!G20)","v":""},"I.pokus",null,null,null,{"$f":"IF($N61=\"\",\"\",IF(OR($P61=\"DNF\",$Q61=\"DNF\",$R61=\"DNF\"),\"DNF\",IF(OR($P61=\"NP\",$Q61=\"NP\",$R61=\"NP\"),\"NP\",IF(ISERROR(MEDIAN($P61:$R61)),\"DNF\",IF(COUNT($P61:$R61)<3,MAX($P61:$R61),MEDIAN($P61:$R61))))))","v":""},{"$f":"IF($L61=\"x\",\"x\",IF($N61=\"\",\"\",IF(OR(U61=\"NP\",U61=\"DNF\"),IF(U61=\"NP\",MAX(Oblast2)+COUNTIF(($J$12:$J$154),MAX(Oblast2))+COUNTIF(($U$12:$U$154),MAX(Oblast2)),MAX(Oblast2)+COUNTIF(($J$12:$J$154),MAX(Oblast2))+COUNTIF(($U$12:$U$154),MAX(Oblast2))+COUNTIF(($J$12:$J$154),\"NP\")+COUNTIF(($U$12:$U$154),\"NP\")),U61)))","v":""},{"$f":"IF($L61=\"x\",\"x\",IF($N61=\"\",\"\",IF(OR(V61=\"NP\",V61=\"DNF\"),V61,RANK(V61,Oblast,1))))","v":""},{"$f":"IF($L61=\"x\",\"x\",IF($N61=\"\",\"\",IF(OR(AND(S61=\"NP\",S62=\"NP\"),AND(S61=\"DNF\",S62=\"DNF\")),S61,IF(AND(S61=\"NP\",S62=\"DNF\"),S61,IF(AND(S61=\"DNF\",S62=\"NP\"),S62,MIN(S61,S62))))))","v":""}]
[null,null,null,"II.pokus",null,null,null,{"$f":"IF($C61=\"\",\"\",IF(OR($E62=\"DNF\",$F62=\"DNF\",$G62=\"DNF\"),\"DNF\",IF(OR($E62=\"NP\",$F62=\"NP\",$G62=\"NP\"),\"NP\",IF(ISERROR(MEDIAN($E62:$G62)),\"DNF\",IF(COUNT($E62:$G62)<3,MAX($E62:$G62),MEDIAN($E62:$G62))))))","v":""},null,null,null,null,null,null,"II.pokus",null,null,null,{"$f":"IF($N61=\"\",\"\",IF(OR($P62=\"DNF\",$Q62=\"DNF\",$R62=\"DNF\"),\"DNF\",IF(OR($P62=\"NP\",$Q62=\"NP\",$R62=\"NP\"),\"NP\",IF(ISERROR(MEDIAN($P62:$R62)),\"DNF\",IF(COUNT($P62:$R62)<3,MAX($P62:$R62),MEDIAN($P62:$R62))))))","v":""}]
[null," CELOSTÁTNÍ HRA PLAMEN"]
[]
[]
[null,"Výsledková listina č: 3"]
[null,"Štafeta 4x60 m",null,null,"Základem je čas naměřený od vydání signálu startéra do proběhnutí posledního člena cílem",null,null,null,null,null,null,null,"Štafeta 4x60 m",null,null,"Základem je čas naměřený od vydání signálu startéra do proběhnutí posledního člena cílem"]
[]
[]
[null,{"$f":"\"KATEGORIE: \"&'Start - podzim'!$N$2","v":"KATEGORIE: STARŠÍ"},null,null,"I. časoměřič","II. časoměřič","III. časoměřič","úřední čas","počet bodů za umístění",null,null,null,{"$f":"\"KATEGORIE: \"&'Start - podzim'!$N$2","v":"KATEGORIE: STARŠÍ"},null,null,"I. časoměřič","II. časoměřič","III. časoměřič","úřední čas","počet bodů za umístění"]
[]
[null,"start. číslo","SOUTĚŽNÍ DRUŽSTVO","pokus",null,null,null,null,null,null,null,null,"start. číslo","SOUTĚŽNÍ DRUŽSTVO","pokus"]
[]
[{"$f":"IF('Start - jaro'!I21=\"\",\"\",\"x\")","v":""},41,{"$f":"IF('Start - jaro'!G21=\"\",\"\",'Start - jaro'!G21)","v":""},"I.pokus",null,null,null,{"$f":"IF($C74=\"\",\"\",IF(OR($E74=\"DNF\",$F74=\"DNF\",$G74=\"DNF\"),\"DNF\",IF(OR($E74=\"NP\",$F74=\"NP\",$G74=\"NP\"),\"NP\",IF(ISERROR(MEDIAN($E74:$G74)),\"DNF\",IF(COUNT($E74:$G74)<3,MAX($E74:$G74),MEDIAN($E74:$G74))))))","v":""},{"$f":"IF($A74=\"x\",\"x\",IF($C74=\"\",\"\",IF(OR(J74=\"NP\",J74=\"DNF\"),IF(J74=\"NP\",MAX(Oblast2)+COUNTIF(($J$12:$J$154),MAX(Oblast2))+COUNTIF(($U$12:$U$154),MAX(Oblast2)),MAX(Oblast2)+COUNTIF(($J$12:$J$154),MAX(Oblast2))+COUNTIF(($U$12:$U$154),MAX(Oblast2))+COUNTIF(($J$12:$J$154),\"NP\")+COUNTIF(($U$12:$U$154),\"NP\")),J74)))","v":""},{"$f":"IF($A74=\"x\",\"x\",IF($C74=\"\",\"\",IF(OR(K74=\"NP\",K74=\"DNF\"),K74,RANK(K74,Oblast,1))))","v":""},{"$f":"IF($A74=\"x\",\"x\",IF($C74=\"\",\"\",IF(OR(AND(H74=\"NP\",H75=\"NP\"),AND(H74=\"DNF\",H75=\"DNF\")),H74,IF(AND(H74=\"NP\",H75=\"DNF\"),H74,IF(AND(H74=\"DNF\",H75=\"NP\"),H75,MIN(H74,H75))))))","v":""},{"$f":"IF('Start - jaro'!M6=\"\",\"\",\"x\")","v":""},51,{"$f":"IF('Start - jaro'!K6=\"\",\"\",'Start - jaro'!K6)","v":""},"I.pokus",null,null,null,{"$f":"IF($N74=\"\",\"\",IF(OR($P74=\"DNF\",$Q74=\"DNF\",$R74=\"DNF\"),\"DNF\",IF(OR($P74=\"NP\",$Q74=\"NP\",$R74=\"NP\"),\"NP\",IF(ISERROR(MEDIAN($P74:$R74)),\"DNF\",IF(COUNT($P74:$R74)<3,MAX($P74:$R74),MEDIAN($P74:$R74))))))","v":""},{"$f":"IF($L74=\"x\",\"x\",IF($N74=\"\",\"\",IF(OR(U74=\"NP\",U74=\"DNF\"),IF(U74=\"NP\",MAX(Oblast2)+COUNTIF(($J$12:$J$154),MAX(Oblast2))+COUNTIF(($U$12:$U$154),MAX(Oblast2)),MAX(Oblast2)+COUNTIF(($J$12:$J$154),MAX(Oblast2))+COUNTIF(($U$12:$U$154),MAX(Oblast2))+COUNTIF(($J$12:$J$154),\"NP\")+COUNTIF(($U$12:$U$154),\"NP\")),U74)))","v":""},{"$f":"IF($L74=\"x\",\"x\",IF($N74=\"\",\"\",IF(OR(V74=\"NP\",V74=\"DNF\"),V74,RANK(V74,Oblast,1))))","v":""},{"$f":"IF($L74=\"x\",\"x\",IF($N74=\"\",\"\",IF(OR(AND(S74=\"NP\",S75=\"NP\"),AND(S74=\"DNF\",S75=\"DNF\")),S74,IF(AND(S74=\"NP\",S75=\"DNF\"),S74,IF(AND(S74=\"DNF\",S75=\"NP\"),S75,MIN(S74,S75))))))","v":""}]
[null,null,null,"II.pokus",null,null,null,{"$f":"IF($C74=\"\",\"\",IF(OR($E75=\"DNF\",$F75=\"DNF\",$G75=\"DNF\"),\"DNF\",IF(OR($E75=\"NP\",$F75=\"NP\",$G75=\"NP\"),\"NP\",IF(ISERROR(MEDIAN($E75:$G75)),\"DNF\",IF(COUNT($E75:$G75)<3,MAX($E75:$G75),MEDIAN($E75:$G75))))))","v":""},null,null,null,null,null,null,"II.pokus",null,null,null,{"$f":"IF($N74=\"\",\"\",IF(OR($P75=\"DNF\",$Q75=\"DNF\",$R75=\"DNF\"),\"DNF\",IF(OR($P75=\"NP\",$Q75=\"NP\",$R75=\"NP\"),\"NP\",IF(ISERROR(MEDIAN($P75:$R75)),\"DNF\",IF(COUNT($P75:$R75)<3,MAX($P75:$R75),MEDIAN($P75:$R75))))))","v":""}]
[{"$f":"IF('Start - jaro'!I22=\"\",\"\",\"x\")","v":""},42,{"$f":"IF('Start - jaro'!G22=\"\",\"\",'Start - jaro'!G22)","v":""},"I.pokus",null,null,null,{"$f":"IF($C76=\"\",\"\",IF(OR($E76=\"DNF\",$F76=\"DNF\",$G76=\"DNF\"),\"DNF\",IF(OR($E76=\"NP\",$F76=\"NP\",$G76=\"NP\"),\"NP\",IF(ISERROR(MEDIAN($E76:$G76)),\"DNF\",IF(COUNT($E76:$G76)<3,MAX($E76:$G76),MEDIAN($E76:$G76))))))","v":""},{"$f":"IF($A76=\"x\",\"x\",IF($C76=\"\",\"\",IF(OR(J76=\"NP\",J76=\"DNF\"),IF(J76=\"NP\",MAX(Oblast2)+COUNTIF(($J$12:$J$154),MAX(Oblast2))+COUNTIF(($U$12:$U$154),MAX(Oblast2)),MAX(Oblast2)+COUNTIF(($J$12:$J$154),MAX(Oblast2))+COUNTIF(($U$12:$U$154),MAX(Oblast2))+COUNTIF(($J$12:$J$154),\"NP\")+COUNTIF(($U$12:$U$154),\"NP\")),J76)))","v":""},{"$f":"IF($A76=\"x\",\"x\",IF($C76=\"\",\"\",IF(OR(K76=\"NP\",K76=\"DNF\"),K76,RANK(K76,Oblast,1))))","v":""},{"$f":"IF($A76=\"x\",\"x\",IF($C76=\"\",\"\",IF(OR(AND(H76=\"NP\",H77=\"NP\"),AND(H76=\"DNF\",H77=\"DNF\")),H76,IF(AND(H76=\"NP\",H77=\"DNF\"),H76,IF(AND(H76=\"DNF\",H77=\"NP\"),H77,MIN(H76,H77))))))","v":""},{"$f":"IF('Start - jaro'!M7=\"\",\"\",\"x\")","v":""},52,{"$f":"IF('Start - jaro'!K7=\"\",\"\",'Start - jaro'!K7)","v":""},"I.pokus",null,null,null,{"$f":"IF($N76=\"\",\"\",IF(OR($P76=\"DNF\",$Q76=\"DNF\",$R76=\"DNF\"),\"DNF\",IF(OR($P76=\"NP\",$Q76=\"NP\",$R76=\"NP\"),\"NP\",IF(ISERROR(MEDIAN($P76:$R76)),\"DNF\",IF(COUNT($P76:$R76)<3,MAX($P76:$R76),MEDIAN($P76:$R76))))))","v":""},{"$f":"IF($L76=\"x\",\"x\",IF($N76=\"\",\"\",IF(OR(U76=\"NP\",U76=\"DNF\"),IF(U76=\"NP\",MAX(Oblast2)+COUNTIF(($J$12:$J$154),MAX(Oblast2))+COUNTIF(($U$12:$U$154),MAX(Oblast2)),MAX(Oblast2)+COUNTIF(($J$12:$J$154),MAX(Oblast2))+COUNTIF(($U$12:$U$154),MAX(Oblast2))+COUNTIF(($J$12:$J$154),\"NP\")+COUNTIF(($U$12:$U$154),\"NP\")),U76)))","v":""},{"$f":"IF($L76=\"x\",\"x\",IF($N76=\"\",\"\",IF(OR(V76=\"NP\",V76=\"DNF\"),V76,RANK(V76,Oblast,1))))","v":""},{"$f":"IF($L76=\"x\",\"x\",IF($N76=\"\",\"\",IF(OR(AND(S76=\"NP\",S77=\"NP\"),AND(S76=\"DNF\",S77=\"DNF\")),S76,IF(AND(S76=\"NP\",S77=\"DNF\"),S76,IF(AND(S76=\"DNF\",S77=\"NP\"),S77,MIN(S76,S77))))))","v":""}]
[null,null,null,"II.pokus",null,null,null,{"$f":"IF($C76=\"\",\"\",IF(OR($E77=\"DNF\",$F77=\"DNF\",$G77=\"DNF\"),\"DNF\",IF(OR($E77=\"NP\",$F77=\"NP\",$G77=\"NP\"),\"NP\",IF(ISERROR(MEDIAN($E77:$G77)),\"DNF\",IF(COUNT($E77:$G77)<3,MAX($E77:$G77),MEDIAN($E77:$G77))))))","v":""},null,null,null,null,null,null,"II.pokus",null,null,null,{"$f":"IF($N76=\"\",\"\",IF(OR($P77=\"DNF\",$Q77=\"DNF\",$R77=\"DNF\"),\"DNF\",IF(OR($P77=\"NP\",$Q77=\"NP\",$R77=\"NP\"),\"NP\",IF(ISERROR(MEDIAN($P77:$R77)),\"DNF\",IF(COUNT($P77:$R77)<3,MAX($P77:$R77),MEDIAN($P77:$R77))))))","v":""}]
[{"$f":"IF('Start - jaro'!I23=\"\",\"\",\"x\")","v":""},43,{"$f":"IF('Start - jaro'!G23=\"\",\"\",'Start - jaro'!G23)","v":""},"I.pokus",null,null,null,{"$f":"IF($C78=\"\",\"\",IF(OR($E78=\"DNF\",$F78=\"DNF\",$G78=\"DNF\"),\"DNF\",IF(OR($E78=\"NP\",$F78=\"NP\",$G78=\"NP\"),\"NP\",IF(ISERROR(MEDIAN($E78:$G78)),\"DNF\",IF(COUNT($E78:$G78)<3,MAX($E78:$G78),MEDIAN($E78:$G78))))))","v":""},{"$f":"IF($A78=\"x\",\"x\",IF($C78=\"\",\"\",IF(OR(J78=\"NP\",J78=\"DNF\"),IF(J78=\"NP\",MAX(Oblast2)+COUNTIF(($J$12:$J$154),MAX(Oblast2))+COUNTIF(($U$12:$U$154),MAX(Oblast2)),MAX(Oblast2)+COUNTIF(($J$12:$J$154),MAX(Oblast2))+COUNTIF(($U$12:$U$154),MAX(Oblast2))+COUNTIF(($J$12:$J$154),\"NP\")+COUNTIF(($U$12:$U$154),\"NP\")),J78)))","v":""},{"$f":"IF($A78=\"x\",\"x\",IF($C78=\"\",\"\",IF(OR(K78=\"NP\",K78=\"DNF\"),K78,RANK(K78,Oblast,1))))","v":""},{"$f":"IF($A78=\"x\",\"x\",IF($C78=\"\",\"\",IF(OR(AND(H78=\"NP\",H79=\"NP\"),AND(H78=\"DNF\",H79=\"DNF\")),H78,IF(AND(H78=\"NP\",H79=\"DNF\"),H78,IF(AND(H78=\"DNF\",H79=\"NP\"),H79,MIN(H78,H79))))))","v":""},{"$f":"IF('Start - jaro'!M8=\"\",\"\",\"x\")","v":""},53,{"$f":"IF('Start - jaro'!K8=\"\",\"\",'Start - jaro'!K8)","v":""},"I.pokus",null,null,null,{"$f":"IF($N78=\"\",\"\",IF(OR($P78=\"DNF\",$Q78=\"DNF\",$R78=\"DNF\"),\"DNF\",IF(OR($P78=\"NP\",$Q78=\"NP\",$R78=\"NP\"),\"NP\",IF(ISERROR(MEDIAN($P78:$R78)),\"DNF\",IF(COUNT($P78:$R78)<3,MAX($P78:$R78),MEDIAN($P78:$R78))))))","v":""},{"$f":"IF($L78=\"x\",\"x\",IF($N78=\"\",\"\",IF(OR(U78=\"NP\",U78=\"DNF\"),IF(U78=\"NP\",MAX(Oblast2)+COUNTIF(($J$12:$J$154),MAX(Oblast2))+COUNTIF(($U$12:$U$154),MAX(Oblast2)),MAX(Oblast2)+COUNTIF(($J$12:$J$154),MAX(Oblast2))+COUNTIF(($U$12:$U$154),MAX(Oblast2))+COUNTIF(($J$12:$J$154),\"NP\")+COUNTIF(($U$12:$U$154),\"NP\")),U78)))","v":""},{"$f":"IF($L78=\"x\",\"x\",IF($N78=\"\",\"\",IF(OR(V78=\"NP\",V78=\"DNF\"),V78,RANK(V78,Oblast,1))))","v":""},{"$f":"IF($L78=\"x\",\"x\",IF($N78=\"\",\"\",IF(OR(AND(S78=\"NP\",S79=\"NP\"),AND(S78=\"DNF\",S79=\"DNF\")),S78,IF(AND(S78=\"NP\",S79=\"DNF\"),S78,IF(AND(S78=\"DNF\",S79=\"NP\"),S79,MIN(S78,S79))))))","v":""}]
[null,null,null,"II.pokus",null,null,null,{"$f":"IF($C78=\"\",\"\",IF(OR($E79=\"DNF\",$F79=\"DNF\",$G79=\"DNF\"),\"DNF\",IF(OR($E79=\"NP\",$F79=\"NP\",$G79=\"NP\"),\"NP\",IF(ISERROR(MEDIAN($E79:$G79)),\"DNF\",IF(COUNT($E79:$G79)<3,MAX($E79:$G79),MEDIAN($E79:$G79))))))","v":""},null,null,null,null,null,null,"II.pokus",null,null,null,{"$f":"IF($N78=\"\",\"\",IF(OR($P79=\"DNF\",$Q79=\"DNF\",$R79=\"DNF\"),\"DNF\",IF(OR($P79=\"NP\",$Q79=\"NP\",$R79=\"NP\"),\"NP\",IF(ISERROR(MEDIAN($P79:$R79)),\"DNF\",IF(COUNT($P79:$R79)<3,MAX($P79:$R79),MEDIAN($P79:$R79))))))","v":""}]
[{"$f":"IF('Start - jaro'!I24=\"\",\"\",\"x\")","v":""},44,{"$f":"IF('Start - jaro'!G24=\"\",\"\",'Start - jaro'!G24)","v":""},"I.pokus",null,null,null,{"$f":"IF($C80=\"\",\"\",IF(OR($E80=\"DNF\",$F80=\"DNF\",$G80=\"DNF\"),\"DNF\",IF(OR($E80=\"NP\",$F80=\"NP\",$G80=\"NP\"),\"NP\",IF(ISERROR(MEDIAN($E80:$G80)),\"DNF\",IF(COUNT($E80:$G80)<3,MAX($E80:$G80),MEDIAN($E80:$G80))))))","v":""},{"$f":"IF($A80=\"x\",\"x\",IF($C80=\"\",\"\",IF(OR(J80=\"NP\",J80=\"DNF\"),IF(J80=\"NP\",MAX(Oblast2)+COUNTIF(($J$12:$J$154),MAX(Oblast2))+COUNTIF(($U$12:$U$154),MAX(Oblast2)),MAX(Oblast2)+COUNTIF(($J$12:$J$154),MAX(Oblast2))+COUNTIF(($U$12:$U$154),MAX(Oblast2))+COUNTIF(($J$12:$J$154),\"NP\")+COUNTIF(($U$12:$U$154),\"NP\")),J80)))","v":""},{"$f":"IF($A80=\"x\",\"x\",IF($C80=\"\",\"\",IF(OR(K80=\"NP\",K80=\"DNF\"),K80,RANK(K80,Oblast,1))))","v":""},{"$f":"IF($A80=\"x\",\"x\",IF($C80=\"\",\"\",IF(OR(AND(H80=\"NP\",H81=\"NP\"),AND(H80=\"DNF\",H81=\"DNF\")),H80,IF(AND(H80=\"NP\",H81=\"DNF\"),H80,IF(AND(H80=\"DNF\",H81=\"NP\"),H81,MIN(H80,H81))))))","v":""},{"$f":"IF('Start - jaro'!M9=\"\",\"\",\"x\")","v":""},54,{"$f":"IF('Start - jaro'!K9=\"\",\"\",'Start - jaro'!K9)","v":""},"I.pokus",null,null,null,{"$f":"IF($N80=\"\",\"\",IF(OR($P80=\"DNF\",$Q80=\"DNF\",$R80=\"DNF\"),\"DNF\",IF(OR($P80=\"NP\",$Q80=\"NP\",$R80=\"NP\"),\"NP\",IF(ISERROR(MEDIAN($P80:$R80)),\"DNF\",IF(COUNT($P80:$R80)<3,MAX($P80:$R80),MEDIAN($P80:$R80))))))","v":""},{"$f":"IF($L80=\"x\",\"x\",IF($N80=\"\",\"\",IF(OR(U80=\"NP\",U80=\"DNF\"),IF(U80=\"NP\",MAX(Oblast2)+COUNTIF(($J$12:$J$154),MAX(Oblast2))+COUNTIF(($U$12:$U$154),MAX(Oblast2)),MAX(Oblast2)+COUNTIF(($J$12:$J$154),MAX(Oblast2))+COUNTIF(($U$12:$U$154),MAX(Oblast2))+COUNTIF(($J$12:$J$154),\"NP\")+COUNTIF(($U$12:$U$154),\"NP\")),U80)))","v":""},{"$f":"IF($L80=\"x\",\"x\",IF($N80=\"\",\"\",IF(OR(V80=\"NP\",V80=\"DNF\"),V80,RANK(V80,Oblast,1))))","v":""},{"$f":"IF($L80=\"x\",\"x\",IF($N80=\"\",\"\",IF(OR(AND(S80=\"NP\",S81=\"NP\"),AND(S80=\"DNF\",S81=\"DNF\")),S80,IF(AND(S80=\"NP\",S81=\"DNF\"),S80,IF(AND(S80=\"DNF\",S81=\"NP\"),S81,MIN(S80,S81))))))","v":""}]
[null,null,null,"II.pokus",null,null,null,{"$f":"IF($C80=\"\",\"\",IF(OR($E81=\"DNF\",$F81=\"DNF\",$G81=\"DNF\"),\"DNF\",IF(OR($E81=\"NP\",$F81=\"NP\",$G81=\"NP\"),\"NP\",IF(ISERROR(MEDIAN($E81:$G81)),\"DNF\",IF(COUNT($E81:$G81)<3,MAX($E81:$G81),MEDIAN($E81:$G81))))))","v":""},null,null,null,null,null,null,"II.pokus",null,null,null,{"$f":"IF($N80=\"\",\"\",IF(OR($P81=\"DNF\",$Q81=\"DNF\",$R81=\"DNF\"),\"DNF\",IF(OR($P81=\"NP\",$Q81=\"NP\",$R81=\"NP\"),\"NP\",IF(ISERROR(MEDIAN($P81:$R81)),\"DNF\",IF(COUNT($P81:$R81)<3,MAX($P81:$R81),MEDIAN($P81:$R81))))))","v":""}]
[{"$f":"IF('Start - jaro'!I25=\"\",\"\",\"x\")","v":""},45,{"$f":"IF('Start - jaro'!G25=\"\",\"\",'Start - jaro'!G25)","v":""},"I.pokus",null,null,null,{"$f":"IF($C82=\"\",\"\",IF(OR($E82=\"DNF\",$F82=\"DNF\",$G82=\"DNF\"),\"DNF\",IF(OR($E82=\"NP\",$F82=\"NP\",$G82=\"NP\"),\"NP\",IF(ISERROR(MEDIAN($E82:$G82)),\"DNF\",IF(COUNT($E82:$G82)<3,MAX($E82:$G82),MEDIAN($E82:$G82))))))","v":""},{"$f":"IF($A82=\"x\",\"x\",IF($C82=\"\",\"\",IF(OR(J82=\"NP\",J82=\"DNF\"),IF(J82=\"NP\",MAX(Oblast2)+COUNTIF(($J$12:$J$154),MAX(Oblast2))+COUNTIF(($U$12:$U$154),MAX(Oblast2)),MAX(Oblast2)+COUNTIF(($J$12:$J$154),MAX(Oblast2))+COUNTIF(($U$12:$U$154),MAX(Oblast2))+COUNTIF(($J$12:$J$154),\"NP\")+COUNTIF(($U$12:$U$154),\"NP\")),J82)))","v":""},{"$f":"IF($A82=\"x\",\"x\",IF($C82=\"\",\"\",IF(OR(K82=\"NP\",K82=\"DNF\"),K82,RANK(K82,Oblast,1))))","v":""},{"$f":"IF($A82=\"x\",\"x\",IF($C82=\"\",\"\",IF(OR(AND(H82=\"NP\",H83=\"NP\"),AND(H82=\"DNF\",H83=\"DNF\")),H82,IF(AND(H82=\"NP\",H83=\"DNF\"),H82,IF(AND(H82=\"DNF\",H83=\"NP\"),H83,MIN(H82,H83))))))","v":""},{"$f":"IF('Start - jaro'!M10=\"\",\"\",\"x\")","v":""},55,{"$f":"IF('Start - jaro'!K10=\"\",\"\",'Start - jaro'!K10)","v":""},"I.pokus",null,null,null,{"$f":"IF($N82=\"\",\"\",IF(OR($P82=\"DNF\",$Q82=\"DNF\",$R82=\"DNF\"),\"DNF\",IF(OR($P82=\"NP\",$Q82=\"NP\",$R82=\"NP\"),\"NP\",IF(ISERROR(MEDIAN($P82:$R82)),\"DNF\",IF(COUNT($P82:$R82)<3,MAX($P82:$R82),MEDIAN($P82:$R82))))))","v":""},{"$f":"IF($L82=\"x\",\"x\",IF($N82=\"\",\"\",IF(OR(U82=\"NP\",U82=\"DNF\"),IF(U82=\"NP\",MAX(Oblast2)+COUNTIF(($J$12:$J$154),MAX(Oblast2))+COUNTIF(($U$12:$U$154),MAX(Oblast2)),MAX(Oblast2)+COUNTIF(($J$12:$J$154),MAX(Oblast2))+COUNTIF(($U$12:$U$154),MAX(Oblast2))+COUNTIF(($J$12:$J$154),\"NP\")+COUNTIF(($U$12:$U$154),\"NP\")),U82)))","v":""},{"$f":"IF($L82=\"x\",\"x\",IF($N82=\"\",\"\",IF(OR(V82=\"NP\",V82=\"DNF\"),V82,RANK(V82,Oblast,1))))","v":""},{"$f":"IF($L82=\"x\",\"x\",IF($N82=\"\",\"\",IF(OR(AND(S82=\"NP\",S83=\"NP\"),AND(S82=\"DNF\",S83=\"DNF\")),S82,IF(AND(S82=\"NP\",S83=\"DNF\"),S82,IF(AND(S82=\"DNF\",S83=\"NP\"),S83,MIN(S82,S83))))))","v":""}]
[null,null,null,"II.pokus",null,null,null,{"$f":"IF($C82=\"\",\"\",IF(OR($E83=\"DNF\",$F83=\"DNF\",$G83=\"DNF\"),\"DNF\",IF(OR($E83=\"NP\",$F83=\"NP\",$G83=\"NP\"),\"NP\",IF(ISERROR(MEDIAN($E83:$G83)),\"DNF\",IF(COUNT($E83:$G83)<3,MAX($E83:$G83),MEDIAN($E83:$G83))))))","v":""},null,null,null,null,null,null,"II.pokus",null,null,null,{"$f":"IF($N82=\"\",\"\",IF(OR($P83=\"DNF\",$Q83=\"DNF\",$R83=\"DNF\"),\"DNF\",IF(OR($P83=\"NP\",$Q83=\"NP\",$R83=\"NP\"),\"NP\",IF(ISERROR(MEDIAN($P83:$R83)),\"DNF\",IF(COUNT($P83:$R83)<3,MAX($P83:$R83),MEDIAN($P83:$R83))))))","v":""}]
[{"$f":"IF('Start - jaro'!I26=\"\",\"\",\"x\")","v":""},46,{"$f":"IF('Start - jaro'!G26=\"\",\"\",'Start - jaro'!G26)","v":""},"I.pokus",null,null,null,{"$f":"IF($C84=\"\",\"\",IF(OR($E84=\"DNF\",$F84=\"DNF\",$G84=\"DNF\"),\"DNF\",IF(OR($E84=\"NP\",$F84=\"NP\",$G84=\"NP\"),\"NP\",IF(ISERROR(MEDIAN($E84:$G84)),\"DNF\",IF(COUNT($E84:$G84)<3,MAX($E84:$G84),MEDIAN($E84:$G84))))))","v":""},{"$f":"IF($A84=\"x\",\"x\",IF($C84=\"\",\"\",IF(OR(J84=\"NP\",J84=\"DNF\"),IF(J84=\"NP\",MAX(Oblast2)+COUNTIF(($J$12:$J$154),MAX(Oblast2))+COUNTIF(($U$12:$U$154),MAX(Oblast2)),MAX(Oblast2)+COUNTIF(($J$12:$J$154),MAX(Oblast2))+COUNTIF(($U$12:$U$154),MAX(Oblast2))+COUNTIF(($J$12:$J$154),\"NP\")+COUNTIF(($U$12:$U$154),\"NP\")),J84)))","v":""},{"$f":"IF($A84=\"x\",\"x\",IF($C84=\"\",\"\",IF(OR(K84=\"NP\",K84=\"DNF\"),K84,RANK(K84,Oblast,1))))","v":""},{"$f":"IF($A84=\"x\",\"x\",IF($C84=\"\",\"\",IF(OR(AND(H84=\"NP\",H85=\"NP\"),AND(H84=\"DNF\",H85=\"DNF\")),H84,IF(AND(H84=\"NP\",H85=\"DNF\"),H84,IF(AND(H84=\"DNF\",H85=\"NP\"),H85,MIN(H84,H85))))))","v":""},{"$f":"IF('Start - jaro'!M11=\"\",\"\",\"x\")","v":""},56,{"$f":"IF('Start - jaro'!K11=\"\",\"\",'Start - jaro'!K11)","v":""},"I.pokus",null,null,null,{"$f":"IF($N84=\"\",\"\",IF(OR($P84=\"DNF\",$Q84=\"DNF\",$R84=\"DNF\"),\"DNF\",IF(OR($P84=\"NP\",$Q84=\"NP\",$R84=\"NP\"),\"NP\",IF(ISERROR(MEDIAN($P84:$R84)),\"DNF\",IF(COUNT($P84:$R84)<3,MAX($P84:$R84),MEDIAN($P84:$R84))))))","v":""},{"$f":"IF($L84=\"x\",\"x\",IF($N84=\"\",\"\",IF(OR(U84=\"NP\",U84=\"DNF\"),IF(U84=\"NP\",MAX(Oblast2)+COUNTIF(($J$12:$J$154),MAX(Oblast2))+COUNTIF(($U$12:$U$154),MAX(Oblast2)),MAX(Oblast2)+COUNTIF(($J$12:$J$154),MAX(Oblast2))+COUNTIF(($U$12:$U$154),MAX(Oblast2))+COUNTIF(($J$12:$J$154),\"NP\")+COUNTIF(($U$12:$U$154),\"NP\")),U84)))","v":""},{"$f":"IF($L84=\"x\",\"x\",IF($N84=\"\",\"\",IF(OR(V84=\"NP\",V84=\"DNF\"),V84,RANK(V84,Oblast,1))))","v":""},{"$f":"IF($L84=\"x\",\"x\",IF($N84=\"\",\"\",IF(OR(AND(S84=\"NP\",S85=\"NP\"),AND(S84=\"DNF\",S85=\"DNF\")),S84,IF(AND(S84=\"NP\",S85=\"DNF\"),S84,IF(AND(S84=\"DNF\",S85=\"NP\"),S85,MIN(S84,S85))))))","v":""}]
[null,null,null,"II.pokus",null,null,null,{"$f":"IF($C84=\"\",\"\",IF(OR($E85=\"DNF\",$F85=\"DNF\",$G85=\"DNF\"),\"DNF\",IF(OR($E85=\"NP\",$F85=\"NP\",$G85=\"NP\"),\"NP\",IF(ISERROR(MEDIAN($E85:$G85)),\"DNF\",IF(COUNT($E85:$G85)<3,MAX($E85:$G85),MEDIAN($E85:$G85))))))","v":""},null,null,null,null,null,null,"II.pokus",null,null,null,{"$f":"IF($N84=\"\",\"\",IF(OR($P85=\"DNF\",$Q85=\"DNF\",$R85=\"DNF\"),\"DNF\",IF(OR($P85=\"NP\",$Q85=\"NP\",$R85=\"NP\"),\"NP\",IF(ISERROR(MEDIAN($P85:$R85)),\"DNF\",IF(COUNT($P85:$R85)<3,MAX($P85:$R85),MEDIAN($P85:$R85))))))","v":""}]
[{"$f":"IF('Start - jaro'!I27=\"\",\"\",\"x\")","v":""},47,{"$f":"IF('Start - jaro'!G27=\"\",\"\",'Start - jaro'!G27)","v":""},"I.pokus",null,null,null,{"$f":"IF($C86=\"\",\"\",IF(OR($E86=\"DNF\",$F86=\"DNF\",$G86=\"DNF\"),\"DNF\",IF(OR($E86=\"NP\",$F86=\"NP\",$G86=\"NP\"),\"NP\",IF(ISERROR(MEDIAN($E86:$G86)),\"DNF\",IF(COUNT($E86:$G86)<3,MAX($E86:$G86),MEDIAN($E86:$G86))))))","v":""},{"$f":"IF($A86=\"x\",\"x\",IF($C86=\"\",\"\",IF(OR(J86=\"NP\",J86=\"DNF\"),IF(J86=\"NP\",MAX(Oblast2)+COUNTIF(($J$12:$J$154),MAX(Oblast2))+COUNTIF(($U$12:$U$154),MAX(Oblast2)),MAX(Oblast2)+COUNTIF(($J$12:$J$154),MAX(Oblast2))+COUNTIF(($U$12:$U$154),MAX(Oblast2))+COUNTIF(($J$12:$J$154),\"NP\")+COUNTIF(($U$12:$U$154),\"NP\")),J86)))","v":""},{"$f":"IF($A86=\"x\",\"x\",IF($C86=\"\",\"\",IF(OR(K86=\"NP\",K86=\"DNF\"),K86,RANK(K86,Oblast,1))))","v":""},{"$f":"IF($A86=\"x\",\"x\",IF($C86=\"\",\"\",IF(OR(AND(H86=\"NP\",H87=\"NP\"),AND(H86=\"DNF\",H87=\"DNF\")),H86,IF(AND(H86=\"NP\",H87=\"DNF\"),H86,IF(AND(H86=\"DNF\",H87=\"NP\"),H87,MIN(H86,H87))))))","v":""},{"$f":"IF('Start - jaro'!M12=\"\",\"\",\"x\")","v":""},57,{"$f":"IF('Start - jaro'!K12=\"\",\"\",'Start - jaro'!K12)","v":""},"I.pokus",null,null,null,{"$f":"IF($N86=\"\",\"\",IF(OR($P86=\"DNF\",$Q86=\"DNF\",$R86=\"DNF\"),\"DNF\",IF(OR($P86=\"NP\",$Q86=\"NP\",$R86=\"NP\"),\"NP\",IF(ISERROR(MEDIAN($P86:$R86)),\"DNF\",IF(COUNT($P86:$R86)<3,MAX($P86:$R86),MEDIAN($P86:$R86))))))","v":""},{"$f":"IF($L86=\"x\",\"x\",IF($N86=\"\",\"\",IF(OR(U86=\"NP\",U86=\"DNF\"),IF(U86=\"NP\",MAX(Oblast2)+COUNTIF(($J$12:$J$154),MAX(Oblast2))+COUNTIF(($U$12:$U$154),MAX(Oblast2)),MAX(Oblast2)+COUNTIF(($J$12:$J$154),MAX(Oblast2))+COUNTIF(($U$12:$U$154),MAX(Oblast2))+COUNTIF(($J$12:$J$154),\"NP\")+COUNTIF(($U$12:$U$154),\"NP\")),U86)))","v":""},{"$f":"IF($L86=\"x\",\"x\",IF($N86=\"\",\"\",IF(OR(V86=\"NP\",V86=\"DNF\"),V86,RANK(V86,Oblast,1))))","v":""},{"$f":"IF($L86=\"x\",\"x\",IF($N86=\"\",\"\",IF(OR(AND(S86=\"NP\",S87=\"NP\"),AND(S86=\"DNF\",S87=\"DNF\")),S86,IF(AND(S86=\"NP\",S87=\"DNF\"),S86,IF(AND(S86=\"DNF\",S87=\"NP\"),S87,MIN(S86,S87))))))","v":""}]
[null,null,null,"II.pokus",null,null,null,{"$f":"IF($C86=\"\",\"\",IF(OR($E87=\"DNF\",$F87=\"DNF\",$G87=\"DNF\"),\"DNF\",IF(OR($E87=\"NP\",$F87=\"NP\",$G87=\"NP\"),\"NP\",IF(ISERROR(MEDIAN($E87:$G87)),\"DNF\",IF(COUNT($E87:$G87)<3,MAX($E87:$G87),MEDIAN($E87:$G87))))))","v":""},null,null,null,null,null,null,"II.pokus",null,null,null,{"$f":"IF($N86=\"\",\"\",IF(OR($P87=\"DNF\",$Q87=\"DNF\",$R87=\"DNF\"),\"DNF\",IF(OR($P87=\"NP\",$Q87=\"NP\",$R87=\"NP\"),\"NP\",IF(ISERROR(MEDIAN($P87:$R87)),\"DNF\",IF(COUNT($P87:$R87)<3,MAX($P87:$R87),MEDIAN($P87:$R87))))))","v":""}]
[{"$f":"IF('Start - jaro'!I28=\"\",\"\",\"x\")","v":""},48,{"$f":"IF('Start - jaro'!G28=\"\",\"\",'Start - jaro'!G28)","v":""},"I.pokus",null,null,null,{"$f":"IF($C88=\"\",\"\",IF(OR($E88=\"DNF\",$F88=\"DNF\",$G88=\"DNF\"),\"DNF\",IF(OR($E88=\"NP\",$F88=\"NP\",$G88=\"NP\"),\"NP\",IF(ISERROR(MEDIAN($E88:$G88)),\"DNF\",IF(COUNT($E88:$G88)<3,MAX($E88:$G88),MEDIAN($E88:$G88))))))","v":""},{"$f":"IF($A88=\"x\",\"x\",IF($C88=\"\",\"\",IF(OR(J88=\"NP\",J88=\"DNF\"),IF(J88=\"NP\",MAX(Oblast2)+COUNTIF(($J$12:$J$154),MAX(Oblast2))+COUNTIF(($U$12:$U$154),MAX(Oblast2)),MAX(Oblast2)+COUNTIF(($J$12:$J$154),MAX(Oblast2))+COUNTIF(($U$12:$U$154),MAX(Oblast2))+COUNTIF(($J$12:$J$154),\"NP\")+COUNTIF(($U$12:$U$154),\"NP\")),J88)))","v":""},{"$f":"IF($A88=\"x\",\"x\",IF($C88=\"\",\"\",IF(OR(K88=\"NP\",K88=\"DNF\"),K88,RANK(K88,Oblast,1))))","v":""},{"$f":"IF($A88=\"x\",\"x\",IF($C88=\"\",\"\",IF(OR(AND(H88=\"NP\",H89=\"NP\"),AND(H88=\"DNF\",H89=\"DNF\")),H88,IF(AND(H88=\"NP\",H89=\"DNF\"),H88,IF(AND(H88=\"DNF\",H89=\"NP\"),H89,MIN(H88,H89))))))","v":""},{"$f":"IF('Start - jaro'!M13=\"\",\"\",\"x\")","v":""},58,{"$f":"IF('Start - jaro'!K13=\"\",\"\",'Start - jaro'!K13)","v":""},"I.pokus",null,null,null,{"$f":"IF($N88=\"\",\"\",IF(OR($P88=\"DNF\",$Q88=\"DNF\",$R88=\"DNF\"),\"DNF\",IF(OR($P88=\"NP\",$Q88=\"NP\",$R88=\"NP\"),\"NP\",IF(ISERROR(MEDIAN($P88:$R88)),\"DNF\",IF(COUNT($P88:$R88)<3,MAX($P88:$R88),MEDIAN($P88:$R88))))))","v":""},{"$f":"IF($L88=\"x\",\"x\",IF($N88=\"\",\"\",IF(OR(U88=\"NP\",U88=\"DNF\"),IF(U88=\"NP\",MAX(Oblast2)+COUNTIF(($J$12:$J$154),MAX(Oblast2))+COUNTIF(($U$12:$U$154),MAX(Oblast2)),MAX(Oblast2)+COUNTIF(($J$12:$J$154),MAX(Oblast2))+COUNTIF(($U$12:$U$154),MAX(Oblast2))+COUNTIF(($J$12:$J$154),\"NP\")+COUNTIF(($U$12:$U$154),\"NP\")),U88)))","v":""},{"$f":"IF($L88=\"x\",\"x\",IF($N88=\"\",\"\",IF(OR(V88=\"NP\",V88=\"DNF\"),V88,RANK(V88,Oblast,1))))","v":""},{"$f":"IF($L88=\"x\",\"x\",IF($N88=\"\",\"\",IF(OR(AND(S88=\"NP\",S89=\"NP\"),AND(S88=\"DNF\",S89=\"DNF\")),S88,IF(AND(S88=\"NP\",S89=\"DNF\"),S88,IF(AND(S88=\"DNF\",S89=\"NP\"),S89,MIN(S88,S89))))))","v":""}]
[null,null,null,"II.pokus",null,null,null,{"$f":"IF($C88=\"\",\"\",IF(OR($E89=\"DNF\",$F89=\"DNF\",$G89=\"DNF\"),\"DNF\",IF(OR($E89=\"NP\",$F89=\"NP\",$G89=\"NP\"),\"NP\",IF(ISERROR(MEDIAN($E89:$G89)),\"DNF\",IF(COUNT($E89:$G89)<3,MAX($E89:$G89),MEDIAN($E89:$G89))))))","v":""},null,null,null,null,null,null,"II.pokus",null,null,null,{"$f":"IF($N88=\"\",\"\",IF(OR($P89=\"DNF\",$Q89=\"DNF\",$R89=\"DNF\"),\"DNF\",IF(OR($P89=\"NP\",$Q89=\"NP\",$R89=\"NP\"),\"NP\",IF(ISERROR(MEDIAN($P89:$R89)),\"DNF\",IF(COUNT($P89:$R89)<3,MAX($P89:$R89),MEDIAN($P89:$R89))))))","v":""}]
[{"$f":"IF('Start - jaro'!I29=\"\",\"\",\"x\")","v":""},49,{"$f":"IF('Start - jaro'!G29=\"\",\"\",'Start - jaro'!G29)","v":""},"I.pokus",null,null,null,{"$f":"IF($C90=\"\",\"\",IF(OR($E90=\"DNF\",$F90=\"DNF\",$G90=\"DNF\"),\"DNF\",IF(OR($E90=\"NP\",$F90=\"NP\",$G90=\"NP\"),\"NP\",IF(ISERROR(MEDIAN($E90:$G90)),\"DNF\",IF(COUNT($E90:$G90)<3,MAX($E90:$G90),MEDIAN($E90:$G90))))))","v":""},{"$f":"IF($A90=\"x\",\"x\",IF($C90=\"\",\"\",IF(OR(J90=\"NP\",J90=\"DNF\"),IF(J90=\"NP\",MAX(Oblast2)+COUNTIF(($J$12:$J$154),MAX(Oblast2))+COUNTIF(($U$12:$U$154),MAX(Oblast2)),MAX(Oblast2)+COUNTIF(($J$12:$J$154),MAX(Oblast2))+COUNTIF(($U$12:$U$154),MAX(Oblast2))+COUNTIF(($J$12:$J$154),\"NP\")+COUNTIF(($U$12:$U$154),\"NP\")),J90)))","v":""},{"$f":"IF($A90=\"x\",\"x\",IF($C90=\"\",\"\",IF(OR(K90=\"NP\",K90=\"DNF\"),K90,RANK(K90,Oblast,1))))","v":""},{"$f":"IF($A90=\"x\",\"x\",IF($C90=\"\",\"\",IF(OR(AND(H90=\"NP\",H91=\"NP\"),AND(H90=\"DNF\",H91=\"DNF\")),H90,IF(AND(H90=\"NP\",H91=\"DNF\"),H90,IF(AND(H90=\"DNF\",H91=\"NP\"),H91,MIN(H90,H91))))))","v":""},{"$f":"IF('Start - jaro'!M14=\"\",\"\",\"x\")","v":""},59,{"$f":"IF('Start - jaro'!K14=\"\",\"\",'Start - jaro'!K14)","v":""},"I.pokus",null,null,null,{"$f":"IF($N90=\"\",\"\",IF(OR($P90=\"DNF\",$Q90=\"DNF\",$R90=\"DNF\"),\"DNF\",IF(OR($P90=\"NP\",$Q90=\"NP\",$R90=\"NP\"),\"NP\",IF(ISERROR(MEDIAN($P90:$R90)),\"DNF\",IF(COUNT($P90:$R90)<3,MAX($P90:$R90),MEDIAN($P90:$R90))))))","v":""},{"$f":"IF($L90=\"x\",\"x\",IF($N90=\"\",\"\",IF(OR(U90=\"NP\",U90=\"DNF\"),IF(U90=\"NP\",MAX(Oblast2)+COUNTIF(($J$12:$J$154),MAX(Oblast2))+COUNTIF(($U$12:$U$154),MAX(Oblast2)),MAX(Oblast2)+COUNTIF(($J$12:$J$154),MAX(Oblast2))+COUNTIF(($U$12:$U$154),MAX(Oblast2))+COUNTIF(($J$12:$J$154),\"NP\")+COUNTIF(($U$12:$U$154),\"NP\")),U90)))","v":""},{"$f":"IF($L90=\"x\",\"x\",IF($N90=\"\",\"\",IF(OR(V90=\"NP\",V90=\"DNF\"),V90,RANK(V90,Oblast,1))))","v":""},{"$f":"IF($L90=\"x\",\"x\",IF($N90=\"\",\"\",IF(OR(AND(S90=\"NP\",S91=\"NP\"),AND(S90=\"DNF\",S91=\"DNF\")),S90,IF(AND(S90=\"NP\",S91=\"DNF\"),S90,IF(AND(S90=\"DNF\",S91=\"NP\"),S91,MIN(S90,S91))))))","v":""}]
[null,null,null,"II.pokus",null,null,null,{"$f":"IF($C90=\"\",\"\",IF(OR($E91=\"DNF\",$F91=\"DNF\",$G91=\"DNF\"),\"DNF\",IF(OR($E91=\"NP\",$F91=\"NP\",$G91=\"NP\"),\"NP\",IF(ISERROR(MEDIAN($E91:$G91)),\"DNF\",IF(COUNT($E91:$G91)<3,MAX($E91:$G91),MEDIAN($E91:$G91))))))","v":""},null,null,null,null,null,null,"II.pokus",null,null,null,{"$f":"IF($N90=\"\",\"\",IF(OR($P91=\"DNF\",$Q91=\"DNF\",$R91=\"DNF\"),\"DNF\",IF(OR($P91=\"NP\",$Q91=\"NP\",$R91=\"NP\"),\"NP\",IF(ISERROR(MEDIAN($P91:$R91)),\"DNF\",IF(COUNT($P91:$R91)<3,MAX($P91:$R91),MEDIAN($P91:$R91))))))","v":""}]
[{"$f":"IF('Start - jaro'!I30=\"\",\"\",\"x\")","v":""},50,{"$f":"IF('Start - jaro'!G30=\"\",\"\",'Start - jaro'!G30)","v":""},"I.pokus",null,null,null,{"$f":"IF($C92=\"\",\"\",IF(OR($E92=\"DNF\",$F92=\"DNF\",$G92=\"DNF\"),\"DNF\",IF(OR($E92=\"NP\",$F92=\"NP\",$G92=\"NP\"),\"NP\",IF(ISERROR(MEDIAN($E92:$G92)),\"DNF\",IF(COUNT($E92:$G92)<3,MAX($E92:$G92),MEDIAN($E92:$G92))))))","v":""},{"$f":"IF($A92=\"x\",\"x\",IF($C92=\"\",\"\",IF(OR(J92=\"NP\",J92=\"DNF\"),IF(J92=\"NP\",MAX(Oblast2)+COUNTIF(($J$12:$J$154),MAX(Oblast2))+COUNTIF(($U$12:$U$154),MAX(Oblast2)),MAX(Oblast2)+COUNTIF(($J$12:$J$154),MAX(Oblast2))+COUNTIF(($U$12:$U$154),MAX(Oblast2))+COUNTIF(($J$12:$J$154),\"NP\")+COUNTIF(($U$12:$U$154),\"NP\")),J92)))","v":""},{"$f":"IF($A92=\"x\",\"x\",IF($C92=\"\",\"\",IF(OR(K92=\"NP\",K92=\"DNF\"),K92,RANK(K92,Oblast,1))))","v":""},{"$f":"IF($A92=\"x\",\"x\",IF($C92=\"\",\"\",IF(OR(AND(H92=\"NP\",H93=\"NP\"),AND(H92=\"DNF\",H93=\"DNF\")),H92,IF(AND(H92=\"NP\",H93=\"DNF\"),H92,IF(AND(H92=\"DNF\",H93=\"NP\"),H93,MIN(H92,H93))))))","v":""},{"$f":"IF('Start - jaro'!M15=\"\",\"\",\"x\")","v":""},60,{"$f":"IF('Start - jaro'!K15=\"\",\"\",'Start - jaro'!K15)","v":""},"I.pokus",null,null,null,{"$f":"IF($N92=\"\",\"\",IF(OR($P92=\"DNF\",$Q92=\"DNF\",$R92=\"DNF\"),\"DNF\",IF(OR($P92=\"NP\",$Q92=\"NP\",$R92=\"NP\"),\"NP\",IF(ISERROR(MEDIAN($P92:$R92)),\"DNF\",IF(COUNT($P92:$R92)<3,MAX($P92:$R92),MEDIAN($P92:$R92))))))","v":""},{"$f":"IF($L92=\"x\",\"x\",IF($N92=\"\",\"\",IF(OR(U92=\"NP\",U92=\"DNF\"),IF(U92=\"NP\",MAX(Oblast2)+COUNTIF(($J$12:$J$154),MAX(Oblast2))+COUNTIF(($U$12:$U$154),MAX(Oblast2)),MAX(Oblast2)+COUNTIF(($J$12:$J$154),MAX(Oblast2))+COUNTIF(($U$12:$U$154),MAX(Oblast2))+COUNTIF(($J$12:$J$154),\"NP\")+COUNTIF(($U$12:$U$154),\"NP\")),U92)))","v":""},{"$f":"IF($L92=\"x\",\"x\",IF($N92=\"\",\"\",IF(OR(V92=\"NP\",V92=\"DNF\"),V92,RANK(V92,Oblast,1))))","v":""},{"$f":"IF($L92=\"x\",\"x\",IF($N92=\"\",\"\",IF(OR(AND(S92=\"NP\",S93=\"NP\"),AND(S92=\"DNF\",S93=\"DNF\")),S92,IF(AND(S92=\"NP\",S93=\"DNF\"),S92,IF(AND(S92=\"DNF\",S93=\"NP\"),S93,MIN(S92,S93))))))","v":""}]
[null,null,null,"II.pokus",null,null,null,{"$f":"IF($C92=\"\",\"\",IF(OR($E93=\"DNF\",$F93=\"DNF\",$G93=\"DNF\"),\"DNF\",IF(OR($E93=\"NP\",$F93=\"NP\",$G93=\"NP\"),\"NP\",IF(ISERROR(MEDIAN($E93:$G93)),\"DNF\",IF(COUNT($E93:$G93)<3,MAX($E93:$G93),MEDIAN($E93:$G93))))))","v":""},null,null,null,null,null,null,"II.pokus",null,null,null,{"$f":"IF($N92=\"\",\"\",IF(OR($P93=\"DNF\",$Q93=\"DNF\",$R93=\"DNF\"),\"DNF\",IF(OR($P93=\"NP\",$Q93=\"NP\",$R93=\"NP\"),\"NP\",IF(ISERROR(MEDIAN($P93:$R93)),\"DNF\",IF(COUNT($P93:$R93)<3,MAX($P93:$R93),MEDIAN($P93:$R93))))))","v":""}]
[null," CELOSTÁTNÍ HRA PLAMEN"]
[]
[]
[null," Výsledková listina č: 4"]
[null,"Štafeta 4x60 m",null,null,"Základem je čas naměřený od vydání signálu startéra do proběhnutí posledního člena cílem",null,null,null,null,null,null,null,"Štafeta 4x60 m",null,null,"Základem je čas naměřený od vydání signálu startéra do proběhnutí posledního člena cílem"]
[]
[]
[null,{"$f":"\"KATEGORIE: \"&'Start - podzim'!$N$2","v":"KATEGORIE: STARŠÍ"},null,null,"I. časoměřič","II. časoměřič","III. časoměřič","úřední čas","počet bodů za umístění",null,null,null,{"$f":"\"KATEGORIE: \"&'Start - podzim'!$N$2","v":"KATEGORIE: STARŠÍ"},null,null,"I. časoměřič","II. časoměřič","III. časoměřič","úřední čas","počet bodů za umístění"]
[]
[null,"start. číslo","SOUTĚŽNÍ DRUŽSTVO","pokus",null,null,null,null,null,null,null,null,"start. číslo","SOUTĚŽNÍ DRUŽSTVO","pokus"]
[]
[{"$f":"IF('Start - jaro'!M16=\"\",\"\",\"x\")","v":""},61,{"$f":"IF('Start - jaro'!K16=\"\",\"\",'Start - jaro'!K16)","v":""},"I.pokus",null,null,null,{"$f":"IF($C105=\"\",\"\",IF(OR($E105=\"DNF\",$F105=\"DNF\",$G105=\"DNF\"),\"DNF\",IF(OR($E105=\"NP\",$F105=\"NP\",$G105=\"NP\"),\"NP\",IF(ISERROR(MEDIAN($E105:$G105)),\"DNF\",IF(COUNT($E105:$G105)<3,MAX($E105:$G105),MEDIAN($E105:$G105))))))","v":""},{"$f":"IF($A105=\"x\",\"x\",IF($C105=\"\",\"\",IF(OR(J105=\"NP\",J105=\"DNF\"),IF(J105=\"NP\",MAX(Oblast2)+COUNTIF(($J$12:$J$154),MAX(Oblast2))+COUNTIF(($U$12:$U$154),MAX(Oblast2)),MAX(Oblast2)+COUNTIF(($J$12:$J$154),MAX(Oblast2))+COUNTIF(($U$12:$U$154),MAX(Oblast2))+COUNTIF(($J$12:$J$154),\"NP\")+COUNTIF(($U$12:$U$154),\"NP\")),J105)))","v":""},{"$f":"IF($A105=\"x\",\"x\",IF($C105=\"\",\"\",IF(OR(K105=\"NP\",K105=\"DNF\"),K105,RANK(K105,Oblast,1))))","v":""},{"$f":"IF($A105=\"x\",\"x\",IF($C105=\"\",\"\",IF(OR(AND(H105=\"NP\",H106=\"NP\"),AND(H105=\"DNF\",H106=\"DNF\")),H105,IF(AND(H105=\"NP\",H106=\"DNF\"),H105,IF(AND(H105=\"DNF\",H106=\"NP\"),H106,MIN(H105,H106))))))","v":""},{"$f":"IF('Start - jaro'!M26=\"\",\"\",\"x\")","v":""},71,{"$f":"IF('Start - jaro'!K26=\"\",\"\",'Start - jaro'!K26)","v":""},"I.pokus",null,null,null,{"$f":"IF($N105=\"\",\"\",IF(OR($P105=\"DNF\",$Q105=\"DNF\",$R105=\"DNF\"),\"DNF\",IF(OR($P105=\"NP\",$Q105=\"NP\",$R105=\"NP\"),\"NP\",IF(ISERROR(MEDIAN($P105:$R105)),\"DNF\",IF(COUNT($P105:$R105)<3,MAX($P105:$R105),MEDIAN($P105:$R105))))))","v":""},{"$f":"IF($L105=\"x\",\"x\",IF($N105=\"\",\"\",IF(OR(U105=\"NP\",U105=\"DNF\"),IF(U105=\"NP\",MAX(Oblast2)+COUNTIF(($J$12:$J$154),MAX(Oblast2))+COUNTIF(($U$12:$U$154),MAX(Oblast2)),MAX(Oblast2)+COUNTIF(($J$12:$J$154),MAX(Oblast2))+COUNTIF(($U$12:$U$154),MAX(Oblast2))+COUNTIF(($J$12:$J$154),\"NP\")+COUNTIF(($U$12:$U$154),\"NP\")),U105)))","v":""},{"$f":"IF($L105=\"x\",\"x\",IF($N105=\"\",\"\",IF(OR(V105=\"NP\",V105=\"DNF\"),V105,RANK(V105,Oblast,1))))","v":""},{"$f":"IF($L105=\"x\",\"x\",IF($N105=\"\",\"\",IF(OR(AND(S105=\"NP\",S106=\"NP\"),AND(S105=\"DNF\",S106=\"DNF\")),S105,IF(AND(S105=\"NP\",S106=\"DNF\"),S105,IF(AND(S105=\"DNF\",S106=\"NP\"),S106,MIN(S105,S106))))))","v":""}]
[null,null,null,"II.pokus",null,null,null,{"$f":"IF($C105=\"\",\"\",IF(OR($E106=\"DNF\",$F106=\"DNF\",$G106=\"DNF\"),\"DNF\",IF(OR($E106=\"NP\",$F106=\"NP\",$G106=\"NP\"),\"NP\",IF(ISERROR(MEDIAN($E106:$G106)),\"DNF\",IF(COUNT($E106:$G106)<3,MAX($E106:$G106),MEDIAN($E106:$G106))))))","v":""},null,null,null,null,null,null,"II.pokus",null,null,null,{"$f":"IF($N105=\"\",\"\",IF(OR($P106=\"DNF\",$Q106=\"DNF\",$R106=\"DNF\"),\"DNF\",IF(OR($P106=\"NP\",$Q106=\"NP\",$R106=\"NP\"),\"NP\",IF(ISERROR(MEDIAN($P106:$R106)),\"DNF\",IF(COUNT($P106:$R106)<3,MAX($P106:$R106),MEDIAN($P106:$R106))))))","v":""}]
[{"$f":"IF('Start - jaro'!M17=\"\",\"\",\"x\")","v":""},62,{"$f":"IF('Start - jaro'!K17=\"\",\"\",'Start - jaro'!K17)","v":""},"I.pokus",null,null,null,{"$f":"IF($C107=\"\",\"\",IF(OR($E107=\"DNF\",$F107=\"DNF\",$G107=\"DNF\"),\"DNF\",IF(OR($E107=\"NP\",$F107=\"NP\",$G107=\"NP\"),\"NP\",IF(ISERROR(MEDIAN($E107:$G107)),\"DNF\",IF(COUNT($E107:$G107)<3,MAX($E107:$G107),MEDIAN($E107:$G107))))))","v":""},{"$f":"IF($A107=\"x\",\"x\",IF($C107=\"\",\"\",IF(OR(J107=\"NP\",J107=\"DNF\"),IF(J107=\"NP\",MAX(Oblast2)+COUNTIF(($J$12:$J$154),MAX(Oblast2))+COUNTIF(($U$12:$U$154),MAX(Oblast2)),MAX(Oblast2)+COUNTIF(($J$12:$J$154),MAX(Oblast2))+COUNTIF(($U$12:$U$154),MAX(Oblast2))+COUNTIF(($J$12:$J$154),\"NP\")+COUNTIF(($U$12:$U$154),\"NP\")),J107)))","v":""},{"$f":"IF($A107=\"x\",\"x\",IF($C107=\"\",\"\",IF(OR(K107=\"NP\",K107=\"DNF\"),K107,RANK(K107,Oblast,1))))","v":""},{"$f":"IF($A107=\"x\",\"x\",IF($C107=\"\",\"\",IF(OR(AND(H107=\"NP\",H108=\"NP\"),AND(H107=\"DNF\",H108=\"DNF\")),H107,IF(AND(H107=\"NP\",H108=\"DNF\"),H107,IF(AND(H107=\"DNF\",H108=\"NP\"),H108,MIN(H107,H108))))))","v":""},{"$f":"IF('Start - jaro'!M27=\"\",\"\",\"x\")","v":""},72,{"$f":"IF('Start - jaro'!K27=\"\",\"\",'Start - jaro'!K27)","v":""},"I.pokus",null,null,null,{"$f":"IF($N107=\"\",\"\",IF(OR($P107=\"DNF\",$Q107=\"DNF\",$R107=\"DNF\"),\"DNF\",IF(OR($P107=\"NP\",$Q107=\"NP\",$R107=\"NP\"),\"NP\",IF(ISERROR(MEDIAN($P107:$R107)),\"DNF\",IF(COUNT($P107:$R107)<3,MAX($P107:$R107),MEDIAN($P107:$R107))))))","v":""},{"$f":"IF($L107=\"x\",\"x\",IF($N107=\"\",\"\",IF(OR(U107=\"NP\",U107=\"DNF\"),IF(U107=\"NP\",MAX(Oblast2)+COUNTIF(($J$12:$J$154),MAX(Oblast2))+COUNTIF(($U$12:$U$154),MAX(Oblast2)),MAX(Oblast2)+COUNTIF(($J$12:$J$154),MAX(Oblast2))+COUNTIF(($U$12:$U$154),MAX(Oblast2))+COUNTIF(($J$12:$J$154),\"NP\")+COUNTIF(($U$12:$U$154),\"NP\")),U107)))","v":""},{"$f":"IF($L107=\"x\",\"x\",IF($N107=\"\",\"\",IF(OR(V107=\"NP\",V107=\"DNF\"),V107,RANK(V107,Oblast,1))))","v":""},{"$f":"IF($L107=\"x\",\"x\",IF($N107=\"\",\"\",IF(OR(AND(S107=\"NP\",S108=\"NP\"),AND(S107=\"DNF\",S108=\"DNF\")),S107,IF(AND(S107=\"NP\",S108=\"DNF\"),S107,IF(AND(S107=\"DNF\",S108=\"NP\"),S108,MIN(S107,S108))))))","v":""}]
[null,null,null,"II.pokus",null,null,null,{"$f":"IF($C107=\"\",\"\",IF(OR($E108=\"DNF\",$F108=\"DNF\",$G108=\"DNF\"),\"DNF\",IF(OR($E108=\"NP\",$F108=\"NP\",$G108=\"NP\"),\"NP\",IF(ISERROR(MEDIAN($E108:$G108)),\"DNF\",IF(COUNT($E108:$G108)<3,MAX($E108:$G108),MEDIAN($E108:$G108))))))","v":""},null,null,null,null,null,null,"II.pokus",null,null,null,{"$f":"IF($N107=\"\",\"\",IF(OR($P108=\"DNF\",$Q108=\"DNF\",$R108=\"DNF\"),\"DNF\",IF(OR($P108=\"NP\",$Q108=\"NP\",$R108=\"NP\"),\"NP\",IF(ISERROR(MEDIAN($P108:$R108)),\"DNF\",IF(COUNT($P108:$R108)<3,MAX($P108:$R108),MEDIAN($P108:$R108))))))","v":""}]
[{"$f":"IF('Start - jaro'!M18=\"\",\"\",\"x\")","v":""},63,{"$f":"IF('Start - jaro'!K18=\"\",\"\",'Start - jaro'!K18)","v":""},"I.pokus",null,null,null,{"$f":"IF($C109=\"\",\"\",IF(OR($E109=\"DNF\",$F109=\"DNF\",$G109=\"DNF\"),\"DNF\",IF(OR($E109=\"NP\",$F109=\"NP\",$G109=\"NP\"),\"NP\",IF(ISERROR(MEDIAN($E109:$G109)),\"DNF\",IF(COUNT($E109:$G109)<3,MAX($E109:$G109),MEDIAN($E109:$G109))))))","v":""},{"$f":"IF($A109=\"x\",\"x\",IF($C109=\"\",\"\",IF(OR(J109=\"NP\",J109=\"DNF\"),IF(J109=\"NP\",MAX(Oblast2)+COUNTIF(($J$12:$J$154),MAX(Oblast2))+COUNTIF(($U$12:$U$154),MAX(Oblast2)),MAX(Oblast2)+COUNTIF(($J$12:$J$154),MAX(Oblast2))+COUNTIF(($U$12:$U$154),MAX(Oblast2))+COUNTIF(($J$12:$J$154),\"NP\")+COUNTIF(($U$12:$U$154),\"NP\")),J109)))","v":""},{"$f":"IF($A109=\"x\",\"x\",IF($C109=\"\",\"\",IF(OR(K109=\"NP\",K109=\"DNF\"),K109,RANK(K109,Oblast,1))))","v":""},{"$f":"IF($A109=\"x\",\"x\",IF($C109=\"\",\"\",IF(OR(AND(H109=\"NP\",H110=\"NP\"),AND(H109=\"DNF\",H110=\"DNF\")),H109,IF(AND(H109=\"NP\",H110=\"DNF\"),H109,IF(AND(H109=\"DNF\",H110=\"NP\"),H110,MIN(H109,H110))))))","v":""},{"$f":"IF('Start - jaro'!M28=\"\",\"\",\"x\")","v":""},73,{"$f":"IF('Start - jaro'!K28=\"\",\"\",'Start - jaro'!K28)","v":""},"I.pokus",null,null,null,{"$f":"IF($N109=\"\",\"\",IF(OR($P109=\"DNF\",$Q109=\"DNF\",$R109=\"DNF\"),\"DNF\",IF(OR($P109=\"NP\",$Q109=\"NP\",$R109=\"NP\"),\"NP\",IF(ISERROR(MEDIAN($P109:$R109)),\"DNF\",IF(COUNT($P109:$R109)<3,MAX($P109:$R109),MEDIAN($P109:$R109))))))","v":""},{"$f":"IF($L109=\"x\",\"x\",IF($N109=\"\",\"\",IF(OR(U109=\"NP\",U109=\"DNF\"),IF(U109=\"NP\",MAX(Oblast2)+COUNTIF(($J$12:$J$154),MAX(Oblast2))+COUNTIF(($U$12:$U$154),MAX(Oblast2)),MAX(Oblast2)+COUNTIF(($J$12:$J$154),MAX(Oblast2))+COUNTIF(($U$12:$U$154),MAX(Oblast2))+COUNTIF(($J$12:$J$154),\"NP\")+COUNTIF(($U$12:$U$154),\"NP\")),U109)))","v":""},{"$f":"IF($L109=\"x\",\"x\",IF($N109=\"\",\"\",IF(OR(V109=\"NP\",V109=\"DNF\"),V109,RANK(V109,Oblast,1))))","v":""},{"$f":"IF($L109=\"x\",\"x\",IF($N109=\"\",\"\",IF(OR(AND(S109=\"NP\",S110=\"NP\"),AND(S109=\"DNF\",S110=\"DNF\")),S109,IF(AND(S109=\"NP\",S110=\"DNF\"),S109,IF(AND(S109=\"DNF\",S110=\"NP\"),S110,MIN(S109,S110))))))","v":""}]
[null,null,null,"II.pokus",null,null,null,{"$f":"IF($C109=\"\",\"\",IF(OR($E110=\"DNF\",$F110=\"DNF\",$G110=\"DNF\"),\"DNF\",IF(OR($E110=\"NP\",$F110=\"NP\",$G110=\"NP\"),\"NP\",IF(ISERROR(MEDIAN($E110:$G110)),\"DNF\",IF(COUNT($E110:$G110)<3,MAX($E110:$G110),MEDIAN($E110:$G110))))))","v":""},null,null,null,null,null,null,"II.pokus",null,null,null,{"$f":"IF($N109=\"\",\"\",IF(OR($P110=\"DNF\",$Q110=\"DNF\",$R110=\"DNF\"),\"DNF\",IF(OR($P110=\"NP\",$Q110=\"NP\",$R110=\"NP\"),\"NP\",IF(ISERROR(MEDIAN($P110:$R110)),\"DNF\",IF(COUNT($P110:$R110)<3,MAX($P110:$R110),MEDIAN($P110:$R110))))))","v":""}]
[{"$f":"IF('Start - jaro'!M19=\"\",\"\",\"x\")","v":""},64,{"$f":"IF('Start - jaro'!K19=\"\",\"\",'Start - jaro'!K19)","v":""},"I.pokus",null,null,null,{"$f":"IF($C111=\"\",\"\",IF(OR($E111=\"DNF\",$F111=\"DNF\",$G111=\"DNF\"),\"DNF\",IF(OR($E111=\"NP\",$F111=\"NP\",$G111=\"NP\"),\"NP\",IF(ISERROR(MEDIAN($E111:$G111)),\"DNF\",IF(COUNT($E111:$G111)<3,MAX($E111:$G111),MEDIAN($E111:$G111))))))","v":""},{"$f":"IF($A111=\"x\",\"x\",IF($C111=\"\",\"\",IF(OR(J111=\"NP\",J111=\"DNF\"),IF(J111=\"NP\",MAX(Oblast2)+COUNTIF(($J$12:$J$154),MAX(Oblast2))+COUNTIF(($U$12:$U$154),MAX(Oblast2)),MAX(Oblast2)+COUNTIF(($J$12:$J$154),MAX(Oblast2))+COUNTIF(($U$12:$U$154),MAX(Oblast2))+COUNTIF(($J$12:$J$154),\"NP\")+COUNTIF(($U$12:$U$154),\"NP\")),J111)))","v":""},{"$f":"IF($A111=\"x\",\"x\",IF($C111=\"\",\"\",IF(OR(K111=\"NP\",K111=\"DNF\"),K111,RANK(K111,Oblast,1))))","v":""},{"$f":"IF($A111=\"x\",\"x\",IF($C111=\"\",\"\",IF(OR(AND(H111=\"NP\",H112=\"NP\"),AND(H111=\"DNF\",H112=\"DNF\")),H111,IF(AND(H111=\"NP\",H112=\"DNF\"),H111,IF(AND(H111=\"DNF\",H112=\"NP\"),H112,MIN(H111,H112))))))","v":""},{"$f":"IF('Start - jaro'!M29=\"\",\"\",\"x\")","v":""},74,{"$f":"IF('Start - jaro'!K29=\"\",\"\",'Start - jaro'!K29)","v":""},"I.pokus",null,null,null,{"$f":"IF($N111=\"\",\"\",IF(OR($P111=\"DNF\",$Q111=\"DNF\",$R111=\"DNF\"),\"DNF\",IF(OR($P111=\"NP\",$Q111=\"NP\",$R111=\"NP\"),\"NP\",IF(ISERROR(MEDIAN($P111:$R111)),\"DNF\",IF(COUNT($P111:$R111)<3,MAX($P111:$R111),MEDIAN($P111:$R111))))))","v":""},{"$f":"IF($L111=\"x\",\"x\",IF($N111=\"\",\"\",IF(OR(U111=\"NP\",U111=\"DNF\"),IF(U111=\"NP\",MAX(Oblast2)+COUNTIF(($J$12:$J$154),MAX(Oblast2))+COUNTIF(($U$12:$U$154),MAX(Oblast2)),MAX(Oblast2)+COUNTIF(($J$12:$J$154),MAX(Oblast2))+COUNTIF(($U$12:$U$154),MAX(Oblast2))+COUNTIF(($J$12:$J$154),\"NP\")+COUNTIF(($U$12:$U$154),\"NP\")),U111)))","v":""},{"$f":"IF($L111=\"x\",\"x\",IF($N111=\"\",\"\",IF(OR(V111=\"NP\",V111=\"DNF\"),V111,RANK(V111,Oblast,1))))","v":""},{"$f":"IF($L111=\"x\",\"x\",IF($N111=\"\",\"\",IF(OR(AND(S111=\"NP\",S112=\"NP\"),AND(S111=\"DNF\",S112=\"DNF\")),S111,IF(AND(S111=\"NP\",S112=\"DNF\"),S111,IF(AND(S111=\"DNF\",S112=\"NP\"),S112,MIN(S111,S112))))))","v":""}]
[null,null,null,"II.pokus",null,null,null,{"$f":"IF($C111=\"\",\"\",IF(OR($E112=\"DNF\",$F112=\"DNF\",$G112=\"DNF\"),\"DNF\",IF(OR($E112=\"NP\",$F112=\"NP\",$G112=\"NP\"),\"NP\",IF(ISERROR(MEDIAN($E112:$G112)),\"DNF\",IF(COUNT($E112:$G112)<3,MAX($E112:$G112),MEDIAN($E112:$G112))))))","v":""},null,null,null,null,null,null,"II.pokus",null,null,null,{"$f":"IF($N111=\"\",\"\",IF(OR($P112=\"DNF\",$Q112=\"DNF\",$R112=\"DNF\"),\"DNF\",IF(OR($P112=\"NP\",$Q112=\"NP\",$R112=\"NP\"),\"NP\",IF(ISERROR(MEDIAN($P112:$R112)),\"DNF\",IF(COUNT($P112:$R112)<3,MAX($P112:$R112),MEDIAN($P112:$R112))))))","v":""}]
[{"$f":"IF('Start - jaro'!M20=\"\",\"\",\"x\")","v":""},65,{"$f":"IF('Start - jaro'!K20=\"\",\"\",'Start - jaro'!K20)","v":""},"I.pokus",null,null,null,{"$f":"IF($C113=\"\",\"\",IF(OR($E113=\"DNF\",$F113=\"DNF\",$G113=\"DNF\"),\"DNF\",IF(OR($E113=\"NP\",$F113=\"NP\",$G113=\"NP\"),\"NP\",IF(ISERROR(MEDIAN($E113:$G113)),\"DNF\",IF(COUNT($E113:$G113)<3,MAX($E113:$G113),MEDIAN($E113:$G113))))))","v":""},{"$f":"IF($A113=\"x\",\"x\",IF($C113=\"\",\"\",IF(OR(J113=\"NP\",J113=\"DNF\"),IF(J113=\"NP\",MAX(Oblast2)+COUNTIF(($J$12:$J$154),MAX(Oblast2))+COUNTIF(($U$12:$U$154),MAX(Oblast2)),MAX(Oblast2)+COUNTIF(($J$12:$J$154),MAX(Oblast2))+COUNTIF(($U$12:$U$154),MAX(Oblast2))+COUNTIF(($J$12:$J$154),\"NP\")+COUNTIF(($U$12:$U$154),\"NP\")),J113)))","v":""},{"$f":"IF($A113=\"x\",\"x\",IF($C113=\"\",\"\",IF(OR(K113=\"NP\",K113=\"DNF\"),K113,RANK(K113,Oblast,1))))","v":""},{"$f":"IF($A113=\"x\",\"x\",IF($C113=\"\",\"\",IF(OR(AND(H113=\"NP\",H114=\"NP\"),AND(H113=\"DNF\",H114=\"DNF\")),H113,IF(AND(H113=\"NP\",H114=\"DNF\"),H113,IF(AND(H113=\"DNF\",H114=\"NP\"),H114,MIN(H113,H114))))))","v":""},{"$f":"IF('Start - jaro'!M30=\"\",\"\",\"x\")","v":""},75,{"$f":"IF('Start - jaro'!K30=\"\",\"\",'Start - jaro'!K30)","v":""},"I.pokus",null,null,null,{"$f":"IF($N113=\"\",\"\",IF(OR($P113=\"DNF\",$Q113=\"DNF\",$R113=\"DNF\"),\"DNF\",IF(OR($P113=\"NP\",$Q113=\"NP\",$R113=\"NP\"),\"NP\",IF(ISERROR(MEDIAN($P113:$R113)),\"DNF\",IF(COUNT($P113:$R113)<3,MAX($P113:$R113),MEDIAN($P113:$R113))))))","v":""},{"$f":"IF($L113=\"x\",\"x\",IF($N113=\"\",\"\",IF(OR(U113=\"NP\",U113=\"DNF\"),IF(U113=\"NP\",MAX(Oblast2)+COUNTIF(($J$12:$J$154),MAX(Oblast2))+COUNTIF(($U$12:$U$154),MAX(Oblast2)),MAX(Oblast2)+COUNTIF(($J$12:$J$154),MAX(Oblast2))+COUNTIF(($U$12:$U$154),MAX(Oblast2))+COUNTIF(($J$12:$J$154),\"NP\")+COUNTIF(($U$12:$U$154),\"NP\")),U113)))","v":""},{"$f":"IF($L113=\"x\",\"x\",IF($N113=\"\",\"\",IF(OR(V113=\"NP\",V113=\"DNF\"),V113,RANK(V113,Oblast,1))))","v":""},{"$f":"IF($L113=\"x\",\"x\",IF($N113=\"\",\"\",IF(OR(AND(S113=\"NP\",S114=\"NP\"),AND(S113=\"DNF\",S114=\"DNF\")),S113,IF(AND(S113=\"NP\",S114=\"DNF\"),S113,IF(AND(S113=\"DNF\",S114=\"NP\"),S114,MIN(S113,S114))))))","v":""}]
[null,null,null,"II.pokus",null,null,null,{"$f":"IF($C113=\"\",\"\",IF(OR($E114=\"DNF\",$F114=\"DNF\",$G114=\"DNF\"),\"DNF\",IF(OR($E114=\"NP\",$F114=\"NP\",$G114=\"NP\"),\"NP\",IF(ISERROR(MEDIAN($E114:$G114)),\"DNF\",IF(COUNT($E114:$G114)<3,MAX($E114:$G114),MEDIAN($E114:$G114))))))","v":""},null,null,null,null,null,null,"II.pokus",null,null,null,{"$f":"IF($N113=\"\",\"\",IF(OR($P114=\"DNF\",$Q114=\"DNF\",$R114=\"DNF\"),\"DNF\",IF(OR($P114=\"NP\",$Q114=\"NP\",$R114=\"NP\"),\"NP\",IF(ISERROR(MEDIAN($P114:$R114)),\"DNF\",IF(COUNT($P114:$R114)<3,MAX($P114:$R114),MEDIAN($P114:$R114))))))","v":""}]
[{"$f":"IF('Start - jaro'!M21=\"\",\"\",\"x\")","v":""},66,{"$f":"IF('Start - jaro'!K21=\"\",\"\",'Start - jaro'!K21)","v":""},"I.pokus",null,null,null,{"$f":"IF($C115=\"\",\"\",IF(OR($E115=\"DNF\",$F115=\"DNF\",$G115=\"DNF\"),\"DNF\",IF(OR($E115=\"NP\",$F115=\"NP\",$G115=\"NP\"),\"NP\",IF(ISERROR(MEDIAN($E115:$G115)),\"DNF\",IF(COUNT($E115:$G115)<3,MAX($E115:$G115),MEDIAN($E115:$G115))))))","v":""},{"$f":"IF($A115=\"x\",\"x\",IF($C115=\"\",\"\",IF(OR(J115=\"NP\",J115=\"DNF\"),IF(J115=\"NP\",MAX(Oblast2)+COUNTIF(($J$12:$J$154),MAX(Oblast2))+COUNTIF(($U$12:$U$154),MAX(Oblast2)),MAX(Oblast2)+COUNTIF(($J$12:$J$154),MAX(Oblast2))+COUNTIF(($U$12:$U$154),MAX(Oblast2))+COUNTIF(($J$12:$J$154),\"NP\")+COUNTIF(($U$12:$U$154),\"NP\")),J115)))","v":""},{"$f":"IF($A115=\"x\",\"x\",IF($C115=\"\",\"\",IF(OR(K115=\"NP\",K115=\"DNF\"),K115,RANK(K115,Oblast,1))))","v":""},{"$f":"IF($A115=\"x\",\"x\",IF($C115=\"\",\"\",IF(OR(AND(H115=\"NP\",H116=\"NP\"),AND(H115=\"DNF\",H116=\"DNF\")),H115,IF(AND(H115=\"NP\",H116=\"DNF\"),H115,IF(AND(H115=\"DNF\",H116=\"NP\"),H116,MIN(H115,H116))))))","v":""},{"$f":"IF('Start - jaro'!Q6=\"\",\"\",\"x\")","v":""},76,{"$f":"IF('Start - jaro'!O6=\"\",\"\",'Start - jaro'!O6)","v":""},"I.pokus",null,null,null,{"$f":"IF($N115=\"\",\"\",IF(OR($P115=\"DNF\",$Q115=\"DNF\",$R115=\"DNF\"),\"DNF\",IF(OR($P115=\"NP\",$Q115=\"NP\",$R115=\"NP\"),\"NP\",IF(ISERROR(MEDIAN($P115:$R115)),\"DNF\",IF(COUNT($P115:$R115)<3,MAX($P115:$R115),MEDIAN($P115:$R115))))))","v":""},{"$f":"IF($L115=\"x\",\"x\",IF($N115=\"\",\"\",IF(OR(U115=\"NP\",U115=\"DNF\"),IF(U115=\"NP\",MAX(Oblast2)+COUNTIF(($J$12:$J$154),MAX(Oblast2))+COUNTIF(($U$12:$U$154),MAX(Oblast2)),MAX(Oblast2)+COUNTIF(($J$12:$J$154),MAX(Oblast2))+COUNTIF(($U$12:$U$154),MAX(Oblast2))+COUNTIF(($J$12:$J$154),\"NP\")+COUNTIF(($U$12:$U$154),\"NP\")),U115)))","v":""},{"$f":"IF($L115=\"x\",\"x\",IF($N115=\"\",\"\",IF(OR(V115=\"NP\",V115=\"DNF\"),V115,RANK(V115,Oblast,1))))","v":""},{"$f":"IF($L115=\"x\",\"x\",IF($N115=\"\",\"\",IF(OR(AND(S115=\"NP\",S116=\"NP\"),AND(S115=\"DNF\",S116=\"DNF\")),S115,IF(AND(S115=\"NP\",S116=\"DNF\"),S115,IF(AND(S115=\"DNF\",S116=\"NP\"),S116,MIN(S115,S116))))))","v":""}]
[null,null,null,"II.pokus",null,null,null,{"$f":"IF($C115=\"\",\"\",IF(OR($E116=\"DNF\",$F116=\"DNF\",$G116=\"DNF\"),\"DNF\",IF(OR($E116=\"NP\",$F116=\"NP\",$G116=\"NP\"),\"NP\",IF(ISERROR(MEDIAN($E116:$G116)),\"DNF\",IF(COUNT($E116:$G116)<3,MAX($E116:$G116),MEDIAN($E116:$G116))))))","v":""},null,null,null,null,null,null,"II.pokus",null,null,null,{"$f":"IF($N115=\"\",\"\",IF(OR($P116=\"DNF\",$Q116=\"DNF\",$R116=\"DNF\"),\"DNF\",IF(OR($P116=\"NP\",$Q116=\"NP\",$R116=\"NP\"),\"NP\",IF(ISERROR(MEDIAN($P116:$R116)),\"DNF\",IF(COUNT($P116:$R116)<3,MAX($P116:$R116),MEDIAN($P116:$R116))))))","v":""}]
[{"$f":"IF('Start - jaro'!M22=\"\",\"\",\"x\")","v":""},67,{"$f":"IF('Start - jaro'!K22=\"\",\"\",'Start - jaro'!K22)","v":""},"I.pokus",null,null,null,{"$f":"IF($C117=\"\",\"\",IF(OR($E117=\"DNF\",$F117=\"DNF\",$G117=\"DNF\"),\"DNF\",IF(OR($E117=\"NP\",$F117=\"NP\",$G117=\"NP\"),\"NP\",IF(ISERROR(MEDIAN($E117:$G117)),\"DNF\",IF(COUNT($E117:$G117)<3,MAX($E117:$G117),MEDIAN($E117:$G117))))))","v":""},{"$f":"IF($A117=\"x\",\"x\",IF($C117=\"\",\"\",IF(OR(J117=\"NP\",J117=\"DNF\"),IF(J117=\"NP\",MAX(Oblast2)+COUNTIF(($J$12:$J$154),MAX(Oblast2))+COUNTIF(($U$12:$U$154),MAX(Oblast2)),MAX(Oblast2)+COUNTIF(($J$12:$J$154),MAX(Oblast2))+COUNTIF(($U$12:$U$154),MAX(Oblast2))+COUNTIF(($J$12:$J$154),\"NP\")+COUNTIF(($U$12:$U$154),\"NP\")),J117)))","v":""},{"$f":"IF($A117=\"x\",\"x\",IF($C117=\"\",\"\",IF(OR(K117=\"NP\",K117=\"DNF\"),K117,RANK(K117,Oblast,1))))","v":""},{"$f":"IF($A117=\"x\",\"x\",IF($C117=\"\",\"\",IF(OR(AND(H117=\"NP\",H118=\"NP\"),AND(H117=\"DNF\",H118=\"DNF\")),H117,IF(AND(H117=\"NP\",H118=\"DNF\"),H117,IF(AND(H117=\"DNF\",H118=\"NP\"),H118,MIN(H117,H118))))))","v":""},{"$f":"IF('Start - jaro'!Q7=\"\",\"\",\"x\")","v":""},77,{"$f":"IF('Start - jaro'!O7=\"\",\"\",'Start - jaro'!O7)","v":""},"I.pokus",null,null,null,{"$f":"IF($N117=\"\",\"\",IF(OR($P117=\"DNF\",$Q117=\"DNF\",$R117=\"DNF\"),\"DNF\",IF(OR($P117=\"NP\",$Q117=\"NP\",$R117=\"NP\"),\"NP\",IF(ISERROR(MEDIAN($P117:$R117)),\"DNF\",IF(COUNT($P117:$R117)<3,MAX($P117:$R117),MEDIAN($P117:$R117))))))","v":""},{"$f":"IF($L117=\"x\",\"x\",IF($N117=\"\",\"\",IF(OR(U117=\"NP\",U117=\"DNF\"),IF(U117=\"NP\",MAX(Oblast2)+COUNTIF(($J$12:$J$154),MAX(Oblast2))+COUNTIF(($U$12:$U$154),MAX(Oblast2)),MAX(Oblast2)+COUNTIF(($J$12:$J$154),MAX(Oblast2))+COUNTIF(($U$12:$U$154),MAX(Oblast2))+COUNTIF(($J$12:$J$154),\"NP\")+COUNTIF(($U$12:$U$154),\"NP\")),U117)))","v":""},{"$f":"IF($L117=\"x\",\"x\",IF($N117=\"\",\"\",IF(OR(V117=\"NP\",V117=\"DNF\"),V117,RANK(V117,Oblast,1))))","v":""},{"$f":"IF($L117=\"x\",\"x\",IF($N117=\"\",\"\",IF(OR(AND(S117=\"NP\",S118=\"NP\"),AND(S117=\"DNF\",S118=\"DNF\")),S117,IF(AND(S117=\"NP\",S118=\"DNF\"),S117,IF(AND(S117=\"DNF\",S118=\"NP\"),S118,MIN(S117,S118))))))","v":""}]
[null,null,null,"II.pokus",null,null,null,{"$f":"IF($C117=\"\",\"\",IF(OR($E118=\"DNF\",$F118=\"DNF\",$G118=\"DNF\"),\"DNF\",IF(OR($E118=\"NP\",$F118=\"NP\",$G118=\"NP\"),\"NP\",IF(ISERROR(MEDIAN($E118:$G118)),\"DNF\",IF(COUNT($E118:$G118)<3,MAX($E118:$G118),MEDIAN($E118:$G118))))))","v":""},null,null,null,null,null,null,"II.pokus",null,null,null,{"$f":"IF($N117=\"\",\"\",IF(OR($P118=\"DNF\",$Q118=\"DNF\",$R118=\"DNF\"),\"DNF\",IF(OR($P118=\"NP\",$Q118=\"NP\",$R118=\"NP\"),\"NP\",IF(ISERROR(MEDIAN($P118:$R118)),\"DNF\",IF(COUNT($P118:$R118)<3,MAX($P118:$R118),MEDIAN($P118:$R118))))))","v":""}]
[{"$f":"IF('Start - jaro'!M23=\"\",\"\",\"x\")","v":""},68,{"$f":"IF('Start - jaro'!K23=\"\",\"\",'Start - jaro'!K23)","v":""},"I.pokus",null,null,null,{"$f":"IF($C119=\"\",\"\",IF(OR($E119=\"DNF\",$F119=\"DNF\",$G119=\"DNF\"),\"DNF\",IF(OR($E119=\"NP\",$F119=\"NP\",$G119=\"NP\"),\"NP\",IF(ISERROR(MEDIAN($E119:$G119)),\"DNF\",IF(COUNT($E119:$G119)<3,MAX($E119:$G119),MEDIAN($E119:$G119))))))","v":""},{"$f":"IF($A119=\"x\",\"x\",IF($C119=\"\",\"\",IF(OR(J119=\"NP\",J119=\"DNF\"),IF(J119=\"NP\",MAX(Oblast2)+COUNTIF(($J$12:$J$154),MAX(Oblast2))+COUNTIF(($U$12:$U$154),MAX(Oblast2)),MAX(Oblast2)+COUNTIF(($J$12:$J$154),MAX(Oblast2))+COUNTIF(($U$12:$U$154),MAX(Oblast2))+COUNTIF(($J$12:$J$154),\"NP\")+COUNTIF(($U$12:$U$154),\"NP\")),J119)))","v":""},{"$f":"IF($A119=\"x\",\"x\",IF($C119=\"\",\"\",IF(OR(K119=\"NP\",K119=\"DNF\"),K119,RANK(K119,Oblast,1))))","v":""},{"$f":"IF($A119=\"x\",\"x\",IF($C119=\"\",\"\",IF(OR(AND(H119=\"NP\",H120=\"NP\"),AND(H119=\"DNF\",H120=\"DNF\")),H119,IF(AND(H119=\"NP\",H120=\"DNF\"),H119,IF(AND(H119=\"DNF\",H120=\"NP\"),H120,MIN(H119,H120))))))","v":""},{"$f":"IF('Start - jaro'!Q8=\"\",\"\",\"x\")","v":""},78,{"$f":"IF('Start - jaro'!O8=\"\",\"\",'Start - jaro'!O8)","v":""},"I.pokus",null,null,null,{"$f":"IF($N119=\"\",\"\",IF(OR($P119=\"DNF\",$Q119=\"DNF\",$R119=\"DNF\"),\"DNF\",IF(OR($P119=\"NP\",$Q119=\"NP\",$R119=\"NP\"),\"NP\",IF(ISERROR(MEDIAN($P119:$R119)),\"DNF\",IF(COUNT($P119:$R119)<3,MAX($P119:$R119),MEDIAN($P119:$R119))))))","v":""},{"$f":"IF($L119=\"x\",\"x\",IF($N119=\"\",\"\",IF(OR(U119=\"NP\",U119=\"DNF\"),IF(U119=\"NP\",MAX(Oblast2)+COUNTIF(($J$12:$J$154),MAX(Oblast2))+COUNTIF(($U$12:$U$154),MAX(Oblast2)),MAX(Oblast2)+COUNTIF(($J$12:$J$154),MAX(Oblast2))+COUNTIF(($U$12:$U$154),MAX(Oblast2))+COUNTIF(($J$12:$J$154),\"NP\")+COUNTIF(($U$12:$U$154),\"NP\")),U119)))","v":""},{"$f":"IF($L119=\"x\",\"x\",IF($N119=\"\",\"\",IF(OR(V119=\"NP\",V119=\"DNF\"),V119,RANK(V119,Oblast,1))))","v":""},{"$f":"IF($L119=\"x\",\"x\",IF($N119=\"\",\"\",IF(OR(AND(S119=\"NP\",S120=\"NP\"),AND(S119=\"DNF\",S120=\"DNF\")),S119,IF(AND(S119=\"NP\",S120=\"DNF\"),S119,IF(AND(S119=\"DNF\",S120=\"NP\"),S120,MIN(S119,S120))))))","v":""}]
[null,null,null,"II.pokus",null,null,null,{"$f":"IF($C119=\"\",\"\",IF(OR($E120=\"DNF\",$F120=\"DNF\",$G120=\"DNF\"),\"DNF\",IF(OR($E120=\"NP\",$F120=\"NP\",$G120=\"NP\"),\"NP\",IF(ISERROR(MEDIAN($E120:$G120)),\"DNF\",IF(COUNT($E120:$G120)<3,MAX($E120:$G120),MEDIAN($E120:$G120))))))","v":""},null,null,null,null,null,null,"II.pokus",null,null,null,{"$f":"IF($N119=\"\",\"\",IF(OR($P120=\"DNF\",$Q120=\"DNF\",$R120=\"DNF\"),\"DNF\",IF(OR($P120=\"NP\",$Q120=\"NP\",$R120=\"NP\"),\"NP\",IF(ISERROR(MEDIAN($P120:$R120)),\"DNF\",IF(COUNT($P120:$R120)<3,MAX($P120:$R120),MEDIAN($P120:$R120))))))","v":""}]
[{"$f":"IF('Start - jaro'!M24=\"\",\"\",\"x\")","v":""},69,{"$f":"IF('Start - jaro'!K24=\"\",\"\",'Start - jaro'!K24)","v":""},"I.pokus",null,null,null,{"$f":"IF($C121=\"\",\"\",IF(OR($E121=\"DNF\",$F121=\"DNF\",$G121=\"DNF\"),\"DNF\",IF(OR($E121=\"NP\",$F121=\"NP\",$G121=\"NP\"),\"NP\",IF(ISERROR(MEDIAN($E121:$G121)),\"DNF\",IF(COUNT($E121:$G121)<3,MAX($E121:$G121),MEDIAN($E121:$G121))))))","v":""},{"$f":"IF($A121=\"x\",\"x\",IF($C121=\"\",\"\",IF(OR(J121=\"NP\",J121=\"DNF\"),IF(J121=\"NP\",MAX(Oblast2)+COUNTIF(($J$12:$J$154),MAX(Oblast2))+COUNTIF(($U$12:$U$154),MAX(Oblast2)),MAX(Oblast2)+COUNTIF(($J$12:$J$154),MAX(Oblast2))+COUNTIF(($U$12:$U$154),MAX(Oblast2))+COUNTIF(($J$12:$J$154),\"NP\")+COUNTIF(($U$12:$U$154),\"NP\")),J121)))","v":""},{"$f":"IF($A121=\"x\",\"x\",IF($C121=\"\",\"\",IF(OR(K121=\"NP\",K121=\"DNF\"),K121,RANK(K121,Oblast,1))))","v":""},{"$f":"IF($A121=\"x\",\"x\",IF($C121=\"\",\"\",IF(OR(AND(H121=\"NP\",H122=\"NP\"),AND(H121=\"DNF\",H122=\"DNF\")),H121,IF(AND(H121=\"NP\",H122=\"DNF\"),H121,IF(AND(H121=\"DNF\",H122=\"NP\"),H122,MIN(H121,H122))))))","v":""},{"$f":"IF('Start - jaro'!Q9=\"\",\"\",\"x\")","v":""},79,{"$f":"IF('Start - jaro'!O9=\"\",\"\",'Start - jaro'!O9)","v":""},"I.pokus",null,null,null,{"$f":"IF($N121=\"\",\"\",IF(OR($P121=\"DNF\",$Q121=\"DNF\",$R121=\"DNF\"),\"DNF\",IF(OR($P121=\"NP\",$Q121=\"NP\",$R121=\"NP\"),\"NP\",IF(ISERROR(MEDIAN($P121:$R121)),\"DNF\",IF(COUNT($P121:$R121)<3,MAX($P121:$R121),MEDIAN($P121:$R121))))))","v":""},{"$f":"IF($L121=\"x\",\"x\",IF($N121=\"\",\"\",IF(OR(U121=\"NP\",U121=\"DNF\"),IF(U121=\"NP\",MAX(Oblast2)+COUNTIF(($J$12:$J$154),MAX(Oblast2))+COUNTIF(($U$12:$U$154),MAX(Oblast2)),MAX(Oblast2)+COUNTIF(($J$12:$J$154),MAX(Oblast2))+COUNTIF(($U$12:$U$154),MAX(Oblast2))+COUNTIF(($J$12:$J$154),\"NP\")+COUNTIF(($U$12:$U$154),\"NP\")),U121)))","v":""},{"$f":"IF($L121=\"x\",\"x\",IF($N121=\"\",\"\",IF(OR(V121=\"NP\",V121=\"DNF\"),V121,RANK(V121,Oblast,1))))","v":""},{"$f":"IF($L121=\"x\",\"x\",IF($N121=\"\",\"\",IF(OR(AND(S121=\"NP\",S122=\"NP\"),AND(S121=\"DNF\",S122=\"DNF\")),S121,IF(AND(S121=\"NP\",S122=\"DNF\"),S121,IF(AND(S121=\"DNF\",S122=\"NP\"),S122,MIN(S121,S122))))))","v":""}]
[null,null,null,"II.pokus",null,null,null,{"$f":"IF($C121=\"\",\"\",IF(OR($E122=\"DNF\",$F122=\"DNF\",$G122=\"DNF\"),\"DNF\",IF(OR($E122=\"NP\",$F122=\"NP\",$G122=\"NP\"),\"NP\",IF(ISERROR(MEDIAN($E122:$G122)),\"DNF\",IF(COUNT($E122:$G122)<3,MAX($E122:$G122),MEDIAN($E122:$G122))))))","v":""},null,null,null,null,null,null,"II.pokus",null,null,null,{"$f":"IF($N121=\"\",\"\",IF(OR($P122=\"DNF\",$Q122=\"DNF\",$R122=\"DNF\"),\"DNF\",IF(OR($P122=\"NP\",$Q122=\"NP\",$R122=\"NP\"),\"NP\",IF(ISERROR(MEDIAN($P122:$R122)),\"DNF\",IF(COUNT($P122:$R122)<3,MAX($P122:$R122),MEDIAN($P122:$R122))))))","v":""}]
[{"$f":"IF('Start - jaro'!M25=\"\",\"\",\"x\")","v":""},70,{"$f":"IF('Start - jaro'!K25=\"\",\"\",'Start - jaro'!K25)","v":""},"I.pokus",null,null,null,{"$f":"IF($C123=\"\",\"\",IF(OR($E123=\"DNF\",$F123=\"DNF\",$G123=\"DNF\"),\"DNF\",IF(OR($E123=\"NP\",$F123=\"NP\",$G123=\"NP\"),\"NP\",IF(ISERROR(MEDIAN($E123:$G123)),\"DNF\",IF(COUNT($E123:$G123)<3,MAX($E123:$G123),MEDIAN($E123:$G123))))))","v":""},{"$f":"IF($A123=\"x\",\"x\",IF($C123=\"\",\"\",IF(OR(J123=\"NP\",J123=\"DNF\"),IF(J123=\"NP\",MAX(Oblast2)+COUNTIF(($J$12:$J$154),MAX(Oblast2))+COUNTIF(($U$12:$U$154),MAX(Oblast2)),MAX(Oblast2)+COUNTIF(($J$12:$J$154),MAX(Oblast2))+COUNTIF(($U$12:$U$154),MAX(Oblast2))+COUNTIF(($J$12:$J$154),\"NP\")+COUNTIF(($U$12:$U$154),\"NP\")),J123)))","v":""},{"$f":"IF($A123=\"x\",\"x\",IF($C123=\"\",\"\",IF(OR(K123=\"NP\",K123=\"DNF\"),K123,RANK(K123,Oblast,1))))","v":""},{"$f":"IF($A123=\"x\",\"x\",IF($C123=\"\",\"\",IF(OR(AND(H123=\"NP\",H124=\"NP\"),AND(H123=\"DNF\",H124=\"DNF\")),H123,IF(AND(H123=\"NP\",H124=\"DNF\"),H123,IF(AND(H123=\"DNF\",H124=\"NP\"),H124,MIN(H123,H124))))))","v":""},{"$f":"IF('Start - jaro'!Q10=\"\",\"\",\"x\")","v":""},80,{"$f":"IF('Start - jaro'!O10=\"\",\"\",'Start - jaro'!O10)","v":""},"I.pokus",null,null,null,{"$f":"IF($N123=\"\",\"\",IF(OR($P123=\"DNF\",$Q123=\"DNF\",$R123=\"DNF\"),\"DNF\",IF(OR($P123=\"NP\",$Q123=\"NP\",$R123=\"NP\"),\"NP\",IF(ISERROR(MEDIAN($P123:$R123)),\"DNF\",IF(COUNT($P123:$R123)<3,MAX($P123:$R123),MEDIAN($P123:$R123))))))","v":""},{"$f":"IF($L123=\"x\",\"x\",IF($N123=\"\",\"\",IF(OR(U123=\"NP\",U123=\"DNF\"),IF(U123=\"NP\",MAX(Oblast2)+COUNTIF(($J$12:$J$154),MAX(Oblast2))+COUNTIF(($U$12:$U$154),MAX(Oblast2)),MAX(Oblast2)+COUNTIF(($J$12:$J$154),MAX(Oblast2))+COUNTIF(($U$12:$U$154),MAX(Oblast2))+COUNTIF(($J$12:$J$154),\"NP\")+COUNTIF(($U$12:$U$154),\"NP\")),U123)))","v":""},{"$f":"IF($L123=\"x\",\"x\",IF($N123=\"\",\"\",IF(OR(V123=\"NP\",V123=\"DNF\"),V123,RANK(V123,Oblast,1))))","v":""},{"$f":"IF($L123=\"x\",\"x\",IF($N123=\"\",\"\",IF(OR(AND(S123=\"NP\",S124=\"NP\"),AND(S123=\"DNF\",S124=\"DNF\")),S123,IF(AND(S123=\"NP\",S124=\"DNF\"),S123,IF(AND(S123=\"DNF\",S124=\"NP\"),S124,MIN(S123,S124))))))","v":""}]
[null,null,null,"II.pokus",null,null,null,{"$f":"IF($C123=\"\",\"\",IF(OR($E124=\"DNF\",$F124=\"DNF\",$G124=\"DNF\"),\"DNF\",IF(OR($E124=\"NP\",$F124=\"NP\",$G124=\"NP\"),\"NP\",IF(ISERROR(MEDIAN($E124:$G124)),\"DNF\",IF(COUNT($E124:$G124)<3,MAX($E124:$G124),MEDIAN($E124:$G124))))))","v":""},null,null,null,null,null,null,"II.pokus",null,null,null,{"$f":"IF($N123=\"\",\"\",IF(OR($P124=\"DNF\",$Q124=\"DNF\",$R124=\"DNF\"),\"DNF\",IF(OR($P124=\"NP\",$Q124=\"NP\",$R124=\"NP\"),\"NP\",IF(ISERROR(MEDIAN($P124:$R124)),\"DNF\",IF(COUNT($P124:$R124)<3,MAX($P124:$R124),MEDIAN($P124:$R124))))))","v":""}]
[null," CELOSTÁTNÍ HRA PLAMEN"]
[]
[]
[null," Výsledková listina č: 5"]
[null,"Štafeta 4x60 m",null,null,"Základem je čas naměřený od vydání signálu startéra do proběhnutí posledního člena cílem",null,null,null,null,null,null,null,"Štafeta 4x60 m",null,null,"Základem je čas naměřený od vydání signálu startéra do proběhnutí posledního člena cílem"]
[]
[]
[null,{"$f":"\"KATEGORIE: \"&'Start - podzim'!$N$2","v":"KATEGORIE: STARŠÍ"},null,null,"I. časoměřič","II. časoměřič","III. časoměřič","úřední čas","počet bodů za umístění",null,null,null,{"$f":"\"KATEGORIE: \"&'Start - podzim'!$N$2","v":"KATEGORIE: STARŠÍ"},null,null,"I. časoměřič","II. časoměřič","III. časoměřič","úřední čas","počet bodů za umístění"]
[]
[null,"start. číslo","SOUTĚŽNÍ DRUŽSTVO","pokus",null,null,null,null,null,null,null,null,"start. číslo","SOUTĚŽNÍ DRUŽSTVO","pokus"]
[]
[{"$f":"IF('Start - jaro'!Q11=\"\",\"\",\"x\")","v":""},81,{"$f":"IF('Start - jaro'!O11=\"\",\"\",'Start - jaro'!O11)","v":""},"I.pokus",null,null,null,{"$f":"IF($C136=\"\",\"\",IF(OR($E136=\"DNF\",$F136=\"DNF\",$G136=\"DNF\"),\"DNF\",IF(OR($E136=\"NP\",$F136=\"NP\",$G136=\"NP\"),\"NP\",IF(ISERROR(MEDIAN($E136:$G136)),\"DNF\",IF(COUNT($E136:$G136)<3,MAX($E136:$G136),MEDIAN($E136:$G136))))))","v":""},{"$f":"IF($A136=\"x\",\"x\",IF($C136=\"\",\"\",IF(OR(J136=\"NP\",J136=\"DNF\"),IF(J136=\"NP\",MAX(Oblast2)+COUNTIF(($J$12:$J$154),MAX(Oblast2))+COUNTIF(($U$12:$U$154),MAX(Oblast2)),MAX(Oblast2)+COUNTIF(($J$12:$J$154),MAX(Oblast2))+COUNTIF(($U$12:$U$154),MAX(Oblast2))+COUNTIF(($J$12:$J$154),\"NP\")+COUNTIF(($U$12:$U$154),\"NP\")),J136)))","v":""},{"$f":"IF($A136=\"x\",\"x\",IF($C136=\"\",\"\",IF(OR(K136=\"NP\",K136=\"DNF\"),K136,RANK(K136,Oblast,1))))","v":""},{"$f":"IF($A136=\"x\",\"x\",IF($C136=\"\",\"\",IF(OR(AND(H136=\"NP\",H137=\"NP\"),AND(H136=\"DNF\",H137=\"DNF\")),H136,IF(AND(H136=\"NP\",H137=\"DNF\"),H136,IF(AND(H136=\"DNF\",H137=\"NP\"),H137,MIN(H136,H137))))))","v":""},{"$f":"IF('Start - jaro'!Q21=\"\",\"\",\"x\")","v":""},91,{"$f":"IF('Start - jaro'!O21=\"\",\"\",'Start - jaro'!O21)","v":""},"I.pokus",null,null,null,{"$f":"IF($N136=\"\",\"\",IF(OR($P136=\"DNF\",$Q136=\"DNF\",$R136=\"DNF\"),\"DNF\",IF(OR($P136=\"NP\",$Q136=\"NP\",$R136=\"NP\"),\"NP\",IF(ISERROR(MEDIAN($P136:$R136)),\"DNF\",IF(COUNT($P136:$R136)<3,MAX($P136:$R136),MEDIAN($P136:$R136))))))","v":""},{"$f":"IF($L136=\"x\",\"x\",IF($N136=\"\",\"\",IF(OR(U136=\"NP\",U136=\"DNF\"),IF(U136=\"NP\",MAX(Oblast2)+COUNTIF(($J$12:$J$154),MAX(Oblast2))+COUNTIF(($U$12:$U$154),MAX(Oblast2)),MAX(Oblast2)+COUNTIF(($J$12:$J$154),MAX(Oblast2))+COUNTIF(($U$12:$U$154),MAX(Oblast2))+COUNTIF(($J$12:$J$154),\"NP\")+COUNTIF(($U$12:$U$154),\"NP\")),U136)))","v":""},{"$f":"IF($L136=\"x\",\"x\",IF($N136=\"\",\"\",IF(OR(V136=\"NP\",V136=\"DNF\"),V136,RANK(V136,Oblast,1))))","v":""},{"$f":"IF($L136=\"x\",\"x\",IF($N136=\"\",\"\",IF(OR(AND(S136=\"NP\",S137=\"NP\"),AND(S136=\"DNF\",S137=\"DNF\")),S136,IF(AND(S136=\"NP\",S137=\"DNF\"),S136,IF(AND(S136=\"DNF\",S137=\"NP\"),S137,MIN(S136,S137))))))","v":""}]
[null,null,null,"II.pokus",null,null,null,{"$f":"IF($C136=\"\",\"\",IF(OR($E137=\"DNF\",$F137=\"DNF\",$G137=\"DNF\"),\"DNF\",IF(OR($E137=\"NP\",$F137=\"NP\",$G137=\"NP\"),\"NP\",IF(ISERROR(MEDIAN($E137:$G137)),\"DNF\",IF(COUNT($E137:$G137)<3,MAX($E137:$G137),MEDIAN($E137:$G137))))))","v":""},null,null,null,null,null,null,"II.pokus",null,null,null,{"$f":"IF($N136=\"\",\"\",IF(OR($P137=\"DNF\",$Q137=\"DNF\",$R137=\"DNF\"),\"DNF\",IF(OR($P137=\"NP\",$Q137=\"NP\",$R137=\"NP\"),\"NP\",IF(ISERROR(MEDIAN($P137:$R137)),\"DNF\",IF(COUNT($P137:$R137)<3,MAX($P137:$R137),MEDIAN($P137:$R137))))))","v":""}]
[{"$f":"IF('Start - jaro'!Q12=\"\",\"\",\"x\")","v":""},82,{"$f":"IF('Start - jaro'!O12=\"\",\"\",'Start - jaro'!O12)","v":""},"I.pokus",null,null,null,{"$f":"IF($C138=\"\",\"\",IF(OR($E138=\"DNF\",$F138=\"DNF\",$G138=\"DNF\"),\"DNF\",IF(OR($E138=\"NP\",$F138=\"NP\",$G138=\"NP\"),\"NP\",IF(ISERROR(MEDIAN($E138:$G138)),\"DNF\",IF(COUNT($E138:$G138)<3,MAX($E138:$G138),MEDIAN($E138:$G138))))))","v":""},{"$f":"IF($A138=\"x\",\"x\",IF($C138=\"\",\"\",IF(OR(J138=\"NP\",J138=\"DNF\"),IF(J138=\"NP\",MAX(Oblast2)+COUNTIF(($J$12:$J$154),MAX(Oblast2))+COUNTIF(($U$12:$U$154),MAX(Oblast2)),MAX(Oblast2)+COUNTIF(($J$12:$J$154),MAX(Oblast2))+COUNTIF(($U$12:$U$154),MAX(Oblast2))+COUNTIF(($J$12:$J$154),\"NP\")+COUNTIF(($U$12:$U$154),\"NP\")),J138)))","v":""},{"$f":"IF($A138=\"x\",\"x\",IF($C138=\"\",\"\",IF(OR(K138=\"NP\",K138=\"DNF\"),K138,RANK(K138,Oblast,1))))","v":""},{"$f":"IF($A138=\"x\",\"x\",IF($C138=\"\",\"\",IF(OR(AND(H138=\"NP\",H139=\"NP\"),AND(H138=\"DNF\",H139=\"DNF\")),H138,IF(AND(H138=\"NP\",H139=\"DNF\"),H138,IF(AND(H138=\"DNF\",H139=\"NP\"),H139,MIN(H138,H139))))))","v":""},{"$f":"IF('Start - jaro'!Q22=\"\",\"\",\"x\")","v":""},92,{"$f":"IF('Start - jaro'!O22=\"\",\"\",'Start - jaro'!O22)","v":""},"I.pokus",null,null,null,{"$f":"IF($N138=\"\",\"\",IF(OR($P138=\"DNF\",$Q138=\"DNF\",$R138=\"DNF\"),\"DNF\",IF(OR($P138=\"NP\",$Q138=\"NP\",$R138=\"NP\"),\"NP\",IF(ISERROR(MEDIAN($P138:$R138)),\"DNF\",IF(COUNT($P138:$R138)<3,MAX($P138:$R138),MEDIAN($P138:$R138))))))","v":""},{"$f":"IF($L138=\"x\",\"x\",IF($N138=\"\",\"\",IF(OR(U138=\"NP\",U138=\"DNF\"),IF(U138=\"NP\",MAX(Oblast2)+COUNTIF(($J$12:$J$154),MAX(Oblast2))+COUNTIF(($U$12:$U$154),MAX(Oblast2)),MAX(Oblast2)+COUNTIF(($J$12:$J$154),MAX(Oblast2))+COUNTIF(($U$12:$U$154),MAX(Oblast2))+COUNTIF(($J$12:$J$154),\"NP\")+COUNTIF(($U$12:$U$154),\"NP\")),U138)))","v":""},{"$f":"IF($L138=\"x\",\"x\",IF($N138=\"\",\"\",IF(OR(V138=\"NP\",V138=\"DNF\"),V138,RANK(V138,Oblast,1))))","v":""},{"$f":"IF($L138=\"x\",\"x\",IF($N138=\"\",\"\",IF(OR(AND(S138=\"NP\",S139=\"NP\"),AND(S138=\"DNF\",S139=\"DNF\")),S138,IF(AND(S138=\"NP\",S139=\"DNF\"),S138,IF(AND(S138=\"DNF\",S139=\"NP\"),S139,MIN(S138,S139))))))","v":""}]
[null,null,null,"II.pokus",null,null,null,{"$f":"IF($C138=\"\",\"\",IF(OR($E139=\"DNF\",$F139=\"DNF\",$G139=\"DNF\"),\"DNF\",IF(OR($E139=\"NP\",$F139=\"NP\",$G139=\"NP\"),\"NP\",IF(ISERROR(MEDIAN($E139:$G139)),\"DNF\",IF(COUNT($E139:$G139)<3,MAX($E139:$G139),MEDIAN($E139:$G139))))))","v":""},null,null,null,null,null,null,"II.pokus",null,null,null,{"$f":"IF($N138=\"\",\"\",IF(OR($P139=\"DNF\",$Q139=\"DNF\",$R139=\"DNF\"),\"DNF\",IF(OR($P139=\"NP\",$Q139=\"NP\",$R139=\"NP\"),\"NP\",IF(ISERROR(MEDIAN($P139:$R139)),\"DNF\",IF(COUNT($P139:$R139)<3,MAX($P139:$R139),MEDIAN($P139:$R139))))))","v":""}]
[{"$f":"IF('Start - jaro'!Q13=\"\",\"\",\"x\")","v":""},83,{"$f":"IF('Start - jaro'!O13=\"\",\"\",'Start - jaro'!O13)","v":""},"I.pokus",null,null,null,{"$f":"IF($C140=\"\",\"\",IF(OR($E140=\"DNF\",$F140=\"DNF\",$G140=\"DNF\"),\"DNF\",IF(OR($E140=\"NP\",$F140=\"NP\",$G140=\"NP\"),\"NP\",IF(ISERROR(MEDIAN($E140:$G140)),\"DNF\",IF(COUNT($E140:$G140)<3,MAX($E140:$G140),MEDIAN($E140:$G140))))))","v":""},{"$f":"IF($A140=\"x\",\"x\",IF($C140=\"\",\"\",IF(OR(J140=\"NP\",J140=\"DNF\"),IF(J140=\"NP\",MAX(Oblast2)+COUNTIF(($J$12:$J$154),MAX(Oblast2))+COUNTIF(($U$12:$U$154),MAX(Oblast2)),MAX(Oblast2)+COUNTIF(($J$12:$J$154),MAX(Oblast2))+COUNTIF(($U$12:$U$154),MAX(Oblast2))+COUNTIF(($J$12:$J$154),\"NP\")+COUNTIF(($U$12:$U$154),\"NP\")),J140)))","v":""},{"$f":"IF($A140=\"x\",\"x\",IF($C140=\"\",\"\",IF(OR(K140=\"NP\",K140=\"DNF\"),K140,RANK(K140,Oblast,1))))","v":""},{"$f":"IF($A140=\"x\",\"x\",IF($C140=\"\",\"\",IF(OR(AND(H140=\"NP\",H141=\"NP\"),AND(H140=\"DNF\",H141=\"DNF\")),H140,IF(AND(H140=\"NP\",H141=\"DNF\"),H140,IF(AND(H140=\"DNF\",H141=\"NP\"),H141,MIN(H140,H141))))))","v":""},{"$f":"IF('Start - jaro'!Q23=\"\",\"\",\"x\")","v":""},93,{"$f":"IF('Start - jaro'!O23=\"\",\"\",'Start - jaro'!O23)","v":""},"I.pokus",null,null,null,{"$f":"IF($N140=\"\",\"\",IF(OR($P140=\"DNF\",$Q140=\"DNF\",$R140=\"DNF\"),\"DNF\",IF(OR($P140=\"NP\",$Q140=\"NP\",$R140=\"NP\"),\"NP\",IF(ISERROR(MEDIAN($P140:$R140)),\"DNF\",IF(COUNT($P140:$R140)<3,MAX($P140:$R140),MEDIAN($P140:$R140))))))","v":""},{"$f":"IF($L140=\"x\",\"x\",IF($N140=\"\",\"\",IF(OR(U140=\"NP\",U140=\"DNF\"),IF(U140=\"NP\",MAX(Oblast2)+COUNTIF(($J$12:$J$154),MAX(Oblast2))+COUNTIF(($U$12:$U$154),MAX(Oblast2)),MAX(Oblast2)+COUNTIF(($J$12:$J$154),MAX(Oblast2))+COUNTIF(($U$12:$U$154),MAX(Oblast2))+COUNTIF(($J$12:$J$154),\"NP\")+COUNTIF(($U$12:$U$154),\"NP\")),U140)))","v":""},{"$f":"IF($L140=\"x\",\"x\",IF($N140=\"\",\"\",IF(OR(V140=\"NP\",V140=\"DNF\"),V140,RANK(V140,Oblast,1))))","v":""},{"$f":"IF($L140=\"x\",\"x\",IF($N140=\"\",\"\",IF(OR(AND(S140=\"NP\",S141=\"NP\"),AND(S140=\"DNF\",S141=\"DNF\")),S140,IF(AND(S140=\"NP\",S141=\"DNF\"),S140,IF(AND(S140=\"DNF\",S141=\"NP\"),S141,MIN(S140,S141))))))","v":""}]
[null,null,null,"II.pokus",null,null,null,{"$f":"IF($C140=\"\",\"\",IF(OR($E141=\"DNF\",$F141=\"DNF\",$G141=\"DNF\"),\"DNF\",IF(OR($E141=\"NP\",$F141=\"NP\",$G141=\"NP\"),\"NP\",IF(ISERROR(MEDIAN($E141:$G141)),\"DNF\",IF(COUNT($E141:$G141)<3,MAX($E141:$G141),MEDIAN($E141:$G141))))))","v":""},null,null,null,null,null,null,"II.pokus",null,null,null,{"$f":"IF($N140=\"\",\"\",IF(OR($P141=\"DNF\",$Q141=\"DNF\",$R141=\"DNF\"),\"DNF\",IF(OR($P141=\"NP\",$Q141=\"NP\",$R141=\"NP\"),\"NP\",IF(ISERROR(MEDIAN($P141:$R141)),\"DNF\",IF(COUNT($P141:$R141)<3,MAX($P141:$R141),MEDIAN($P141:$R141))))))","v":""}]
[{"$f":"IF('Start - jaro'!Q14=\"\",\"\",\"x\")","v":""},84,{"$f":"IF('Start - jaro'!O14=\"\",\"\",'Start - jaro'!O14)","v":""},"I.pokus",null,null,null,{"$f":"IF($C142=\"\",\"\",IF(OR($E142=\"DNF\",$F142=\"DNF\",$G142=\"DNF\"),\"DNF\",IF(OR($E142=\"NP\",$F142=\"NP\",$G142=\"NP\"),\"NP\",IF(ISERROR(MEDIAN($E142:$G142)),\"DNF\",IF(COUNT($E142:$G142)<3,MAX($E142:$G142),MEDIAN($E142:$G142))))))","v":""},{"$f":"IF($A142=\"x\",\"x\",IF($C142=\"\",\"\",IF(OR(J142=\"NP\",J142=\"DNF\"),IF(J142=\"NP\",MAX(Oblast2)+COUNTIF(($J$12:$J$154),MAX(Oblast2))+COUNTIF(($U$12:$U$154),MAX(Oblast2)),MAX(Oblast2)+COUNTIF(($J$12:$J$154),MAX(Oblast2))+COUNTIF(($U$12:$U$154),MAX(Oblast2))+COUNTIF(($J$12:$J$154),\"NP\")+COUNTIF(($U$12:$U$154),\"NP\")),J142)))","v":""},{"$f":"IF($A142=\"x\",\"x\",IF($C142=\"\",\"\",IF(OR(K142=\"NP\",K142=\"DNF\"),K142,RANK(K142,Oblast,1))))","v":""},{"$f":"IF($A142=\"x\",\"x\",IF($C142=\"\",\"\",IF(OR(AND(H142=\"NP\",H143=\"NP\"),AND(H142=\"DNF\",H143=\"DNF\")),H142,IF(AND(H142=\"NP\",H143=\"DNF\"),H142,IF(AND(H142=\"DNF\",H143=\"NP\"),H143,MIN(H142,H143))))))","v":""},{"$f":"IF('Start - jaro'!Q24=\"\",\"\",\"x\")","v":""},94,{"$f":"IF('Start - jaro'!O24=\"\",\"\",'Start - jaro'!O24)","v":""},"I.pokus",null,null,null,{"$f":"IF($N142=\"\",\"\",IF(OR($P142=\"DNF\",$Q142=\"DNF\",$R142=\"DNF\"),\"DNF\",IF(OR($P142=\"NP\",$Q142=\"NP\",$R142=\"NP\"),\"NP\",IF(ISERROR(MEDIAN($P142:$R142)),\"DNF\",IF(COUNT($P142:$R142)<3,MAX($P142:$R142),MEDIAN($P142:$R142))))))","v":""},{"$f":"IF($L142=\"x\",\"x\",IF($N142=\"\",\"\",IF(OR(U142=\"NP\",U142=\"DNF\"),IF(U142=\"NP\",MAX(Oblast2)+COUNTIF(($J$12:$J$154),MAX(Oblast2))+COUNTIF(($U$12:$U$154),MAX(Oblast2)),MAX(Oblast2)+COUNTIF(($J$12:$J$154),MAX(Oblast2))+COUNTIF(($U$12:$U$154),MAX(Oblast2))+COUNTIF(($J$12:$J$154),\"NP\")+COUNTIF(($U$12:$U$154),\"NP\")),U142)))","v":""},{"$f":"IF($L142=\"x\",\"x\",IF($N142=\"\",\"\",IF(OR(V142=\"NP\",V142=\"DNF\"),V142,RANK(V142,Oblast,1))))","v":""},{"$f":"IF($L142=\"x\",\"x\",IF($N142=\"\",\"\",IF(OR(AND(S142=\"NP\",S143=\"NP\"),AND(S142=\"DNF\",S143=\"DNF\")),S142,IF(AND(S142=\"NP\",S143=\"DNF\"),S142,IF(AND(S142=\"DNF\",S143=\"NP\"),S143,MIN(S142,S143))))))","v":""}]
[null,null,null,"II.pokus",null,null,null,{"$f":"IF($C142=\"\",\"\",IF(OR($E143=\"DNF\",$F143=\"DNF\",$G143=\"DNF\"),\"DNF\",IF(OR($E143=\"NP\",$F143=\"NP\",$G143=\"NP\"),\"NP\",IF(ISERROR(MEDIAN($E143:$G143)),\"DNF\",IF(COUNT($E143:$G143)<3,MAX($E143:$G143),MEDIAN($E143:$G143))))))","v":""},null,null,null,null,null,null,"II.pokus",null,null,null,{"$f":"IF($N142=\"\",\"\",IF(OR($P143=\"DNF\",$Q143=\"DNF\",$R143=\"DNF\"),\"DNF\",IF(OR($P143=\"NP\",$Q143=\"NP\",$R143=\"NP\"),\"NP\",IF(ISERROR(MEDIAN($P143:$R143)),\"DNF\",IF(COUNT($P143:$R143)<3,MAX($P143:$R143),MEDIAN($P143:$R143))))))","v":""}]
[{"$f":"IF('Start - jaro'!Q15=\"\",\"\",\"x\")","v":""},85,{"$f":"IF('Start - jaro'!O15=\"\",\"\",'Start - jaro'!O15)","v":""},"I.pokus",null,null,null,{"$f":"IF($C144=\"\",\"\",IF(OR($E144=\"DNF\",$F144=\"DNF\",$G144=\"DNF\"),\"DNF\",IF(OR($E144=\"NP\",$F144=\"NP\",$G144=\"NP\"),\"NP\",IF(ISERROR(MEDIAN($E144:$G144)),\"DNF\",IF(COUNT($E144:$G144)<3,MAX($E144:$G144),MEDIAN($E144:$G144))))))","v":""},{"$f":"IF($A144=\"x\",\"x\",IF($C144=\"\",\"\",IF(OR(J144=\"NP\",J144=\"DNF\"),IF(J144=\"NP\",MAX(Oblast2)+COUNTIF(($J$12:$J$154),MAX(Oblast2))+COUNTIF(($U$12:$U$154),MAX(Oblast2)),MAX(Oblast2)+COUNTIF(($J$12:$J$154),MAX(Oblast2))+COUNTIF(($U$12:$U$154),MAX(Oblast2))+COUNTIF(($J$12:$J$154),\"NP\")+COUNTIF(($U$12:$U$154),\"NP\")),J144)))","v":""},{"$f":"IF($A144=\"x\",\"x\",IF($C144=\"\",\"\",IF(OR(K144=\"NP\",K144=\"DNF\"),K144,RANK(K144,Oblast,1))))","v":""},{"$f":"IF($A144=\"x\",\"x\",IF($C144=\"\",\"\",IF(OR(AND(H144=\"NP\",H145=\"NP\"),AND(H144=\"DNF\",H145=\"DNF\")),H144,IF(AND(H144=\"NP\",H145=\"DNF\"),H144,IF(AND(H144=\"DNF\",H145=\"NP\"),H145,MIN(H144,H145))))))","v":""},{"$f":"IF('Start - jaro'!Q25=\"\",\"\",\"x\")","v":""},95,{"$f":"IF('Start - jaro'!O25=\"\",\"\",'Start - jaro'!O25)","v":""},"I.pokus",null,null,null,{"$f":"IF($N144=\"\",\"\",IF(OR($P144=\"DNF\",$Q144=\"DNF\",$R144=\"DNF\"),\"DNF\",IF(OR($P144=\"NP\",$Q144=\"NP\",$R144=\"NP\"),\"NP\",IF(ISERROR(MEDIAN($P144:$R144)),\"DNF\",IF(COUNT($P144:$R144)<3,MAX($P144:$R144),MEDIAN($P144:$R144))))))","v":""},{"$f":"IF($L144=\"x\",\"x\",IF($N144=\"\",\"\",IF(OR(U144=\"NP\",U144=\"DNF\"),IF(U144=\"NP\",MAX(Oblast2)+COUNTIF(($J$12:$J$154),MAX(Oblast2))+COUNTIF(($U$12:$U$154),MAX(Oblast2)),MAX(Oblast2)+COUNTIF(($J$12:$J$154),MAX(Oblast2))+COUNTIF(($U$12:$U$154),MAX(Oblast2))+COUNTIF(($J$12:$J$154),\"NP\")+COUNTIF(($U$12:$U$154),\"NP\")),U144)))","v":""},{"$f":"IF($L144=\"x\",\"x\",IF($N144=\"\",\"\",IF(OR(V144=\"NP\",V144=\"DNF\"),V144,RANK(V144,Oblast,1))))","v":""},{"$f":"IF($L144=\"x\",\"x\",IF($N144=\"\",\"\",IF(OR(AND(S144=\"NP\",S145=\"NP\"),AND(S144=\"DNF\",S145=\"DNF\")),S144,IF(AND(S144=\"NP\",S145=\"DNF\"),S144,IF(AND(S144=\"DNF\",S145=\"NP\"),S145,MIN(S144,S145))))))","v":""}]
[null,null,null,"II.pokus",null,null,null,{"$f":"IF($C144=\"\",\"\",IF(OR($E145=\"DNF\",$F145=\"DNF\",$G145=\"DNF\"),\"DNF\",IF(OR($E145=\"NP\",$F145=\"NP\",$G145=\"NP\"),\"NP\",IF(ISERROR(MEDIAN($E145:$G145)),\"DNF\",IF(COUNT($E145:$G145)<3,MAX($E145:$G145),MEDIAN($E145:$G145))))))","v":""},null,null,null,null,null,null,"II.pokus",null,null,null,{"$f":"IF($N144=\"\",\"\",IF(OR($P145=\"DNF\",$Q145=\"DNF\",$R145=\"DNF\"),\"DNF\",IF(OR($P145=\"NP\",$Q145=\"NP\",$R145=\"NP\"),\"NP\",IF(ISERROR(MEDIAN($P145:$R145)),\"DNF\",IF(COUNT($P145:$R145)<3,MAX($P145:$R145),MEDIAN($P145:$R145))))))","v":""}]
[{"$f":"IF('Start - jaro'!Q16=\"\",\"\",\"x\")","v":""},86,{"$f":"IF('Start - jaro'!O16=\"\",\"\",'Start - jaro'!O16)","v":""},"I.pokus",null,null,null,{"$f":"IF($C146=\"\",\"\",IF(OR($E146=\"DNF\",$F146=\"DNF\",$G146=\"DNF\"),\"DNF\",IF(OR($E146=\"NP\",$F146=\"NP\",$G146=\"NP\"),\"NP\",IF(ISERROR(MEDIAN($E146:$G146)),\"DNF\",IF(COUNT($E146:$G146)<3,MAX($E146:$G146),MEDIAN($E146:$G146))))))","v":""},{"$f":"IF($A146=\"x\",\"x\",IF($C146=\"\",\"\",IF(OR(J146=\"NP\",J146=\"DNF\"),IF(J146=\"NP\",MAX(Oblast2)+COUNTIF(($J$12:$J$154),MAX(Oblast2))+COUNTIF(($U$12:$U$154),MAX(Oblast2)),MAX(Oblast2)+COUNTIF(($J$12:$J$154),MAX(Oblast2))+COUNTIF(($U$12:$U$154),MAX(Oblast2))+COUNTIF(($J$12:$J$154),\"NP\")+COUNTIF(($U$12:$U$154),\"NP\")),J146)))","v":""},{"$f":"IF($A146=\"x\",\"x\",IF($C146=\"\",\"\",IF(OR(K146=\"NP\",K146=\"DNF\"),K146,RANK(K146,Oblast,1))))","v":""},{"$f":"IF($A146=\"x\",\"x\",IF($C146=\"\",\"\",IF(OR(AND(H146=\"NP\",H147=\"NP\"),AND(H146=\"DNF\",H147=\"DNF\")),H146,IF(AND(H146=\"NP\",H147=\"DNF\"),H146,IF(AND(H146=\"DNF\",H147=\"NP\"),H147,MIN(H146,H147))))))","v":""},{"$f":"IF('Start - jaro'!Q26=\"\",\"\",\"x\")","v":""},96,{"$f":"IF('Start - jaro'!O26=\"\",\"\",'Start - jaro'!O26)","v":""},"I.pokus",null,null,null,{"$f":"IF($N146=\"\",\"\",IF(OR($P146=\"DNF\",$Q146=\"DNF\",$R146=\"DNF\"),\"DNF\",IF(OR($P146=\"NP\",$Q146=\"NP\",$R146=\"NP\"),\"NP\",IF(ISERROR(MEDIAN($P146:$R146)),\"DNF\",IF(COUNT($P146:$R146)<3,MAX($P146:$R146),MEDIAN($P146:$R146))))))","v":""},{"$f":"IF($L146=\"x\",\"x\",IF($N146=\"\",\"\",IF(OR(U146=\"NP\",U146=\"DNF\"),IF(U146=\"NP\",MAX(Oblast2)+COUNTIF(($J$12:$J$154),MAX(Oblast2))+COUNTIF(($U$12:$U$154),MAX(Oblast2)),MAX(Oblast2)+COUNTIF(($J$12:$J$154),MAX(Oblast2))+COUNTIF(($U$12:$U$154),MAX(Oblast2))+COUNTIF(($J$12:$J$154),\"NP\")+COUNTIF(($U$12:$U$154),\"NP\")),U146)))","v":""},{"$f":"IF($L146=\"x\",\"x\",IF($N146=\"\",\"\",IF(OR(V146=\"NP\",V146=\"DNF\"),V146,RANK(V146,Oblast,1))))","v":""},{"$f":"IF($L146=\"x\",\"x\",IF($N146=\"\",\"\",IF(OR(AND(S146=\"NP\",S147=\"NP\"),AND(S146=\"DNF\",S147=\"DNF\")),S146,IF(AND(S146=\"NP\",S147=\"DNF\"),S146,IF(AND(S146=\"DNF\",S147=\"NP\"),S147,MIN(S146,S147))))))","v":""}]
[null,null,null,"II.pokus",null,null,null,{"$f":"IF($C146=\"\",\"\",IF(OR($E147=\"DNF\",$F147=\"DNF\",$G147=\"DNF\"),\"DNF\",IF(OR($E147=\"NP\",$F147=\"NP\",$G147=\"NP\"),\"NP\",IF(ISERROR(MEDIAN($E147:$G147)),\"DNF\",IF(COUNT($E147:$G147)<3,MAX($E147:$G147),MEDIAN($E147:$G147))))))","v":""},null,null,null,null,null,null,"II.pokus",null,null,null,{"$f":"IF($N146=\"\",\"\",IF(OR($P147=\"DNF\",$Q147=\"DNF\",$R147=\"DNF\"),\"DNF\",IF(OR($P147=\"NP\",$Q147=\"NP\",$R147=\"NP\"),\"NP\",IF(ISERROR(MEDIAN($P147:$R147)),\"DNF\",IF(COUNT($P147:$R147)<3,MAX($P147:$R147),MEDIAN($P147:$R147))))))","v":""}]
[{"$f":"IF('Start - jaro'!Q17=\"\",\"\",\"x\")","v":""},87,{"$f":"IF('Start - jaro'!O17=\"\",\"\",'Start - jaro'!O17)","v":""},"I.pokus",null,null,null,{"$f":"IF($C148=\"\",\"\",IF(OR($E148=\"DNF\",$F148=\"DNF\",$G148=\"DNF\"),\"DNF\",IF(OR($E148=\"NP\",$F148=\"NP\",$G148=\"NP\"),\"NP\",IF(ISERROR(MEDIAN($E148:$G148)),\"DNF\",IF(COUNT($E148:$G148)<3,MAX($E148:$G148),MEDIAN($E148:$G148))))))","v":""},{"$f":"IF($A148=\"x\",\"x\",IF($C148=\"\",\"\",IF(OR(J148=\"NP\",J148=\"DNF\"),IF(J148=\"NP\",MAX(Oblast2)+COUNTIF(($J$12:$J$154),MAX(Oblast2))+COUNTIF(($U$12:$U$154),MAX(Oblast2)),MAX(Oblast2)+COUNTIF(($J$12:$J$154),MAX(Oblast2))+COUNTIF(($U$12:$U$154),MAX(Oblast2))+COUNTIF(($J$12:$J$154),\"NP\")+COUNTIF(($U$12:$U$154),\"NP\")),J148)))","v":""},{"$f":"IF($A148=\"x\",\"x\",IF($C148=\"\",\"\",IF(OR(K148=\"NP\",K148=\"DNF\"),K148,RANK(K148,Oblast,1))))","v":""},{"$f":"IF($A148=\"x\",\"x\",IF($C148=\"\",\"\",IF(OR(AND(H148=\"NP\",H149=\"NP\"),AND(H148=\"DNF\",H149=\"DNF\")),H148,IF(AND(H148=\"NP\",H149=\"DNF\"),H148,IF(AND(H148=\"DNF\",H149=\"NP\"),H149,MIN(H148,H149))))))","v":""},{"$f":"IF('Start - jaro'!Q27=\"\",\"\",\"x\")","v":""},97,{"$f":"IF('Start - jaro'!O27=\"\",\"\",'Start - jaro'!O27)","v":""},"I.pokus",null,null,null,{"$f":"IF($N148=\"\",\"\",IF(OR($P148=\"DNF\",$Q148=\"DNF\",$R148=\"DNF\"),\"DNF\",IF(OR($P148=\"NP\",$Q148=\"NP\",$R148=\"NP\"),\"NP\",IF(ISERROR(MEDIAN($P148:$R148)),\"DNF\",IF(COUNT($P148:$R148)<3,MAX($P148:$R148),MEDIAN($P148:$R148))))))","v":""},{"$f":"IF($L148=\"x\",\"x\",IF($N148=\"\",\"\",IF(OR(U148=\"NP\",U148=\"DNF\"),IF(U148=\"NP\",MAX(Oblast2)+COUNTIF(($J$12:$J$154),MAX(Oblast2))+COUNTIF(($U$12:$U$154),MAX(Oblast2)),MAX(Oblast2)+COUNTIF(($J$12:$J$154),MAX(Oblast2))+COUNTIF(($U$12:$U$154),MAX(Oblast2))+COUNTIF(($J$12:$J$154),\"NP\")+COUNTIF(($U$12:$U$154),\"NP\")),U148)))","v":""},{"$f":"IF($L148=\"x\",\"x\",IF($N148=\"\",\"\",IF(OR(V148=\"NP\",V148=\"DNF\"),V148,RANK(V148,Oblast,1))))","v":""},{"$f":"IF($L148=\"x\",\"x\",IF($N148=\"\",\"\",IF(OR(AND(S148=\"NP\",S149=\"NP\"),AND(S148=\"DNF\",S149=\"DNF\")),S148,IF(AND(S148=\"NP\",S149=\"DNF\"),S148,IF(AND(S148=\"DNF\",S149=\"NP\"),S149,MIN(S148,S149))))))","v":""}]
[null,null,null,"II.pokus",null,null,null,{"$f":"IF($C148=\"\",\"\",IF(OR($E149=\"DNF\",$F149=\"DNF\",$G149=\"DNF\"),\"DNF\",IF(OR($E149=\"NP\",$F149=\"NP\",$G149=\"NP\"),\"NP\",IF(ISERROR(MEDIAN($E149:$G149)),\"DNF\",IF(COUNT($E149:$G149)<3,MAX($E149:$G149),MEDIAN($E149:$G149))))))","v":""},null,null,null,null,null,null,"II.pokus",null,null,null,{"$f":"IF($N148=\"\",\"\",IF(OR($P149=\"DNF\",$Q149=\"DNF\",$R149=\"DNF\"),\"DNF\",IF(OR($P149=\"NP\",$Q149=\"NP\",$R149=\"NP\"),\"NP\",IF(ISERROR(MEDIAN($P149:$R149)),\"DNF\",IF(COUNT($P149:$R149)<3,MAX($P149:$R149),MEDIAN($P149:$R149))))))","v":""}]
[{"$f":"IF('Start - jaro'!Q18=\"\",\"\",\"x\")","v":""},88,{"$f":"IF('Start - jaro'!O18=\"\",\"\",'Start - jaro'!O18)","v":""},"I.pokus",null,null,null,{"$f":"IF($C150=\"\",\"\",IF(OR($E150=\"DNF\",$F150=\"DNF\",$G150=\"DNF\"),\"DNF\",IF(OR($E150=\"NP\",$F150=\"NP\",$G150=\"NP\"),\"NP\",IF(ISERROR(MEDIAN($E150:$G150)),\"DNF\",IF(COUNT($E150:$G150)<3,MAX($E150:$G150),MEDIAN($E150:$G150))))))","v":""},{"$f":"IF($A150=\"x\",\"x\",IF($C150=\"\",\"\",IF(OR(J150=\"NP\",J150=\"DNF\"),IF(J150=\"NP\",MAX(Oblast2)+COUNTIF(($J$12:$J$154),MAX(Oblast2))+COUNTIF(($U$12:$U$154),MAX(Oblast2)),MAX(Oblast2)+COUNTIF(($J$12:$J$154),MAX(Oblast2))+COUNTIF(($U$12:$U$154),MAX(Oblast2))+COUNTIF(($J$12:$J$154),\"NP\")+COUNTIF(($U$12:$U$154),\"NP\")),J150)))","v":""},{"$f":"IF($A150=\"x\",\"x\",IF($C150=\"\",\"\",IF(OR(K150=\"NP\",K150=\"DNF\"),K150,RANK(K150,Oblast,1))))","v":""},{"$f":"IF($A150=\"x\",\"x\",IF($C150=\"\",\"\",IF(OR(AND(H150=\"NP\",H151=\"NP\"),AND(H150=\"DNF\",H151=\"DNF\")),H150,IF(AND(H150=\"NP\",H151=\"DNF\"),H150,IF(AND(H150=\"DNF\",H151=\"NP\"),H151,MIN(H150,H151))))))","v":""},{"$f":"IF('Start - jaro'!Q28=\"\",\"\",\"x\")","v":""},98,{"$f":"IF('Start - jaro'!O28=\"\",\"\",'Start - jaro'!O28)","v":""},"I.pokus",null,null,null,{"$f":"IF($N150=\"\",\"\",IF(OR($P150=\"DNF\",$Q150=\"DNF\",$R150=\"DNF\"),\"DNF\",IF(OR($P150=\"NP\",$Q150=\"NP\",$R150=\"NP\"),\"NP\",IF(ISERROR(MEDIAN($P150:$R150)),\"DNF\",IF(COUNT($P150:$R150)<3,MAX($P150:$R150),MEDIAN($P150:$R150))))))","v":""},{"$f":"IF($L150=\"x\",\"x\",IF($N150=\"\",\"\",IF(OR(U150=\"NP\",U150=\"DNF\"),IF(U150=\"NP\",MAX(Oblast2)+COUNTIF(($J$12:$J$154),MAX(Oblast2))+COUNTIF(($U$12:$U$154),MAX(Oblast2)),MAX(Oblast2)+COUNTIF(($J$12:$J$154),MAX(Oblast2))+COUNTIF(($U$12:$U$154),MAX(Oblast2))+COUNTIF(($J$12:$J$154),\"NP\")+COUNTIF(($U$12:$U$154),\"NP\")),U150)))","v":""},{"$f":"IF($L150=\"x\",\"x\",IF($N150=\"\",\"\",IF(OR(V150=\"NP\",V150=\"DNF\"),V150,RANK(V150,Oblast,1))))","v":""},{"$f":"IF($L150=\"x\",\"x\",IF($N150=\"\",\"\",IF(OR(AND(S150=\"NP\",S151=\"NP\"),AND(S150=\"DNF\",S151=\"DNF\")),S150,IF(AND(S150=\"NP\",S151=\"DNF\"),S150,IF(AND(S150=\"DNF\",S151=\"NP\"),S151,MIN(S150,S151))))))","v":""}]
[null,null,null,"II.pokus",null,null,null,{"$f":"IF($C150=\"\",\"\",IF(OR($E151=\"DNF\",$F151=\"DNF\",$G151=\"DNF\"),\"DNF\",IF(OR($E151=\"NP\",$F151=\"NP\",$G151=\"NP\"),\"NP\",IF(ISERROR(MEDIAN($E151:$G151)),\"DNF\",IF(COUNT($E151:$G151)<3,MAX($E151:$G151),MEDIAN($E151:$G151))))))","v":""},null,null,null,null,null,null,"II.pokus",null,null,null,{"$f":"IF($N150=\"\",\"\",IF(OR($P151=\"DNF\",$Q151=\"DNF\",$R151=\"DNF\"),\"DNF\",IF(OR($P151=\"NP\",$Q151=\"NP\",$R151=\"NP\"),\"NP\",IF(ISERROR(MEDIAN($P151:$R151)),\"DNF\",IF(COUNT($P151:$R151)<3,MAX($P151:$R151),MEDIAN($P151:$R151))))))","v":""}]
[{"$f":"IF('Start - jaro'!Q19=\"\",\"\",\"x\")","v":""},89,{"$f":"IF('Start - jaro'!O19=\"\",\"\",'Start - jaro'!O19)","v":""},"I.pokus",null,null,null,{"$f":"IF($C152=\"\",\"\",IF(OR($E152=\"DNF\",$F152=\"DNF\",$G152=\"DNF\"),\"DNF\",IF(OR($E152=\"NP\",$F152=\"NP\",$G152=\"NP\"),\"NP\",IF(ISERROR(MEDIAN($E152:$G152)),\"DNF\",IF(COUNT($E152:$G152)<3,MAX($E152:$G152),MEDIAN($E152:$G152))))))","v":""},{"$f":"IF($A152=\"x\",\"x\",IF($C152=\"\",\"\",IF(OR(J152=\"NP\",J152=\"DNF\"),IF(J152=\"NP\",MAX(Oblast2)+COUNTIF(($J$12:$J$154),MAX(Oblast2))+COUNTIF(($U$12:$U$154),MAX(Oblast2)),MAX(Oblast2)+COUNTIF(($J$12:$J$154),MAX(Oblast2))+COUNTIF(($U$12:$U$154),MAX(Oblast2))+COUNTIF(($J$12:$J$154),\"NP\")+COUNTIF(($U$12:$U$154),\"NP\")),J152)))","v":""},{"$f":"IF($A152=\"x\",\"x\",IF($C152=\"\",\"\",IF(OR(K152=\"NP\",K152=\"DNF\"),K152,RANK(K152,Oblast,1))))","v":""},{"$f":"IF($A152=\"x\",\"x\",IF($C152=\"\",\"\",IF(OR(AND(H152=\"NP\",H153=\"NP\"),AND(H152=\"DNF\",H153=\"DNF\")),H152,IF(AND(H152=\"NP\",H153=\"DNF\"),H152,IF(AND(H152=\"DNF\",H153=\"NP\"),H153,MIN(H152,H153))))))","v":""},{"$f":"IF('Start - jaro'!Q29=\"\",\"\",\"x\")","v":""},99,{"$f":"IF('Start - jaro'!O29=\"\",\"\",'Start - jaro'!O29)","v":""},"I.pokus",null,null,null,{"$f":"IF($N152=\"\",\"\",IF(OR($P152=\"DNF\",$Q152=\"DNF\",$R152=\"DNF\"),\"DNF\",IF(OR($P152=\"NP\",$Q152=\"NP\",$R152=\"NP\"),\"NP\",IF(ISERROR(MEDIAN($P152:$R152)),\"DNF\",IF(COUNT($P152:$R152)<3,MAX($P152:$R152),MEDIAN($P152:$R152))))))","v":""},{"$f":"IF($L152=\"x\",\"x\",IF($N152=\"\",\"\",IF(OR(U152=\"NP\",U152=\"DNF\"),IF(U152=\"NP\",MAX(Oblast2)+COUNTIF(($J$12:$J$154),MAX(Oblast2))+COUNTIF(($U$12:$U$154),MAX(Oblast2)),MAX(Oblast2)+COUNTIF(($J$12:$J$154),MAX(Oblast2))+COUNTIF(($U$12:$U$154),MAX(Oblast2))+COUNTIF(($J$12:$J$154),\"NP\")+COUNTIF(($U$12:$U$154),\"NP\")),U152)))","v":""},{"$f":"IF($L152=\"x\",\"x\",IF($N152=\"\",\"\",IF(OR(V152=\"NP\",V152=\"DNF\"),V152,RANK(V152,Oblast,1))))","v":""},{"$f":"IF($L152=\"x\",\"x\",IF($N152=\"\",\"\",IF(OR(AND(S152=\"NP\",S153=\"NP\"),AND(S152=\"DNF\",S153=\"DNF\")),S152,IF(AND(S152=\"NP\",S153=\"DNF\"),S152,IF(AND(S152=\"DNF\",S153=\"NP\"),S153,MIN(S152,S153))))))","v":""}]
[null,null,null,"II.pokus",null,null,null,{"$f":"IF($C152=\"\",\"\",IF(OR($E153=\"DNF\",$F153=\"DNF\",$G153=\"DNF\"),\"DNF\",IF(OR($E153=\"NP\",$F153=\"NP\",$G153=\"NP\"),\"NP\",IF(ISERROR(MEDIAN($E153:$G153)),\"DNF\",IF(COUNT($E153:$G153)<3,MAX($E153:$G153),MEDIAN($E153:$G153))))))","v":""},null,null,null,null,null,null,"II.pokus",null,null,null,{"$f":"IF($N152=\"\",\"\",IF(OR($P153=\"DNF\",$Q153=\"DNF\",$R153=\"DNF\"),\"DNF\",IF(OR($P153=\"NP\",$Q153=\"NP\",$R153=\"NP\"),\"NP\",IF(ISERROR(MEDIAN($P153:$R153)),\"DNF\",IF(COUNT($P153:$R153)<3,MAX($P153:$R153),MEDIAN($P153:$R153))))))","v":""}]
[{"$f":"IF('Start - jaro'!Q20=\"\",\"\",\"x\")","v":""},90,{"$f":"IF('Start - jaro'!O20=\"\",\"\",'Start - jaro'!O20)","v":""},"I.pokus",null,null,null,{"$f":"IF($C154=\"\",\"\",IF(OR($E154=\"DNF\",$F154=\"DNF\",$G154=\"DNF\"),\"DNF\",IF(OR($E154=\"NP\",$F154=\"NP\",$G154=\"NP\"),\"NP\",IF(ISERROR(MEDIAN($E154:$G154)),\"DNF\",IF(COUNT($E154:$G154)<3,MAX($E154:$G154),MEDIAN($E154:$G154))))))","v":""},{"$f":"IF($A154=\"x\",\"x\",IF($C154=\"\",\"\",IF(OR(J154=\"NP\",J154=\"DNF\"),IF(J154=\"NP\",MAX(Oblast2)+COUNTIF(($J$12:$J$154),MAX(Oblast2))+COUNTIF(($U$12:$U$154),MAX(Oblast2)),MAX(Oblast2)+COUNTIF(($J$12:$J$154),MAX(Oblast2))+COUNTIF(($U$12:$U$154),MAX(Oblast2))+COUNTIF(($J$12:$J$154),\"NP\")+COUNTIF(($U$12:$U$154),\"NP\")),J154)))","v":""},{"$f":"IF($A154=\"x\",\"x\",IF($C154=\"\",\"\",IF(OR(K154=\"NP\",K154=\"DNF\"),K154,RANK(K154,Oblast,1))))","v":""},{"$f":"IF($A154=\"x\",\"x\",IF($C154=\"\",\"\",IF(OR(AND(H154=\"NP\",H155=\"NP\"),AND(H154=\"DNF\",H155=\"DNF\")),H154,IF(AND(H154=\"NP\",H155=\"DNF\"),H154,IF(AND(H154=\"DNF\",H155=\"NP\"),H155,MIN(H154,H155))))))","v":""},{"$f":"IF('Start - jaro'!Q30=\"\",\"\",\"x\")","v":""},100,{"$f":"IF('Start - jaro'!O30=\"\",\"\",'Start - jaro'!O30)","v":""},"I.pokus",null,null,null,{"$f":"IF($N154=\"\",\"\",IF(OR($P154=\"DNF\",$Q154=\"DNF\",$R154=\"DNF\"),\"DNF\",IF(OR($P154=\"NP\",$Q154=\"NP\",$R154=\"NP\"),\"NP\",IF(ISERROR(MEDIAN($P154:$R154)),\"DNF\",IF(COUNT($P154:$R154)<3,MAX($P154:$R154),MEDIAN($P154:$R154))))))","v":""},{"$f":"IF($L154=\"x\",\"x\",IF($N154=\"\",\"\",IF(OR(U154=\"NP\",U154=\"DNF\"),IF(U154=\"NP\",MAX(Oblast2)+COUNTIF(($J$12:$J$154),MAX(Oblast2))+COUNTIF(($U$12:$U$154),MAX(Oblast2)),MAX(Oblast2)+COUNTIF(($J$12:$J$154),MAX(Oblast2))+COUNTIF(($U$12:$U$154),MAX(Oblast2))+COUNTIF(($J$12:$J$154),\"NP\")+COUNTIF(($U$12:$U$154),\"NP\")),U154)))","v":""},{"$f":"IF($L154=\"x\",\"x\",IF($N154=\"\",\"\",IF(OR(V154=\"NP\",V154=\"DNF\"),V154,RANK(V154,Oblast,1))))","v":""},{"$f":"IF($L154=\"x\",\"x\",IF($N154=\"\",\"\",IF(OR(AND(S154=\"NP\",S155=\"NP\"),AND(S154=\"DNF\",S155=\"DNF\")),S154,IF(AND(S154=\"NP\",S155=\"DNF\"),S154,IF(AND(S154=\"DNF\",S155=\"NP\"),S155,MIN(S154,S155))))))","v":""}]
[null,null,null,"II.pokus",null,null,null,{"$f":"IF($C154=\"\",\"\",IF(OR($E155=\"DNF\",$F155=\"DNF\",$G155=\"DNF\"),\"DNF\",IF(OR($E155=\"NP\",$F155=\"NP\",$G155=\"NP\"),\"NP\",IF(ISERROR(MEDIAN($E155:$G155)),\"DNF\",IF(COUNT($E155:$G155)<3,MAX($E155:$G155),MEDIAN($E155:$G155))))))","v":""},null,null,null,null,null,null,"II.pokus",null,null,null,{"$f":"IF($N154=\"\",\"\",IF(OR($P155=\"DNF\",$Q155=\"DNF\",$R155=\"DNF\"),\"DNF\",IF(OR($P155=\"NP\",$Q155=\"NP\",$R155=\"NP\"),\"NP\",IF(ISERROR(MEDIAN($P155:$R155)),\"DNF\",IF(COUNT($P155:$R155)<3,MAX($P155:$R155),MEDIAN($P155:$R155))))))","v":""}]

{"sheet":"PÚ","index":9,"n_rows":155,"n_cols":22,"rows_kept":155,"cut":false,"hidden":false,"merged":[[153,11,154,11],[153,12,154,12],[153,13,154,13],[153,19,154,19],[153,20,154,20],[153,21,154,21],[153,0,154,0],[153,1,154,1],[153,2,154,2],[153,8,154,8],[153,9,154,9],[153,10,154,10],[151,11,152,11],[151,12,152,12],[151,13,152,13],[151,19,152,19],[151,20,152,20],[151,21,152,21],[151,0,152,0],[151,1,152,1],[151,2,152,2],[151,8,152,8],[151,9,152,9],[151,10,152,10],[149,11,150,11],[149,12,150,12],[149,13,150,13],[149,19,150,19],[149,20,150,20],[149,21,150,21],[149,0,150,0],[149,1,150,1],[149,2,150,2],[149,8,150,8],[149,9,150,9],[149,10,150,10],[147,11,148,11],[147,12,148,12],[147,13,148,13],[147,19,148,19],[147,20,148,20],[147,21,148,21],[147,0,148,0],[147,1,148,1],[147,2,148,2],[147,8,148,8],[147,9,148,9],[147,10,148,10],[145,11,146,11],[145,12,146,12],[145,13,146,13],[145,19,146,19],[145,20,146,20],[145,21,146,21],[145,0,146,0],[145,1,146,1],[145,2,146,2],[145,8,146,8],[145,9,146,9],[145,10,146,10],[143,11,144,11],[143,12,144,12],[143,13,144,13],[143,19,144,19],[143,20,144,20],[143,21,144,21],[143,0,144,0],[143,1,144,1],[143,2,144,2],[143,8,144,8],[143,9,144,9],[143,10,144,10],[141,11,142,11],[141,12,142,12],[141,13,142,13],[141,19,142,19],[141,20,142,20],[141,21,142,21],[141,0,142,0],[141,1,142,1],[141,2,142,2],[141,8,142,8],[141,9,142,9],[141,10,142,10],[139,19,140,19],[139,20,140,20],[139,21,140,21],[139,0,140,0],[139,1,140,1],[139,2,140,2],[139,8,140,8],[139,9,140,9],[139,10,140,10],[137,0,138,0],[137,1,138,1],[137,2,138,2],[137,8,138,8],[137,9,138,9],[137,10,138,10],[139,11,140,11],[139,12,140,12],[139,13,140,13],[135,19,136,19],[135,20,136,20],[135,21,136,21],[131,16,134,16],[131,17,134,17],[131,18,134,18],[131,19,134,19],[131,15,134,15],[137,11,138,11],[137,12,138,12],[137,13,138,13],[137,19,138,19],[137,20,138,20],[137,21,138,21],[135,0,136,0],[135,1,136,1],[135,2,136,2],[135,8,136,8],[135,9,136,9],[135,10,136,10],[131,7,134,7],[131,8,134,8],[131,12,132,14],[133,12,134,12],[133,13,134,13],[133,14,134,14],[131,1,132,3],[131,4,134,4],[131,5,134,5],[131,6,134,6],[133,1,134,1],[133,2,134,2],[133,3,134,3],[135,11,136,11],[135,12,136,12],[135,13,136,13],[124,13,127,19],[128,1,130,3],[128,4,130,8],[128,12,130,14],[128,15,130,19],[124,1,126,8],[127,1,127,8],[122,11,123,11],[122,12,123,12],[122,13,123,13],[122,19,123,19],[122,20,123,20],[122,21,123,21],[122,0,123,0],[122,1,123,1],[122,2,123,2],[122,8,123,8],[122,9,123,9],[122,10,123,10],[120,11,121,11],[120,12,121,12],[120,13,121,13],[120,19,121,19],[120,20,121,20],[120,21,121,21],[120,0,121,0],[120,1,121,1],[120,2,121,2],[120,8,121,8],[120,9,121,9],[120,10,121,10],[118,11,119,11],[118,12,119,12],[118,13,119,13],[118,19,119,19],[118,20,119,20],[118,21,119,21],[118,0,119,0],[118,1,119,1],[118,2,119,2],[118,8,119,8],[118,9,119,9],[118,10,119,10],[116,11,117,11],[116,12,117,12],[116,13,117,13],[116,19,117,19],[116,20,117,20],[116,21,117,21],[116,0,117,0],[116,1,117,1],[116,2,117,2],[116,8,117,8],[116,9,117,9],[116,10,117,10],[114,11,115,11],[114,12,115,12],[114,13,115,13],[114,19,115,19],[114,20,115,20],[114,21,115,21],[114,0,115,0],[114,1,115,1],[114,2,115,2],[114,8,115,8],[114,9,115,9],[114,10,115,10],[112,11,113,11],[112,12,113,12],[112,13,113,13],[112,19,113,19],[112,20,113,20],[112,21,113,21],[112,0,113,0],[112,1,113,1],[112,2,113,2],[112,8,113,8],[112,9,113,9],[112,10,113,10],[110,11,111,11],[110,12,111,12],[110,13,111,13],[110,19,111,19],[110,20,111,20],[110,21,111,21],[110,0,111,0],[110,1,111,1],[110,2,111,2],[110,8,111,8],[110,9,111,9],[110,10,111,10],[108,19,109,19],[108,20,109,20],[108,21,109,21],[108,0,109,0],[108,1,109,1],[108,2,109,2],[108,8,109,8],[108,9,109,9],[108,10,109,10],[106,0,107,0],[106,1,107,1],[106,2,107,2],[106,8,107,8],[106,9,107,9],[106,10,107,10],[108,11,109,11],[108,12,109,12],[108,13,109,13],[104,19,105,19],[104,20,105,20],[104,21,105,21],[100,16,103,16],[100,17,103,17],[100,18,103,18],[100,19,103,19],[100,15,103,15],[106,11,107,11],[106,12,107,12],[106,13,107,13],[106,19,107,19],[106,20,107,20],[106,21,107,21],[104,0,105,0],[104,1,105,1],[104,2,105,2],[104,8,105,8],[104,9,105,9],[104,10,105,10],[100,7,103,7],[100,8,103,8],[100,12,101,14],[102,12,103,12],[102,13,103,13],[102,14,103,14],[100,1,101,3],[100,4,103,4],[100,5,103,5],[100,6,103,6],[102,1,103,1],[102,2,103,2],[102,3,103,3],[104,11,105,11],[104,12,105,12],[104,13,105,13],[93,13,96,19],[97,1,99,3],[97,4,99,8],[97,12,99,14],[97,15,99,19],[93,1,95,8],[96,1,96,8],[91,11,92,11],[91,12,92,12],[91,13,92,13],[91,19,92,19],[91,20,92,20],[91,21,92,21],[91,0,92,0],[91,1,92,1],[91,2,92,2],[91,8,92,8],[91,9,92,9],[91,10,92,10],[89,11,90,11],[89,12,90,12],[89,13,90,13],[89,19,90,19],[89,20,90,20],[89,21,90,21],[89,0,90,0],[89,1,90,1],[89,2,90,2],[89,8,90,8],[89,9,90,9],[89,10,90,10],[87,11,88,11],[87,12,88,12],[87,13,88,13],[87,19,88,19],[87,20,88,20],[87,21,88,21],[87,0,88,0],[87,1,88,1],[87,2,88,2],[87,8,88,8],[87,9,88,9],[87,10,88,10],[85,11,86,11],[85,12,86,12],[85,13,86,13],[85,19,86,19],[85,20,86,20],[85,21,86,21],[85,0,86,0],[85,1,86,1],[85,2,86,2],[85,8,86,8],[85,9,86,9],[85,10,86,10],[83,11,84,11],[83,12,84,12],[83,13,84,13],[83,19,84,19],[83,20,84,20],[83,21,84,21],[83,0,84,0],[83,1,84,1],[83,2,84,2],[83,8,84,8],[83,9,84,9],[83,10,84,10],[81,11,82,11],[81,12,82,12],[81,13,82,13],[81,19,82,19],[81,20,82,20],[81,21,82,21],[81,0,82,0],[81,1,82,1],[81,2,82,2],[81,8,82,8],[81,9,82,9],[81,10,82,10],[79,11,80,11],[79,12,80,12],[79,13,80,13],[79,19,80,19],[79,20,80,20],[79,21,80,21],[79,0,80,0],[79,1,80,1],[79,2,80,2],[79,8,80,8],[79,9,80,9],[79,10,80,10],[77,19,78,19],[77,20,78,20],[77,21,78,21],[77,0,78,0],[77,1,78,1],[77,2,78,2],[77,8,78,8],[77,9,78,9],[77,10,78,10],[75,0,76,0],[75,1,76,1],[75,2,76,2],[75,8,76,8],[75,9,76,9],[75,10,76,10],[77,11,78,11],[77,12,78,12],[77,13,78,13],[73,19,74,19],[73,20,74,20],[73,21,74,21],[69,16,72,16],[69,17,72,17],[69,18,72,18],[69,19,72,19],[69,15,72,15],[75,11,76,11],[75,12,76,12],[75,13,76,13],[75,19,76,19],[75,20,76,20],[75,21,76,21],[73,0,74,0],[73,1,74,1],[73,2,74,2],[73,8,74,8],[73,9,74,9],[73,10,74,10],[69,7,72,7],[69,8,72,8],[69,12,70,14],[71,12,72,12],[71,13,72,13],[71,14,72,14],[69,1,70,3],[69,4,72,4],[69,5,72,5],[69,6,72,6],[71,1,72,1],[71,2,72,2],[71,3,72,3],[73,11,74,11],[73,12,74,12],[73,13,74,13],[66,1,68,3],[66,4,68,8],[66,12,68,14],[66,15,68,19],[62,1,64,8],[65,1,65,8],[58,21,59,21],[60,0,61,0],[60,1,61,1],[60,2,61,2],[60,8,61,8],[60,9,61,9],[60,10,61,10],[60,11,61,11],[60,21,61,21],[58,19,59,19],[58,20,59,20],[60,12,61,12],[60,13,61,13],[58,12,59,12],[58,13,59,13],[60,19,61,19],[60,20,61,20],[56,12,57,12],[56,13,57,13],[62,13,65,19],[56,21,57,21],[58,0,59,0],[58,1,59,1],[58,2,59,2],[58,8,59,8],[58,9,59,9],[58,10,59,10],[58,11,59,11],[54,19,55,19],[54,20,55,20],[54,21,55,21],[56,0,57,0],[56,1,57,1],[56,2,57,2],[56,8,57,8],[56,9,57,9],[56,10,57,10],[56,11,57,11],[56,19,57,19],[56,20,57,20],[54,0,55,0],[54,1,55,1],[54,2,55,2],[54,8,55,8],[54,9,55,9],[54,10,55,10],[54,11,55,11],[54,12,55,12],[54,13,55,13],[50,12,51,12],[50,13,51,13],[50,19,51,19],[50,20,51,20],[50,21,51,21],[52,0,53,0],[52,1,53,1],[52,2,53,2],[52,8,53,8],[52,9,53,9],[50,0,51,0],[50,1,51,1],[50,2,51,2],[50,8,51,8],[52,21,53,21],[52,10,53,10],[52,11,53,11],[52,12,53,12],[52,13,53,13],[52,19,53,19],[52,20,53,20],[35,1,37,3],[35,4,37,8],[35,12,37,14],[35,15,37,19],[31,1,33,8],[34,1,34,8],[40,14,41,14],[38,1,39,3],[38,4,41,4],[38,5,41,5],[38,6,41,6],[40,1,41,1],[40,2,41,2],[40,3,41,3],[38,16,41,16],[38,17,41,17],[38,18,41,18],[38,19,41,19],[38,7,41,7],[38,8,41,8],[38,12,39,14],[38,15,41,15],[40,12,41,12],[42,0,43,0],[42,1,43,1],[42,2,43,2],[42,8,43,8],[44,13,45,13],[44,19,45,19],[44,20,45,20],[44,21,45,21],[44,9,45,9],[44,10,45,10],[44,11,45,11],[48,0,49,0],[48,1,49,1],[48,2,49,2],[48,8,49,8],[48,13,49,13],[48,19,49,19],[44,12,45,12],[46,9,47,9],[46,10,47,10],[46,11,47,11],[46,12,47,12],[46,0,47,0],[46,1,47,1],[46,2,47,2],[46,8,47,8],[44,0,45,0],[44,1,45,1],[44,2,45,2],[44,8,45,8],[48,20,49,20],[48,21,49,21],[46,13,47,13],[46,19,47,19],[46,20,47,20],[46,21,47,21],[29,11,30,11],[29,12,30,12],[29,13,30,13],[29,19,30,19],[29,20,30,20],[29,21,30,21],[48,11,49,11],[48,12,49,12],[40,13,41,13],[42,20,43,20],[42,21,43,21],[42,11,43,11],[42,12,43,12],[42,13,43,13],[42,19,43,19],[31,13,34,19],[29,0,30,0],[29,1,30,1],[29,2,30,2],[29,8,30,8],[29,9,30,9],[29,10,30,10],[27,11,28,11],[27,12,28,12],[27,13,28,13],[27,19,28,19],[27,20,28,20],[27,21,28,21],[27,0,28,0],[27,1,28,1],[27,2,28,2],[27,8,28,8],[27,9,28,9],[27,10,28,10],[25,12,26,12],[25,13,26,13],[25,19,26,19],[25,20,26,20],[25,21,26,21],[25,0,26,0],[25,1,26,1],[25,2,26,2],[25,8,26,8],[25,9,26,9],[25,10,26,10],[23,12,24,12],[23,13,24,13],[23,19,24,19],[23,20,24,20],[23,21,24,21],[23,0,24,0],[23,1,24,1],[23,2,24,2],[23,8,24,8],[23,9,24,9],[23,10,24,10],[21,12,22,12],[21,13,22,13],[21,19,22,19],[21,20,22,20],[21,21,22,21],[21,0,22,0],[21,1,22,1],[21,2,22,2],[21,8,22,8],[21,9,22,9],[21,10,22,10],[19,12,20,12],[19,13,20,13],[19,19,20,19],[19,20,20,20],[19,21,20,21],[19,0,20,0],[19,1,20,1],[19,2,20,2],[19,8,20,8],[19,9,20,9],[19,10,20,10],[17,19,18,19],[17,20,18,20],[17,21,18,21],[17,0,18,0],[17,1,18,1],[17,2,18,2],[17,8,18,8],[17,9,18,9],[17,10,18,10],[15,0,16,0],[15,1,16,1],[15,2,16,2],[15,8,16,8],[15,9,16,9],[15,10,16,10],[17,11,18,11],[17,12,18,12],[17,13,18,13],[13,13,14,13],[13,19,14,19],[13,20,14,20],[13,21,14,21],[11,13,12,13],[11,19,12,19],[11,20,12,20],[11,21,12,21],[15,11,16,11],[15,12,16,12],[15,13,16,13],[15,19,16,19],[15,20,16,20],[15,21,16,21],[13,0,14,0],[13,1,14,1],[13,2,14,2],[13,8,14,8],[13,9,14,9],[13,10,14,10],[9,12,10,12],[9,1,10,1],[9,2,10,2],[11,0,12,0],[11,1,12,1],[11,2,12,2],[11,8,12,8],[11,12,12,12],[13,11,14,11],[13,12,14,12],[50,9,51,9],[50,10,51,10],[50,11,51,11],[7,4,10,4],[7,6,10,6],[7,5,10,5],[11,9,12,9],[11,10,12,10],[11,11,12,11],[48,9,49,9],[19,11,20,11],[21,11,22,11],[23,11,24,11],[25,11,26,11],[48,10,49,10],[42,9,43,9],[42,10,43,10],[0,13,3,19],[4,1,6,3],[4,4,6,8],[4,12,6,14],[0,1,2,8],[3,1,3,8],[4,15,6,19],[7,18,10,18],[7,19,10,19],[9,13,10,13],[7,16,10,16],[7,17,10,17],[7,15,10,15],[7,1,8,3],[7,12,8,14],[9,3,10,3],[9,14,10,14],[7,7,10,7],[7,8,10,8]]}
[null," CELOSTÁTNÍ HRA PLAMEN"]
[]
[]
[null," Výsledková listina č: 1"]
[null,"Požární útok",null,null,"Základem je čas naměřený od vydání signálu startéra do proběhnutí posledního člena cílem",null,null,null,null,null,null,null,"Požární útok",null,null,"Základem je čas naměřený od vydání signálu startéra do proběhnutí posledního člena cílem"]
[]
[]
[null,{"$f":"\"KATEGORIE: \"&'Start - podzim'!$N$2","v":"KATEGORIE: STARŠÍ"},null,null,"I. časoměřič","II. časoměřič","III. časoměřič","úřední čas","počet bodů za umístění",null,null,null,{"$f":"\"KATEGORIE: \"&'Start - podzim'!$N$2","v":"KATEGORIE: STARŠÍ"},null,null,"I. časoměřič","II. časoměřič","III. časoměřič","úřední čas","počet bodů za umístění"]
[]
[null,"start. číslo","SOUTĚŽNÍ DRUŽSTVO","pokus",null,null,null,null,null,null,null,null,"start. číslo","SOUTĚŽNÍ DRUŽSTVO","pokus"]
[]
[{"$f":"IF('Start - jaro'!E6=\"\",\"\",\"x\")","v":""},1,{"$f":"IF('Start - jaro'!C6=\"\",\"\",'Start - jaro'!C6)","v":"Srubec (ČB)"},"I.pokus","NP",null,null,{"$f":"IF($C12=\"\",\"\",IF(OR($E12=\"DNF\",$F12=\"DNF\",$G12=\"DNF\"),\"DNF\",IF(OR($E12=\"NP\",$F12=\"NP\",$G12=\"NP\"),\"NP\",IF(ISERROR(MEDIAN($E12:$G12)),\"DNF\",IF(COUNT($E12:$G12)<3,MAX($E12:$G12),MEDIAN($E12:$G12))))))","v":"NP"},{"$f":"IF($A12=\"x\",\"x\",IF($C12=\"\",\"\",IF(OR(J12=\"NP\",J12=\"DNF\"),IF(J12=\"NP\",MAX(Oblast4)+COUNTIF(($J$12:$J$154),MAX(Oblast4))+COUNTIF(($U$12:$U$154),MAX(Oblast4)),MAX(Oblast4)+COUNTIF(($J$12:$J$154),MAX(Oblast4))+COUNTIF(($U$12:$U$154),MAX(Oblast4))+COUNTIF(($J$12:$J$154),\"NP\")+COUNTIF(($U$12:$U$154),\"NP\")),J12)))","v":4},{"$f":"IF($A12=\"x\",\"x\",IF($C12=\"\",\"\",IF(OR(K12=\"NP\",K12=\"DNF\"),K12,RANK(K12,Oblast3,1))))","v":4},{"$f":"IF($A12=\"x\",\"x\",IF($C12=\"\",\"\",IF(OR(AND(H12=\"NP\",H13=\"NP\"),AND(H12=\"DNF\",H13=\"DNF\")),H12,IF(AND(H12=\"NP\",H13=\"DNF\"),H12,IF(AND(H12=\"DNF\",H13=\"NP\"),H13,MIN(H12,H13))))))","v":25.05},{"$f":"IF('Start - jaro'!E16=\"\",\"\",\"x\")","v":""},11,{"$f":"IF('Start - jaro'!C16=\"\",\"\",'Start - jaro'!C16)","v":""},"I.pokus",null,null,null,{"$f":"IF($N12=\"\",\"\",IF(OR($P12=\"DNF\",$Q12=\"DNF\",$R12=\"DNF\"),\"DNF\",IF(OR($P12=\"NP\",$Q12=\"NP\",$R12=\"NP\"),\"NP\",IF(ISERROR(MEDIAN($P12:$R12)),\"DNF\",IF(COUNT($P12:$R12)<3,MAX($P12:$R12),MEDIAN($P12:$R12))))))","v":""},{"$f":"IF($L12=\"x\",\"x\",IF($N12=\"\",\"\",IF(OR(U12=\"NP\",U12=\"DNF\"),IF(U12=\"NP\",MAX(Oblast4)+COUNTIF(($J$12:$J$154),MAX(Oblast4))+COUNTIF(($U$12:$U$154),MAX(Oblast4)),MAX(Oblast4)+COUNTIF(($J$12:$J$154),MAX(Oblast4))+COUNTIF(($U$12:$U$154),MAX(Oblast4))+COUNTIF(($J$12:$J$154),\"NP\")+COUNTIF(($U$12:$U$154),\"NP\")),U12)))","v":""},{"$f":"IF($L12=\"x\",\"x\",IF($N12=\"\",\"\",IF(OR(V12=\"NP\",V12=\"DNF\"),V12,RANK(V12,Oblast3,1))))","v":""},{"$f":"IF($L12=\"x\",\"x\",IF($N12=\"\",\"\",IF(OR(AND(S12=\"NP\",S13=\"NP\"),AND(S12=\"DNF\",S13=\"DNF\")),S12,IF(AND(S12=\"NP\",S13=\"DNF\"),S12,IF(AND(S12=\"DNF\",S13=\"NP\"),S13,MIN(S12,S13))))))","v":""}]
[null,null,null,"II.pokus",25.05,null,null,{"$f":"IF($C12=\"\",\"\",IF(OR($E13=\"DNF\",$F13=\"DNF\",$G13=\"DNF\"),\"DNF\",IF(OR($E13=\"NP\",$F13=\"NP\",$G13=\"NP\"),\"NP\",IF(ISERROR(MEDIAN($E13:$G13)),\"DNF\",IF(COUNT($E13:$G13)<3,MAX($E13:$G13),MEDIAN($E13:$G13))))))","v":25.05},null,null,null,null,null,null,"II.pokus",null,null,null,{"$f":"IF($N12=\"\",\"\",IF(OR($P13=\"DNF\",$Q13=\"DNF\",$R13=\"DNF\"),\"DNF\",IF(OR($P13=\"NP\",$Q13=\"NP\",$R13=\"NP\"),\"NP\",IF(ISERROR(MEDIAN($P13:$R13)),\"DNF\",IF(COUNT($P13:$R13)<3,MAX($P13:$R13),MEDIAN($P13:$R13))))))","v":""}]
[{"$f":"IF('Start - jaro'!E7=\"\",\"\",\"x\")","v":""},2,{"$f":"IF('Start - jaro'!C7=\"\",\"\",'Start - jaro'!C7)","v":"Zhoř u Tábora (TÁ)"},"I.pokus",21.41,null,null,{"$f":"IF($C14=\"\",\"\",IF(OR($E14=\"DNF\",$F14=\"DNF\",$G14=\"DNF\"),\"DNF\",IF(OR($E14=\"NP\",$F14=\"NP\",$G14=\"NP\"),\"NP\",IF(ISERROR(MEDIAN($E14:$G14)),\"DNF\",IF(COUNT($E14:$G14)<3,MAX($E14:$G14),MEDIAN($E14:$G14))))))","v":21.41},{"$f":"IF($A14=\"x\",\"x\",IF($C14=\"\",\"\",IF(OR(J14=\"NP\",J14=\"DNF\"),IF(J14=\"NP\",MAX(Oblast4)+COUNTIF(($J$12:$J$154),MAX(Oblast4))+COUNTIF(($U$12:$U$154),MAX(Oblast4)),MAX(Oblast4)+COUNTIF(($J$12:$J$154),MAX(Oblast4))+COUNTIF(($U$12:$U$154),MAX(Oblast4))+COUNTIF(($J$12:$J$154),\"NP\")+COUNTIF(($U$12:$U$154),\"NP\")),J14)))","v":1},{"$f":"IF($A14=\"x\",\"x\",IF($C14=\"\",\"\",IF(OR(K14=\"NP\",K14=\"DNF\"),K14,RANK(K14,Oblast3,1))))","v":1},{"$f":"IF($A14=\"x\",\"x\",IF($C14=\"\",\"\",IF(OR(AND(H14=\"NP\",H15=\"NP\"),AND(H14=\"DNF\",H15=\"DNF\")),H14,IF(AND(H14=\"NP\",H15=\"DNF\"),H14,IF(AND(H14=\"DNF\",H15=\"NP\"),H15,MIN(H14,H15))))))","v":21.41},{"$f":"IF('Start - jaro'!E17=\"\",\"\",\"x\")","v":""},12,{"$f":"IF('Start - jaro'!C17=\"\",\"\",'Start - jaro'!C17)","v":""},"I.pokus",null,null,null,{"$f":"IF($N14=\"\",\"\",IF(OR($P14=\"DNF\",$Q14=\"DNF\",$R14=\"DNF\"),\"DNF\",IF(OR($P14=\"NP\",$Q14=\"NP\",$R14=\"NP\"),\"NP\",IF(ISERROR(MEDIAN($P14:$R14)),\"DNF\",IF(COUNT($P14:$R14)<3,MAX($P14:$R14),MEDIAN($P14:$R14))))))","v":""},{"$f":"IF($L14=\"x\",\"x\",IF($N14=\"\",\"\",IF(OR(U14=\"NP\",U14=\"DNF\"),IF(U14=\"NP\",MAX(Oblast4)+COUNTIF(($J$12:$J$154),MAX(Oblast4))+COUNTIF(($U$12:$U$154),MAX(Oblast4)),MAX(Oblast4)+COUNTIF(($J$12:$J$154),MAX(Oblast4))+COUNTIF(($U$12:$U$154),MAX(Oblast4))+COUNTIF(($J$12:$J$154),\"NP\")+COUNTIF(($U$12:$U$154),\"NP\")),U14)))","v":""},{"$f":"IF($L14=\"x\",\"x\",IF($N14=\"\",\"\",IF(OR(V14=\"NP\",V14=\"DNF\"),V14,RANK(V14,Oblast3,1))))","v":""},{"$f":"IF($L14=\"x\",\"x\",IF($N14=\"\",\"\",IF(OR(AND(S14=\"NP\",S15=\"NP\"),AND(S14=\"DNF\",S15=\"DNF\")),S14,IF(AND(S14=\"NP\",S15=\"DNF\"),S14,IF(AND(S14=\"DNF\",S15=\"NP\"),S15,MIN(S14,S15))))))","v":""}]
[null,null,null,"II.pokus",30.96,null,null,{"$f":"IF($C14=\"\",\"\",IF(OR($E15=\"DNF\",$F15=\"DNF\",$G15=\"DNF\"),\"DNF\",IF(OR($E15=\"NP\",$F15=\"NP\",$G15=\"NP\"),\"NP\",IF(ISERROR(MEDIAN($E15:$G15)),\"DNF\",IF(COUNT($E15:$G15)<3,MAX($E15:$G15),MEDIAN($E15:$G15))))))","v":30.96},null,null,null,null,null,null,"II.pokus",null,null,null,{"$f":"IF($N14=\"\",\"\",IF(OR($P15=\"DNF\",$Q15=\"DNF\",$R15=\"DNF\"),\"DNF\",IF(OR($P15=\"NP\",$Q15=\"NP\",$R15=\"NP\"),\"NP\",IF(ISERROR(MEDIAN($P15:$R15)),\"DNF\",IF(COUNT($P15:$R15)<3,MAX($P15:$R15),MEDIAN($P15:$R15))))))","v":""}]
[{"$f":"IF('Start - jaro'!E8=\"\",\"\",\"x\")","v":""},3,{"$f":"IF('Start - jaro'!C8=\"\",\"\",'Start - jaro'!C8)","v":"Svatá Maří (PT)"},"I.pokus",39.1,null,null,{"$f":"IF($C16=\"\",\"\",IF(OR($E16=\"DNF\",$F16=\"DNF\",$G16=\"DNF\"),\"DNF\",IF(OR($E16=\"NP\",$F16=\"NP\",$G16=\"NP\"),\"NP\",IF(ISERROR(MEDIAN($E16:$G16)),\"DNF\",IF(COUNT($E16:$G16)<3,MAX($E16:$G16),MEDIAN($E16:$G16))))))","v":39.1},{"$f":"IF($A16=\"x\",\"x\",IF($C16=\"\",\"\",IF(OR(J16=\"NP\",J16=\"DNF\"),IF(J16=\"NP\",MAX(Oblast4)+COUNTIF(($J$12:$J$154),MAX(Oblast4))+COUNTIF(($U$12:$U$154),MAX(Oblast4)),MAX(Oblast4)+COUNTIF(($J$12:$J$154),MAX(Oblast4))+COUNTIF(($U$12:$U$154),MAX(Oblast4))+COUNTIF(($J$12:$J$154),\"NP\")+COUNTIF(($U$12:$U$154),\"NP\")),J16)))","v":6},{"$f":"IF($A16=\"x\",\"x\",IF($C16=\"\",\"\",IF(OR(K16=\"NP\",K16=\"DNF\"),K16,RANK(K16,Oblast3,1))))","v":6},{"$f":"IF($A16=\"x\",\"x\",IF($C16=\"\",\"\",IF(OR(AND(H16=\"NP\",H17=\"NP\"),AND(H16=\"DNF\",H17=\"DNF\")),H16,IF(AND(H16=\"NP\",H17=\"DNF\"),H16,IF(AND(H16=\"DNF\",H17=\"NP\"),H17,MIN(H16,H17))))))","v":30.93},{"$f":"IF('Start - jaro'!E18=\"\",\"\",\"x\")","v":""},13,{"$f":"IF('Start - jaro'!C18=\"\",\"\",'Start - jaro'!C18)","v":""},"I.pokus",null,null,null,{"$f":"IF($N16=\"\",\"\",IF(OR($P16=\"DNF\",$Q16=\"DNF\",$R16=\"DNF\"),\"DNF\",IF(OR($P16=\"NP\",$Q16=\"NP\",$R16=\"NP\"),\"NP\",IF(ISERROR(MEDIAN($P16:$R16)),\"DNF\",IF(COUNT($P16:$R16)<3,MAX($P16:$R16),MEDIAN($P16:$R16))))))","v":""},{"$f":"IF($L16=\"x\",\"x\",IF($N16=\"\",\"\",IF(OR(U16=\"NP\",U16=\"DNF\"),IF(U16=\"NP\",MAX(Oblast4)+COUNTIF(($J$12:$J$154),MAX(Oblast4))+COUNTIF(($U$12:$U$154),MAX(Oblast4)),MAX(Oblast4)+COUNTIF(($J$12:$J$154),MAX(Oblast4))+COUNTIF(($U$12:$U$154),MAX(Oblast4))+COUNTIF(($J$12:$J$154),\"NP\")+COUNTIF(($U$12:$U$154),\"NP\")),U16)))","v":""},{"$f":"IF($L16=\"x\",\"x\",IF($N16=\"\",\"\",IF(OR(V16=\"NP\",V16=\"DNF\"),V16,RANK(V16,Oblast3,1))))","v":""},{"$f":"IF($L16=\"x\",\"x\",IF($N16=\"\",\"\",IF(OR(AND(S16=\"NP\",S17=\"NP\"),AND(S16=\"DNF\",S17=\"DNF\")),S16,IF(AND(S16=\"NP\",S17=\"DNF\"),S16,IF(AND(S16=\"DNF\",S17=\"NP\"),S17,MIN(S16,S17))))))","v":""}]
[null,null,null,"II.pokus",30.93,null,null,{"$f":"IF($C16=\"\",\"\",IF(OR($E17=\"DNF\",$F17=\"DNF\",$G17=\"DNF\"),\"DNF\",IF(OR($E17=\"NP\",$F17=\"NP\",$G17=\"NP\"),\"NP\",IF(ISERROR(MEDIAN($E17:$G17)),\"DNF\",IF(COUNT($E17:$G17)<3,MAX($E17:$G17),MEDIAN($E17:$G17))))))","v":30.93},null,null,null,null,null,null,"II.pokus",null,null,null,{"$f":"IF($N16=\"\",\"\",IF(OR($P17=\"DNF\",$Q17=\"DNF\",$R17=\"DNF\"),\"DNF\",IF(OR($P17=\"NP\",$Q17=\"NP\",$R17=\"NP\"),\"NP\",IF(ISERROR(MEDIAN($P17:$R17)),\"DNF\",IF(COUNT($P17:$R17)<3,MAX($P17:$R17),MEDIAN($P17:$R17))))))","v":""}]
[{"$f":"IF('Start - jaro'!E9=\"\",\"\",\"x\")","v":""},4,{"$f":"IF('Start - jaro'!C9=\"\",\"\",'Start - jaro'!C9)","v":"Drahonice (ST)"},"I.pokus",32.71,null,null,{"$f":"IF($C18=\"\",\"\",IF(OR($E18=\"DNF\",$F18=\"DNF\",$G18=\"DNF\"),\"DNF\",IF(OR($E18=\"NP\",$F18=\"NP\",$G18=\"NP\"),\"NP\",IF(ISERROR(MEDIAN($E18:$G18)),\"DNF\",IF(COUNT($E18:$G18)<3,MAX($E18:$G18),MEDIAN($E18:$G18))))))","v":32.71},{"$f":"IF($A18=\"x\",\"x\",IF($C18=\"\",\"\",IF(OR(J18=\"NP\",J18=\"DNF\"),IF(J18=\"NP\",MAX(Oblast4)+COUNTIF(($J$12:$J$154),MAX(Oblast4))+COUNTIF(($U$12:$U$154),MAX(Oblast4)),MAX(Oblast4)+COUNTIF(($J$12:$J$154),MAX(Oblast4))+COUNTIF(($U$12:$U$154),MAX(Oblast4))+COUNTIF(($J$12:$J$154),\"NP\")+COUNTIF(($U$12:$U$154),\"NP\")),J18)))","v":5},{"$f":"IF($A18=\"x\",\"x\",IF($C18=\"\",\"\",IF(OR(K18=\"NP\",K18=\"DNF\"),K18,RANK(K18,Oblast3,1))))","v":5},{"$f":"IF($A18=\"x\",\"x\",IF($C18=\"\",\"\",IF(OR(AND(H18=\"NP\",H19=\"NP\"),AND(H18=\"DNF\",H19=\"DNF\")),H18,IF(AND(H18=\"NP\",H19=\"DNF\"),H18,IF(AND(H18=\"DNF\",H19=\"NP\"),H19,MIN(H18,H19))))))","v":26.24},{"$f":"IF('Start - jaro'!E19=\"\",\"\",\"x\")","v":""},14,{"$f":"IF('Start - jaro'!C19=\"\",\"\",'Start - jaro'!C19)","v":""},"I.pokus",null,null,null,{"$f":"IF($N18=\"\",\"\",IF(OR($P18=\"DNF\",$Q18=\"DNF\",$R18=\"DNF\"),\"DNF\",IF(OR($P18=\"NP\",$Q18=\"NP\",$R18=\"NP\"),\"NP\",IF(ISERROR(MEDIAN($P18:$R18)),\"DNF\",IF(COUNT($P18:$R18)<3,MAX($P18:$R18),MEDIAN($P18:$R18))))))","v":""},{"$f":"IF($L18=\"x\",\"x\",IF($N18=\"\",\"\",IF(OR(U18=\"NP\",U18=\"DNF\"),IF(U18=\"NP\",MAX(Oblast4)+COUNTIF(($J$12:$J$154),MAX(Oblast4))+COUNTIF(($U$12:$U$154),MAX(Oblast4)),MAX(Oblast4)+COUNTIF(($J$12:$J$154),MAX(Oblast4))+COUNTIF(($U$12:$U$154),MAX(Oblast4))+COUNTIF(($J$12:$J$154),\"NP\")+COUNTIF(($U$12:$U$154),\"NP\")),U18)))","v":""},{"$f":"IF($L18=\"x\",\"x\",IF($N18=\"\",\"\",IF(OR(V18=\"NP\",V18=\"DNF\"),V18,RANK(V18,Oblast3,1))))","v":""},{"$f":"IF($L18=\"x\",\"x\",IF($N18=\"\",\"\",IF(OR(AND(S18=\"NP\",S19=\"NP\"),AND(S18=\"DNF\",S19=\"DNF\")),S18,IF(AND(S18=\"NP\",S19=\"DNF\"),S18,IF(AND(S18=\"DNF\",S19=\"NP\"),S19,MIN(S18,S19))))))","v":""}]
[null,null,null,"II.pokus",26.24,null,null,{"$f":"IF($C18=\"\",\"\",IF(OR($E19=\"DNF\",$F19=\"DNF\",$G19=\"DNF\"),\"DNF\",IF(OR($E19=\"NP\",$F19=\"NP\",$G19=\"NP\"),\"NP\",IF(ISERROR(MEDIAN($E19:$G19)),\"DNF\",IF(COUNT($E19:$G19)<3,MAX($E19:$G19),MEDIAN($E19:$G19))))))","v":26.24},null,null,null,null,null,null,"II.pokus",null,null,null,{"$f":"IF($N18=\"\",\"\",IF(OR($P19=\"DNF\",$Q19=\"DNF\",$R19=\"DNF\"),\"DNF\",IF(OR($P19=\"NP\",$Q19=\"NP\",$R19=\"NP\"),\"NP\",IF(ISERROR(MEDIAN($P19:$R19)),\"DNF\",IF(COUNT($P19:$R19)<3,MAX($P19:$R19),MEDIAN($P19:$R19))))))","v":""}]
[{"$f":"IF('Start - jaro'!E10=\"\",\"\",\"x\")","v":""},5,{"$f":"IF('Start - jaro'!C10=\"\",\"\",'Start - jaro'!C10)","v":"Dobrošov (PÍ)"},"I.pokus",23.8,null,null,{"$f":"IF($C20=\"\",\"\",IF(OR($E20=\"DNF\",$F20=\"DNF\",$G20=\"DNF\"),\"DNF\",IF(OR($E20=\"NP\",$F20=\"NP\",$G20=\"NP\"),\"NP\",IF(ISERROR(MEDIAN($E20:$G20)),\"DNF\",IF(COUNT($E20:$G20)<3,MAX($E20:$G20),MEDIAN($E20:$G20))))))","v":23.8},{"$f":"IF($A20=\"x\",\"x\",IF($C20=\"\",\"\",IF(OR(J20=\"NP\",J20=\"DNF\"),IF(J20=\"NP\",MAX(Oblast4)+COUNTIF(($J$12:$J$154),MAX(Oblast4))+COUNTIF(($U$12:$U$154),MAX(Oblast4)),MAX(Oblast4)+COUNTIF(($J$12:$J$154),MAX(Oblast4))+COUNTIF(($U$12:$U$154),MAX(Oblast4))+COUNTIF(($J$12:$J$154),\"NP\")+COUNTIF(($U$12:$U$154),\"NP\")),J20)))","v":2},{"$f":"IF($A20=\"x\",\"x\",IF($C20=\"\",\"\",IF(OR(K20=\"NP\",K20=\"DNF\"),K20,RANK(K20,Oblast3,1))))","v":2},{"$f":"IF($A20=\"x\",\"x\",IF($C20=\"\",\"\",IF(OR(AND(H20=\"NP\",H21=\"NP\"),AND(H20=\"DNF\",H21=\"DNF\")),H20,IF(AND(H20=\"NP\",H21=\"DNF\"),H20,IF(AND(H20=\"DNF\",H21=\"NP\"),H21,MIN(H20,H21))))))","v":23.8},{"$f":"IF('Start - jaro'!E20=\"\",\"\",\"x\")","v":""},15,{"$f":"IF('Start - jaro'!C20=\"\",\"\",'Start - jaro'!C20)","v":""},"I.pokus",null,null,null,{"$f":"IF($N20=\"\",\"\",IF(OR($P20=\"DNF\",$Q20=\"DNF\",$R20=\"DNF\"),\"DNF\",IF(OR($P20=\"NP\",$Q20=\"NP\",$R20=\"NP\"),\"NP\",IF(ISERROR(MEDIAN($P20:$R20)),\"DNF\",IF(COUNT($P20:$R20)<3,MAX($P20:$R20),MEDIAN($P20:$R20))))))","v":""},{"$f":"IF($L20=\"x\",\"x\",IF($N20=\"\",\"\",IF(OR(U20=\"NP\",U20=\"DNF\"),IF(U20=\"NP\",MAX(Oblast4)+COUNTIF(($J$12:$J$154),MAX(Oblast4))+COUNTIF(($U$12:$U$154),MAX(Oblast4)),MAX(Oblast4)+COUNTIF(($J$12:$J$154),MAX(Oblast4))+COUNTIF(($U$12:$U$154),MAX(Oblast4))+COUNTIF(($J$12:$J$154),\"NP\")+COUNTIF(($U$12:$U$154),\"NP\")),U20)))","v":""},{"$f":"IF($L20=\"x\",\"x\",IF($N20=\"\",\"\",IF(OR(V20=\"NP\",V20=\"DNF\"),V20,RANK(V20,Oblast3,1))))","v":""},{"$f":"IF($L20=\"x\",\"x\",IF($N20=\"\",\"\",IF(OR(AND(S20=\"NP\",S21=\"NP\"),AND(S20=\"DNF\",S21=\"DNF\")),S20,IF(AND(S20=\"NP\",S21=\"DNF\"),S20,IF(AND(S20=\"DNF\",S21=\"NP\"),S21,MIN(S20,S21))))))","v":""}]
[null,null,null,"II.pokus",27.84,null,null,{"$f":"IF($C20=\"\",\"\",IF(OR($E21=\"DNF\",$F21=\"DNF\",$G21=\"DNF\"),\"DNF\",IF(OR($E21=\"NP\",$F21=\"NP\",$G21=\"NP\"),\"NP\",IF(ISERROR(MEDIAN($E21:$G21)),\"DNF\",IF(COUNT($E21:$G21)<3,MAX($E21:$G21),MEDIAN($E21:$G21))))))","v":27.84},null,null,null,null,null,null,"II.pokus",null,null,null,{"$f":"IF($N20=\"\",\"\",IF(OR($P21=\"DNF\",$Q21=\"DNF\",$R21=\"DNF\"),\"DNF\",IF(OR($P21=\"NP\",$Q21=\"NP\",$R21=\"NP\"),\"NP\",IF(ISERROR(MEDIAN($P21:$R21)),\"DNF\",IF(COUNT($P21:$R21)<3,MAX($P21:$R21),MEDIAN($P21:$R21))))))","v":""}]
[{"$f":"IF('Start - jaro'!E11=\"\",\"\",\"x\")","v":""},6,{"$f":"IF('Start - jaro'!C11=\"\",\"\",'Start - jaro'!C11)","v":"Plešovice (ČK)"},"I.pokus",27.98,null,null,{"$f":"IF($C22=\"\",\"\",IF(OR($E22=\"DNF\",$F22=\"DNF\",$G22=\"DNF\"),\"DNF\",IF(OR($E22=\"NP\",$F22=\"NP\",$G22=\"NP\"),\"NP\",IF(ISERROR(MEDIAN($E22:$G22)),\"DNF\",IF(COUNT($E22:$G22)<3,MAX($E22:$G22),MEDIAN($E22:$G22))))))","v":27.98},{"$f":"IF($A22=\"x\",\"x\",IF($C22=\"\",\"\",IF(OR(J22=\"NP\",J22=\"DNF\"),IF(J22=\"NP\",MAX(Oblast4)+COUNTIF(($J$12:$J$154),MAX(Oblast4))+COUNTIF(($U$12:$U$154),MAX(Oblast4)),MAX(Oblast4)+COUNTIF(($J$12:$J$154),MAX(Oblast4))+COUNTIF(($U$12:$U$154),MAX(Oblast4))+COUNTIF(($J$12:$J$154),\"NP\")+COUNTIF(($U$12:$U$154),\"NP\")),J22)))","v":3},{"$f":"IF($A22=\"x\",\"x\",IF($C22=\"\",\"\",IF(OR(K22=\"NP\",K22=\"DNF\"),K22,RANK(K22,Oblast3,1))))","v":3},{"$f":"IF($A22=\"x\",\"x\",IF($C22=\"\",\"\",IF(OR(AND(H22=\"NP\",H23=\"NP\"),AND(H22=\"DNF\",H23=\"DNF\")),H22,IF(AND(H22=\"NP\",H23=\"DNF\"),H22,IF(AND(H22=\"DNF\",H23=\"NP\"),H23,MIN(H22,H23))))))","v":24.94},{"$f":"IF('Start - jaro'!E21=\"\",\"\",\"x\")","v":""},16,{"$f":"IF('Start - jaro'!C21=\"\",\"\",'Start - jaro'!C21)","v":""},"I.pokus",null,null,null,{"$f":"IF($N22=\"\",\"\",IF(OR($P22=\"DNF\",$Q22=\"DNF\",$R22=\"DNF\"),\"DNF\",IF(OR($P22=\"NP\",$Q22=\"NP\",$R22=\"NP\"),\"NP\",IF(ISERROR(MEDIAN($P22:$R22)),\"DNF\",IF(COUNT($P22:$R22)<3,MAX($P22:$R22),MEDIAN($P22:$R22))))))","v":""},{"$f":"IF($L22=\"x\",\"x\",IF($N22=\"\",\"\",IF(OR(U22=\"NP\",U22=\"DNF\"),IF(U22=\"NP\",MAX(Oblast4)+COUNTIF(($J$12:$J$154),MAX(Oblast4))+COUNTIF(($U$12:$U$154),MAX(Oblast4)),MAX(Oblast4)+COUNTIF(($J$12:$J$154),MAX(Oblast4))+COUNTIF(($U$12:$U$154),MAX(Oblast4))+COUNTIF(($J$12:$J$154),\"NP\")+COUNTIF(($U$12:$U$154),\"NP\")),U22)))","v":""},{"$f":"IF($L22=\"x\",\"x\",IF($N22=\"\",\"\",IF(OR(V22=\"NP\",V22=\"DNF\"),V22,RANK(V22,Oblast3,1))))","v":""},{"$f":"IF($L22=\"x\",\"x\",IF($N22=\"\",\"\",IF(OR(AND(S22=\"NP\",S23=\"NP\"),AND(S22=\"DNF\",S23=\"DNF\")),S22,IF(AND(S22=\"NP\",S23=\"DNF\"),S22,IF(AND(S22=\"DNF\",S23=\"NP\"),S23,MIN(S22,S23))))))","v":""}]
[null,null,null,"II.pokus",24.94,null,null,{"$f":"IF($C22=\"\",\"\",IF(OR($E23=\"DNF\",$F23=\"DNF\",$G23=\"DNF\"),\"DNF\",IF(OR($E23=\"NP\",$F23=\"NP\",$G23=\"NP\"),\"NP\",IF(ISERROR(MEDIAN($E23:$G23)),\"DNF\",IF(COUNT($E23:$G23)<3,MAX($E23:$G23),MEDIAN($E23:$G23))))))","v":24.94},null,null,null,null,null,null,"II.pokus",null,null,null,{"$f":"IF($N22=\"\",\"\",IF(OR($P23=\"DNF\",$Q23=\"DNF\",$R23=\"DNF\"),\"DNF\",IF(OR($P23=\"NP\",$Q23=\"NP\",$R23=\"NP\"),\"NP\",IF(ISERROR(MEDIAN($P23:$R23)),\"DNF\",IF(COUNT($P23:$R23)<3,MAX($P23:$R23),MEDIAN($P23:$R23))))))","v":""}]
[{"$f":"IF('Start - jaro'!E12=\"\",\"\",\"x\")","v":""},7,{"$f":"IF('Start - jaro'!C12=\"\",\"\",'Start - jaro'!C12)","v":""},"I.pokus",null,null,null,{"$f":"IF($C24=\"\",\"\",IF(OR($E24=\"DNF\",$F24=\"DNF\",$G24=\"DNF\"),\"DNF\",IF(OR($E24=\"NP\",$F24=\"NP\",$G24=\"NP\"),\"NP\",IF(ISERROR(MEDIAN($E24:$G24)),\"DNF\",IF(COUNT($E24:$G24)<3,MAX($E24:$G24),MEDIAN($E24:$G24))))))","v":""},{"$f":"IF($A24=\"x\",\"x\",IF($C24=\"\",\"\",IF(OR(J24=\"NP\",J24=\"DNF\"),IF(J24=\"NP\",MAX(Oblast4)+COUNTIF(($J$12:$J$154),MAX(Oblast4))+COUNTIF(($U$12:$U$154),MAX(Oblast4)),MAX(Oblast4)+COUNTIF(($J$12:$J$154),MAX(Oblast4))+COUNTIF(($U$12:$U$154),MAX(Oblast4))+COUNTIF(($J$12:$J$154),\"NP\")+COUNTIF(($U$12:$U$154),\"NP\")),J24)))","v":""},{"$f":"IF($A24=\"x\",\"x\",IF($C24=\"\",\"\",IF(OR(K24=\"NP\",K24=\"DNF\"),K24,RANK(K24,Oblast3,1))))","v":""},{"$f":"IF($A24=\"x\",\"x\",IF($C24=\"\",\"\",IF(OR(AND(H24=\"NP\",H25=\"NP\"),AND(H24=\"DNF\",H25=\"DNF\")),H24,IF(AND(H24=\"NP\",H25=\"DNF\"),H24,IF(AND(H24=\"DNF\",H25=\"NP\"),H25,MIN(H24,H25))))))","v":""},{"$f":"IF('Start - jaro'!E22=\"\",\"\",\"x\")","v":""},17,{"$f":"IF('Start - jaro'!C22=\"\",\"\",'Start - jaro'!C22)","v":""},"I.pokus",null,null,null,{"$f":"IF($N24=\"\",\"\",IF(OR($P24=\"DNF\",$Q24=\"DNF\",$R24=\"DNF\"),\"DNF\",IF(OR($P24=\"NP\",$Q24=\"NP\",$R24=\"NP\"),\"NP\",IF(ISERROR(MEDIAN($P24:$R24)),\"DNF\",IF(COUNT($P24:$R24)<3,MAX($P24:$R24),MEDIAN($P24:$R24))))))","v":""},{"$f":"IF($L24=\"x\",\"x\",IF($N24=\"\",\"\",IF(OR(U24=\"NP\",U24=\"DNF\"),IF(U24=\"NP\",MAX(Oblast4)+COUNTIF(($J$12:$J$154),MAX(Oblast4))+COUNTIF(($U$12:$U$154),MAX(Oblast4)),MAX(Oblast4)+COUNTIF(($J$12:$J$154),MAX(Oblast4))+COUNTIF(($U$12:$U$154),MAX(Oblast4))+COUNTIF(($J$12:$J$154),\"NP\")+COUNTIF(($U$12:$U$154),\"NP\")),U24)))","v":""},{"$f":"IF($L24=\"x\",\"x\",IF($N24=\"\",\"\",IF(OR(V24=\"NP\",V24=\"DNF\"),V24,RANK(V24,Oblast3,1))))","v":""},{"$f":"IF($L24=\"x\",\"x\",IF($N24=\"\",\"\",IF(OR(AND(S24=\"NP\",S25=\"NP\"),AND(S24=\"DNF\",S25=\"DNF\")),S24,IF(AND(S24=\"NP\",S25=\"DNF\"),S24,IF(AND(S24=\"DNF\",S25=\"NP\"),S25,MIN(S24,S25))))))","v":""}]
[null,null,null,"II.pokus",null,null,null,{"$f":"IF($C24=\"\",\"\",IF(OR($E25=\"DNF\",$F25=\"DNF\",$G25=\"DNF\"),\"DNF\",IF(OR($E25=\"NP\",$F25=\"NP\",$G25=\"NP\"),\"NP\",IF(ISERROR(MEDIAN($E25:$G25)),\"DNF\",IF(COUNT($E25:$G25)<3,MAX($E25:$G25),MEDIAN($E25:$G25))))))","v":""},null,null,null,null,null,null,"II.pokus",null,null,null,{"$f":"IF($N24=\"\",\"\",IF(OR($P25=\"DNF\",$Q25=\"DNF\",$R25=\"DNF\"),\"DNF\",IF(OR($P25=\"NP\",$Q25=\"NP\",$R25=\"NP\"),\"NP\",IF(ISERROR(MEDIAN($P25:$R25)),\"DNF\",IF(COUNT($P25:$R25)<3,MAX($P25:$R25),MEDIAN($P25:$R25))))))","v":""}]
[{"$f":"IF('Start - jaro'!E13=\"\",\"\",\"x\")","v":""},8,{"$f":"IF('Start - jaro'!C13=\"\",\"\",'Start - jaro'!C13)","v":""},"I.pokus",null,null,null,{"$f":"IF($C26=\"\",\"\",IF(OR($E26=\"DNF\",$F26=\"DNF\",$G26=\"DNF\"),\"DNF\",IF(OR($E26=\"NP\",$F26=\"NP\",$G26=\"NP\"),\"NP\",IF(ISERROR(MEDIAN($E26:$G26)),\"DNF\",IF(COUNT($E26:$G26)<3,MAX($E26:$G26),MEDIAN($E26:$G26))))))","v":""},{"$f":"IF($A26=\"x\",\"x\",IF($C26=\"\",\"\",IF(OR(J26=\"NP\",J26=\"DNF\"),IF(J26=\"NP\",MAX(Oblast4)+COUNTIF(($J$12:$J$154),MAX(Oblast4))+COUNTIF(($U$12:$U$154),MAX(Oblast4)),MAX(Oblast4)+COUNTIF(($J$12:$J$154),MAX(Oblast4))+COUNTIF(($U$12:$U$154),MAX(Oblast4))+COUNTIF(($J$12:$J$154),\"NP\")+COUNTIF(($U$12:$U$154),\"NP\")),J26)))","v":""},{"$f":"IF($A26=\"x\",\"x\",IF($C26=\"\",\"\",IF(OR(K26=\"NP\",K26=\"DNF\"),K26,RANK(K26,Oblast3,1))))","v":""},{"$f":"IF($A26=\"x\",\"x\",IF($C26=\"\",\"\",IF(OR(AND(H26=\"NP\",H27=\"NP\"),AND(H26=\"DNF\",H27=\"DNF\")),H26,IF(AND(H26=\"NP\",H27=\"DNF\"),H26,IF(AND(H26=\"DNF\",H27=\"NP\"),H27,MIN(H26,H27))))))","v":""},{"$f":"IF('Start - jaro'!E23=\"\",\"\",\"x\")","v":""},18,{"$f":"IF('Start - jaro'!C23=\"\",\"\",'Start - jaro'!C23)","v":""},"I.pokus",null,null,null,{"$f":"IF($N26=\"\",\"\",IF(OR($P26=\"DNF\",$Q26=\"DNF\",$R26=\"DNF\"),\"DNF\",IF(OR($P26=\"NP\",$Q26=\"NP\",$R26=\"NP\"),\"NP\",IF(ISERROR(MEDIAN($P26:$R26)),\"DNF\",IF(COUNT($P26:$R26)<3,MAX($P26:$R26),MEDIAN($P26:$R26))))))","v":""},{"$f":"IF($L26=\"x\",\"x\",IF($N26=\"\",\"\",IF(OR(U26=\"NP\",U26=\"DNF\"),IF(U26=\"NP\",MAX(Oblast4)+COUNTIF(($J$12:$J$154),MAX(Oblast4))+COUNTIF(($U$12:$U$154),MAX(Oblast4)),MAX(Oblast4)+COUNTIF(($J$12:$J$154),MAX(Oblast4))+COUNTIF(($U$12:$U$154),MAX(Oblast4))+COUNTIF(($J$12:$J$154),\"NP\")+COUNTIF(($U$12:$U$154),\"NP\")),U26)))","v":""},{"$f":"IF($L26=\"x\",\"x\",IF($N26=\"\",\"\",IF(OR(V26=\"NP\",V26=\"DNF\"),V26,RANK(V26,Oblast3,1))))","v":""},{"$f":"IF($L26=\"x\",\"x\",IF($N26=\"\",\"\",IF(OR(AND(S26=\"NP\",S27=\"NP\"),AND(S26=\"DNF\",S27=\"DNF\")),S26,IF(AND(S26=\"NP\",S27=\"DNF\"),S26,IF(AND(S26=\"DNF\",S27=\"NP\"),S27,MIN(S26,S27))))))","v":""}]
[null,null,null,"II.pokus",null,null,null,{"$f":"IF($C26=\"\",\"\",IF(OR($E27=\"DNF\",$F27=\"DNF\",$G27=\"DNF\"),\"DNF\",IF(OR($E27=\"NP\",$F27=\"NP\",$G27=\"NP\"),\"NP\",IF(ISERROR(MEDIAN($E27:$G27)),\"DNF\",IF(COUNT($E27:$G27)<3,MAX($E27:$G27),MEDIAN($E27:$G27))))))","v":""},null,null,null,null,null,null,"II.pokus",null,null,null,{"$f":"IF($N26=\"\",\"\",IF(OR($P27=\"DNF\",$Q27=\"DNF\",$R27=\"DNF\"),\"DNF\",IF(OR($P27=\"NP\",$Q27=\"NP\",$R27=\"NP\"),\"NP\",IF(ISERROR(MEDIAN($P27:$R27)),\"DNF\",IF(COUNT($P27:$R27)<3,MAX($P27:$R27),MEDIAN($P27:$R27))))))","v":""}]
[{"$f":"IF('Start - jaro'!E14=\"\",\"\",\"x\")","v":""},9,{"$f":"IF('Start - jaro'!C14=\"\",\"\",'Start - jaro'!C14)","v":""},"I.pokus",null,null,null,{"$f":"IF($C28=\"\",\"\",IF(OR($E28=\"DNF\",$F28=\"DNF\",$G28=\"DNF\"),\"DNF\",IF(OR($E28=\"NP\",$F28=\"NP\",$G28=\"NP\"),\"NP\",IF(ISERROR(MEDIAN($E28:$G28)),\"DNF\",IF(COUNT($E28:$G28)<3,MAX($E28:$G28),MEDIAN($E28:$G28))))))","v":""},{"$f":"IF($A28=\"x\",\"x\",IF($C28=\"\",\"\",IF(OR(J28=\"NP\",J28=\"DNF\"),IF(J28=\"NP\",MAX(Oblast4)+COUNTIF(($J$12:$J$154),MAX(Oblast4))+COUNTIF(($U$12:$U$154),MAX(Oblast4)),MAX(Oblast4)+COUNTIF(($J$12:$J$154),MAX(Oblast4))+COUNTIF(($U$12:$U$154),MAX(Oblast4))+COUNTIF(($J$12:$J$154),\"NP\")+COUNTIF(($U$12:$U$154),\"NP\")),J28)))","v":""},{"$f":"IF($A28=\"x\",\"x\",IF($C28=\"\",\"\",IF(OR(K28=\"NP\",K28=\"DNF\"),K28,RANK(K28,Oblast3,1))))","v":""},{"$f":"IF($A28=\"x\",\"x\",IF($C28=\"\",\"\",IF(OR(AND(H28=\"NP\",H29=\"NP\"),AND(H28=\"DNF\",H29=\"DNF\")),H28,IF(AND(H28=\"NP\",H29=\"DNF\"),H28,IF(AND(H28=\"DNF\",H29=\"NP\"),H29,MIN(H28,H29))))))","v":""},{"$f":"IF('Start - jaro'!E24=\"\",\"\",\"x\")","v":""},19,{"$f":"IF('Start - jaro'!C24=\"\",\"\",'Start - jaro'!C24)","v":""},"I.pokus",null,null,null,{"$f":"IF($N28=\"\",\"\",IF(OR($P28=\"DNF\",$Q28=\"DNF\",$R28=\"DNF\"),\"DNF\",IF(OR($P28=\"NP\",$Q28=\"NP\",$R28=\"NP\"),\"NP\",IF(ISERROR(MEDIAN($P28:$R28)),\"DNF\",IF(COUNT($P28:$R28)<3,MAX($P28:$R28),MEDIAN($P28:$R28))))))","v":""},{"$f":"IF($L28=\"x\",\"x\",IF($N28=\"\",\"\",IF(OR(U28=\"NP\",U28=\"DNF\"),IF(U28=\"NP\",MAX(Oblast4)+COUNTIF(($J$12:$J$154),MAX(Oblast4))+COUNTIF(($U$12:$U$154),MAX(Oblast4)),MAX(Oblast4)+COUNTIF(($J$12:$J$154),MAX(Oblast4))+COUNTIF(($U$12:$U$154),MAX(Oblast4))+COUNTIF(($J$12:$J$154),\"NP\")+COUNTIF(($U$12:$U$154),\"NP\")),U28)))","v":""},{"$f":"IF($L28=\"x\",\"x\",IF($N28=\"\",\"\",IF(OR(V28=\"NP\",V28=\"DNF\"),V28,RANK(V28,Oblast3,1))))","v":""},{"$f":"IF($L28=\"x\",\"x\",IF($N28=\"\",\"\",IF(OR(AND(S28=\"NP\",S29=\"NP\"),AND(S28=\"DNF\",S29=\"DNF\")),S28,IF(AND(S28=\"NP\",S29=\"DNF\"),S28,IF(AND(S28=\"DNF\",S29=\"NP\"),S29,MIN(S28,S29))))))","v":""}]
[null,null,null,"II.pokus",null,null,null,{"$f":"IF($C28=\"\",\"\",IF(OR($E29=\"DNF\",$F29=\"DNF\",$G29=\"DNF\"),\"DNF\",IF(OR($E29=\"NP\",$F29=\"NP\",$G29=\"NP\"),\"NP\",IF(ISERROR(MEDIAN($E29:$G29)),\"DNF\",IF(COUNT($E29:$G29)<3,MAX($E29:$G29),MEDIAN($E29:$G29))))))","v":""},null,null,null,null,null,null,"II.pokus",null,null,null,{"$f":"IF($N28=\"\",\"\",IF(OR($P29=\"DNF\",$Q29=\"DNF\",$R29=\"DNF\"),\"DNF\",IF(OR($P29=\"NP\",$Q29=\"NP\",$R29=\"NP\"),\"NP\",IF(ISERROR(MEDIAN($P29:$R29)),\"DNF\",IF(COUNT($P29:$R29)<3,MAX($P29:$R29),MEDIAN($P29:$R29))))))","v":""}]
[{"$f":"IF('Start - jaro'!E15=\"\",\"\",\"x\")","v":""},10,{"$f":"IF('Start - jaro'!C15=\"\",\"\",'Start - jaro'!C15)","v":""},"I.pokus",null,null,null,{"$f":"IF($C30=\"\",\"\",IF(OR($E30=\"DNF\",$F30=\"DNF\",$G30=\"DNF\"),\"DNF\",IF(OR($E30=\"NP\",$F30=\"NP\",$G30=\"NP\"),\"NP\",IF(ISERROR(MEDIAN($E30:$G30)),\"DNF\",IF(COUNT($E30:$G30)<3,MAX($E30:$G30),MEDIAN($E30:$G30))))))","v":""},{"$f":"IF($A30=\"x\",\"x\",IF($C30=\"\",\"\",IF(OR(J30=\"NP\",J30=\"DNF\"),IF(J30=\"NP\",MAX(Oblast4)+COUNTIF(($J$12:$J$154),MAX(Oblast4))+COUNTIF(($U$12:$U$154),MAX(Oblast4)),MAX(Oblast4)+COUNTIF(($J$12:$J$154),MAX(Oblast4))+COUNTIF(($U$12:$U$154),MAX(Oblast4))+COUNTIF(($J$12:$J$154),\"NP\")+COUNTIF(($U$12:$U$154),\"NP\")),J30)))","v":""},{"$f":"IF($A30=\"x\",\"x\",IF($C30=\"\",\"\",IF(OR(K30=\"NP\",K30=\"DNF\"),K30,RANK(K30,Oblast3,1))))","v":""},{"$f":"IF($A30=\"x\",\"x\",IF($C30=\"\",\"\",IF(OR(AND(H30=\"NP\",H31=\"NP\"),AND(H30=\"DNF\",H31=\"DNF\")),H30,IF(AND(H30=\"NP\",H31=\"DNF\"),H30,IF(AND(H30=\"DNF\",H31=\"NP\"),H31,MIN(H30,H31))))))","v":""},{"$f":"IF('Start - jaro'!E25=\"\",\"\",\"x\")","v":""},20,{"$f":"IF('Start - jaro'!C25=\"\",\"\",'Start - jaro'!C25)","v":""},"I.pokus",null,null,null,{"$f":"IF($N30=\"\",\"\",IF(OR($P30=\"DNF\",$Q30=\"DNF\",$R30=\"DNF\"),\"DNF\",IF(OR($P30=\"NP\",$Q30=\"NP\",$R30=\"NP\"),\"NP\",IF(ISERROR(MEDIAN($P30:$R30)),\"DNF\",IF(COUNT($P30:$R30)<3,MAX($P30:$R30),MEDIAN($P30:$R30))))))","v":""},{"$f":"IF($L30=\"x\",\"x\",IF($N30=\"\",\"\",IF(OR(U30=\"NP\",U30=\"DNF\"),IF(U30=\"NP\",MAX(Oblast4)+COUNTIF(($J$12:$J$154),MAX(Oblast4))+COUNTIF(($U$12:$U$154),MAX(Oblast4)),MAX(Oblast4)+COUNTIF(($J$12:$J$154),MAX(Oblast4))+COUNTIF(($U$12:$U$154),MAX(Oblast4))+COUNTIF(($J$12:$J$154),\"NP\")+COUNTIF(($U$12:$U$154),\"NP\")),U30)))","v":""},{"$f":"IF($L30=\"x\",\"x\",IF($N30=\"\",\"\",IF(OR(V30=\"NP\",V30=\"DNF\"),V30,RANK(V30,Oblast3,1))))","v":""},{"$f":"IF($L30=\"x\",\"x\",IF($N30=\"\",\"\",IF(OR(AND(S30=\"NP\",S31=\"NP\"),AND(S30=\"DNF\",S31=\"DNF\")),S30,IF(AND(S30=\"NP\",S31=\"DNF\"),S30,IF(AND(S30=\"DNF\",S31=\"NP\"),S31,MIN(S30,S31))))))","v":""}]
[null,null,null,"II.pokus",null,null,null,{"$f":"IF($C30=\"\",\"\",IF(OR($E31=\"DNF\",$F31=\"DNF\",$G31=\"DNF\"),\"DNF\",IF(OR($E31=\"NP\",$F31=\"NP\",$G31=\"NP\"),\"NP\",IF(ISERROR(MEDIAN($E31:$G31)),\"DNF\",IF(COUNT($E31:$G31)<3,MAX($E31:$G31),MEDIAN($E31:$G31))))))","v":""},null,null,null,null,null,null,"II.pokus",null,null,null,{"$f":"IF($N30=\"\",\"\",IF(OR($P31=\"DNF\",$Q31=\"DNF\",$R31=\"DNF\"),\"DNF\",IF(OR($P31=\"NP\",$Q31=\"NP\",$R31=\"NP\"),\"NP\",IF(ISERROR(MEDIAN($P31:$R31)),\"DNF\",IF(COUNT($P31:$R31)<3,MAX($P31:$R31),MEDIAN($P31:$R31))))))","v":""}]
[null," CELOSTÁTNÍ HRA PLAMEN"]
[]
[]
[null," Výsledková listina č: 2"]
[null,"Požární útok",null,null,"Základem je čas naměřený od vydání signálu startéra do proběhnutí posledního člena cílem",null,null,null,null,null,null,null,"Požární útok",null,null,"Základem je čas naměřený od vydání signálu startéra do proběhnutí posledního člena cílem"]
[]
[]
[null,{"$f":"\"KATEGORIE: \"&'Start - podzim'!$N$2","v":"KATEGORIE: STARŠÍ"},null,null,"I. časoměřič","II. časoměřič","III. časoměřič","úřední čas","počet bodů za umístění",null,null,null,{"$f":"\"KATEGORIE: \"&'Start - podzim'!$N$2","v":"KATEGORIE: STARŠÍ"},null,null,"I. časoměřič","II. časoměřič","III. časoměřič","úřední čas","počet bodů za umístění"]
[]
[null,"start. číslo","SOUTĚŽNÍ DRUŽSTVO","pokus",null,null,null,null,null,null,null,null,"start. číslo","SOUTĚŽNÍ DRUŽSTVO","pokus"]
[]
[{"$f":"IF('Start - jaro'!E26=\"\",\"\",\"x\")","v":""},21,{"$f":"IF('Start - jaro'!C26=\"\",\"\",'Start - jaro'!C26)","v":""},"I.pokus",null,null,null,{"$f":"IF($C43=\"\",\"\",IF(OR($E43=\"DNF\",$F43=\"DNF\",$G43=\"DNF\"),\"DNF\",IF(OR($E43=\"NP\",$F43=\"NP\",$G43=\"NP\"),\"NP\",IF(ISERROR(MEDIAN($E43:$G43)),\"DNF\",IF(COUNT($E43:$G43)<3,MAX($E43:$G43),MEDIAN($E43:$G43))))))","v":""},{"$f":"IF($A43=\"x\",\"x\",IF($C43=\"\",\"\",IF(OR(J43=\"NP\",J43=\"DNF\"),IF(J43=\"NP\",MAX(Oblast4)+COUNTIF(($J$12:$J$154),MAX(Oblast4))+COUNTIF(($U$12:$U$154),MAX(Oblast4)),MAX(Oblast4)+COUNTIF(($J$12:$J$154),MAX(Oblast4))+COUNTIF(($U$12:$U$154),MAX(Oblast4))+COUNTIF(($J$12:$J$154),\"NP\")+COUNTIF(($U$12:$U$154),\"NP\")),J43)))","v":""},{"$f":"IF($A43=\"x\",\"x\",IF($C43=\"\",\"\",IF(OR(K43=\"NP\",K43=\"DNF\"),K43,RANK(K43,Oblast3,1))))","v":""},{"$f":"IF($A43=\"x\",\"x\",IF($C43=\"\",\"\",IF(OR(AND(H43=\"NP\",H44=\"NP\"),AND(H43=\"DNF\",H44=\"DNF\")),H43,IF(AND(H43=\"NP\",H44=\"DNF\"),H43,IF(AND(H43=\"DNF\",H44=\"NP\"),H44,MIN(H43,H44))))))","v":""},{"$f":"IF('Start - jaro'!I11=\"\",\"\",\"x\")","v":""},31,{"$f":"IF('Start - jaro'!G11=\"\",\"\",'Start - jaro'!G11)","v":""},"I.pokus",null,null,null,{"$f":"IF($N43=\"\",\"\",IF(OR($P43=\"DNF\",$Q43=\"DNF\",$R43=\"DNF\"),\"DNF\",IF(OR($P43=\"NP\",$Q43=\"NP\",$R43=\"NP\"),\"NP\",IF(ISERROR(MEDIAN($P43:$R43)),\"DNF\",IF(COUNT($P43:$R43)<3,MAX($P43:$R43),MEDIAN($P43:$R43))))))","v":""},{"$f":"IF($L43=\"x\",\"x\",IF($N43=\"\",\"\",IF(OR(U43=\"NP\",U43=\"DNF\"),IF(U43=\"NP\",MAX(Oblast4)+COUNTIF(($J$12:$J$154),MAX(Oblast4))+COUNTIF(($U$12:$U$154),MAX(Oblast4)),MAX(Oblast4)+COUNTIF(($J$12:$J$154),MAX(Oblast4))+COUNTIF(($U$12:$U$154),MAX(Oblast4))+COUNTIF(($J$12:$J$154),\"NP\")+COUNTIF(($U$12:$U$154),\"NP\")),U43)))","v":""},{"$f":"IF($L43=\"x\",\"x\",IF($N43=\"\",\"\",IF(OR(V43=\"NP\",V43=\"DNF\"),V43,RANK(V43,Oblast3,1))))","v":""},{"$f":"IF($L43=\"x\",\"x\",IF($N43=\"\",\"\",IF(OR(AND(S43=\"NP\",S44=\"NP\"),AND(S43=\"DNF\",S44=\"DNF\")),S43,IF(AND(S43=\"NP\",S44=\"DNF\"),S43,IF(AND(S43=\"DNF\",S44=\"NP\"),S44,MIN(S43,S44))))))","v":""}]
[null,null,null,"II.pokus",null,null,null,{"$f":"IF($C43=\"\",\"\",IF(OR($E44=\"DNF\",$F44=\"DNF\",$G44=\"DNF\"),\"DNF\",IF(OR($E44=\"NP\",$F44=\"NP\",$G44=\"NP\"),\"NP\",IF(ISERROR(MEDIAN($E44:$G44)),\"DNF\",IF(COUNT($E44:$G44)<3,MAX($E44:$G44),MEDIAN($E44:$G44))))))","v":""},null,null,null,null,null,null,"II.pokus",null,null,null,{"$f":"IF($N43=\"\",\"\",IF(OR($P44=\"DNF\",$Q44=\"DNF\",$R44=\"DNF\"),\"DNF\",IF(OR($P44=\"NP\",$Q44=\"NP\",$R44=\"NP\"),\"NP\",IF(ISERROR(MEDIAN($P44:$R44)),\"DNF\",IF(COUNT($P44:$R44)<3,MAX($P44:$R44),MEDIAN($P44:$R44))))))","v":""}]
[{"$f":"IF('Start - jaro'!E27=\"\",\"\",\"x\")","v":""},22,{"$f":"IF('Start - jaro'!C27=\"\",\"\",'Start - jaro'!C27)","v":""},"I.pokus",null,null,null,{"$f":"IF($C45=\"\",\"\",IF(OR($E45=\"DNF\",$F45=\"DNF\",$G45=\"DNF\"),\"DNF\",IF(OR($E45=\"NP\",$F45=\"NP\",$G45=\"NP\"),\"NP\",IF(ISERROR(MEDIAN($E45:$G45)),\"DNF\",IF(COUNT($E45:$G45)<3,MAX($E45:$G45),MEDIAN($E45:$G45))))))","v":""},{"$f":"IF($A45=\"x\",\"x\",IF($C45=\"\",\"\",IF(OR(J45=\"NP\",J45=\"DNF\"),IF(J45=\"NP\",MAX(Oblast4)+COUNTIF(($J$12:$J$154),MAX(Oblast4))+COUNTIF(($U$12:$U$154),MAX(Oblast4)),MAX(Oblast4)+COUNTIF(($J$12:$J$154),MAX(Oblast4))+COUNTIF(($U$12:$U$154),MAX(Oblast4))+COUNTIF(($J$12:$J$154),\"NP\")+COUNTIF(($U$12:$U$154),\"NP\")),J45)))","v":""},{"$f":"IF($A45=\"x\",\"x\",IF($C45=\"\",\"\",IF(OR(K45=\"NP\",K45=\"DNF\"),K45,RANK(K45,Oblast3,1))))","v":""},{"$f":"IF($A45=\"x\",\"x\",IF($C45=\"\",\"\",IF(OR(AND(H45=\"NP\",H46=\"NP\"),AND(H45=\"DNF\",H46=\"DNF\")),H45,IF(AND(H45=\"NP\",H46=\"DNF\"),H45,IF(AND(H45=\"DNF\",H46=\"NP\"),H46,MIN(H45,H46))))))","v":""},{"$f":"IF('Start - jaro'!I12=\"\",\"\",\"x\")","v":""},32,{"$f":"IF('Start - jaro'!G12=\"\",\"\",'Start - jaro'!G12)","v":""},"I.pokus",null,null,null,{"$f":"IF($N45=\"\",\"\",IF(OR($P45=\"DNF\",$Q45=\"DNF\",$R45=\"DNF\"),\"DNF\",IF(OR($P45=\"NP\",$Q45=\"NP\",$R45=\"NP\"),\"NP\",IF(ISERROR(MEDIAN($P45:$R45)),\"DNF\",IF(COUNT($P45:$R45)<3,MAX($P45:$R45),MEDIAN($P45:$R45))))))","v":""},{"$f":"IF($L45=\"x\",\"x\",IF($N45=\"\",\"\",IF(OR(U45=\"NP\",U45=\"DNF\"),IF(U45=\"NP\",MAX(Oblast4)+COUNTIF(($J$12:$J$154),MAX(Oblast4))+COUNTIF(($U$12:$U$154),MAX(Oblast4)),MAX(Oblast4)+COUNTIF(($J$12:$J$154),MAX(Oblast4))+COUNTIF(($U$12:$U$154),MAX(Oblast4))+COUNTIF(($J$12:$J$154),\"NP\")+COUNTIF(($U$12:$U$154),\"NP\")),U45)))","v":""},{"$f":"IF($L45=\"x\",\"x\",IF($N45=\"\",\"\",IF(OR(V45=\"NP\",V45=\"DNF\"),V45,RANK(V45,Oblast3,1))))","v":""},{"$f":"IF($L45=\"x\",\"x\",IF($N45=\"\",\"\",IF(OR(AND(S45=\"NP\",S46=\"NP\"),AND(S45=\"DNF\",S46=\"DNF\")),S45,IF(AND(S45=\"NP\",S46=\"DNF\"),S45,IF(AND(S45=\"DNF\",S46=\"NP\"),S46,MIN(S45,S46))))))","v":""}]
[null,null,null,"II.pokus",null,null,null,{"$f":"IF($C45=\"\",\"\",IF(OR($E46=\"DNF\",$F46=\"DNF\",$G46=\"DNF\"),\"DNF\",IF(OR($E46=\"NP\",$F46=\"NP\",$G46=\"NP\"),\"NP\",IF(ISERROR(MEDIAN($E46:$G46)),\"DNF\",IF(COUNT($E46:$G46)<3,MAX($E46:$G46),MEDIAN($E46:$G46))))))","v":""},null,null,null,null,null,null,"II.pokus",null,null,null,{"$f":"IF($N45=\"\",\"\",IF(OR($P46=\"DNF\",$Q46=\"DNF\",$R46=\"DNF\"),\"DNF\",IF(OR($P46=\"NP\",$Q46=\"NP\",$R46=\"NP\"),\"NP\",IF(ISERROR(MEDIAN($P46:$R46)),\"DNF\",IF(COUNT($P46:$R46)<3,MAX($P46:$R46),MEDIAN($P46:$R46))))))","v":""}]
[{"$f":"IF('Start - jaro'!E28=\"\",\"\",\"x\")","v":""},23,{"$f":"IF('Start - jaro'!C28=\"\",\"\",'Start - jaro'!C28)","v":""},"I.pokus",null,null,null,{"$f":"IF($C47=\"\",\"\",IF(OR($E47=\"DNF\",$F47=\"DNF\",$G47=\"DNF\"),\"DNF\",IF(OR($E47=\"NP\",$F47=\"NP\",$G47=\"NP\"),\"NP\",IF(ISERROR(MEDIAN($E47:$G47)),\"DNF\",IF(COUNT($E47:$G47)<3,MAX($E47:$G47),MEDIAN($E47:$G47))))))","v":""},{"$f":"IF($A47=\"x\",\"x\",IF($C47=\"\",\"\",IF(OR(J47=\"NP\",J47=\"DNF\"),IF(J47=\"NP\",MAX(Oblast4)+COUNTIF(($J$12:$J$154),MAX(Oblast4))+COUNTIF(($U$12:$U$154),MAX(Oblast4)),MAX(Oblast4)+COUNTIF(($J$12:$J$154),MAX(Oblast4))+COUNTIF(($U$12:$U$154),MAX(Oblast4))+COUNTIF(($J$12:$J$154),\"NP\")+COUNTIF(($U$12:$U$154),\"NP\")),J47)))","v":""},{"$f":"IF($A47=\"x\",\"x\",IF($C47=\"\",\"\",IF(OR(K47=\"NP\",K47=\"DNF\"),K47,RANK(K47,Oblast3,1))))","v":""},{"$f":"IF($A47=\"x\",\"x\",IF($C47=\"\",\"\",IF(OR(AND(H47=\"NP\",H48=\"NP\"),AND(H47=\"DNF\",H48=\"DNF\")),H47,IF(AND(H47=\"NP\",H48=\"DNF\"),H47,IF(AND(H47=\"DNF\",H48=\"NP\"),H48,MIN(H47,H48))))))","v":""},{"$f":"IF('Start - jaro'!I13=\"\",\"\",\"x\")","v":""},33,{"$f":"IF('Start - jaro'!G13=\"\",\"\",'Start - jaro'!G13)","v":""},"I.pokus",null,null,null,{"$f":"IF($N47=\"\",\"\",IF(OR($P47=\"DNF\",$Q47=\"DNF\",$R47=\"DNF\"),\"DNF\",IF(OR($P47=\"NP\",$Q47=\"NP\",$R47=\"NP\"),\"NP\",IF(ISERROR(MEDIAN($P47:$R47)),\"DNF\",IF(COUNT($P47:$R47)<3,MAX($P47:$R47),MEDIAN($P47:$R47))))))","v":""},{"$f":"IF($L47=\"x\",\"x\",IF($N47=\"\",\"\",IF(OR(U47=\"NP\",U47=\"DNF\"),IF(U47=\"NP\",MAX(Oblast4)+COUNTIF(($J$12:$J$154),MAX(Oblast4))+COUNTIF(($U$12:$U$154),MAX(Oblast4)),MAX(Oblast4)+COUNTIF(($J$12:$J$154),MAX(Oblast4))+COUNTIF(($U$12:$U$154),MAX(Oblast4))+COUNTIF(($J$12:$J$154),\"NP\")+COUNTIF(($U$12:$U$154),\"NP\")),U47)))","v":""},{"$f":"IF($L47=\"x\",\"x\",IF($N47=\"\",\"\",IF(OR(V47=\"NP\",V47=\"DNF\"),V47,RANK(V47,Oblast3,1))))","v":""},{"$f":"IF($L47=\"x\",\"x\",IF($N47=\"\",\"\",IF(OR(AND(S47=\"NP\",S48=\"NP\"),AND(S47=\"DNF\",S48=\"DNF\")),S47,IF(AND(S47=\"NP\",S48=\"DNF\"),S47,IF(AND(S47=\"DNF\",S48=\"NP\"),S48,MIN(S47,S48))))))","v":""}]
[null,null,null,"II.pokus",null,null,null,{"$f":"IF($C47=\"\",\"\",IF(OR($E48=\"DNF\",$F48=\"DNF\",$G48=\"DNF\"),\"DNF\",IF(OR($E48=\"NP\",$F48=\"NP\",$G48=\"NP\"),\"NP\",IF(ISERROR(MEDIAN($E48:$G48)),\"DNF\",IF(COUNT($E48:$G48)<3,MAX($E48:$G48),MEDIAN($E48:$G48))))))","v":""},null,null,null,null,null,null,"II.pokus",null,null,null,{"$f":"IF($N47=\"\",\"\",IF(OR($P48=\"DNF\",$Q48=\"DNF\",$R48=\"DNF\"),\"DNF\",IF(OR($P48=\"NP\",$Q48=\"NP\",$R48=\"NP\"),\"NP\",IF(ISERROR(MEDIAN($P48:$R48)),\"DNF\",IF(COUNT($P48:$R48)<3,MAX($P48:$R48),MEDIAN($P48:$R48))))))","v":""}]
[{"$f":"IF('Start - jaro'!E29=\"\",\"\",\"x\")","v":""},24,{"$f":"IF('Start - jaro'!C29=\"\",\"\",'Start - jaro'!C29)","v":""},"I.pokus",null,null,null,{"$f":"IF($C49=\"\",\"\",IF(OR($E49=\"DNF\",$F49=\"DNF\",$G49=\"DNF\"),\"DNF\",IF(OR($E49=\"NP\",$F49=\"NP\",$G49=\"NP\"),\"NP\",IF(ISERROR(MEDIAN($E49:$G49)),\"DNF\",IF(COUNT($E49:$G49)<3,MAX($E49:$G49),MEDIAN($E49:$G49))))))","v":""},{"$f":"IF($A49=\"x\",\"x\",IF($C49=\"\",\"\",IF(OR(J49=\"NP\",J49=\"DNF\"),IF(J49=\"NP\",MAX(Oblast4)+COUNTIF(($J$12:$J$154),MAX(Oblast4))+COUNTIF(($U$12:$U$154),MAX(Oblast4)),MAX(Oblast4)+COUNTIF(($J$12:$J$154),MAX(Oblast4))+COUNTIF(($U$12:$U$154),MAX(Oblast4))+COUNTIF(($J$12:$J$154),\"NP\")+COUNTIF(($U$12:$U$154),\"NP\")),J49)))","v":""},{"$f":"IF($A49=\"x\",\"x\",IF($C49=\"\",\"\",IF(OR(K49=\"NP\",K49=\"DNF\"),K49,RANK(K49,Oblast3,1))))","v":""},{"$f":"IF($A49=\"x\",\"x\",IF($C49=\"\",\"\",IF(OR(AND(H49=\"NP\",H50=\"NP\"),AND(H49=\"DNF\",H50=\"DNF\")),H49,IF(AND(H49=\"NP\",H50=\"DNF\"),H49,IF(AND(H49=\"DNF\",H50=\"NP\"),H50,MIN(H49,H50))))))","v":""},{"$f":"IF('Start - jaro'!I14=\"\",\"\",\"x\")","v":""},34,{"$f":"IF('Start - jaro'!G14=\"\",\"\",'Start - jaro'!G14)","v":""},"I.pokus",null,null,null,{"$f":"IF($N49=\"\",\"\",IF(OR($P49=\"DNF\",$Q49=\"DNF\",$R49=\"DNF\"),\"DNF\",IF(OR($P49=\"NP\",$Q49=\"NP\",$R49=\"NP\"),\"NP\",IF(ISERROR(MEDIAN($P49:$R49)),\"DNF\",IF(COUNT($P49:$R49)<3,MAX($P49:$R49),MEDIAN($P49:$R49))))))","v":""},{"$f":"IF($L49=\"x\",\"x\",IF($N49=\"\",\"\",IF(OR(U49=\"NP\",U49=\"DNF\"),IF(U49=\"NP\",MAX(Oblast4)+COUNTIF(($J$12:$J$154),MAX(Oblast4))+COUNTIF(($U$12:$U$154),MAX(Oblast4)),MAX(Oblast4)+COUNTIF(($J$12:$J$154),MAX(Oblast4))+COUNTIF(($U$12:$U$154),MAX(Oblast4))+COUNTIF(($J$12:$J$154),\"NP\")+COUNTIF(($U$12:$U$154),\"NP\")),U49)))","v":""},{"$f":"IF($L49=\"x\",\"x\",IF($N49=\"\",\"\",IF(OR(V49=\"NP\",V49=\"DNF\"),V49,RANK(V49,Oblast3,1))))","v":""},{"$f":"IF($L49=\"x\",\"x\",IF($N49=\"\",\"\",IF(OR(AND(S49=\"NP\",S50=\"NP\"),AND(S49=\"DNF\",S50=\"DNF\")),S49,IF(AND(S49=\"NP\",S50=\"DNF\"),S49,IF(AND(S49=\"DNF\",S50=\"NP\"),S50,MIN(S49,S50))))))","v":""}]
[null,null,null,"II.pokus",null,null,null,{"$f":"IF($C49=\"\",\"\",IF(OR($E50=\"DNF\",$F50=\"DNF\",$G50=\"DNF\"),\"DNF\",IF(OR($E50=\"NP\",$F50=\"NP\",$G50=\"NP\"),\"NP\",IF(ISERROR(MEDIAN($E50:$G50)),\"DNF\",IF(COUNT($E50:$G50)<3,MAX($E50:$G50),MEDIAN($E50:$G50))))))","v":""},null,null,null,null,null,null,"II.pokus",null,null,null,{"$f":"IF($N49=\"\",\"\",IF(OR($P50=\"DNF\",$Q50=\"DNF\",$R50=\"DNF\"),\"DNF\",IF(OR($P50=\"NP\",$Q50=\"NP\",$R50=\"NP\"),\"NP\",IF(ISERROR(MEDIAN($P50:$R50)),\"DNF\",IF(COUNT($P50:$R50)<3,MAX($P50:$R50),MEDIAN($P50:$R50))))))","v":""}]
[{"$f":"IF('Start - jaro'!E30=\"\",\"\",\"x\")","v":""},25,{"$f":"IF('Start - jaro'!C30=\"\",\"\",'Start - jaro'!C30)","v":""},"I.pokus",null,null,null,{"$f":"IF($C51=\"\",\"\",IF(OR($E51=\"DNF\",$F51=\"DNF\",$G51=\"DNF\"),\"DNF\",IF(OR($E51=\"NP\",$F51=\"NP\",$G51=\"NP\"),\"NP\",IF(ISERROR(MEDIAN($E51:$G51)),\"DNF\",IF(COUNT($E51:$G51)<3,MAX($E51:$G51),MEDIAN($E51:$G51))))))","v":""},{"$f":"IF($A51=\"x\",\"x\",IF($C51=\"\",\"\",IF(OR(J51=\"NP\",J51=\"DNF\"),IF(J51=\"NP\",MAX(Oblast4)+COUNTIF(($J$12:$J$154),MAX(Oblast4))+COUNTIF(($U$12:$U$154),MAX(Oblast4)),MAX(Oblast4)+COUNTIF(($J$12:$J$154),MAX(Oblast4))+COUNTIF(($U$12:$U$154),MAX(Oblast4))+COUNTIF(($J$12:$J$154),\"NP\")+COUNTIF(($U$12:$U$154),\"NP\")),J51)))","v":""},{"$f":"IF($A51=\"x\",\"x\",IF($C51=\"\",\"\",IF(OR(K51=\"NP\",K51=\"DNF\"),K51,RANK(K51,Oblast3,1))))","v":""},{"$f":"IF($A51=\"x\",\"x\",IF($C51=\"\",\"\",IF(OR(AND(H51=\"NP\",H52=\"NP\"),AND(H51=\"DNF\",H52=\"DNF\")),H51,IF(AND(H51=\"NP\",H52=\"DNF\"),H51,IF(AND(H51=\"DNF\",H52=\"NP\"),H52,MIN(H51,H52))))))","v":""},{"$f":"IF('Start - jaro'!I15=\"\",\"\",\"x\")","v":""},35,{"$f":"IF('Start - jaro'!G15=\"\",\"\",'Start - jaro'!G15)","v":""},"I.pokus",null,null,null,{"$f":"IF($N51=\"\",\"\",IF(OR($P51=\"DNF\",$Q51=\"DNF\",$R51=\"DNF\"),\"DNF\",IF(OR($P51=\"NP\",$Q51=\"NP\",$R51=\"NP\"),\"NP\",IF(ISERROR(MEDIAN($P51:$R51)),\"DNF\",IF(COUNT($P51:$R51)<3,MAX($P51:$R51),MEDIAN($P51:$R51))))))","v":""},{"$f":"IF($L51=\"x\",\"x\",IF($N51=\"\",\"\",IF(OR(U51=\"NP\",U51=\"DNF\"),IF(U51=\"NP\",MAX(Oblast4)+COUNTIF(($J$12:$J$154),MAX(Oblast4))+COUNTIF(($U$12:$U$154),MAX(Oblast4)),MAX(Oblast4)+COUNTIF(($J$12:$J$154),MAX(Oblast4))+COUNTIF(($U$12:$U$154),MAX(Oblast4))+COUNTIF(($J$12:$J$154),\"NP\")+COUNTIF(($U$12:$U$154),\"NP\")),U51)))","v":""},{"$f":"IF($L51=\"x\",\"x\",IF($N51=\"\",\"\",IF(OR(V51=\"NP\",V51=\"DNF\"),V51,RANK(V51,Oblast3,1))))","v":""},{"$f":"IF($L51=\"x\",\"x\",IF($N51=\"\",\"\",IF(OR(AND(S51=\"NP\",S52=\"NP\"),AND(S51=\"DNF\",S52=\"DNF\")),S51,IF(AND(S51=\"NP\",S52=\"DNF\"),S51,IF(AND(S51=\"DNF\",S52=\"NP\"),S52,MIN(S51,S52))))))","v":""}]
[null,null,null,"II.pokus",null,null,null,{"$f":"IF($C51=\"\",\"\",IF(OR($E52=\"DNF\",$F52=\"DNF\",$G52=\"DNF\"),\"DNF\",IF(OR($E52=\"NP\",$F52=\"NP\",$G52=\"NP\"),\"NP\",IF(ISERROR(MEDIAN($E52:$G52)),\"DNF\",IF(COUNT($E52:$G52)<3,MAX($E52:$G52),MEDIAN($E52:$G52))))))","v":""},null,null,null,null,null,null,"II.pokus",null,null,null,{"$f":"IF($N51=\"\",\"\",IF(OR($P52=\"DNF\",$Q52=\"DNF\",$R52=\"DNF\"),\"DNF\",IF(OR($P52=\"NP\",$Q52=\"NP\",$R52=\"NP\"),\"NP\",IF(ISERROR(MEDIAN($P52:$R52)),\"DNF\",IF(COUNT($P52:$R52)<3,MAX($P52:$R52),MEDIAN($P52:$R52))))))","v":""}]
[{"$f":"IF('Start - jaro'!I6=\"\",\"\",\"x\")","v":""},26,{"$f":"IF('Start - jaro'!G6=\"\",\"\",'Start - jaro'!G6)","v":""},"I.pokus",null,null,null,{"$f":"IF($C53=\"\",\"\",IF(OR($E53=\"DNF\",$F53=\"DNF\",$G53=\"DNF\"),\"DNF\",IF(OR($E53=\"NP\",$F53=\"NP\",$G53=\"NP\"),\"NP\",IF(ISERROR(MEDIAN($E53:$G53)),\"DNF\",IF(COUNT($E53:$G53)<3,MAX($E53:$G53),MEDIAN($E53:$G53))))))","v":""},{"$f":"IF($A53=\"x\",\"x\",IF($C53=\"\",\"\",IF(OR(J53=\"NP\",J53=\"DNF\"),IF(J53=\"NP\",MAX(Oblast4)+COUNTIF(($J$12:$J$154),MAX(Oblast4))+COUNTIF(($U$12:$U$154),MAX(Oblast4)),MAX(Oblast4)+COUNTIF(($J$12:$J$154),MAX(Oblast4))+COUNTIF(($U$12:$U$154),MAX(Oblast4))+COUNTIF(($J$12:$J$154),\"NP\")+COUNTIF(($U$12:$U$154),\"NP\")),J53)))","v":""},{"$f":"IF($A53=\"x\",\"x\",IF($C53=\"\",\"\",IF(OR(K53=\"NP\",K53=\"DNF\"),K53,RANK(K53,Oblast3,1))))","v":""},{"$f":"IF($A53=\"x\",\"x\",IF($C53=\"\",\"\",IF(OR(AND(H53=\"NP\",H54=\"NP\"),AND(H53=\"DNF\",H54=\"DNF\")),H53,IF(AND(H53=\"NP\",H54=\"DNF\"),H53,IF(AND(H53=\"DNF\",H54=\"NP\"),H54,MIN(H53,H54))))))","v":""},{"$f":"IF('Start - jaro'!I16=\"\",\"\",\"x\")","v":""},36,{"$f":"IF('Start - jaro'!G16=\"\",\"\",'Start - jaro'!G16)","v":""},"I.pokus",null,null,null,{"$f":"IF($N53=\"\",\"\",IF(OR($P53=\"DNF\",$Q53=\"DNF\",$R53=\"DNF\"),\"DNF\",IF(OR($P53=\"NP\",$Q53=\"NP\",$R53=\"NP\"),\"NP\",IF(ISERROR(MEDIAN($P53:$R53)),\"DNF\",IF(COUNT($P53:$R53)<3,MAX($P53:$R53),MEDIAN($P53:$R53))))))","v":""},{"$f":"IF($L53=\"x\",\"x\",IF($N53=\"\",\"\",IF(OR(U53=\"NP\",U53=\"DNF\"),IF(U53=\"NP\",MAX(Oblast4)+COUNTIF(($J$12:$J$154),MAX(Oblast4))+COUNTIF(($U$12:$U$154),MAX(Oblast4)),MAX(Oblast4)+COUNTIF(($J$12:$J$154),MAX(Oblast4))+COUNTIF(($U$12:$U$154),MAX(Oblast4))+COUNTIF(($J$12:$J$154),\"NP\")+COUNTIF(($U$12:$U$154),\"NP\")),U53)))","v":""},{"$f":"IF($L53=\"x\",\"x\",IF($N53=\"\",\"\",IF(OR(V53=\"NP\",V53=\"DNF\"),V53,RANK(V53,Oblast3,1))))","v":""},{"$f":"IF($L53=\"x\",\"x\",IF($N53=\"\",\"\",IF(OR(AND(S53=\"NP\",S54=\"NP\"),AND(S53=\"DNF\",S54=\"DNF\")),S53,IF(AND(S53=\"NP\",S54=\"DNF\"),S53,IF(AND(S53=\"DNF\",S54=\"NP\"),S54,MIN(S53,S54))))))","v":""}]
[null,null,null,"II.pokus",null,null,null,{"$f":"IF($C53=\"\",\"\",IF(OR($E54=\"DNF\",$F54=\"DNF\",$G54=\"DNF\"),\"DNF\",IF(OR($E54=\"NP\",$F54=\"NP\",$G54=\"NP\"),\"NP\",IF(ISERROR(MEDIAN($E54:$G54)),\"DNF\",IF(COUNT($E54:$G54)<3,MAX($E54:$G54),MEDIAN($E54:$G54))))))","v":""},null,null,null,null,null,null,"II.pokus",null,null,null,{"$f":"IF($N53=\"\",\"\",IF(OR($P54=\"DNF\",$Q54=\"DNF\",$R54=\"DNF\"),\"DNF\",IF(OR($P54=\"NP\",$Q54=\"NP\",$R54=\"NP\"),\"NP\",IF(ISERROR(MEDIAN($P54:$R54)),\"DNF\",IF(COUNT($P54:$R54)<3,MAX($P54:$R54),MEDIAN($P54:$R54))))))","v":""}]
[{"$f":"IF('Start - jaro'!I7=\"\",\"\",\"x\")","v":""},27,{"$f":"IF('Start - jaro'!G7=\"\",\"\",'Start - jaro'!G7)","v":""},"I.pokus",null,null,null,{"$f":"IF($C55=\"\",\"\",IF(OR($E55=\"DNF\",$F55=\"DNF\",$G55=\"DNF\"),\"DNF\",IF(OR($E55=\"NP\",$F55=\"NP\",$G55=\"NP\"),\"NP\",IF(ISERROR(MEDIAN($E55:$G55)),\"DNF\",IF(COUNT($E55:$G55)<3,MAX($E55:$G55),MEDIAN($E55:$G55))))))","v":""},{"$f":"IF($A55=\"x\",\"x\",IF($C55=\"\",\"\",IF(OR(J55=\"NP\",J55=\"DNF\"),IF(J55=\"NP\",MAX(Oblast4)+COUNTIF(($J$12:$J$154),MAX(Oblast4))+COUNTIF(($U$12:$U$154),MAX(Oblast4)),MAX(Oblast4)+COUNTIF(($J$12:$J$154),MAX(Oblast4))+COUNTIF(($U$12:$U$154),MAX(Oblast4))+COUNTIF(($J$12:$J$154),\"NP\")+COUNTIF(($U$12:$U$154),\"NP\")),J55)))","v":""},{"$f":"IF($A55=\"x\",\"x\",IF($C55=\"\",\"\",IF(OR(K55=\"NP\",K55=\"DNF\"),K55,RANK(K55,Oblast3,1))))","v":""},{"$f":"IF($A55=\"x\",\"x\",IF($C55=\"\",\"\",IF(OR(AND(H55=\"NP\",H56=\"NP\"),AND(H55=\"DNF\",H56=\"DNF\")),H55,IF(AND(H55=\"NP\",H56=\"DNF\"),H55,IF(AND(H55=\"DNF\",H56=\"NP\"),H56,MIN(H55,H56))))))","v":""},{"$f":"IF('Start - jaro'!I17=\"\",\"\",\"x\")","v":""},37,{"$f":"IF('Start - jaro'!G17=\"\",\"\",'Start - jaro'!G17)","v":""},"I.pokus",null,null,null,{"$f":"IF($N55=\"\",\"\",IF(OR($P55=\"DNF\",$Q55=\"DNF\",$R55=\"DNF\"),\"DNF\",IF(OR($P55=\"NP\",$Q55=\"NP\",$R55=\"NP\"),\"NP\",IF(ISERROR(MEDIAN($P55:$R55)),\"DNF\",IF(COUNT($P55:$R55)<3,MAX($P55:$R55),MEDIAN($P55:$R55))))))","v":""},{"$f":"IF($L55=\"x\",\"x\",IF($N55=\"\",\"\",IF(OR(U55=\"NP\",U55=\"DNF\"),IF(U55=\"NP\",MAX(Oblast4)+COUNTIF(($J$12:$J$154),MAX(Oblast4))+COUNTIF(($U$12:$U$154),MAX(Oblast4)),MAX(Oblast4)+COUNTIF(($J$12:$J$154),MAX(Oblast4))+COUNTIF(($U$12:$U$154),MAX(Oblast4))+COUNTIF(($J$12:$J$154),\"NP\")+COUNTIF(($U$12:$U$154),\"NP\")),U55)))","v":""},{"$f":"IF($L55=\"x\",\"x\",IF($N55=\"\",\"\",IF(OR(V55=\"NP\",V55=\"DNF\"),V55,RANK(V55,Oblast3,1))))","v":""},{"$f":"IF($L55=\"x\",\"x\",IF($N55=\"\",\"\",IF(OR(AND(S55=\"NP\",S56=\"NP\"),AND(S55=\"DNF\",S56=\"DNF\")),S55,IF(AND(S55=\"NP\",S56=\"DNF\"),S55,IF(AND(S55=\"DNF\",S56=\"NP\"),S56,MIN(S55,S56))))))","v":""}]
[null,null,null,"II.pokus",null,null,null,{"$f":"IF($C55=\"\",\"\",IF(OR($E56=\"DNF\",$F56=\"DNF\",$G56=\"DNF\"),\"DNF\",IF(OR($E56=\"NP\",$F56=\"NP\",$G56=\"NP\"),\"NP\",IF(ISERROR(MEDIAN($E56:$G56)),\"DNF\",IF(COUNT($E56:$G56)<3,MAX($E56:$G56),MEDIAN($E56:$G56))))))","v":""},null,null,null,null,null,null,"II.pokus",null,null,null,{"$f":"IF($N55=\"\",\"\",IF(OR($P56=\"DNF\",$Q56=\"DNF\",$R56=\"DNF\"),\"DNF\",IF(OR($P56=\"NP\",$Q56=\"NP\",$R56=\"NP\"),\"NP\",IF(ISERROR(MEDIAN($P56:$R56)),\"DNF\",IF(COUNT($P56:$R56)<3,MAX($P56:$R56),MEDIAN($P56:$R56))))))","v":""}]
[{"$f":"IF('Start - jaro'!I8=\"\",\"\",\"x\")","v":""},28,{"$f":"IF('Start - jaro'!G8=\"\",\"\",'Start - jaro'!G8)","v":""},"I.pokus",null,null,null,{"$f":"IF($C57=\"\",\"\",IF(OR($E57=\"DNF\",$F57=\"DNF\",$G57=\"DNF\"),\"DNF\",IF(OR($E57=\"NP\",$F57=\"NP\",$G57=\"NP\"),\"NP\",IF(ISERROR(MEDIAN($E57:$G57)),\"DNF\",IF(COUNT($E57:$G57)<3,MAX($E57:$G57),MEDIAN($E57:$G57))))))","v":""},{"$f":"IF($A57=\"x\",\"x\",IF($C57=\"\",\"\",IF(OR(J57=\"NP\",J57=\"DNF\"),IF(J57=\"NP\",MAX(Oblast4)+COUNTIF(($J$12:$J$154),MAX(Oblast4))+COUNTIF(($U$12:$U$154),MAX(Oblast4)),MAX(Oblast4)+COUNTIF(($J$12:$J$154),MAX(Oblast4))+COUNTIF(($U$12:$U$154),MAX(Oblast4))+COUNTIF(($J$12:$J$154),\"NP\")+COUNTIF(($U$12:$U$154),\"NP\")),J57)))","v":""},{"$f":"IF($A57=\"x\",\"x\",IF($C57=\"\",\"\",IF(OR(K57=\"NP\",K57=\"DNF\"),K57,RANK(K57,Oblast3,1))))","v":""},{"$f":"IF($A57=\"x\",\"x\",IF($C57=\"\",\"\",IF(OR(AND(H57=\"NP\",H58=\"NP\"),AND(H57=\"DNF\",H58=\"DNF\")),H57,IF(AND(H57=\"NP\",H58=\"DNF\"),H57,IF(AND(H57=\"DNF\",H58=\"NP\"),H58,MIN(H57,H58))))))","v":""},{"$f":"IF('Start - jaro'!I18=\"\",\"\",\"x\")","v":""},38,{"$f":"IF('Start - jaro'!G18=\"\",\"\",'Start - jaro'!G18)","v":""},"I.pokus",null,null,null,{"$f":"IF($N57=\"\",\"\",IF(OR($P57=\"DNF\",$Q57=\"DNF\",$R57=\"DNF\"),\"DNF\",IF(OR($P57=\"NP\",$Q57=\"NP\",$R57=\"NP\"),\"NP\",IF(ISERROR(MEDIAN($P57:$R57)),\"DNF\",IF(COUNT($P57:$R57)<3,MAX($P57:$R57),MEDIAN($P57:$R57))))))","v":""},{"$f":"IF($L57=\"x\",\"x\",IF($N57=\"\",\"\",IF(OR(U57=\"NP\",U57=\"DNF\"),IF(U57=\"NP\",MAX(Oblast4)+COUNTIF(($J$12:$J$154),MAX(Oblast4))+COUNTIF(($U$12:$U$154),MAX(Oblast4)),MAX(Oblast4)+COUNTIF(($J$12:$J$154),MAX(Oblast4))+COUNTIF(($U$12:$U$154),MAX(Oblast4))+COUNTIF(($J$12:$J$154),\"NP\")+COUNTIF(($U$12:$U$154),\"NP\")),U57)))","v":""},{"$f":"IF($L57=\"x\",\"x\",IF($N57=\"\",\"\",IF(OR(V57=\"NP\",V57=\"DNF\"),V57,RANK(V57,Oblast3,1))))","v":""},{"$f":"IF($L57=\"x\",\"x\",IF($N57=\"\",\"\",IF(OR(AND(S57=\"NP\",S58=\"NP\"),AND(S57=\"DNF\",S58=\"DNF\")),S57,IF(AND(S57=\"NP\",S58=\"DNF\"),S57,IF(AND(S57=\"DNF\",S58=\"NP\"),S58,MIN(S57,S58))))))","v":""}]
[null,null,null,"II.pokus",null,null,null,{"$f":"IF($C57=\"\",\"\",IF(OR($E58=\"DNF\",$F58=\"DNF\",$G58=\"DNF\"),\"DNF\",IF(OR($E58=\"NP\",$F58=\"NP\",$G58=\"NP\"),\"NP\",IF(ISERROR(MEDIAN($E58:$G58)),\"DNF\",IF(COUNT($E58:$G58)<3,MAX($E58:$G58),MEDIAN($E58:$G58))))))","v":""},null,null,null,null,null,null,"II.pokus",null,null,null,{"$f":"IF($N57=\"\",\"\",IF(OR($P58=\"DNF\",$Q58=\"DNF\",$R58=\"DNF\"),\"DNF\",IF(OR($P58=\"NP\",$Q58=\"NP\",$R58=\"NP\"),\"NP\",IF(ISERROR(MEDIAN($P58:$R58)),\"DNF\",IF(COUNT($P58:$R58)<3,MAX($P58:$R58),MEDIAN($P58:$R58))))))","v":""}]
[{"$f":"IF('Start - jaro'!I9=\"\",\"\",\"x\")","v":""},29,{"$f":"IF('Start - jaro'!G9=\"\",\"\",'Start - jaro'!G9)","v":""},"I.pokus",null,null,null,{"$f":"IF($C59=\"\",\"\",IF(OR($E59=\"DNF\",$F59=\"DNF\",$G59=\"DNF\"),\"DNF\",IF(OR($E59=\"NP\",$F59=\"NP\",$G59=\"NP\"),\"NP\",IF(ISERROR(MEDIAN($E59:$G59)),\"DNF\",IF(COUNT($E59:$G59)<3,MAX($E59:$G59),MEDIAN($E59:$G59))))))","v":""},{"$f":"IF($A59=\"x\",\"x\",IF($C59=\"\",\"\",IF(OR(J59=\"NP\",J59=\"DNF\"),IF(J59=\"NP\",MAX(Oblast4)+COUNTIF(($J$12:$J$154),MAX(Oblast4))+COUNTIF(($U$12:$U$154),MAX(Oblast4)),MAX(Oblast4)+COUNTIF(($J$12:$J$154),MAX(Oblast4))+COUNTIF(($U$12:$U$154),MAX(Oblast4))+COUNTIF(($J$12:$J$154),\"NP\")+COUNTIF(($U$12:$U$154),\"NP\")),J59)))","v":""},{"$f":"IF($A59=\"x\",\"x\",IF($C59=\"\",\"\",IF(OR(K59=\"NP\",K59=\"DNF\"),K59,RANK(K59,Oblast3,1))))","v":""},{"$f":"IF($A59=\"x\",\"x\",IF($C59=\"\",\"\",IF(OR(AND(H59=\"NP\",H60=\"NP\"),AND(H59=\"DNF\",H60=\"DNF\")),H59,IF(AND(H59=\"NP\",H60=\"DNF\"),H59,IF(AND(H59=\"DNF\",H60=\"NP\"),H60,MIN(H59,H60))))))","v":""},{"$f":"IF('Start - jaro'!I19=\"\",\"\",\"x\")","v":""},39,{"$f":"IF('Start - jaro'!G19=\"\",\"\",'Start - jaro'!G19)","v":""},"I.pokus",null,null,null,{"$f":"IF($N59=\"\",\"\",IF(OR($P59=\"DNF\",$Q59=\"DNF\",$R59=\"DNF\"),\"DNF\",IF(OR($P59=\"NP\",$Q59=\"NP\",$R59=\"NP\"),\"NP\",IF(ISERROR(MEDIAN($P59:$R59)),\"DNF\",IF(COUNT($P59:$R59)<3,MAX($P59:$R59),MEDIAN($P59:$R59))))))","v":""},{"$f":"IF($L59=\"x\",\"x\",IF($N59=\"\",\"\",IF(OR(U59=\"NP\",U59=\"DNF\"),IF(U59=\"NP\",MAX(Oblast4)+COUNTIF(($J$12:$J$154),MAX(Oblast4))+COUNTIF(($U$12:$U$154),MAX(Oblast4)),MAX(Oblast4)+COUNTIF(($J$12:$J$154),MAX(Oblast4))+COUNTIF(($U$12:$U$154),MAX(Oblast4))+COUNTIF(($J$12:$J$154),\"NP\")+COUNTIF(($U$12:$U$154),\"NP\")),U59)))","v":""},{"$f":"IF($L59=\"x\",\"x\",IF($N59=\"\",\"\",IF(OR(V59=\"NP\",V59=\"DNF\"),V59,RANK(V59,Oblast3,1))))","v":""},{"$f":"IF($L59=\"x\",\"x\",IF($N59=\"\",\"\",IF(OR(AND(S59=\"NP\",S60=\"NP\"),AND(S59=\"DNF\",S60=\"DNF\")),S59,IF(AND(S59=\"NP\",S60=\"DNF\"),S59,IF(AND(S59=\"DNF\",S60=\"NP\"),S60,MIN(S59,S60))))))","v":""}]
[null,null,null,"II.pokus",null,null,null,{"$f":"IF($C59=\"\",\"\",IF(OR($E60=\"DNF\",$F60=\"DNF\",$G60=\"DNF\"),\"DNF\",IF(OR($E60=\"NP\",$F60=\"NP\",$G60=\"NP\"),\"NP\",IF(ISERROR(MEDIAN($E60:$G60)),\"DNF\",IF(COUNT($E60:$G60)<3,MAX($E60:$G60),MEDIAN($E60:$G60))))))","v":""},null,null,null,null,null,null,"II.pokus",null,null,null,{"$f":"IF($N59=\"\",\"\",IF(OR($P60=\"DNF\",$Q60=\"DNF\",$R60=\"DNF\"),\"DNF\",IF(OR($P60=\"NP\",$Q60=\"NP\",$R60=\"NP\"),\"NP\",IF(ISERROR(MEDIAN($P60:$R60)),\"DNF\",IF(COUNT($P60:$R60)<3,MAX($P60:$R60),MEDIAN($P60:$R60))))))","v":""}]
[{"$f":"IF('Start - jaro'!I10=\"\",\"\",\"x\")","v":""},30,{"$f":"IF('Start - jaro'!G10=\"\",\"\",'Start - jaro'!G10)","v":""},"I.pokus",null,null,null,{"$f":"IF($C61=\"\",\"\",IF(OR($E61=\"DNF\",$F61=\"DNF\",$G61=\"DNF\"),\"DNF\",IF(OR($E61=\"NP\",$F61=\"NP\",$G61=\"NP\"),\"NP\",IF(ISERROR(MEDIAN($E61:$G61)),\"DNF\",IF(COUNT($E61:$G61)<3,MAX($E61:$G61),MEDIAN($E61:$G61))))))","v":""},{"$f":"IF($A61=\"x\",\"x\",IF($C61=\"\",\"\",IF(OR(J61=\"NP\",J61=\"DNF\"),IF(J61=\"NP\",MAX(Oblast4)+COUNTIF(($J$12:$J$154),MAX(Oblast4))+COUNTIF(($U$12:$U$154),MAX(Oblast4)),MAX(Oblast4)+COUNTIF(($J$12:$J$154),MAX(Oblast4))+COUNTIF(($U$12:$U$154),MAX(Oblast4))+COUNTIF(($J$12:$J$154),\"NP\")+COUNTIF(($U$12:$U$154),\"NP\")),J61)))","v":""},{"$f":"IF($A61=\"x\",\"x\",IF($C61=\"\",\"\",IF(OR(K61=\"NP\",K61=\"DNF\"),K61,RANK(K61,Oblast3,1))))","v":""},{"$f":"IF($A61=\"x\",\"x\",IF($C61=\"\",\"\",IF(OR(AND(H61=\"NP\",H62=\"NP\"),AND(H61=\"DNF\",H62=\"DNF\")),H61,IF(AND(H61=\"NP\",H62=\"DNF\"),H61,IF(AND(H61=\"DNF\",H62=\"NP\"),H62,MIN(H61,H62))))))","v":""},{"$f":"IF('Start - jaro'!I20=\"\",\"\",\"x\")","v":""},40,{"$f":"IF('Start - jaro'!G20=\"\",\"\",'Start - jaro'!G20)","v":""},"I.pokus",null,null,null,{"$f":"IF($N61=\"\",\"\",IF(OR($P61=\"DNF\",$Q61=\"DNF\",$R61=\"DNF\"),\"DNF\",IF(OR($P61=\"NP\",$Q61=\"NP\",$R61=\"NP\"),\"NP\",IF(ISERROR(MEDIAN($P61:$R61)),\"DNF\",IF(COUNT($P61:$R61)<3,MAX($P61:$R61),MEDIAN($P61:$R61))))))","v":""},{"$f":"IF($L61=\"x\",\"x\",IF($N61=\"\",\"\",IF(OR(U61=\"NP\",U61=\"DNF\"),IF(U61=\"NP\",MAX(Oblast4)+COUNTIF(($J$12:$J$154),MAX(Oblast4))+COUNTIF(($U$12:$U$154),MAX(Oblast4)),MAX(Oblast4)+COUNTIF(($J$12:$J$154),MAX(Oblast4))+COUNTIF(($U$12:$U$154),MAX(Oblast4))+COUNTIF(($J$12:$J$154),\"NP\")+COUNTIF(($U$12:$U$154),\"NP\")),U61)))","v":""},{"$f":"IF($L61=\"x\",\"x\",IF($N61=\"\",\"\",IF(OR(V61=\"NP\",V61=\"DNF\"),V61,RANK(V61,Oblast3,1))))","v":""},{"$f":"IF($L61=\"x\",\"x\",IF($N61=\"\",\"\",IF(OR(AND(S61=\"NP\",S62=\"NP\"),AND(S61=\"DNF\",S62=\"DNF\")),S61,IF(AND(S61=\"NP\",S62=\"DNF\"),S61,IF(AND(S61=\"DNF\",S62=\"NP\"),S62,MIN(S61,S62))))))","v":""}]
[null,null,null,"II.pokus",null,null,null,{"$f":"IF($C61=\"\",\"\",IF(OR($E62=\"DNF\",$F62=\"DNF\",$G62=\"DNF\"),\"DNF\",IF(OR($E62=\"NP\",$F62=\"NP\",$G62=\"NP\"),\"NP\",IF(ISERROR(MEDIAN($E62:$G62)),\"DNF\",IF(COUNT($E62:$G62)<3,MAX($E62:$G62),MEDIAN($E62:$G62))))))","v":""},null,null,null,null,null,null,"II.pokus",null,null,null,{"$f":"IF($N61=\"\",\"\",IF(OR($P62=\"DNF\",$Q62=\"DNF\",$R62=\"DNF\"),\"DNF\",IF(OR($P62=\"NP\",$Q62=\"NP\",$R62=\"NP\"),\"NP\",IF(ISERROR(MEDIAN($P62:$R62)),\"DNF\",IF(COUNT($P62:$R62)<3,MAX($P62:$R62),MEDIAN($P62:$R62))))))","v":""}]
[null," CELOSTÁTNÍ HRA PLAMEN"]
[]
[]
[null," Výsledková listina č: 3"]
[null,"Požární útok",null,null,"Základem je čas naměřený od vydání signálu startéra do proběhnutí posledního člena cílem",null,null,null,null,null,null,null,"Požární útok",null,null,"Základem je čas naměřený od vydání signálu startéra do proběhnutí posledního člena cílem"]
[]
[]
[null,{"$f":"\"KATEGORIE: \"&'Start - podzim'!$N$2","v":"KATEGORIE: STARŠÍ"},null,null,"I. časoměřič","II. časoměřič","III. časoměřič","úřední čas","počet bodů za umístění",null,null,null,{"$f":"\"KATEGORIE: \"&'Start - podzim'!$N$2","v":"KATEGORIE: STARŠÍ"},null,null,"I. časoměřič","II. časoměřič","III. časoměřič","úřední čas","počet bodů za umístění"]
[]
[null,"start. číslo","SOUTĚŽNÍ DRUŽSTVO","pokus",null,null,null,null,null,null,null,null,"start. číslo","SOUTĚŽNÍ DRUŽSTVO","pokus"]
[]
[{"$f":"IF('Start - jaro'!I21=\"\",\"\",\"x\")","v":""},41,{"$f":"IF('Start - jaro'!G21=\"\",\"\",'Start - jaro'!G21)","v":""},"I.pokus",null,null,null,{"$f":"IF($C74=\"\",\"\",IF(OR($E74=\"DNF\",$F74=\"DNF\",$G74=\"DNF\"),\"DNF\",IF(OR($E74=\"NP\",$F74=\"NP\",$G74=\"NP\"),\"NP\",IF(ISERROR(MEDIAN($E74:$G74)),\"DNF\",IF(COUNT($E74:$G74)<3,MAX($E74:$G74),MEDIAN($E74:$G74))))))","v":""},{"$f":"IF($A74=\"x\",\"x\",IF($C74=\"\",\"\",IF(OR(J74=\"NP\",J74=\"DNF\"),IF(J74=\"NP\",MAX(Oblast4)+COUNTIF(($J$12:$J$154),MAX(Oblast4))+COUNTIF(($U$12:$U$154),MAX(Oblast4)),MAX(Oblast4)+COUNTIF(($J$12:$J$154),MAX(Oblast4))+COUNTIF(($U$12:$U$154),MAX(Oblast4))+COUNTIF(($J$12:$J$154),\"NP\")+COUNTIF(($U$12:$U$154),\"NP\")),J74)))","v":""},{"$f":"IF($A74=\"x\",\"x\",IF($C74=\"\",\"\",IF(OR(K74=\"NP\",K74=\"DNF\"),K74,RANK(K74,Oblast3,1))))","v":""},{"$f":"IF($A74=\"x\",\"x\",IF($C74=\"\",\"\",IF(OR(AND(H74=\"NP\",H75=\"NP\"),AND(H74=\"DNF\",H75=\"DNF\")),H74,IF(AND(H74=\"NP\",H75=\"DNF\"),H74,IF(AND(H74=\"DNF\",H75=\"NP\"),H75,MIN(H74,H75))))))","v":""},{"$f":"IF('Start - jaro'!M6=\"\",\"\",\"x\")","v":""},51,{"$f":"IF('Start - jaro'!K6=\"\",\"\",'Start - jaro'!K6)","v":""},"I.pokus",null,null,null,{"$f":"IF($N74=\"\",\"\",IF(OR($P74=\"DNF\",$Q74=\"DNF\",$R74=\"DNF\"),\"DNF\",IF(OR($P74=\"NP\",$Q74=\"NP\",$R74=\"NP\"),\"NP\",IF(ISERROR(MEDIAN($P74:$R74)),\"DNF\",IF(COUNT($P74:$R74)<3,MAX($P74:$R74),MEDIAN($P74:$R74))))))","v":""},{"$f":"IF($L74=\"x\",\"x\",IF($N74=\"\",\"\",IF(OR(U74=\"NP\",U74=\"DNF\"),IF(U74=\"NP\",MAX(Oblast4)+COUNTIF(($J$12:$J$154),MAX(Oblast4))+COUNTIF(($U$12:$U$154),MAX(Oblast4)),MAX(Oblast4)+COUNTIF(($J$12:$J$154),MAX(Oblast4))+COUNTIF(($U$12:$U$154),MAX(Oblast4))+COUNTIF(($J$12:$J$154),\"NP\")+COUNTIF(($U$12:$U$154),\"NP\")),U74)))","v":""},{"$f":"IF($L74=\"x\",\"x\",IF($N74=\"\",\"\",IF(OR(V74=\"NP\",V74=\"DNF\"),V74,RANK(V74,Oblast3,1))))","v":""},{"$f":"IF($L74=\"x\",\"x\",IF($N74=\"\",\"\",IF(OR(AND(S74=\"NP\",S75=\"NP\"),AND(S74=\"DNF\",S75=\"DNF\")),S74,IF(AND(S74=\"NP\",S75=\"DNF\"),S74,IF(AND(S74=\"DNF\",S75=\"NP\"),S75,MIN(S74,S75))))))","v":""}]
[null,null,null,"II.pokus",null,null,null,{"$f":"IF($C74=\"\",\"\",IF(OR($E75=\"DNF\",$F75=\"DNF\",$G75=\"DNF\"),\"DNF\",IF(OR($E75=\"NP\",$F75=\"NP\",$G75=\"NP\"),\"NP\",IF(ISERROR(MEDIAN($E75:$G75)),\"DNF\",IF(COUNT($E75:$G75)<3,MAX($E75:$G75),MEDIAN($E75:$G75))))))","v":""},null,null,null,null,null,null,"II.pokus",null,null,null,{"$f":"IF($N74=\"\",\"\",IF(OR($P75=\"DNF\",$Q75=\"DNF\",$R75=\"DNF\"),\"DNF\",IF(OR($P75=\"NP\",$Q75=\"NP\",$R75=\"NP\"),\"NP\",IF(ISERROR(MEDIAN($P75:$R75)),\"DNF\",IF(COUNT($P75:$R75)<3,MAX($P75:$R75),MEDIAN($P75:$R75))))))","v":""}]
[{"$f":"IF('Start - jaro'!I22=\"\",\"\",\"x\")","v":""},42,{"$f":"IF('Start - jaro'!G22=\"\",\"\",'Start - jaro'!G22)","v":""},"I.pokus",null,null,null,{"$f":"IF($C76=\"\",\"\",IF(OR($E76=\"DNF\",$F76=\"DNF\",$G76=\"DNF\"),\"DNF\",IF(OR($E76=\"NP\",$F76=\"NP\",$G76=\"NP\"),\"NP\",IF(ISERROR(MEDIAN($E76:$G76)),\"DNF\",IF(COUNT($E76:$G76)<3,MAX($E76:$G76),MEDIAN($E76:$G76))))))","v":""},{"$f":"IF($A76=\"x\",\"x\",IF($C76=\"\",\"\",IF(OR(J76=\"NP\",J76=\"DNF\"),IF(J76=\"NP\",MAX(Oblast4)+COUNTIF(($J$12:$J$154),MAX(Oblast4))+COUNTIF(($U$12:$U$154),MAX(Oblast4)),MAX(Oblast4)+COUNTIF(($J$12:$J$154),MAX(Oblast4))+COUNTIF(($U$12:$U$154),MAX(Oblast4))+COUNTIF(($J$12:$J$154),\"NP\")+COUNTIF(($U$12:$U$154),\"NP\")),J76)))","v":""},{"$f":"IF($A76=\"x\",\"x\",IF($C76=\"\",\"\",IF(OR(K76=\"NP\",K76=\"DNF\"),K76,RANK(K76,Oblast3,1))))","v":""},{"$f":"IF($A76=\"x\",\"x\",IF($C76=\"\",\"\",IF(OR(AND(H76=\"NP\",H77=\"NP\"),AND(H76=\"DNF\",H77=\"DNF\")),H76,IF(AND(H76=\"NP\",H77=\"DNF\"),H76,IF(AND(H76=\"DNF\",H77=\"NP\"),H77,MIN(H76,H77))))))","v":""},{"$f":"IF('Start - jaro'!M7=\"\",\"\",\"x\")","v":""},52,{"$f":"IF('Start - jaro'!K7=\"\",\"\",'Start - jaro'!K7)","v":""},"I.pokus",null,null,null,{"$f":"IF($N76=\"\",\"\",IF(OR($P76=\"DNF\",$Q76=\"DNF\",$R76=\"DNF\"),\"DNF\",IF(OR($P76=\"NP\",$Q76=\"NP\",$R76=\"NP\"),\"NP\",IF(ISERROR(MEDIAN($P76:$R76)),\"DNF\",IF(COUNT($P76:$R76)<3,MAX($P76:$R76),MEDIAN($P76:$R76))))))","v":""},{"$f":"IF($L76=\"x\",\"x\",IF($N76=\"\",\"\",IF(OR(U76=\"NP\",U76=\"DNF\"),IF(U76=\"NP\",MAX(Oblast4)+COUNTIF(($J$12:$J$154),MAX(Oblast4))+COUNTIF(($U$12:$U$154),MAX(Oblast4)),MAX(Oblast4)+COUNTIF(($J$12:$J$154),MAX(Oblast4))+COUNTIF(($U$12:$U$154),MAX(Oblast4))+COUNTIF(($J$12:$J$154),\"NP\")+COUNTIF(($U$12:$U$154),\"NP\")),U76)))","v":""},{"$f":"IF($L76=\"x\",\"x\",IF($N76=\"\",\"\",IF(OR(V76=\"NP\",V76=\"DNF\"),V76,RANK(V76,Oblast3,1))))","v":""},{"$f":"IF($L76=\"x\",\"x\",IF($N76=\"\",\"\",IF(OR(AND(S76=\"NP\",S77=\"NP\"),AND(S76=\"DNF\",S77=\"DNF\")),S76,IF(AND(S76=\"NP\",S77=\"DNF\"),S76,IF(AND(S76=\"DNF\",S77=\"NP\"),S77,MIN(S76,S77))))))","v":""}]
[null,null,null,"II.pokus",null,null,null,{"$f":"IF($C76=\"\",\"\",IF(OR($E77=\"DNF\",$F77=\"DNF\",$G77=\"DNF\"),\"DNF\",IF(OR($E77=\"NP\",$F77=\"NP\",$G77=\"NP\"),\"NP\",IF(ISERROR(MEDIAN($E77:$G77)),\"DNF\",IF(COUNT($E77:$G77)<3,MAX($E77:$G77),MEDIAN($E77:$G77))))))","v":""},null,null,null,null,null,null,"II.pokus",null,null,null,{"$f":"IF($N76=\"\",\"\",IF(OR($P77=\"DNF\",$Q77=\"DNF\",$R77=\"DNF\"),\"DNF\",IF(OR($P77=\"NP\",$Q77=\"NP\",$R77=\"NP\"),\"NP\",IF(ISERROR(MEDIAN($P77:$R77)),\"DNF\",IF(COUNT($P77:$R77)<3,MAX($P77:$R77),MEDIAN($P77:$R77))))))","v":""}]
[{"$f":"IF('Start - jaro'!I23=\"\",\"\",\"x\")","v":""},43,{"$f":"IF('Start - jaro'!G23=\"\",\"\",'Start - jaro'!G23)","v":""},"I.pokus",null,null,null,{"$f":"IF($C78=\"\",\"\",IF(OR($E78=\"DNF\",$F78=\"DNF\",$G78=\"DNF\"),\"DNF\",IF(OR($E78=\"NP\",$F78=\"NP\",$G78=\"NP\"),\"NP\",IF(ISERROR(MEDIAN($E78:$G78)),\"DNF\",IF(COUNT($E78:$G78)<3,MAX($E78:$G78),MEDIAN($E78:$G78))))))","v":""},{"$f":"IF($A78=\"x\",\"x\",IF($C78=\"\",\"\",IF(OR(J78=\"NP\",J78=\"DNF\"),IF(J78=\"NP\",MAX(Oblast4)+COUNTIF(($J$12:$J$154),MAX(Oblast4))+COUNTIF(($U$12:$U$154),MAX(Oblast4)),MAX(Oblast4)+COUNTIF(($J$12:$J$154),MAX(Oblast4))+COUNTIF(($U$12:$U$154),MAX(Oblast4))+COUNTIF(($J$12:$J$154),\"NP\")+COUNTIF(($U$12:$U$154),\"NP\")),J78)))","v":""},{"$f":"IF($A78=\"x\",\"x\",IF($C78=\"\",\"\",IF(OR(K78=\"NP\",K78=\"DNF\"),K78,RANK(K78,Oblast3,1))))","v":""},{"$f":"IF($A78=\"x\",\"x\",IF($C78=\"\",\"\",IF(OR(AND(H78=\"NP\",H79=\"NP\"),AND(H78=\"DNF\",H79=\"DNF\")),H78,IF(AND(H78=\"NP\",H79=\"DNF\"),H78,IF(AND(H78=\"DNF\",H79=\"NP\"),H79,MIN(H78,H79))))))","v":""},{"$f":"IF('Start - jaro'!M8=\"\",\"\",\"x\")","v":""},53,{"$f":"IF('Start - jaro'!K8=\"\",\"\",'Start - jaro'!K8)","v":""},"I.pokus",null,null,null,{"$f":"IF($N78=\"\",\"\",IF(OR($P78=\"DNF\",$Q78=\"DNF\",$R78=\"DNF\"),\"DNF\",IF(OR($P78=\"NP\",$Q78=\"NP\",$R78=\"NP\"),\"NP\",IF(ISERROR(MEDIAN($P78:$R78)),\"DNF\",IF(COUNT($P78:$R78)<3,MAX($P78:$R78),MEDIAN($P78:$R78))))))","v":""},{"$f":"IF($L78=\"x\",\"x\",IF($N78=\"\",\"\",IF(OR(U78=\"NP\",U78=\"DNF\"),IF(U78=\"NP\",MAX(Oblast4)+COUNTIF(($J$12:$J$154),MAX(Oblast4))+COUNTIF(($U$12:$U$154),MAX(Oblast4)),MAX(Oblast4)+COUNTIF(($J$12:$J$154),MAX(Oblast4))+COUNTIF(($U$12:$U$154),MAX(Oblast4))+COUNTIF(($J$12:$J$154),\"NP\")+COUNTIF(($U$12:$U$154),\"NP\")),U78)))","v":""},{"$f":"IF($L78=\"x\",\"x\",IF($N78=\"\",\"\",IF(OR(V78=\"NP\",V78=\"DNF\"),V78,RANK(V78,Oblast3,1))))","v":""},{"$f":"IF($L78=\"x\",\"x\",IF($N78=\"\",\"\",IF(OR(AND(S78=\"NP\",S79=\"NP\"),AND(S78=\"DNF\",S79=\"DNF\")),S78,IF(AND(S78=\"NP\",S79=\"DNF\"),S78,IF(AND(S78=\"DNF\",S79=\"NP\"),S79,MIN(S78,S79))))))","v":""}]
[null,null,null,"II.pokus",null,null,null,{"$f":"IF($C78=\"\",\"\",IF(OR($E79=\"DNF\",$F79=\"DNF\",$G79=\"DNF\"),\"DNF\",IF(OR($E79=\"NP\",$F79=\"NP\",$G79=\"NP\"),\"NP\",IF(ISERROR(MEDIAN($E79:$G79)),\"DNF\",IF(COUNT($E79:$G79)<3,MAX($E79:$G79),MEDIAN($E79:$G79))))))","v":""},null,null,null,null,null,null,"II.pokus",null,null,null,{"$f":"IF($N78=\"\",\"\",IF(OR($P79=\"DNF\",$Q79=\"DNF\",$R79=\"DNF\"),\"DNF\",IF(OR($P79=\"NP\",$Q79=\"NP\",$R79=\"NP\"),\"NP\",IF(ISERROR(MEDIAN($P79:$R79)),\"DNF\",IF(COUNT($P79:$R79)<3,MAX($P79:$R79),MEDIAN($P79:$R79))))))","v":""}]
[{"$f":"IF('Start - jaro'!I24=\"\",\"\",\"x\")","v":""},44,{"$f":"IF('Start - jaro'!G24=\"\",\"\",'Start - jaro'!G24)","v":""},"I.pokus",null,null,null,{"$f":"IF($C80=\"\",\"\",IF(OR($E80=\"DNF\",$F80=\"DNF\",$G80=\"DNF\"),\"DNF\",IF(OR($E80=\"NP\",$F80=\"NP\",$G80=\"NP\"),\"NP\",IF(ISERROR(MEDIAN($E80:$G80)),\"DNF\",IF(COUNT($E80:$G80)<3,MAX($E80:$G80),MEDIAN($E80:$G80))))))","v":""},{"$f":"IF($A80=\"x\",\"x\",IF($C80=\"\",\"\",IF(OR(J80=\"NP\",J80=\"DNF\"),IF(J80=\"NP\",MAX(Oblast4)+COUNTIF(($J$12:$J$154),MAX(Oblast4))+COUNTIF(($U$12:$U$154),MAX(Oblast4)),MAX(Oblast4)+COUNTIF(($J$12:$J$154),MAX(Oblast4))+COUNTIF(($U$12:$U$154),MAX(Oblast4))+COUNTIF(($J$12:$J$154),\"NP\")+COUNTIF(($U$12:$U$154),\"NP\")),J80)))","v":""},{"$f":"IF($A80=\"x\",\"x\",IF($C80=\"\",\"\",IF(OR(K80=\"NP\",K80=\"DNF\"),K80,RANK(K80,Oblast3,1))))","v":""},{"$f":"IF($A80=\"x\",\"x\",IF($C80=\"\",\"\",IF(OR(AND(H80=\"NP\",H81=\"NP\"),AND(H80=\"DNF\",H81=\"DNF\")),H80,IF(AND(H80=\"NP\",H81=\"DNF\"),H80,IF(AND(H80=\"DNF\",H81=\"NP\"),H81,MIN(H80,H81))))))","v":""},{"$f":"IF('Start - jaro'!M9=\"\",\"\",\"x\")","v":""},54,{"$f":"IF('Start - jaro'!K9=\"\",\"\",'Start - jaro'!K9)","v":""},"I.pokus",null,null,null,{"$f":"IF($N80=\"\",\"\",IF(OR($P80=\"DNF\",$Q80=\"DNF\",$R80=\"DNF\"),\"DNF\",IF(OR($P80=\"NP\",$Q80=\"NP\",$R80=\"NP\"),\"NP\",IF(ISERROR(MEDIAN($P80:$R80)),\"DNF\",IF(COUNT($P80:$R80)<3,MAX($P80:$R80),MEDIAN($P80:$R80))))))","v":""},{"$f":"IF($L80=\"x\",\"x\",IF($N80=\"\",\"\",IF(OR(U80=\"NP\",U80=\"DNF\"),IF(U80=\"NP\",MAX(Oblast4)+COUNTIF(($J$12:$J$154),MAX(Oblast4))+COUNTIF(($U$12:$U$154),MAX(Oblast4)),MAX(Oblast4)+COUNTIF(($J$12:$J$154),MAX(Oblast4))+COUNTIF(($U$12:$U$154),MAX(Oblast4))+COUNTIF(($J$12:$J$154),\"NP\")+COUNTIF(($U$12:$U$154),\"NP\")),U80)))","v":""},{"$f":"IF($L80=\"x\",\"x\",IF($N80=\"\",\"\",IF(OR(V80=\"NP\",V80=\"DNF\"),V80,RANK(V80,Oblast3,1))))","v":""},{"$f":"IF($L80=\"x\",\"x\",IF($N80=\"\",\"\",IF(OR(AND(S80=\"NP\",S81=\"NP\"),AND(S80=\"DNF\",S81=\"DNF\")),S80,IF(AND(S80=\"NP\",S81=\"DNF\"),S80,IF(AND(S80=\"DNF\",S81=\"NP\"),S81,MIN(S80,S81))))))","v":""}]
[null,null,null,"II.pokus",null,null,null,{"$f":"IF($C80=\"\",\"\",IF(OR($E81=\"DNF\",$F81=\"DNF\",$G81=\"DNF\"),\"DNF\",IF(OR($E81=\"NP\",$F81=\"NP\",$G81=\"NP\"),\"NP\",IF(ISERROR(MEDIAN($E81:$G81)),\"DNF\",IF(COUNT($E81:$G81)<3,MAX($E81:$G81),MEDIAN($E81:$G81))))))","v":""},null,null,null,null,null,null,"II.pokus",null,null,null,{"$f":"IF($N80=\"\",\"\",IF(OR($P81=\"DNF\",$Q81=\"DNF\",$R81=\"DNF\"),\"DNF\",IF(OR($P81=\"NP\",$Q81=\"NP\",$R81=\"NP\"),\"NP\",IF(ISERROR(MEDIAN($P81:$R81)),\"DNF\",IF(COUNT($P81:$R81)<3,MAX($P81:$R81),MEDIAN($P81:$R81))))))","v":""}]
[{"$f":"IF('Start - jaro'!I25=\"\",\"\",\"x\")","v":""},45,{"$f":"IF('Start - jaro'!G25=\"\",\"\",'Start - jaro'!G25)","v":""},"I.pokus",null,null,null,{"$f":"IF($C82=\"\",\"\",IF(OR($E82=\"DNF\",$F82=\"DNF\",$G82=\"DNF\"),\"DNF\",IF(OR($E82=\"NP\",$F82=\"NP\",$G82=\"NP\"),\"NP\",IF(ISERROR(MEDIAN($E82:$G82)),\"DNF\",IF(COUNT($E82:$G82)<3,MAX($E82:$G82),MEDIAN($E82:$G82))))))","v":""},{"$f":"IF($A82=\"x\",\"x\",IF($C82=\"\",\"\",IF(OR(J82=\"NP\",J82=\"DNF\"),IF(J82=\"NP\",MAX(Oblast4)+COUNTIF(($J$12:$J$154),MAX(Oblast4))+COUNTIF(($U$12:$U$154),MAX(Oblast4)),MAX(Oblast4)+COUNTIF(($J$12:$J$154),MAX(Oblast4))+COUNTIF(($U$12:$U$154),MAX(Oblast4))+COUNTIF(($J$12:$J$154),\"NP\")+COUNTIF(($U$12:$U$154),\"NP\")),J82)))","v":""},{"$f":"IF($A82=\"x\",\"x\",IF($C82=\"\",\"\",IF(OR(K82=\"NP\",K82=\"DNF\"),K82,RANK(K82,Oblast3,1))))","v":""},{"$f":"IF($A82=\"x\",\"x\",IF($C82=\"\",\"\",IF(OR(AND(H82=\"NP\",H83=\"NP\"),AND(H82=\"DNF\",H83=\"DNF\")),H82,IF(AND(H82=\"NP\",H83=\"DNF\"),H82,IF(AND(H82=\"DNF\",H83=\"NP\"),H83,MIN(H82,H83))))))","v":""},{"$f":"IF('Start - jaro'!M10=\"\",\"\",\"x\")","v":""},55,{"$f":"IF('Start - jaro'!K10=\"\",\"\",'Start - jaro'!K10)","v":""},"I.pokus",null,null,null,{"$f":"IF($N82=\"\",\"\",IF(OR($P82=\"DNF\",$Q82=\"DNF\",$R82=\"DNF\"),\"DNF\",IF(OR($P82=\"NP\",$Q82=\"NP\",$R82=\"NP\"),\"NP\",IF(ISERROR(MEDIAN($P82:$R82)),\"DNF\",IF(COUNT($P82:$R82)<3,MAX($P82:$R82),MEDIAN($P82:$R82))))))","v":""},{"$f":"IF($L82=\"x\",\"x\",IF($N82=\"\",\"\",IF(OR(U82=\"NP\",U82=\"DNF\"),IF(U82=\"NP\",MAX(Oblast4)+COUNTIF(($J$12:$J$154),MAX(Oblast4))+COUNTIF(($U$12:$U$154),MAX(Oblast4)),MAX(Oblast4)+COUNTIF(($J$12:$J$154),MAX(Oblast4))+COUNTIF(($U$12:$U$154),MAX(Oblast4))+COUNTIF(($J$12:$J$154),\"NP\")+COUNTIF(($U$12:$U$154),\"NP\")),U82)))","v":""},{"$f":"IF($L82=\"x\",\"x\",IF($N82=\"\",\"\",IF(OR(V82=\"NP\",V82=\"DNF\"),V82,RANK(V82,Oblast3,1))))","v":""},{"$f":"IF($L82=\"x\",\"x\",IF($N82=\"\",\"\",IF(OR(AND(S82=\"NP\",S83=\"NP\"),AND(S82=\"DNF\",S83=\"DNF\")),S82,IF(AND(S82=\"NP\",S83=\"DNF\"),S82,IF(AND(S82=\"DNF\",S83=\"NP\"),S83,MIN(S82,S83))))))","v":""}]
[null,null,null,"II.pokus",null,null,null,{"$f":"IF($C82=\"\",\"\",IF(OR($E83=\"DNF\",$F83=\"DNF\",$G83=\"DNF\"),\"DNF\",IF(OR($E83=\"NP\",$F83=\"NP\",$G83=\"NP\"),\"NP\",IF(ISERROR(MEDIAN($E83:$G83)),\"DNF\",IF(COUNT($E83:$G83)<3,MAX($E83:$G83),MEDIAN($E83:$G83))))))","v":""},null,null,null,null,null,null,"II.pokus",null,null,null,{"$f":"IF($N82=\"\",\"\",IF(OR($P83=\"DNF\",$Q83=\"DNF\",$R83=\"DNF\"),\"DNF\",IF(OR($P83=\"NP\",$Q83=\"NP\",$R83=\"NP\"),\"NP\",IF(ISERROR(MEDIAN($P83:$R83)),\"DNF\",IF(COUNT($P83:$R83)<3,MAX($P83:$R83),MEDIAN($P83:$R83))))))","v":""}]
[{"$f":"IF('Start - jaro'!I26=\"\",\"\",\"x\")","v":""},46,{"$f":"IF('Start - jaro'!G26=\"\",\"\",'Start - jaro'!G26)","v":""},"I.pokus",null,null,null,{"$f":"IF($C84=\"\",\"\",IF(OR($E84=\"DNF\",$F84=\"DNF\",$G84=\"DNF\"),\"DNF\",IF(OR($E84=\"NP\",$F84=\"NP\",$G84=\"NP\"),\"NP\",IF(ISERROR(MEDIAN($E84:$G84)),\"DNF\",IF(COUNT($E84:$G84)<3,MAX($E84:$G84),MEDIAN($E84:$G84))))))","v":""},{"$f":"IF($A84=\"x\",\"x\",IF($C84=\"\",\"\",IF(OR(J84=\"NP\",J84=\"DNF\"),IF(J84=\"NP\",MAX(Oblast4)+COUNTIF(($J$12:$J$154),MAX(Oblast4))+COUNTIF(($U$12:$U$154),MAX(Oblast4)),MAX(Oblast4)+COUNTIF(($J$12:$J$154),MAX(Oblast4))+COUNTIF(($U$12:$U$154),MAX(Oblast4))+COUNTIF(($J$12:$J$154),\"NP\")+COUNTIF(($U$12:$U$154),\"NP\")),J84)))","v":""},{"$f":"IF($A84=\"x\",\"x\",IF($C84=\"\",\"\",IF(OR(K84=\"NP\",K84=\"DNF\"),K84,RANK(K84,Oblast3,1))))","v":""},{"$f":"IF($A84=\"x\",\"x\",IF($C84=\"\",\"\",IF(OR(AND(H84=\"NP\",H85=\"NP\"),AND(H84=\"DNF\",H85=\"DNF\")),H84,IF(AND(H84=\"NP\",H85=\"DNF\"),H84,IF(AND(H84=\"DNF\",H85=\"NP\"),H85,MIN(H84,H85))))))","v":""},{"$f":"IF('Start - jaro'!M11=\"\",\"\",\"x\")","v":""},56,{"$f":"IF('Start - jaro'!K11=\"\",\"\",'Start - jaro'!K11)","v":""},"I.pokus",null,null,null,{"$f":"IF($N84=\"\",\"\",IF(OR($P84=\"DNF\",$Q84=\"DNF\",$R84=\"DNF\"),\"DNF\",IF(OR($P84=\"NP\",$Q84=\"NP\",$R84=\"NP\"),\"NP\",IF(ISERROR(MEDIAN($P84:$R84)),\"DNF\",IF(COUNT($P84:$R84)<3,MAX($P84:$R84),MEDIAN($P84:$R84))))))","v":""},{"$f":"IF($L84=\"x\",\"x\",IF($N84=\"\",\"\",IF(OR(U84=\"NP\",U84=\"DNF\"),IF(U84=\"NP\",MAX(Oblast4)+COUNTIF(($J$12:$J$154),MAX(Oblast4))+COUNTIF(($U$12:$U$154),MAX(Oblast4)),MAX(Oblast4)+COUNTIF(($J$12:$J$154),MAX(Oblast4))+COUNTIF(($U$12:$U$154),MAX(Oblast4))+COUNTIF(($J$12:$J$154),\"NP\")+COUNTIF(($U$12:$U$154),\"NP\")),U84)))","v":""},{"$f":"IF($L84=\"x\",\"x\",IF($N84=\"\",\"\",IF(OR(V84=\"NP\",V84=\"DNF\"),V84,RANK(V84,Oblast3,1))))","v":""},{"$f":"IF($L84=\"x\",\"x\",IF($N84=\"\",\"\",IF(OR(AND(S84=\"NP\",S85=\"NP\"),AND(S84=\"DNF\",S85=\"DNF\")),S84,IF(AND(S84=\"NP\",S85=\"DNF\"),S84,IF(AND(S84=\"DNF\",S85=\"NP\"),S85,MIN(S84,S85))))))","v":""}]
[null,null,null,"II.pokus",null,null,null,{"$f":"IF($C84=\"\",\"\",IF(OR($E85=\"DNF\",$F85=\"DNF\",$G85=\"DNF\"),\"DNF\",IF(OR($E85=\"NP\",$F85=\"NP\",$G85=\"NP\"),\"NP\",IF(ISERROR(MEDIAN($E85:$G85)),\"DNF\",IF(COUNT($E85:$G85)<3,MAX($E85:$G85),MEDIAN($E85:$G85))))))","v":""},null,null,null,null,null,null,"II.pokus",null,null,null,{"$f":"IF($N84=\"\",\"\",IF(OR($P85=\"DNF\",$Q85=\"DNF\",$R85=\"DNF\"),\"DNF\",IF(OR($P85=\"NP\",$Q85=\"NP\",$R85=\"NP\"),\"NP\",IF(ISERROR(MEDIAN($P85:$R85)),\"DNF\",IF(COUNT($P85:$R85)<3,MAX($P85:$R85),MEDIAN($P85:$R85))))))","v":""}]
[{"$f":"IF('Start - jaro'!I27=\"\",\"\",\"x\")","v":""},47,{"$f":"IF('Start - jaro'!G27=\"\",\"\",'Start - jaro'!G27)","v":""},"I.pokus",null,null,null,{"$f":"IF($C86=\"\",\"\",IF(OR($E86=\"DNF\",$F86=\"DNF\",$G86=\"DNF\"),\"DNF\",IF(OR($E86=\"NP\",$F86=\"NP\",$G86=\"NP\"),\"NP\",IF(ISERROR(MEDIAN($E86:$G86)),\"DNF\",IF(COUNT($E86:$G86)<3,MAX($E86:$G86),MEDIAN($E86:$G86))))))","v":""},{"$f":"IF($A86=\"x\",\"x\",IF($C86=\"\",\"\",IF(OR(J86=\"NP\",J86=\"DNF\"),IF(J86=\"NP\",MAX(Oblast4)+COUNTIF(($J$12:$J$154),MAX(Oblast4))+COUNTIF(($U$12:$U$154),MAX(Oblast4)),MAX(Oblast4)+COUNTIF(($J$12:$J$154),MAX(Oblast4))+COUNTIF(($U$12:$U$154),MAX(Oblast4))+COUNTIF(($J$12:$J$154),\"NP\")+COUNTIF(($U$12:$U$154),\"NP\")),J86)))","v":""},{"$f":"IF($A86=\"x\",\"x\",IF($C86=\"\",\"\",IF(OR(K86=\"NP\",K86=\"DNF\"),K86,RANK(K86,Oblast3,1))))","v":""},{"$f":"IF($A86=\"x\",\"x\",IF($C86=\"\",\"\",IF(OR(AND(H86=\"NP\",H87=\"NP\"),AND(H86=\"DNF\",H87=\"DNF\")),H86,IF(AND(H86=\"NP\",H87=\"DNF\"),H86,IF(AND(H86=\"DNF\",H87=\"NP\"),H87,MIN(H86,H87))))))","v":""},{"$f":"IF('Start - jaro'!M12=\"\",\"\",\"x\")","v":""},57,{"$f":"IF('Start - jaro'!K12=\"\",\"\",'Start - jaro'!K12)","v":""},"I.pokus",null,null,null,{"$f":"IF($N86=\"\",\"\",IF(OR($P86=\"DNF\",$Q86=\"DNF\",$R86=\"DNF\"),\"DNF\",IF(OR($P86=\"NP\",$Q86=\"NP\",$R86=\"NP\"),\"NP\",IF(ISERROR(MEDIAN($P86:$R86)),\"DNF\",IF(COUNT($P86:$R86)<3,MAX($P86:$R86),MEDIAN($P86:$R86))))))","v":""},{"$f":"IF($L86=\"x\",\"x\",IF($N86=\"\",\"\",IF(OR(U86=\"NP\",U86=\"DNF\"),IF(U86=\"NP\",MAX(Oblast4)+COUNTIF(($J$12:$J$154),MAX(Oblast4))+COUNTIF(($U$12:$U$154),MAX(Oblast4)),MAX(Oblast4)+COUNTIF(($J$12:$J$154),MAX(Oblast4))+COUNTIF(($U$12:$U$154),MAX(Oblast4))+COUNTIF(($J$12:$J$154),\"NP\")+COUNTIF(($U$12:$U$154),\"NP\")),U86)))","v":""},{"$f":"IF($L86=\"x\",\"x\",IF($N86=\"\",\"\",IF(OR(V86=\"NP\",V86=\"DNF\"),V86,RANK(V86,Oblast3,1))))","v":""},{"$f":"IF($L86=\"x\",\"x\",IF($N86=\"\",\"\",IF(OR(AND(S86=\"NP\",S87=\"NP\"),AND(S86=\"DNF\",S87=\"DNF\")),S86,IF(AND(S86=\"NP\",S87=\"DNF\"),S86,IF(AND(S86=\"DNF\",S87=\"NP\"),S87,MIN(S86,S87))))))","v":""}]
[null,null,null,"II.pokus",null,null,null,{"$f":"IF($C86=\"\",\"\",IF(OR($E87=\"DNF\",$F87=\"DNF\",$G87=\"DNF\"),\"DNF\",IF(OR($E87=\"NP\",$F87=\"NP\",$G87=\"NP\"),\"NP\",IF(ISERROR(MEDIAN($E87:$G87)),\"DNF\",IF(COUNT($E87:$G87)<3,MAX($E87:$G87),MEDIAN($E87:$G87))))))","v":""},null,null,null,null,null,null,"II.pokus",null,null,null,{"$f":"IF($N86=\"\",\"\",IF(OR($P87=\"DNF\",$Q87=\"DNF\",$R87=\"DNF\"),\"DNF\",IF(OR($P87=\"NP\",$Q87=\"NP\",$R87=\"NP\"),\"NP\",IF(ISERROR(MEDIAN($P87:$R87)),\"DNF\",IF(COUNT($P87:$R87)<3,MAX($P87:$R87),MEDIAN($P87:$R87))))))","v":""}]
[{"$f":"IF('Start - jaro'!I28=\"\",\"\",\"x\")","v":""},48,{"$f":"IF('Start - jaro'!G28=\"\",\"\",'Start - jaro'!G28)","v":""},"I.pokus",null,null,null,{"$f":"IF($C88=\"\",\"\",IF(OR($E88=\"DNF\",$F88=\"DNF\",$G88=\"DNF\"),\"DNF\",IF(OR($E88=\"NP\",$F88=\"NP\",$G88=\"NP\"),\"NP\",IF(ISERROR(MEDIAN($E88:$G88)),\"DNF\",IF(COUNT($E88:$G88)<3,MAX($E88:$G88),MEDIAN($E88:$G88))))))","v":""},{"$f":"IF($A88=\"x\",\"x\",IF($C88=\"\",\"\",IF(OR(J88=\"NP\",J88=\"DNF\"),IF(J88=\"NP\",MAX(Oblast4)+COUNTIF(($J$12:$J$154),MAX(Oblast4))+COUNTIF(($U$12:$U$154),MAX(Oblast4)),MAX(Oblast4)+COUNTIF(($J$12:$J$154),MAX(Oblast4))+COUNTIF(($U$12:$U$154),MAX(Oblast4))+COUNTIF(($J$12:$J$154),\"NP\")+COUNTIF(($U$12:$U$154),\"NP\")),J88)))","v":""},{"$f":"IF($A88=\"x\",\"x\",IF($C88=\"\",\"\",IF(OR(K88=\"NP\",K88=\"DNF\"),K88,RANK(K88,Oblast3,1))))","v":""},{"$f":"IF($A88=\"x\",\"x\",IF($C88=\"\",\"\",IF(OR(AND(H88=\"NP\",H89=\"NP\"),AND(H88=\"DNF\",H89=\"DNF\")),H88,IF(AND(H88=\"NP\",H89=\"DNF\"),H88,IF(AND(H88=\"DNF\",H89=\"NP\"),H89,MIN(H88,H89))))))","v":""},{"$f":"IF('Start - jaro'!M13=\"\",\"\",\"x\")","v":""},58,{"$f":"IF('Start - jaro'!K13=\"\",\"\",'Start - jaro'!K13)","v":""},"I.pokus",null,null,null,{"$f":"IF($N88=\"\",\"\",IF(OR($P88=\"DNF\",$Q88=\"DNF\",$R88=\"DNF\"),\"DNF\",IF(OR($P88=\"NP\",$Q88=\"NP\",$R88=\"NP\"),\"NP\",IF(ISERROR(MEDIAN($P88:$R88)),\"DNF\",IF(COUNT($P88:$R88)<3,MAX($P88:$R88),MEDIAN($P88:$R88))))))","v":""},{"$f":"IF($L88=\"x\",\"x\",IF($N88=\"\",\"\",IF(OR(U88=\"NP\",U88=\"DNF\"),IF(U88=\"NP\",MAX(Oblast4)+COUNTIF(($J$12:$J$154),MAX(Oblast4))+COUNTIF(($U$12:$U$154),MAX(Oblast4)),MAX(Oblast4)+COUNTIF(($J$12:$J$154),MAX(Oblast4))+COUNTIF(($U$12:$U$154),MAX(Oblast4))+COUNTIF(($J$12:$J$154),\"NP\")+COUNTIF(($U$12:$U$154),\"NP\")),U88)))","v":""},{"$f":"IF($L88=\"x\",\"x\",IF($N88=\"\",\"\",IF(OR(V88=\"NP\",V88=\"DNF\"),V88,RANK(V88,Oblast3,1))))","v":""},{"$f":"IF($L88=\"x\",\"x\",IF($N88=\"\",\"\",IF(OR(AND(S88=\"NP\",S89=\"NP\"),AND(S88=\"DNF\",S89=\"DNF\")),S88,IF(AND(S88=\"NP\",S89=\"DNF\"),S88,IF(AND(S88=\"DNF\",S89=\"NP\"),S89,MIN(S88,S89))))))","v":""}]
[null,null,null,"II.pokus",null,null,null,{"$f":"IF($C88=\"\",\"\",IF(OR($E89=\"DNF\",$F89=\"DNF\",$G89=\"DNF\"),\"DNF\",IF(OR($E89=\"NP\",$F89=\"NP\",$G89=\"NP\"),\"NP\",IF(ISERROR(MEDIAN($E89:$G89)),\"DNF\",IF(COUNT($E89:$G89)<3,MAX($E89:$G89),MEDIAN($E89:$G89))))))","v":""},null,null,null,null,null,null,"II.pokus",null,null,null,{"$f":"IF($N88=\"\",\"\",IF(OR($P89=\"DNF\",$Q89=\"DNF\",$R89=\"DNF\"),\"DNF\",IF(OR($P89=\"NP\",$Q89=\"NP\",$R89=\"NP\"),\"NP\",IF(ISERROR(MEDIAN($P89:$R89)),\"DNF\",IF(COUNT($P89:$R89)<3,MAX($P89:$R89),MEDIAN($P89:$R89))))))","v":""}]
[{"$f":"IF('Start - jaro'!I29=\"\",\"\",\"x\")","v":""},49,{"$f":"IF('Start - jaro'!G29=\"\",\"\",'Start - jaro'!G29)","v":""},"I.pokus",null,null,null,{"$f":"IF($C90=\"\",\"\",IF(OR($E90=\"DNF\",$F90=\"DNF\",$G90=\"DNF\"),\"DNF\",IF(OR($E90=\"NP\",$F90=\"NP\",$G90=\"NP\"),\"NP\",IF(ISERROR(MEDIAN($E90:$G90)),\"DNF\",IF(COUNT($E90:$G90)<3,MAX($E90:$G90),MEDIAN($E90:$G90))))))","v":""},{"$f":"IF($A90=\"x\",\"x\",IF($C90=\"\",\"\",IF(OR(J90=\"NP\",J90=\"DNF\"),IF(J90=\"NP\",MAX(Oblast4)+COUNTIF(($J$12:$J$154),MAX(Oblast4))+COUNTIF(($U$12:$U$154),MAX(Oblast4)),MAX(Oblast4)+COUNTIF(($J$12:$J$154),MAX(Oblast4))+COUNTIF(($U$12:$U$154),MAX(Oblast4))+COUNTIF(($J$12:$J$154),\"NP\")+COUNTIF(($U$12:$U$154),\"NP\")),J90)))","v":""},{"$f":"IF($A90=\"x\",\"x\",IF($C90=\"\",\"\",IF(OR(K90=\"NP\",K90=\"DNF\"),K90,RANK(K90,Oblast3,1))))","v":""},{"$f":"IF($A90=\"x\",\"x\",IF($C90=\"\",\"\",IF(OR(AND(H90=\"NP\",H91=\"NP\"),AND(H90=\"DNF\",H91=\"DNF\")),H90,IF(AND(H90=\"NP\",H91=\"DNF\"),H90,IF(AND(H90=\"DNF\",H91=\"NP\"),H91,MIN(H90,H91))))))","v":""},{"$f":"IF('Start - jaro'!M14=\"\",\"\",\"x\")","v":""},59,{"$f":"IF('Start - jaro'!K14=\"\",\"\",'Start - jaro'!K14)","v":""},"I.pokus",null,null,null,{"$f":"IF($N90=\"\",\"\",IF(OR($P90=\"DNF\",$Q90=\"DNF\",$R90=\"DNF\"),\"DNF\",IF(OR($P90=\"NP\",$Q90=\"NP\",$R90=\"NP\"),\"NP\",IF(ISERROR(MEDIAN($P90:$R90)),\"DNF\",IF(COUNT($P90:$R90)<3,MAX($P90:$R90),MEDIAN($P90:$R90))))))","v":""},{"$f":"IF($L90=\"x\",\"x\",IF($N90=\"\",\"\",IF(OR(U90=\"NP\",U90=\"DNF\"),IF(U90=\"NP\",MAX(Oblast4)+COUNTIF(($J$12:$J$154),MAX(Oblast4))+COUNTIF(($U$12:$U$154),MAX(Oblast4)),MAX(Oblast4)+COUNTIF(($J$12:$J$154),MAX(Oblast4))+COUNTIF(($U$12:$U$154),MAX(Oblast4))+COUNTIF(($J$12:$J$154),\"NP\")+COUNTIF(($U$12:$U$154),\"NP\")),U90)))","v":""},{"$f":"IF($L90=\"x\",\"x\",IF($N90=\"\",\"\",IF(OR(V90=\"NP\",V90=\"DNF\"),V90,RANK(V90,Oblast3,1))))","v":""},{"$f":"IF($L90=\"x\",\"x\",IF($N90=\"\",\"\",IF(OR(AND(S90=\"NP\",S91=\"NP\"),AND(S90=\"DNF\",S91=\"DNF\")),S90,IF(AND(S90=\"NP\",S91=\"DNF\"),S90,IF(AND(S90=\"DNF\",S91=\"NP\"),S91,MIN(S90,S91))))))","v":""}]
[null,null,null,"II.pokus",null,null,null,{"$f":"IF($C90=\"\",\"\",IF(OR($E91=\"DNF\",$F91=\"DNF\",$G91=\"DNF\"),\"DNF\",IF(OR($E91=\"NP\",$F91=\"NP\",$G91=\"NP\"),\"NP\",IF(ISERROR(MEDIAN($E91:$G91)),\"DNF\",IF(COUNT($E91:$G91)<3,MAX($E91:$G91),MEDIAN($E91:$G91))))))","v":""},null,null,null,null,null,null,"II.pokus",null,null,null,{"$f":"IF($N90=\"\",\"\",IF(OR($P91=\"DNF\",$Q91=\"DNF\",$R91=\"DNF\"),\"DNF\",IF(OR($P91=\"NP\",$Q91=\"NP\",$R91=\"NP\"),\"NP\",IF(ISERROR(MEDIAN($P91:$R91)),\"DNF\",IF(COUNT($P91:$R91)<3,MAX($P91:$R91),MEDIAN($P91:$R91))))))","v":""}]
[{"$f":"IF('Start - jaro'!I30=\"\",\"\",\"x\")","v":""},50,{"$f":"IF('Start - jaro'!G30=\"\",\"\",'Start - jaro'!G30)","v":""},"I.pokus",null,null,null,{"$f":"IF($C92=\"\",\"\",IF(OR($E92=\"DNF\",$F92=\"DNF\",$G92=\"DNF\"),\"DNF\",IF(OR($E92=\"NP\",$F92=\"NP\",$G92=\"NP\"),\"NP\",IF(ISERROR(MEDIAN($E92:$G92)),\"DNF\",IF(COUNT($E92:$G92)<3,MAX($E92:$G92),MEDIAN($E92:$G92))))))","v":""},{"$f":"IF($A92=\"x\",\"x\",IF($C92=\"\",\"\",IF(OR(J92=\"NP\",J92=\"DNF\"),IF(J92=\"NP\",MAX(Oblast4)+COUNTIF(($J$12:$J$154),MAX(Oblast4))+COUNTIF(($U$12:$U$154),MAX(Oblast4)),MAX(Oblast4)+COUNTIF(($J$12:$J$154),MAX(Oblast4))+COUNTIF(($U$12:$U$154),MAX(Oblast4))+COUNTIF(($J$12:$J$154),\"NP\")+COUNTIF(($U$12:$U$154),\"NP\")),J92)))","v":""},{"$f":"IF($A92=\"x\",\"x\",IF($C92=\"\",\"\",IF(OR(K92=\"NP\",K92=\"DNF\"),K92,RANK(K92,Oblast3,1))))","v":""},{"$f":"IF($A92=\"x\",\"x\",IF($C92=\"\",\"\",IF(OR(AND(H92=\"NP\",H93=\"NP\"),AND(H92=\"DNF\",H93=\"DNF\")),H92,IF(AND(H92=\"NP\",H93=\"DNF\"),H92,IF(AND(H92=\"DNF\",H93=\"NP\"),H93,MIN(H92,H93))))))","v":""},{"$f":"IF('Start - jaro'!M15=\"\",\"\",\"x\")","v":""},60,{"$f":"IF('Start - jaro'!K15=\"\",\"\",'Start - jaro'!K15)","v":""},"I.pokus",null,null,null,{"$f":"IF($N92=\"\",\"\",IF(OR($P92=\"DNF\",$Q92=\"DNF\",$R92=\"DNF\"),\"DNF\",IF(OR($P92=\"NP\",$Q92=\"NP\",$R92=\"NP\"),\"NP\",IF(ISERROR(MEDIAN($P92:$R92)),\"DNF\",IF(COUNT($P92:$R92)<3,MAX($P92:$R92),MEDIAN($P92:$R92))))))","v":""},{"$f":"IF($L92=\"x\",\"x\",IF($N92=\"\",\"\",IF(OR(U92=\"NP\",U92=\"DNF\"),IF(U92=\"NP\",MAX(Oblast4)+COUNTIF(($J$12:$J$154),MAX(Oblast4))+COUNTIF(($U$12:$U$154),MAX(Oblast4)),MAX(Oblast4)+COUNTIF(($J$12:$J$154),MAX(Oblast4))+COUNTIF(($U$12:$U$154),MAX(Oblast4))+COUNTIF(($J$12:$J$154),\"NP\")+COUNTIF(($U$12:$U$154),\"NP\")),U92)))","v":""},{"$f":"IF($L92=\"x\",\"x\",IF($N92=\"\",\"\",IF(OR(V92=\"NP\",V92=\"DNF\"),V92,RANK(V92,Oblast3,1))))","v":""},{"$f":"IF($L92=\"x\",\"x\",IF($N92=\"\",\"\",IF(OR(AND(S92=\"NP\",S93=\"NP\"),AND(S92=\"DNF\",S93=\"DNF\")),S92,IF(AND(S92=\"NP\",S93=\"DNF\"),S92,IF(AND(S92=\"DNF\",S93=\"NP\"),S93,MIN(S92,S93))))))","v":""}]
[null,null,null,"II.pokus",null,null,null,{"$f":"IF($C92=\"\",\"\",IF(OR($E93=\"DNF\",$F93=\"DNF\",$G93=\"DNF\"),\"DNF\",IF(OR($E93=\"NP\",$F93=\"NP\",$G93=\"NP\"),\"NP\",IF(ISERROR(MEDIAN($E93:$G93)),\"DNF\",IF(COUNT($E93:$G93)<3,MAX($E93:$G93),MEDIAN($E93:$G93))))))","v":""},null,null,null,null,null,null,"II.pokus",null,null,null,{"$f":"IF($N92=\"\",\"\",IF(OR($P93=\"DNF\",$Q93=\"DNF\",$R93=\"DNF\"),\"DNF\",IF(OR($P93=\"NP\",$Q93=\"NP\",$R93=\"NP\"),\"NP\",IF(ISERROR(MEDIAN($P93:$R93)),\"DNF\",IF(COUNT($P93:$R93)<3,MAX($P93:$R93),MEDIAN($P93:$R93))))))","v":""}]
[null," CELOSTÁTNÍ HRA PLAMEN"]
[]
[]
[null," Výsledková listina č: 4"]
[null,"Požární útok",null,null,"Základem je čas naměřený od vydání signálu startéra do proběhnutí posledního člena cílem",null,null,null,null,null,null,null,"Požární útok",null,null,"Základem je čas naměřený od vydání signálu startéra do proběhnutí posledního člena cílem"]
[]
[]
[null,{"$f":"\"KATEGORIE: \"&'Start - podzim'!$N$2","v":"KATEGORIE: STARŠÍ"},null,null,"I. časoměřič","II. časoměřič","III. časoměřič","úřední čas","počet bodů za umístění",null,null,null,{"$f":"\"KATEGORIE: \"&'Start - podzim'!$N$2","v":"KATEGORIE: STARŠÍ"},null,null,"I. časoměřič","II. časoměřič","III. časoměřič","úřední čas","počet bodů za umístění"]
[]
[null,"start. číslo","SOUTĚŽNÍ DRUŽSTVO","pokus",null,null,null,null,null,null,null,null,"start. číslo","SOUTĚŽNÍ DRUŽSTVO","pokus"]
[]
[{"$f":"IF('Start - jaro'!M16=\"\",\"\",\"x\")","v":""},61,{"$f":"IF('Start - jaro'!K16=\"\",\"\",'Start - jaro'!K16)","v":""},"I.pokus",null,null,null,{"$f":"IF($C105=\"\",\"\",IF(OR($E105=\"DNF\",$F105=\"DNF\",$G105=\"DNF\"),\"DNF\",IF(OR($E105=\"NP\",$F105=\"NP\",$G105=\"NP\"),\"NP\",IF(ISERROR(MEDIAN($E105:$G105)),\"DNF\",IF(COUNT($E105:$G105)<3,MAX($E105:$G105),MEDIAN($E105:$G105))))))","v":""},{"$f":"IF($A105=\"x\",\"x\",IF($C105=\"\",\"\",IF(OR(J105=\"NP\",J105=\"DNF\"),IF(J105=\"NP\",MAX(Oblast4)+COUNTIF(($J$12:$J$154),MAX(Oblast4))+COUNTIF(($U$12:$U$154),MAX(Oblast4)),MAX(Oblast4)+COUNTIF(($J$12:$J$154),MAX(Oblast4))+COUNTIF(($U$12:$U$154),MAX(Oblast4))+COUNTIF(($J$12:$J$154),\"NP\")+COUNTIF(($U$12:$U$154),\"NP\")),J105)))","v":""},{"$f":"IF($A105=\"x\",\"x\",IF($C105=\"\",\"\",IF(OR(K105=\"NP\",K105=\"DNF\"),K105,RANK(K105,Oblast3,1))))","v":""},{"$f":"IF($A105=\"x\",\"x\",IF($C105=\"\",\"\",IF(OR(AND(H105=\"NP\",H106=\"NP\"),AND(H105=\"DNF\",H106=\"DNF\")),H105,IF(AND(H105=\"NP\",H106=\"DNF\"),H105,IF(AND(H105=\"DNF\",H106=\"NP\"),H106,MIN(H105,H106))))))","v":""},{"$f":"IF('Start - jaro'!M26=\"\",\"\",\"x\")","v":""},71,{"$f":"IF('Start - jaro'!K26=\"\",\"\",'Start - jaro'!K26)","v":""},"I.pokus",null,null,null,{"$f":"IF($N105=\"\",\"\",IF(OR($P105=\"DNF\",$Q105=\"DNF\",$R105=\"DNF\"),\"DNF\",IF(OR($P105=\"NP\",$Q105=\"NP\",$R105=\"NP\"),\"NP\",IF(ISERROR(MEDIAN($P105:$R105)),\"DNF\",IF(COUNT($P105:$R105)<3,MAX($P105:$R105),MEDIAN($P105:$R105))))))","v":""},{"$f":"IF($L105=\"x\",\"x\",IF($N105=\"\",\"\",IF(OR(U105=\"NP\",U105=\"DNF\"),IF(U105=\"NP\",MAX(Oblast4)+COUNTIF(($J$12:$J$154),MAX(Oblast4))+COUNTIF(($U$12:$U$154),MAX(Oblast4)),MAX(Oblast4)+COUNTIF(($J$12:$J$154),MAX(Oblast4))+COUNTIF(($U$12:$U$154),MAX(Oblast4))+COUNTIF(($J$12:$J$154),\"NP\")+COUNTIF(($U$12:$U$154),\"NP\")),U105)))","v":""},{"$f":"IF($L105=\"x\",\"x\",IF($N105=\"\",\"\",IF(OR(V105=\"NP\",V105=\"DNF\"),V105,RANK(V105,Oblast3,1))))","v":""},{"$f":"IF($L105=\"x\",\"x\",IF($N105=\"\",\"\",IF(OR(AND(S105=\"NP\",S106=\"NP\"),AND(S105=\"DNF\",S106=\"DNF\")),S105,IF(AND(S105=\"NP\",S106=\"DNF\"),S105,IF(AND(S105=\"DNF\",S106=\"NP\"),S106,MIN(S105,S106))))))","v":""}]
[null,null,null,"II.pokus",null,null,null,{"$f":"IF($C105=\"\",\"\",IF(OR($E106=\"DNF\",$F106=\"DNF\",$G106=\"DNF\"),\"DNF\",IF(OR($E106=\"NP\",$F106=\"NP\",$G106=\"NP\"),\"NP\",IF(ISERROR(MEDIAN($E106:$G106)),\"DNF\",IF(COUNT($E106:$G106)<3,MAX($E106:$G106),MEDIAN($E106:$G106))))))","v":""},null,null,null,null,null,null,"II.pokus",null,null,null,{"$f":"IF($N105=\"\",\"\",IF(OR($P106=\"DNF\",$Q106=\"DNF\",$R106=\"DNF\"),\"DNF\",IF(OR($P106=\"NP\",$Q106=\"NP\",$R106=\"NP\"),\"NP\",IF(ISERROR(MEDIAN($P106:$R106)),\"DNF\",IF(COUNT($P106:$R106)<3,MAX($P106:$R106),MEDIAN($P106:$R106))))))","v":""}]
[{"$f":"IF('Start - jaro'!M17=\"\",\"\",\"x\")","v":""},62,{"$f":"IF('Start - jaro'!K17=\"\",\"\",'Start - jaro'!K17)","v":""},"I.pokus",null,null,null,{"$f":"IF($C107=\"\",\"\",IF(OR($E107=\"DNF\",$F107=\"DNF\",$G107=\"DNF\"),\"DNF\",IF(OR($E107=\"NP\",$F107=\"NP\",$G107=\"NP\"),\"NP\",IF(ISERROR(MEDIAN($E107:$G107)),\"DNF\",IF(COUNT($E107:$G107)<3,MAX($E107:$G107),MEDIAN($E107:$G107))))))","v":""},{"$f":"IF($A107=\"x\",\"x\",IF($C107=\"\",\"\",IF(OR(J107=\"NP\",J107=\"DNF\"),IF(J107=\"NP\",MAX(Oblast4)+COUNTIF(($J$12:$J$154),MAX(Oblast4))+COUNTIF(($U$12:$U$154),MAX(Oblast4)),MAX(Oblast4)+COUNTIF(($J$12:$J$154),MAX(Oblast4))+COUNTIF(($U$12:$U$154),MAX(Oblast4))+COUNTIF(($J$12:$J$154),\"NP\")+COUNTIF(($U$12:$U$154),\"NP\")),J107)))","v":""},{"$f":"IF($A107=\"x\",\"x\",IF($C107=\"\",\"\",IF(OR(K107=\"NP\",K107=\"DNF\"),K107,RANK(K107,Oblast3,1))))","v":""},{"$f":"IF($A107=\"x\",\"x\",IF($C107=\"\",\"\",IF(OR(AND(H107=\"NP\",H108=\"NP\"),AND(H107=\"DNF\",H108=\"DNF\")),H107,IF(AND(H107=\"NP\",H108=\"DNF\"),H107,IF(AND(H107=\"DNF\",H108=\"NP\"),H108,MIN(H107,H108))))))","v":""},{"$f":"IF('Start - jaro'!M27=\"\",\"\",\"x\")","v":""},72,{"$f":"IF('Start - jaro'!K27=\"\",\"\",'Start - jaro'!K27)","v":""},"I.pokus",null,null,null,{"$f":"IF($N107=\"\",\"\",IF(OR($P107=\"DNF\",$Q107=\"DNF\",$R107=\"DNF\"),\"DNF\",IF(OR($P107=\"NP\",$Q107=\"NP\",$R107=\"NP\"),\"NP\",IF(ISERROR(MEDIAN($P107:$R107)),\"DNF\",IF(COUNT($P107:$R107)<3,MAX($P107:$R107),MEDIAN($P107:$R107))))))","v":""},{"$f":"IF($L107=\"x\",\"x\",IF($N107=\"\",\"\",IF(OR(U107=\"NP\",U107=\"DNF\"),IF(U107=\"NP\",MAX(Oblast4)+COUNTIF(($J$12:$J$154),MAX(Oblast4))+COUNTIF(($U$12:$U$154),MAX(Oblast4)),MAX(Oblast4)+COUNTIF(($J$12:$J$154),MAX(Oblast4))+COUNTIF(($U$12:$U$154),MAX(Oblast4))+COUNTIF(($J$12:$J$154),\"NP\")+COUNTIF(($U$12:$U$154),\"NP\")),U107)))","v":""},{"$f":"IF($L107=\"x\",\"x\",IF($N107=\"\",\"\",IF(OR(V107=\"NP\",V107=\"DNF\"),V107,RANK(V107,Oblast3,1))))","v":""},{"$f":"IF($L107=\"x\",\"x\",IF($N107=\"\",\"\",IF(OR(AND(S107=\"NP\",S108=\"NP\"),AND(S107=\"DNF\",S108=\"DNF\")),S107,IF(AND(S107=\"NP\",S108=\"DNF\"),S107,IF(AND(S107=\"DNF\",S108=\"NP\"),S108,MIN(S107,S108))))))","v":""}]
[null,null,null,"II.pokus",null,null,null,{"$f":"IF($C107=\"\",\"\",IF(OR($E108=\"DNF\",$F108=\"DNF\",$G108=\"DNF\"),\"DNF\",IF(OR($E108=\"NP\",$F108=\"NP\",$G108=\"NP\"),\"NP\",IF(ISERROR(MEDIAN($E108:$G108)),\"DNF\",IF(COUNT($E108:$G108)<3,MAX($E108:$G108),MEDIAN($E108:$G108))))))","v":""},null,null,null,null,null,null,"II.pokus",null,null,null,{"$f":"IF($N107=\"\",\"\",IF(OR($P108=\"DNF\",$Q108=\"DNF\",$R108=\"DNF\"),\"DNF\",IF(OR($P108=\"NP\",$Q108=\"NP\",$R108=\"NP\"),\"NP\",IF(ISERROR(MEDIAN($P108:$R108)),\"DNF\",IF(COUNT($P108:$R108)<3,MAX($P108:$R108),MEDIAN($P108:$R108))))))","v":""}]
[{"$f":"IF('Start - jaro'!M18=\"\",\"\",\"x\")","v":""},63,{"$f":"IF('Start - jaro'!K18=\"\",\"\",'Start - jaro'!K18)","v":""},"I.pokus",null,null,null,{"$f":"IF($C109=\"\",\"\",IF(OR($E109=\"DNF\",$F109=\"DNF\",$G109=\"DNF\"),\"DNF\",IF(OR($E109=\"NP\",$F109=\"NP\",$G109=\"NP\"),\"NP\",IF(ISERROR(MEDIAN($E109:$G109)),\"DNF\",IF(COUNT($E109:$G109)<3,MAX($E109:$G109),MEDIAN($E109:$G109))))))","v":""},{"$f":"IF($A109=\"x\",\"x\",IF($C109=\"\",\"\",IF(OR(J109=\"NP\",J109=\"DNF\"),IF(J109=\"NP\",MAX(Oblast4)+COUNTIF(($J$12:$J$154),MAX(Oblast4))+COUNTIF(($U$12:$U$154),MAX(Oblast4)),MAX(Oblast4)+COUNTIF(($J$12:$J$154),MAX(Oblast4))+COUNTIF(($U$12:$U$154),MAX(Oblast4))+COUNTIF(($J$12:$J$154),\"NP\")+COUNTIF(($U$12:$U$154),\"NP\")),J109)))","v":""},{"$f":"IF($A109=\"x\",\"x\",IF($C109=\"\",\"\",IF(OR(K109=\"NP\",K109=\"DNF\"),K109,RANK(K109,Oblast3,1))))","v":""},{"$f":"IF($A109=\"x\",\"x\",IF($C109=\"\",\"\",IF(OR(AND(H109=\"NP\",H110=\"NP\"),AND(H109=\"DNF\",H110=\"DNF\")),H109,IF(AND(H109=\"NP\",H110=\"DNF\"),H109,IF(AND(H109=\"DNF\",H110=\"NP\"),H110,MIN(H109,H110))))))","v":""},{"$f":"IF('Start - jaro'!M28=\"\",\"\",\"x\")","v":""},73,{"$f":"IF('Start - jaro'!K28=\"\",\"\",'Start - jaro'!K28)","v":""},"I.pokus",null,null,null,{"$f":"IF($N109=\"\",\"\",IF(OR($P109=\"DNF\",$Q109=\"DNF\",$R109=\"DNF\"),\"DNF\",IF(OR($P109=\"NP\",$Q109=\"NP\",$R109=\"NP\"),\"NP\",IF(ISERROR(MEDIAN($P109:$R109)),\"DNF\",IF(COUNT($P109:$R109)<3,MAX($P109:$R109),MEDIAN($P109:$R109))))))","v":""},{"$f":"IF($L109=\"x\",\"x\",IF($N109=\"\",\"\",IF(OR(U109=\"NP\",U109=\"DNF\"),IF(U109=\"NP\",MAX(Oblast4)+COUNTIF(($J$12:$J$154),MAX(Oblast4))+COUNTIF(($U$12:$U$154),MAX(Oblast4)),MAX(Oblast4)+COUNTIF(($J$12:$J$154),MAX(Oblast4))+COUNTIF(($U$12:$U$154),MAX(Oblast4))+COUNTIF(($J$12:$J$154),\"NP\")+COUNTIF(($U$12:$U$154),\"NP\")),U109)))","v":""},{"$f":"IF($L109=\"x\",\"x\",IF($N109=\"\",\"\",IF(OR(V109=\"NP\",V109=\"DNF\"),V109,RANK(V109,Oblast3,1))))","v":""},{"$f":"IF($L109=\"x\",\"x\",IF($N109=\"\",\"\",IF(OR(AND(S109=\"NP\",S110=\"NP\"),AND(S109=\"DNF\",S110=\"DNF\")),S109,IF(AND(S109=\"NP\",S110=\"DNF\"),S109,IF(AND(S109=\"DNF\",S110=\"NP\"),S110,MIN(S109,S110))))))","v":""}]
[null,null,null,"II.pokus",null,null,null,{"$f":"IF($C109=\"\",\"\",IF(OR($E110=\"DNF\",$F110=\"DNF\",$G110=\"DNF\"),\"DNF\",IF(OR($E110=\"NP\",$F110=\"NP\",$G110=\"NP\"),\"NP\",IF(ISERROR(MEDIAN($E110:$G110)),\"DNF\",IF(COUNT($E110:$G110)<3,MAX($E110:$G110),MEDIAN($E110:$G110))))))","v":""},null,null,null,null,null,null,"II.pokus",null,null,null,{"$f":"IF($N109=\"\",\"\",IF(OR($P110=\"DNF\",$Q110=\"DNF\",$R110=\"DNF\"),\"DNF\",IF(OR($P110=\"NP\",$Q110=\"NP\",$R110=\"NP\"),\"NP\",IF(ISERROR(MEDIAN($P110:$R110)),\"DNF\",IF(COUNT($P110:$R110)<3,MAX($P110:$R110),MEDIAN($P110:$R110))))))","v":""}]
[{"$f":"IF('Start - jaro'!M19=\"\",\"\",\"x\")","v":""},64,{"$f":"IF('Start - jaro'!K19=\"\",\"\",'Start - jaro'!K19)","v":""},"I.pokus",null,null,null,{"$f":"IF($C111=\"\",\"\",IF(OR($E111=\"DNF\",$F111=\"DNF\",$G111=\"DNF\"),\"DNF\",IF(OR($E111=\"NP\",$F111=\"NP\",$G111=\"NP\"),\"NP\",IF(ISERROR(MEDIAN($E111:$G111)),\"DNF\",IF(COUNT($E111:$G111)<3,MAX($E111:$G111),MEDIAN($E111:$G111))))))","v":""},{"$f":"IF($A111=\"x\",\"x\",IF($C111=\"\",\"\",IF(OR(J111=\"NP\",J111=\"DNF\"),IF(J111=\"NP\",MAX(Oblast4)+COUNTIF(($J$12:$J$154),MAX(Oblast4))+COUNTIF(($U$12:$U$154),MAX(Oblast4)),MAX(Oblast4)+COUNTIF(($J$12:$J$154),MAX(Oblast4))+COUNTIF(($U$12:$U$154),MAX(Oblast4))+COUNTIF(($J$12:$J$154),\"NP\")+COUNTIF(($U$12:$U$154),\"NP\")),J111)))","v":""},{"$f":"IF($A111=\"x\",\"x\",IF($C111=\"\",\"\",IF(OR(K111=\"NP\",K111=\"DNF\"),K111,RANK(K111,Oblast3,1))))","v":""},{"$f":"IF($A111=\"x\",\"x\",IF($C111=\"\",\"\",IF(OR(AND(H111=\"NP\",H112=\"NP\"),AND(H111=\"DNF\",H112=\"DNF\")),H111,IF(AND(H111=\"NP\",H112=\"DNF\"),H111,IF(AND(H111=\"DNF\",H112=\"NP\"),H112,MIN(H111,H112))))))","v":""},{"$f":"IF('Start - jaro'!M29=\"\",\"\",\"x\")","v":""},74,{"$f":"IF('Start - jaro'!K29=\"\",\"\",'Start - jaro'!K29)","v":""},"I.pokus",null,null,null,{"$f":"IF($N111=\"\",\"\",IF(OR($P111=\"DNF\",$Q111=\"DNF\",$R111=\"DNF\"),\"DNF\",IF(OR($P111=\"NP\",$Q111=\"NP\",$R111=\"NP\"),\"NP\",IF(ISERROR(MEDIAN($P111:$R111)),\"DNF\",IF(COUNT($P111:$R111)<3,MAX($P111:$R111),MEDIAN($P111:$R111))))))","v":""},{"$f":"IF($L111=\"x\",\"x\",IF($N111=\"\",\"\",IF(OR(U111=\"NP\",U111=\"DNF\"),IF(U111=\"NP\",MAX(Oblast4)+COUNTIF(($J$12:$J$154),MAX(Oblast4))+COUNTIF(($U$12:$U$154),MAX(Oblast4)),MAX(Oblast4)+COUNTIF(($J$12:$J$154),MAX(Oblast4))+COUNTIF(($U$12:$U$154),MAX(Oblast4))+COUNTIF(($J$12:$J$154),\"NP\")+COUNTIF(($U$12:$U$154),\"NP\")),U111)))","v":""},{"$f":"IF($L111=\"x\",\"x\",IF($N111=\"\",\"\",IF(OR(V111=\"NP\",V111=\"DNF\"),V111,RANK(V111,Oblast3,1))))","v":""},{"$f":"IF($L111=\"x\",\"x\",IF($N111=\"\",\"\",IF(OR(AND(S111=\"NP\",S112=\"NP\"),AND(S111=\"DNF\",S112=\"DNF\")),S111,IF(AND(S111=\"NP\",S112=\"DNF\"),S111,IF(AND(S111=\"DNF\",S112=\"NP\"),S112,MIN(S111,S112))))))","v":""}]
[null,null,null,"II.pokus",null,null,null,{"$f":"IF($C111=\"\",\"\",IF(OR($E112=\"DNF\",$F112=\"DNF\",$G112=\"DNF\"),\"DNF\",IF(OR($E112=\"NP\",$F112=\"NP\",$G112=\"NP\"),\"NP\",IF(ISERROR(MEDIAN($E112:$G112)),\"DNF\",IF(COUNT($E112:$G112)<3,MAX($E112:$G112),MEDIAN($E112:$G112))))))","v":""},null,null,null,null,null,null,"II.pokus",null,null,null,{"$f":"IF($N111=\"\",\"\",IF(OR($P112=\"DNF\",$Q112=\"DNF\",$R112=\"DNF\"),\"DNF\",IF(OR($P112=\"NP\",$Q112=\"NP\",$R112=\"NP\"),\"NP\",IF(ISERROR(MEDIAN($P112:$R112)),\"DNF\",IF(COUNT($P112:$R112)<3,MAX($P112:$R112),MEDIAN($P112:$R112))))))","v":""}]
[{"$f":"IF('Start - jaro'!M20=\"\",\"\",\"x\")","v":""},65,{"$f":"IF('Start - jaro'!K20=\"\",\"\",'Start - jaro'!K20)","v":""},"I.pokus",null,null,null,{"$f":"IF($C113=\"\",\"\",IF(OR($E113=\"DNF\",$F113=\"DNF\",$G113=\"DNF\"),\"DNF\",IF(OR($E113=\"NP\",$F113=\"NP\",$G113=\"NP\"),\"NP\",IF(ISERROR(MEDIAN($E113:$G113)),\"DNF\",IF(COUNT($E113:$G113)<3,MAX($E113:$G113),MEDIAN($E113:$G113))))))","v":""},{"$f":"IF($A113=\"x\",\"x\",IF($C113=\"\",\"\",IF(OR(J113=\"NP\",J113=\"DNF\"),IF(J113=\"NP\",MAX(Oblast4)+COUNTIF(($J$12:$J$154),MAX(Oblast4))+COUNTIF(($U$12:$U$154),MAX(Oblast4)),MAX(Oblast4)+COUNTIF(($J$12:$J$154),MAX(Oblast4))+COUNTIF(($U$12:$U$154),MAX(Oblast4))+COUNTIF(($J$12:$J$154),\"NP\")+COUNTIF(($U$12:$U$154),\"NP\")),J113)))","v":""},{"$f":"IF($A113=\"x\",\"x\",IF($C113=\"\",\"\",IF(OR(K113=\"NP\",K113=\"DNF\"),K113,RANK(K113,Oblast3,1))))","v":""},{"$f":"IF($A113=\"x\",\"x\",IF($C113=\"\",\"\",IF(OR(AND(H113=\"NP\",H114=\"NP\"),AND(H113=\"DNF\",H114=\"DNF\")),H113,IF(AND(H113=\"NP\",H114=\"DNF\"),H113,IF(AND(H113=\"DNF\",H114=\"NP\"),H114,MIN(H113,H114))))))","v":""},{"$f":"IF('Start - jaro'!M30=\"\",\"\",\"x\")","v":""},75,{"$f":"IF('Start - jaro'!K30=\"\",\"\",'Start - jaro'!K30)","v":""},"I.pokus",null,null,null,{"$f":"IF($N113=\"\",\"\",IF(OR($P113=\"DNF\",$Q113=\"DNF\",$R113=\"DNF\"),\"DNF\",IF(OR($P113=\"NP\",$Q113=\"NP\",$R113=\"NP\"),\"NP\",IF(ISERROR(MEDIAN($P113:$R113)),\"DNF\",IF(COUNT($P113:$R113)<3,MAX($P113:$R113),MEDIAN($P113:$R113))))))","v":""},{"$f":"IF($L113=\"x\",\"x\",IF($N113=\"\",\"\",IF(OR(U113=\"NP\",U113=\"DNF\"),IF(U113=\"NP\",MAX(Oblast4)+COUNTIF(($J$12:$J$154),MAX(Oblast4))+COUNTIF(($U$12:$U$154),MAX(Oblast4)),MAX(Oblast4)+COUNTIF(($J$12:$J$154),MAX(Oblast4))+COUNTIF(($U$12:$U$154),MAX(Oblast4))+COUNTIF(($J$12:$J$154),\"NP\")+COUNTIF(($U$12:$U$154),\"NP\")),U113)))","v":""},{"$f":"IF($L113=\"x\",\"x\",IF($N113=\"\",\"\",IF(OR(V113=\"NP\",V113=\"DNF\"),V113,RANK(V113,Oblast3,1))))","v":""},{"$f":"IF($L113=\"x\",\"x\",IF($N113=\"\",\"\",IF(OR(AND(S113=\"NP\",S114=\"NP\"),AND(S113=\"DNF\",S114=\"DNF\")),S113,IF(AND(S113=\"NP\",S114=\"DNF\"),S113,IF(AND(S113=\"DNF\",S114=\"NP\"),S114,MIN(S113,S114))))))","v":""}]
[null,null,null,"II.pokus",null,null,null,{"$f":"IF($C113=\"\",\"\",IF(OR($E114=\"DNF\",$F114=\"DNF\",$G114=\"DNF\"),\"DNF\",IF(OR($E114=\"NP\",$F114=\"NP\",$G114=\"NP\"),\"NP\",IF(ISERROR(MEDIAN($E114:$G114)),\"DNF\",IF(COUNT($E114:$G114)<3,MAX($E114:$G114),MEDIAN($E114:$G114))))))","v":""},null,null,null,null,null,null,"II.pokus",null,null,null,{"$f":"IF($N113=\"\",\"\",IF(OR($P114=\"DNF\",$Q114=\"DNF\",$R114=\"DNF\"),\"DNF\",IF(OR($P114=\"NP\",$Q114=\"NP\",$R114=\"NP\"),\"NP\",IF(ISERROR(MEDIAN($P114:$R114)),\"DNF\",IF(COUNT($P114:$R114)<3,MAX($P114:$R114),MEDIAN($P114:$R114))))))","v":""}]
[{"$f":"IF('Start - jaro'!M21=\"\",\"\",\"x\")","v":""},66,{"$f":"IF('Start - jaro'!K21=\"\",\"\",'Start - jaro'!K21)","v":""},"I.pokus",null,null,null,{"$f":"IF($C115=\"\",\"\",IF(OR($E115=\"DNF\",$F115=\"DNF\",$G115=\"DNF\"),\"DNF\",IF(OR($E115=\"NP\",$F115=\"NP\",$G115=\"NP\"),\"NP\",IF(ISERROR(MEDIAN($E115:$G115)),\"DNF\",IF(COUNT($E115:$G115)<3,MAX($E115:$G115),MEDIAN($E115:$G115))))))","v":""},{"$f":"IF($A115=\"x\",\"x\",IF($C115=\"\",\"\",IF(OR(J115=\"NP\",J115=\"DNF\"),IF(J115=\"NP\",MAX(Oblast4)+COUNTIF(($J$12:$J$154),MAX(Oblast4))+COUNTIF(($U$12:$U$154),MAX(Oblast4)),MAX(Oblast4)+COUNTIF(($J$12:$J$154),MAX(Oblast4))+COUNTIF(($U$12:$U$154),MAX(Oblast4))+COUNTIF(($J$12:$J$154),\"NP\")+COUNTIF(($U$12:$U$154),\"NP\")),J115)))","v":""},{"$f":"IF($A115=\"x\",\"x\",IF($C115=\"\",\"\",IF(OR(K115=\"NP\",K115=\"DNF\"),K115,RANK(K115,Oblast3,1))))","v":""},{"$f":"IF($A115=\"x\",\"x\",IF($C115=\"\",\"\",IF(OR(AND(H115=\"NP\",H116=\"NP\"),AND(H115=\"DNF\",H116=\"DNF\")),H115,IF(AND(H115=\"NP\",H116=\"DNF\"),H115,IF(AND(H115=\"DNF\",H116=\"NP\"),H116,MIN(H115,H116))))))","v":""},{"$f":"IF('Start - jaro'!Q6=\"\",\"\",\"x\")","v":""},76,{"$f":"IF('Start - jaro'!O6=\"\",\"\",'Start - jaro'!O6)","v":""},"I.pokus",null,null,null,{"$f":"IF($N115=\"\",\"\",IF(OR($P115=\"DNF\",$Q115=\"DNF\",$R115=\"DNF\"),\"DNF\",IF(OR($P115=\"NP\",$Q115=\"NP\",$R115=\"NP\"),\"NP\",IF(ISERROR(MEDIAN($P115:$R115)),\"DNF\",IF(COUNT($P115:$R115)<3,MAX($P115:$R115),MEDIAN($P115:$R115))))))","v":""},{"$f":"IF($L115=\"x\",\"x\",IF($N115=\"\",\"\",IF(OR(U115=\"NP\",U115=\"DNF\"),IF(U115=\"NP\",MAX(Oblast4)+COUNTIF(($J$12:$J$154),MAX(Oblast4))+COUNTIF(($U$12:$U$154),MAX(Oblast4)),MAX(Oblast4)+COUNTIF(($J$12:$J$154),MAX(Oblast4))+COUNTIF(($U$12:$U$154),MAX(Oblast4))+COUNTIF(($J$12:$J$154),\"NP\")+COUNTIF(($U$12:$U$154),\"NP\")),U115)))","v":""},{"$f":"IF($L115=\"x\",\"x\",IF($N115=\"\",\"\",IF(OR(V115=\"NP\",V115=\"DNF\"),V115,RANK(V115,Oblast3,1))))","v":""},{"$f":"IF($L115=\"x\",\"x\",IF($N115=\"\",\"\",IF(OR(AND(S115=\"NP\",S116=\"NP\"),AND(S115=\"DNF\",S116=\"DNF\")),S115,IF(AND(S115=\"NP\",S116=\"DNF\"),S115,IF(AND(S115=\"DNF\",S116=\"NP\"),S116,MIN(S115,S116))))))","v":""}]
[null,null,null,"II.pokus",null,null,null,{"$f":"IF($C115=\"\",\"\",IF(OR($E116=\"DNF\",$F116=\"DNF\",$G116=\"DNF\"),\"DNF\",IF(OR($E116=\"NP\",$F116=\"NP\",$G116=\"NP\"),\"NP\",IF(ISERROR(MEDIAN($E116:$G116)),\"DNF\",IF(COUNT($E116:$G116)<3,MAX($E116:$G116),MEDIAN($E116:$G116))))))","v":""},null,null,null,null,null,null,"II.pokus",null,null,null,{"$f":"IF($N115=\"\",\"\",IF(OR($P116=\"DNF\",$Q116=\"DNF\",$R116=\"DNF\"),\"DNF\",IF(OR($P116=\"NP\",$Q116=\"NP\",$R116=\"NP\"),\"NP\",IF(ISERROR(MEDIAN($P116:$R116)),\"DNF\",IF(COUNT($P116:$R116)<3,MAX($P116:$R116),MEDIAN($P116:$R116))))))","v":""}]
[{"$f":"IF('Start - jaro'!M22=\"\",\"\",\"x\")","v":""},67,{"$f":"IF('Start - jaro'!K22=\"\",\"\",'Start - jaro'!K22)","v":""},"I.pokus",null,null,null,{"$f":"IF($C117=\"\",\"\",IF(OR($E117=\"DNF\",$F117=\"DNF\",$G117=\"DNF\"),\"DNF\",IF(OR($E117=\"NP\",$F117=\"NP\",$G117=\"NP\"),\"NP\",IF(ISERROR(MEDIAN($E117:$G117)),\"DNF\",IF(COUNT($E117:$G117)<3,MAX($E117:$G117),MEDIAN($E117:$G117))))))","v":""},{"$f":"IF($A117=\"x\",\"x\",IF($C117=\"\",\"\",IF(OR(J117=\"NP\",J117=\"DNF\"),IF(J117=\"NP\",MAX(Oblast4)+COUNTIF(($J$12:$J$154),MAX(Oblast4))+COUNTIF(($U$12:$U$154),MAX(Oblast4)),MAX(Oblast4)+COUNTIF(($J$12:$J$154),MAX(Oblast4))+COUNTIF(($U$12:$U$154),MAX(Oblast4))+COUNTIF(($J$12:$J$154),\"NP\")+COUNTIF(($U$12:$U$154),\"NP\")),J117)))","v":""},{"$f":"IF($A117=\"x\",\"x\",IF($C117=\"\",\"\",IF(OR(K117=\"NP\",K117=\"DNF\"),K117,RANK(K117,Oblast3,1))))","v":""},{"$f":"IF($A117=\"x\",\"x\",IF($C117=\"\",\"\",IF(OR(AND(H117=\"NP\",H118=\"NP\"),AND(H117=\"DNF\",H118=\"DNF\")),H117,IF(AND(H117=\"NP\",H118=\"DNF\"),H117,IF(AND(H117=\"DNF\",H118=\"NP\"),H118,MIN(H117,H118))))))","v":""},{"$f":"IF('Start - jaro'!Q7=\"\",\"\",\"x\")","v":""},77,{"$f":"IF('Start - jaro'!O7=\"\",\"\",'Start - jaro'!O7)","v":""},"I.pokus",null,null,null,{"$f":"IF($N117=\"\",\"\",IF(OR($P117=\"DNF\",$Q117=\"DNF\",$R117=\"DNF\"),\"DNF\",IF(OR($P117=\"NP\",$Q117=\"NP\",$R117=\"NP\"),\"NP\",IF(ISERROR(MEDIAN($P117:$R117)),\"DNF\",IF(COUNT($P117:$R117)<3,MAX($P117:$R117),MEDIAN($P117:$R117))))))","v":""},{"$f":"IF($L117=\"x\",\"x\",IF($N117=\"\",\"\",IF(OR(U117=\"NP\",U117=\"DNF\"),IF(U117=\"NP\",MAX(Oblast4)+COUNTIF(($J$12:$J$154),MAX(Oblast4))+COUNTIF(($U$12:$U$154),MAX(Oblast4)),MAX(Oblast4)+COUNTIF(($J$12:$J$154),MAX(Oblast4))+COUNTIF(($U$12:$U$154),MAX(Oblast4))+COUNTIF(($J$12:$J$154),\"NP\")+COUNTIF(($U$12:$U$154),\"NP\")),U117)))","v":""},{"$f":"IF($L117=\"x\",\"x\",IF($N117=\"\",\"\",IF(OR(V117=\"NP\",V117=\"DNF\"),V117,RANK(V117,Oblast3,1))))","v":""},{"$f":"IF($L117=\"x\",\"x\",IF($N117=\"\",\"\",IF(OR(AND(S117=\"NP\",S118=\"NP\"),AND(S117=\"DNF\",S118=\"DNF\")),S117,IF(AND(S117=\"NP\",S118=\"DNF\"),S117,IF(AND(S117=\"DNF\",S118=\"NP\"),S118,MIN(S117,S118))))))","v":""}]
[null,null,null,"II.pokus",null,null,null,{"$f":"IF($C117=\"\",\"\",IF(OR($E118=\"DNF\",$F118=\"DNF\",$G118=\"DNF\"),\"DNF\",IF(OR($E118=\"NP\",$F118=\"NP\",$G118=\"NP\"),\"NP\",IF(ISERROR(MEDIAN($E118:$G118)),\"DNF\",IF(COUNT($E118:$G118)<3,MAX($E118:$G118),MEDIAN($E118:$G118))))))","v":""},null,null,null,null,null,null,"II.pokus",null,null,null,{"$f":"IF($N117=\"\",\"\",IF(OR($P118=\"DNF\",$Q118=\"DNF\",$R118=\"DNF\"),\"DNF\",IF(OR($P118=\"NP\",$Q118=\"NP\",$R118=\"NP\"),\"NP\",IF(ISERROR(MEDIAN($P118:$R118)),\"DNF\",IF(COUNT($P118:$R118)<3,MAX($P118:$R118),MEDIAN($P118:$R118))))))","v":""}]
[{"$f":"IF('Start - jaro'!M23=\"\",\"\",\"x\")","v":""},68,{"$f":"IF('Start - jaro'!K23=\"\",\"\",'Start - jaro'!K23)","v":""},"I.pokus",null,null,null,{"$f":"IF($C119=\"\",\"\",IF(OR($E119=\"DNF\",$F119=\"DNF\",$G119=\"DNF\"),\"DNF\",IF(OR($E119=\"NP\",$F119=\"NP\",$G119=\"NP\"),\"NP\",IF(ISERROR(MEDIAN($E119:$G119)),\"DNF\",IF(COUNT($E119:$G119)<3,MAX($E119:$G119),MEDIAN($E119:$G119))))))","v":""},{"$f":"IF($A119=\"x\",\"x\",IF($C119=\"\",\"\",IF(OR(J119=\"NP\",J119=\"DNF\"),IF(J119=\"NP\",MAX(Oblast4)+COUNTIF(($J$12:$J$154),MAX(Oblast4))+COUNTIF(($U$12:$U$154),MAX(Oblast4)),MAX(Oblast4)+COUNTIF(($J$12:$J$154),MAX(Oblast4))+COUNTIF(($U$12:$U$154),MAX(Oblast4))+COUNTIF(($J$12:$J$154),\"NP\")+COUNTIF(($U$12:$U$154),\"NP\")),J119)))","v":""},{"$f":"IF($A119=\"x\",\"x\",IF($C119=\"\",\"\",IF(OR(K119=\"NP\",K119=\"DNF\"),K119,RANK(K119,Oblast3,1))))","v":""},{"$f":"IF($A119=\"x\",\"x\",IF($C119=\"\",\"\",IF(OR(AND(H119=\"NP\",H120=\"NP\"),AND(H119=\"DNF\",H120=\"DNF\")),H119,IF(AND(H119=\"NP\",H120=\"DNF\"),H119,IF(AND(H119=\"DNF\",H120=\"NP\"),H120,MIN(H119,H120))))))","v":""},{"$f":"IF('Start - jaro'!Q8=\"\",\"\",\"x\")","v":""},78,{"$f":"IF('Start - jaro'!O8=\"\",\"\",'Start - jaro'!O8)","v":""},"I.pokus",null,null,null,{"$f":"IF($N119=\"\",\"\",IF(OR($P119=\"DNF\",$Q119=\"DNF\",$R119=\"DNF\"),\"DNF\",IF(OR($P119=\"NP\",$Q119=\"NP\",$R119=\"NP\"),\"NP\",IF(ISERROR(MEDIAN($P119:$R119)),\"DNF\",IF(COUNT($P119:$R119)<3,MAX($P119:$R119),MEDIAN($P119:$R119))))))","v":""},{"$f":"IF($L119=\"x\",\"x\",IF($N119=\"\",\"\",IF(OR(U119=\"NP\",U119=\"DNF\"),IF(U119=\"NP\",MAX(Oblast4)+COUNTIF(($J$12:$J$154),MAX(Oblast4))+COUNTIF(($U$12:$U$154),MAX(Oblast4)),MAX(Oblast4)+COUNTIF(($J$12:$J$154),MAX(Oblast4))+COUNTIF(($U$12:$U$154),MAX(Oblast4))+COUNTIF(($J$12:$J$154),\"NP\")+COUNTIF(($U$12:$U$154),\"NP\")),U119)))","v":""},{"$f":"IF($L119=\"x\",\"x\",IF($N119=\"\",\"\",IF(OR(V119=\"NP\",V119=\"DNF\"),V119,RANK(V119,Oblast3,1))))","v":""},{"$f":"IF($L119=\"x\",\"x\",IF($N119=\"\",\"\",IF(OR(AND(S119=\"NP\",S120=\"NP\"),AND(S119=\"DNF\",S120=\"DNF\")),S119,IF(AND(S119=\"NP\",S120=\"DNF\"),S119,IF(AND(S119=\"DNF\",S120=\"NP\"),S120,MIN(S119,S120))))))","v":""}]
[null,null,null,"II.pokus",null,null,null,{"$f":"IF($C119=\"\",\"\",IF(OR($E120=\"DNF\",$F120=\"DNF\",$G120=\"DNF\"),\"DNF\",IF(OR($E120=\"NP\",$F120=\"NP\",$G120=\"NP\"),\"NP\",IF(ISERROR(MEDIAN($E120:$G120)),\"DNF\",IF(COUNT($E120:$G120)<3,MAX($E120:$G120),MEDIAN($E120:$G120))))))","v":""},null,null,null,null,null,null,"II.pokus",null,null,null,{"$f":"IF($N119=\"\",\"\",IF(OR($P120=\"DNF\",$Q120=\"DNF\",$R120=\"DNF\"),\"DNF\",IF(OR($P120=\"NP\",$Q120=\"NP\",$R120=\"NP\"),\"NP\",IF(ISERROR(MEDIAN($P120:$R120)),\"DNF\",IF(COUNT($P120:$R120)<3,MAX($P120:$R120),MEDIAN($P120:$R120))))))","v":""}]
[{"$f":"IF('Start - jaro'!M24=\"\",\"\",\"x\")","v":""},69,{"$f":"IF('Start - jaro'!K24=\"\",\"\",'Start - jaro'!K24)","v":""},"I.pokus",null,null,null,{"$f":"IF($C121=\"\",\"\",IF(OR($E121=\"DNF\",$F121=\"DNF\",$G121=\"DNF\"),\"DNF\",IF(OR($E121=\"NP\",$F121=\"NP\",$G121=\"NP\"),\"NP\",IF(ISERROR(MEDIAN($E121:$G121)),\"DNF\",IF(COUNT($E121:$G121)<3,MAX($E121:$G121),MEDIAN($E121:$G121))))))","v":""},{"$f":"IF($A121=\"x\",\"x\",IF($C121=\"\",\"\",IF(OR(J121=\"NP\",J121=\"DNF\"),IF(J121=\"NP\",MAX(Oblast4)+COUNTIF(($J$12:$J$154),MAX(Oblast4))+COUNTIF(($U$12:$U$154),MAX(Oblast4)),MAX(Oblast4)+COUNTIF(($J$12:$J$154),MAX(Oblast4))+COUNTIF(($U$12:$U$154),MAX(Oblast4))+COUNTIF(($J$12:$J$154),\"NP\")+COUNTIF(($U$12:$U$154),\"NP\")),J121)))","v":""},{"$f":"IF($A121=\"x\",\"x\",IF($C121=\"\",\"\",IF(OR(K121=\"NP\",K121=\"DNF\"),K121,RANK(K121,Oblast3,1))))","v":""},{"$f":"IF($A121=\"x\",\"x\",IF($C121=\"\",\"\",IF(OR(AND(H121=\"NP\",H122=\"NP\"),AND(H121=\"DNF\",H122=\"DNF\")),H121,IF(AND(H121=\"NP\",H122=\"DNF\"),H121,IF(AND(H121=\"DNF\",H122=\"NP\"),H122,MIN(H121,H122))))))","v":""},{"$f":"IF('Start - jaro'!Q9=\"\",\"\",\"x\")","v":""},79,{"$f":"IF('Start - jaro'!O9=\"\",\"\",'Start - jaro'!O9)","v":""},"I.pokus",null,null,null,{"$f":"IF($N121=\"\",\"\",IF(OR($P121=\"DNF\",$Q121=\"DNF\",$R121=\"DNF\"),\"DNF\",IF(OR($P121=\"NP\",$Q121=\"NP\",$R121=\"NP\"),\"NP\",IF(ISERROR(MEDIAN($P121:$R121)),\"DNF\",IF(COUNT($P121:$R121)<3,MAX($P121:$R121),MEDIAN($P121:$R121))))))","v":""},{"$f":"IF($L121=\"x\",\"x\",IF($N121=\"\",\"\",IF(OR(U121=\"NP\",U121=\"DNF\"),IF(U121=\"NP\",MAX(Oblast4)+COUNTIF(($J$12:$J$154),MAX(Oblast4))+COUNTIF(($U$12:$U$154),MAX(Oblast4)),MAX(Oblast4)+COUNTIF(($J$12:$J$154),MAX(Oblast4))+COUNTIF(($U$12:$U$154),MAX(Oblast4))+COUNTIF(($J$12:$J$154),\"NP\")+COUNTIF(($U$12:$U$154),\"NP\")),U121)))","v":""},{"$f":"IF($L121=\"x\",\"x\",IF($N121=\"\",\"\",IF(OR(V121=\"NP\",V121=\"DNF\"),V121,RANK(V121,Oblast3,1))))","v":""},{"$f":"IF($L121=\"x\",\"x\",IF($N121=\"\",\"\",IF(OR(AND(S121=\"NP\",S122=\"NP\"),AND(S121=\"DNF\",S122=\"DNF\")),S121,IF(AND(S121=\"NP\",S122=\"DNF\"),S121,IF(AND(S121=\"DNF\",S122=\"NP\"),S122,MIN(S121,S122))))))","v":""}]
[null,null,null,"II.pokus",null,null,null,{"$f":"IF($C121=\"\",\"\",IF(OR($E122=\"DNF\",$F122=\"DNF\",$G122=\"DNF\"),\"DNF\",IF(OR($E122=\"NP\",$F122=\"NP\",$G122=\"NP\"),\"NP\",IF(ISERROR(MEDIAN($E122:$G122)),\"DNF\",IF(COUNT($E122:$G122)<3,MAX($E122:$G122),MEDIAN($E122:$G122))))))","v":""},null,null,null,null,null,null,"II.pokus",null,null,null,{"$f":"IF($N121=\"\",\"\",IF(OR($P122=\"DNF\",$Q122=\"DNF\",$R122=\"DNF\"),\"DNF\",IF(OR($P122=\"NP\",$Q122=\"NP\",$R122=\"NP\"),\"NP\",IF(ISERROR(MEDIAN($P122:$R122)),\"DNF\",IF(COUNT($P122:$R122)<3,MAX($P122:$R122),MEDIAN($P122:$R122))))))","v":""}]
[{"$f":"IF('Start - jaro'!M25=\"\",\"\",\"x\")","v":""},70,{"$f":"IF('Start - jaro'!K25=\"\",\"\",'Start - jaro'!K25)","v":""},"I.pokus",null,null,null,{"$f":"IF($C123=\"\",\"\",IF(OR($E123=\"DNF\",$F123=\"DNF\",$G123=\"DNF\"),\"DNF\",IF(OR($E123=\"NP\",$F123=\"NP\",$G123=\"NP\"),\"NP\",IF(ISERROR(MEDIAN($E123:$G123)),\"DNF\",IF(COUNT($E123:$G123)<3,MAX($E123:$G123),MEDIAN($E123:$G123))))))","v":""},{"$f":"IF($A123=\"x\",\"x\",IF($C123=\"\",\"\",IF(OR(J123=\"NP\",J123=\"DNF\"),IF(J123=\"NP\",MAX(Oblast4)+COUNTIF(($J$12:$J$154),MAX(Oblast4))+COUNTIF(($U$12:$U$154),MAX(Oblast4)),MAX(Oblast4)+COUNTIF(($J$12:$J$154),MAX(Oblast4))+COUNTIF(($U$12:$U$154),MAX(Oblast4))+COUNTIF(($J$12:$J$154),\"NP\")+COUNTIF(($U$12:$U$154),\"NP\")),J123)))","v":""},{"$f":"IF($A123=\"x\",\"x\",IF($C123=\"\",\"\",IF(OR(K123=\"NP\",K123=\"DNF\"),K123,RANK(K123,Oblast3,1))))","v":""},{"$f":"IF($A123=\"x\",\"x\",IF($C123=\"\",\"\",IF(OR(AND(H123=\"NP\",H124=\"NP\"),AND(H123=\"DNF\",H124=\"DNF\")),H123,IF(AND(H123=\"NP\",H124=\"DNF\"),H123,IF(AND(H123=\"DNF\",H124=\"NP\"),H124,MIN(H123,H124))))))","v":""},{"$f":"IF('Start - jaro'!Q10=\"\",\"\",\"x\")","v":""},80,{"$f":"IF('Start - jaro'!O10=\"\",\"\",'Start - jaro'!O10)","v":""},"I.pokus",null,null,null,{"$f":"IF($N123=\"\",\"\",IF(OR($P123=\"DNF\",$Q123=\"DNF\",$R123=\"DNF\"),\"DNF\",IF(OR($P123=\"NP\",$Q123=\"NP\",$R123=\"NP\"),\"NP\",IF(ISERROR(MEDIAN($P123:$R123)),\"DNF\",IF(COUNT($P123:$R123)<3,MAX($P123:$R123),MEDIAN($P123:$R123))))))","v":""},{"$f":"IF($L123=\"x\",\"x\",IF($N123=\"\",\"\",IF(OR(U123=\"NP\",U123=\"DNF\"),IF(U123=\"NP\",MAX(Oblast4)+COUNTIF(($J$12:$J$154),MAX(Oblast4))+COUNTIF(($U$12:$U$154),MAX(Oblast4)),MAX(Oblast4)+COUNTIF(($J$12:$J$154),MAX(Oblast4))+COUNTIF(($U$12:$U$154),MAX(Oblast4))+COUNTIF(($J$12:$J$154),\"NP\")+COUNTIF(($U$12:$U$154),\"NP\")),U123)))","v":""},{"$f":"IF($L123=\"x\",\"x\",IF($N123=\"\",\"\",IF(OR(V123=\"NP\",V123=\"DNF\"),V123,RANK(V123,Oblast3,1))))","v":""},{"$f":"IF($L123=\"x\",\"x\",IF($N123=\"\",\"\",IF(OR(AND(S123=\"NP\",S124=\"NP\"),AND(S123=\"DNF\",S124=\"DNF\")),S123,IF(AND(S123=\"NP\",S124=\"DNF\"),S123,IF(AND(S123=\"DNF\",S124=\"NP\"),S124,MIN(S123,S124))))))","v":""}]
[null,null,null,"II.pokus",null,null,null,{"$f":"IF($C123=\"\",\"\",IF(OR($E124=\"DNF\",$F124=\"DNF\",$G124=\"DNF\"),\"DNF\",IF(OR($E124=\"NP\",$F124=\"NP\",$G124=\"NP\"),\"NP\",IF(ISERROR(MEDIAN($E124:$G124)),\"DNF\",IF(COUNT($E124:$G124)<3,MAX($E124:$G124),MEDIAN($E124:$G124))))))","v":""},null,null,null,null,null,null,"II.pokus",null,null,null,{"$f":"IF($N123=\"\",\"\",IF(OR($P124=\"DNF\",$Q124=\"DNF\",$R124=\"DNF\"),\"DNF\",IF(OR($P124=\"NP\",$Q124=\"NP\",$R124=\"NP\"),\"NP\",IF(ISERROR(MEDIAN($P124:$R124)),\"DNF\",IF(COUNT($P124:$R124)<3,MAX($P124:$R124),MEDIAN($P124:$R124))))))","v":""}]
[null," CELOSTÁTNÍ HRA PLAMEN"]
[]
[]
[null," Výsledková listina č: 5"]
[null,"Požární útok",null,null,"Základem je čas naměřený od vydání signálu startéra do proběhnutí posledního člena cílem",null,null,null,null,null,null,null,"Požární útok",null,null,"Základem je čas naměřený od vydání signálu startéra do proběhnutí posledního člena cílem"]
[]
[]
[null,{"$f":"\"KATEGORIE: \"&'Start - podzim'!$N$2","v":"KATEGORIE: STARŠÍ"},null,null,"I. časoměřič","II. časoměřič","III. časoměřič","úřední čas","počet bodů za umístění",null,null,null,{"$f":"\"KATEGORIE: \"&'Start - podzim'!$N$2","v":"KATEGORIE: STARŠÍ"},null,null,"I. časoměřič","II. časoměřič","III. časoměřič","úřední čas","počet bodů za umístění"]
[]
[null,"start. číslo","SOUTĚŽNÍ DRUŽSTVO","pokus",null,null,null,null,null,null,null,null,"start. číslo","SOUTĚŽNÍ DRUŽSTVO","pokus"]
[]
[{"$f":"IF('Start - jaro'!Q11=\"\",\"\",\"x\")","v":""},81,{"$f":"IF('Start - jaro'!O11=\"\",\"\",'Start - jaro'!O11)","v":""},"I.pokus",null,null,null,{"$f":"IF($C136=\"\",\"\",IF(OR($E136=\"DNF\",$F136=\"DNF\",$G136=\"DNF\"),\"DNF\",IF(OR($E136=\"NP\",$F136=\"NP\",$G136=\"NP\"),\"NP\",IF(ISERROR(MEDIAN($E136:$G136)),\"DNF\",IF(COUNT($E136:$G136)<3,MAX($E136:$G136),MEDIAN($E136:$G136))))))","v":""},{"$f":"IF($A136=\"x\",\"x\",IF($C136=\"\",\"\",IF(OR(J136=\"NP\",J136=\"DNF\"),IF(J136=\"NP\",MAX(Oblast4)+COUNTIF(($J$12:$J$154),MAX(Oblast4))+COUNTIF(($U$12:$U$154),MAX(Oblast4)),MAX(Oblast4)+COUNTIF(($J$12:$J$154),MAX(Oblast4))+COUNTIF(($U$12:$U$154),MAX(Oblast4))+COUNTIF(($J$12:$J$154),\"NP\")+COUNTIF(($U$12:$U$154),\"NP\")),J136)))","v":""},{"$f":"IF($A136=\"x\",\"x\",IF($C136=\"\",\"\",IF(OR(K136=\"NP\",K136=\"DNF\"),K136,RANK(K136,Oblast3,1))))","v":""},{"$f":"IF($A136=\"x\",\"x\",IF($C136=\"\",\"\",IF(OR(AND(H136=\"NP\",H137=\"NP\"),AND(H136=\"DNF\",H137=\"DNF\")),H136,IF(AND(H136=\"NP\",H137=\"DNF\"),H136,IF(AND(H136=\"DNF\",H137=\"NP\"),H137,MIN(H136,H137))))))","v":""},{"$f":"IF('Start - jaro'!Q21=\"\",\"\",\"x\")","v":""},91,{"$f":"IF('Start - jaro'!O21=\"\",\"\",'Start - jaro'!O21)","v":""},"I.pokus",null,null,null,{"$f":"IF($N136=\"\",\"\",IF(OR($P136=\"DNF\",$Q136=\"DNF\",$R136=\"DNF\"),\"DNF\",IF(OR($P136=\"NP\",$Q136=\"NP\",$R136=\"NP\"),\"NP\",IF(ISERROR(MEDIAN($P136:$R136)),\"DNF\",IF(COUNT($P136:$R136)<3,MAX($P136:$R136),MEDIAN($P136:$R136))))))","v":""},{"$f":"IF($L136=\"x\",\"x\",IF($N136=\"\",\"\",IF(OR(U136=\"NP\",U136=\"DNF\"),IF(U136=\"NP\",MAX(Oblast4)+COUNTIF(($J$12:$J$154),MAX(Oblast4))+COUNTIF(($U$12:$U$154),MAX(Oblast4)),MAX(Oblast4)+COUNTIF(($J$12:$J$154),MAX(Oblast4))+COUNTIF(($U$12:$U$154),MAX(Oblast4))+COUNTIF(($J$12:$J$154),\"NP\")+COUNTIF(($U$12:$U$154),\"NP\")),U136)))","v":""},{"$f":"IF($L136=\"x\",\"x\",IF($N136=\"\",\"\",IF(OR(V136=\"NP\",V136=\"DNF\"),V136,RANK(V136,Oblast3,1))))","v":""},{"$f":"IF($L136=\"x\",\"x\",IF($N136=\"\",\"\",IF(OR(AND(S136=\"NP\",S137=\"NP\"),AND(S136=\"DNF\",S137=\"DNF\")),S136,IF(AND(S136=\"NP\",S137=\"DNF\"),S136,IF(AND(S136=\"DNF\",S137=\"NP\"),S137,MIN(S136,S137))))))","v":""}]
[null,null,null,"II.pokus",null,null,null,{"$f":"IF($C136=\"\",\"\",IF(OR($E137=\"DNF\",$F137=\"DNF\",$G137=\"DNF\"),\"DNF\",IF(OR($E137=\"NP\",$F137=\"NP\",$G137=\"NP\"),\"NP\",IF(ISERROR(MEDIAN($E137:$G137)),\"DNF\",IF(COUNT($E137:$G137)<3,MAX($E137:$G137),MEDIAN($E137:$G137))))))","v":""},null,null,null,null,null,null,"II.pokus",null,null,null,{"$f":"IF($N136=\"\",\"\",IF(OR($P137=\"DNF\",$Q137=\"DNF\",$R137=\"DNF\"),\"DNF\",IF(OR($P137=\"NP\",$Q137=\"NP\",$R137=\"NP\"),\"NP\",IF(ISERROR(MEDIAN($P137:$R137)),\"DNF\",IF(COUNT($P137:$R137)<3,MAX($P137:$R137),MEDIAN($P137:$R137))))))","v":""}]
[{"$f":"IF('Start - jaro'!Q12=\"\",\"\",\"x\")","v":""},82,{"$f":"IF('Start - jaro'!O12=\"\",\"\",'Start - jaro'!O12)","v":""},"I.pokus",null,null,null,{"$f":"IF($C138=\"\",\"\",IF(OR($E138=\"DNF\",$F138=\"DNF\",$G138=\"DNF\"),\"DNF\",IF(OR($E138=\"NP\",$F138=\"NP\",$G138=\"NP\"),\"NP\",IF(ISERROR(MEDIAN($E138:$G138)),\"DNF\",IF(COUNT($E138:$G138)<3,MAX($E138:$G138),MEDIAN($E138:$G138))))))","v":""},{"$f":"IF($A138=\"x\",\"x\",IF($C138=\"\",\"\",IF(OR(J138=\"NP\",J138=\"DNF\"),IF(J138=\"NP\",MAX(Oblast4)+COUNTIF(($J$12:$J$154),MAX(Oblast4))+COUNTIF(($U$12:$U$154),MAX(Oblast4)),MAX(Oblast4)+COUNTIF(($J$12:$J$154),MAX(Oblast4))+COUNTIF(($U$12:$U$154),MAX(Oblast4))+COUNTIF(($J$12:$J$154),\"NP\")+COUNTIF(($U$12:$U$154),\"NP\")),J138)))","v":""},{"$f":"IF($A138=\"x\",\"x\",IF($C138=\"\",\"\",IF(OR(K138=\"NP\",K138=\"DNF\"),K138,RANK(K138,Oblast3,1))))","v":""},{"$f":"IF($A138=\"x\",\"x\",IF($C138=\"\",\"\",IF(OR(AND(H138=\"NP\",H139=\"NP\"),AND(H138=\"DNF\",H139=\"DNF\")),H138,IF(AND(H138=\"NP\",H139=\"DNF\"),H138,IF(AND(H138=\"DNF\",H139=\"NP\"),H139,MIN(H138,H139))))))","v":""},{"$f":"IF('Start - jaro'!Q22=\"\",\"\",\"x\")","v":""},92,{"$f":"IF('Start - jaro'!O22=\"\",\"\",'Start - jaro'!O22)","v":""},"I.pokus",null,null,null,{"$f":"IF($N138=\"\",\"\",IF(OR($P138=\"DNF\",$Q138=\"DNF\",$R138=\"DNF\"),\"DNF\",IF(OR($P138=\"NP\",$Q138=\"NP\",$R138=\"NP\"),\"NP\",IF(ISERROR(MEDIAN($P138:$R138)),\"DNF\",IF(COUNT($P138:$R138)<3,MAX($P138:$R138),MEDIAN($P138:$R138))))))","v":""},{"$f":"IF($L138=\"x\",\"x\",IF($N138=\"\",\"\",IF(OR(U138=\"NP\",U138=\"DNF\"),IF(U138=\"NP\",MAX(Oblast4)+COUNTIF(($J$12:$J$154),MAX(Oblast4))+COUNTIF(($U$12:$U$154),MAX(Oblast4)),MAX(Oblast4)+COUNTIF(($J$12:$J$154),MAX(Oblast4))+COUNTIF(($U$12:$U$154),MAX(Oblast4))+COUNTIF(($J$12:$J$154),\"NP\")+COUNTIF(($U$12:$U$154),\"NP\")),U138)))","v":""},{"$f":"IF($L138=\"x\",\"x\",IF($N138=\"\",\"\",IF(OR(V138=\"NP\",V138=\"DNF\"),V138,RANK(V138,Oblast3,1))))","v":""},{"$f":"IF($L138=\"x\",\"x\",IF($N138=\"\",\"\",IF(OR(AND(S138=\"NP\",S139=\"NP\"),AND(S138=\"DNF\",S139=\"DNF\")),S138,IF(AND(S138=\"NP\",S139=\"DNF\"),S138,IF(AND(S138=\"DNF\",S139=\"NP\"),S139,MIN(S138,S139))))))","v":""}]
[null,null,null,"II.pokus",null,null,null,{"$f":"IF($C138=\"\",\"\",IF(OR($E139=\"DNF\",$F139=\"DNF\",$G139=\"DNF\"),\"DNF\",IF(OR($E139=\"NP\",$F139=\"NP\",$G139=\"NP\"),\"NP\",IF(ISERROR(MEDIAN($E139:$G139)),\"DNF\",IF(COUNT($E139:$G139)<3,MAX($E139:$G139),MEDIAN($E139:$G139))))))","v":""},null,null,null,null,null,null,"II.pokus",null,null,null,{"$f":"IF($N138=\"\",\"\",IF(OR($P139=\"DNF\",$Q139=\"DNF\",$R139=\"DNF\"),\"DNF\",IF(OR($P139=\"NP\",$Q139=\"NP\",$R139=\"NP\"),\"NP\",IF(ISERROR(MEDIAN($P139:$R139)),\"DNF\",IF(COUNT($P139:$R139)<3,MAX($P139:$R139),MEDIAN($P139:$R139))))))","v":""}]
[{"$f":"IF('Start - jaro'!Q13=\"\",\"\",\"x\")","v":""},83,{"$f":"IF('Start - jaro'!O13=\"\",\"\",'Start - jaro'!O13)","v":""},"I.pokus",null,null,null,{"$f":"IF($C140=\"\",\"\",IF(OR($E140=\"DNF\",$F140=\"DNF\",$G140=\"DNF\"),\"DNF\",IF(OR($E140=\"NP\",$F140=\"NP\",$G140=\"NP\"),\"NP\",IF(ISERROR(MEDIAN($E140:$G140)),\"DNF\",IF(COUNT($E140:$G140)<3,MAX($E140:$G140),MEDIAN($E140:$G140))))))","v":""},{"$f":"IF($A140=\"x\",\"x\",IF($C140=\"\",\"\",IF(OR(J140=\"NP\",J140=\"DNF\"),IF(J140=\"NP\",MAX(Oblast4)+COUNTIF(($J$12:$J$154),MAX(Oblast4))+COUNTIF(($U$12:$U$154),MAX(Oblast4)),MAX(Oblast4)+COUNTIF(($J$12:$J$154),MAX(Oblast4))+COUNTIF(($U$12:$U$154),MAX(Oblast4))+COUNTIF(($J$12:$J$154),\"NP\")+COUNTIF(($U$12:$U$154),\"NP\")),J140)))","v":""},{"$f":"IF($A140=\"x\",\"x\",IF($C140=\"\",\"\",IF(OR(K140=\"NP\",K140=\"DNF\"),K140,RANK(K140,Oblast3,1))))","v":""},{"$f":"IF($A140=\"x\",\"x\",IF($C140=\"\",\"\",IF(OR(AND(H140=\"NP\",H141=\"NP\"),AND(H140=\"DNF\",H141=\"DNF\")),H140,IF(AND(H140=\"NP\",H141=\"DNF\"),H140,IF(AND(H140=\"DNF\",H141=\"NP\"),H141,MIN(H140,H141))))))","v":""},{"$f":"IF('Start - jaro'!Q23=\"\",\"\",\"x\")","v":""},93,{"$f":"IF('Start - jaro'!O23=\"\",\"\",'Start - jaro'!O23)","v":""},"I.pokus",null,null,null,{"$f":"IF($N140=\"\",\"\",IF(OR($P140=\"DNF\",$Q140=\"DNF\",$R140=\"DNF\"),\"DNF\",IF(OR($P140=\"NP\",$Q140=\"NP\",$R140=\"NP\"),\"NP\",IF(ISERROR(MEDIAN($P140:$R140)),\"DNF\",IF(COUNT($P140:$R140)<3,MAX($P140:$R140),MEDIAN($P140:$R140))))))","v":""},{"$f":"IF($L140=\"x\",\"x\",IF($N140=\"\",\"\",IF(OR(U140=\"NP\",U140=\"DNF\"),IF(U140=\"NP\",MAX(Oblast4)+COUNTIF(($J$12:$J$154),MAX(Oblast4))+COUNTIF(($U$12:$U$154),MAX(Oblast4)),MAX(Oblast4)+COUNTIF(($J$12:$J$154),MAX(Oblast4))+COUNTIF(($U$12:$U$154),MAX(Oblast4))+COUNTIF(($J$12:$J$154),\"NP\")+COUNTIF(($U$12:$U$154),\"NP\")),U140)))","v":""},{"$f":"IF($L140=\"x\",\"x\",IF($N140=\"\",\"\",IF(OR(V140=\"NP\",V140=\"DNF\"),V140,RANK(V140,Oblast3,1))))","v":""},{"$f":"IF($L140=\"x\",\"x\",IF($N140=\"\",\"\",IF(OR(AND(S140=\"NP\",S141=\"NP\"),AND(S140=\"DNF\",S141=\"DNF\")),S140,IF(AND(S140=\"NP\",S141=\"DNF\"),S140,IF(AND(S140=\"DNF\",S141=\"NP\"),S141,MIN(S140,S141))))))","v":""}]
[null,null,null,"II.pokus",null,null,null,{"$f":"IF($C140=\"\",\"\",IF(OR($E141=\"DNF\",$F141=\"DNF\",$G141=\"DNF\"),\"DNF\",IF(OR($E141=\"NP\",$F141=\"NP\",$G141=\"NP\"),\"NP\",IF(ISERROR(MEDIAN($E141:$G141)),\"DNF\",IF(COUNT($E141:$G141)<3,MAX($E141:$G141),MEDIAN($E141:$G141))))))","v":""},null,null,null,null,null,null,"II.pokus",null,null,null,{"$f":"IF($N140=\"\",\"\",IF(OR($P141=\"DNF\",$Q141=\"DNF\",$R141=\"DNF\"),\"DNF\",IF(OR($P141=\"NP\",$Q141=\"NP\",$R141=\"NP\"),\"NP\",IF(ISERROR(MEDIAN($P141:$R141)),\"DNF\",IF(COUNT($P141:$R141)<3,MAX($P141:$R141),MEDIAN($P141:$R141))))))","v":""}]
[{"$f":"IF('Start - jaro'!Q14=\"\",\"\",\"x\")","v":""},84,{"$f":"IF('Start - jaro'!O14=\"\",\"\",'Start - jaro'!O14)","v":""},"I.pokus",null,null,null,{"$f":"IF($C142=\"\",\"\",IF(OR($E142=\"DNF\",$F142=\"DNF\",$G142=\"DNF\"),\"DNF\",IF(OR($E142=\"NP\",$F142=\"NP\",$G142=\"NP\"),\"NP\",IF(ISERROR(MEDIAN($E142:$G142)),\"DNF\",IF(COUNT($E142:$G142)<3,MAX($E142:$G142),MEDIAN($E142:$G142))))))","v":""},{"$f":"IF($A142=\"x\",\"x\",IF($C142=\"\",\"\",IF(OR(J142=\"NP\",J142=\"DNF\"),IF(J142=\"NP\",MAX(Oblast4)+COUNTIF(($J$12:$J$154),MAX(Oblast4))+COUNTIF(($U$12:$U$154),MAX(Oblast4)),MAX(Oblast4)+COUNTIF(($J$12:$J$154),MAX(Oblast4))+COUNTIF(($U$12:$U$154),MAX(Oblast4))+COUNTIF(($J$12:$J$154),\"NP\")+COUNTIF(($U$12:$U$154),\"NP\")),J142)))","v":""},{"$f":"IF($A142=\"x\",\"x\",IF($C142=\"\",\"\",IF(OR(K142=\"NP\",K142=\"DNF\"),K142,RANK(K142,Oblast3,1))))","v":""},{"$f":"IF($A142=\"x\",\"x\",IF($C142=\"\",\"\",IF(OR(AND(H142=\"NP\",H143=\"NP\"),AND(H142=\"DNF\",H143=\"DNF\")),H142,IF(AND(H142=\"NP\",H143=\"DNF\"),H142,IF(AND(H142=\"DNF\",H143=\"NP\"),H143,MIN(H142,H143))))))","v":""},{"$f":"IF('Start - jaro'!Q24=\"\",\"\",\"x\")","v":""},94,{"$f":"IF('Start - jaro'!O24=\"\",\"\",'Start - jaro'!O24)","v":""},"I.pokus",null,null,null,{"$f":"IF($N142=\"\",\"\",IF(OR($P142=\"DNF\",$Q142=\"DNF\",$R142=\"DNF\"),\"DNF\",IF(OR($P142=\"NP\",$Q142=\"NP\",$R142=\"NP\"),\"NP\",IF(ISERROR(MEDIAN($P142:$R142)),\"DNF\",IF(COUNT($P142:$R142)<3,MAX($P142:$R142),MEDIAN($P142:$R142))))))","v":""},{"$f":"IF($L142=\"x\",\"x\",IF($N142=\"\",\"\",IF(OR(U142=\"NP\",U142=\"DNF\"),IF(U142=\"NP\",MAX(Oblast4)+COUNTIF(($J$12:$J$154),MAX(Oblast4))+COUNTIF(($U$12:$U$154),MAX(Oblast4)),MAX(Oblast4)+COUNTIF(($J$12:$J$154),MAX(Oblast4))+COUNTIF(($U$12:$U$154),MAX(Oblast4))+COUNTIF(($J$12:$J$154),\"NP\")+COUNTIF(($U$12:$U$154),\"NP\")),U142)))","v":""},{"$f":"IF($L142=\"x\",\"x\",IF($N142=\"\",\"\",IF(OR(V142=\"NP\",V142=\"DNF\"),V142,RANK(V142,Oblast3,1))))","v":""},{"$f":"IF($L142=\"x\",\"x\",IF($N142=\"\",\"\",IF(OR(AND(S142=\"NP\",S143=\"NP\"),AND(S142=\"DNF\",S143=\"DNF\")),S142,IF(AND(S142=\"NP\",S143=\"DNF\"),S142,IF(AND(S142=\"DNF\",S143=\"NP\"),S143,MIN(S142,S143))))))","v":""}]
[null,null,null,"II.pokus",null,null,null,{"$f":"IF($C142=\"\",\"\",IF(OR($E143=\"DNF\",$F143=\"DNF\",$G143=\"DNF\"),\"DNF\",IF(OR($E143=\"NP\",$F143=\"NP\",$G143=\"NP\"),\"NP\",IF(ISERROR(MEDIAN($E143:$G143)),\"DNF\",IF(COUNT($E143:$G143)<3,MAX($E143:$G143),MEDIAN($E143:$G143))))))","v":""},null,null,null,null,null,null,"II.pokus",null,null,null,{"$f":"IF($N142=\"\",\"\",IF(OR($P143=\"DNF\",$Q143=\"DNF\",$R143=\"DNF\"),\"DNF\",IF(OR($P143=\"NP\",$Q143=\"NP\",$R143=\"NP\"),\"NP\",IF(ISERROR(MEDIAN($P143:$R143)),\"DNF\",IF(COUNT($P143:$R143)<3,MAX($P143:$R143),MEDIAN($P143:$R143))))))","v":""}]
[{"$f":"IF('Start - jaro'!Q15=\"\",\"\",\"x\")","v":""},85,{"$f":"IF('Start - jaro'!O15=\"\",\"\",'Start - jaro'!O15)","v":""},"I.pokus",null,null,null,{"$f":"IF($C144=\"\",\"\",IF(OR($E144=\"DNF\",$F144=\"DNF\",$G144=\"DNF\"),\"DNF\",IF(OR($E144=\"NP\",$F144=\"NP\",$G144=\"NP\"),\"NP\",IF(ISERROR(MEDIAN($E144:$G144)),\"DNF\",IF(COUNT($E144:$G144)<3,MAX($E144:$G144),MEDIAN($E144:$G144))))))","v":""},{"$f":"IF($A144=\"x\",\"x\",IF($C144=\"\",\"\",IF(OR(J144=\"NP\",J144=\"DNF\"),IF(J144=\"NP\",MAX(Oblast4)+COUNTIF(($J$12:$J$154),MAX(Oblast4))+COUNTIF(($U$12:$U$154),MAX(Oblast4)),MAX(Oblast4)+COUNTIF(($J$12:$J$154),MAX(Oblast4))+COUNTIF(($U$12:$U$154),MAX(Oblast4))+COUNTIF(($J$12:$J$154),\"NP\")+COUNTIF(($U$12:$U$154),\"NP\")),J144)))","v":""},{"$f":"IF($A144=\"x\",\"x\",IF($C144=\"\",\"\",IF(OR(K144=\"NP\",K144=\"DNF\"),K144,RANK(K144,Oblast3,1))))","v":""},{"$f":"IF($A144=\"x\",\"x\",IF($C144=\"\",\"\",IF(OR(AND(H144=\"NP\",H145=\"NP\"),AND(H144=\"DNF\",H145=\"DNF\")),H144,IF(AND(H144=\"NP\",H145=\"DNF\"),H144,IF(AND(H144=\"DNF\",H145=\"NP\"),H145,MIN(H144,H145))))))","v":""},{"$f":"IF('Start - jaro'!Q25=\"\",\"\",\"x\")","v":""},95,{"$f":"IF('Start - jaro'!O25=\"\",\"\",'Start - jaro'!O25)","v":""},"I.pokus",null,null,null,{"$f":"IF($N144=\"\",\"\",IF(OR($P144=\"DNF\",$Q144=\"DNF\",$R144=\"DNF\"),\"DNF\",IF(OR($P144=\"NP\",$Q144=\"NP\",$R144=\"NP\"),\"NP\",IF(ISERROR(MEDIAN($P144:$R144)),\"DNF\",IF(COUNT($P144:$R144)<3,MAX($P144:$R144),MEDIAN($P144:$R144))))))","v":""},{"$f":"IF($L144=\"x\",\"x\",IF($N144=\"\",\"\",IF(OR(U144=\"NP\",U144=\"DNF\"),IF(U144=\"NP\",MAX(Oblast4)+COUNTIF(($J$12:$J$154),MAX(Oblast4))+COUNTIF(($U$12:$U$154),MAX(Oblast4)),MAX(Oblast4)+COUNTIF(($J$12:$J$154),MAX(Oblast4))+COUNTIF(($U$12:$U$154),MAX(Oblast4))+COUNTIF(($J$12:$J$154),\"NP\")+COUNTIF(($U$12:$U$154),\"NP\")),U144)))","v":""},{"$f":"IF($L144=\"x\",\"x\",IF($N144=\"\",\"\",IF(OR(V144=\"NP\",V144=\"DNF\"),V144,RANK(V144,Oblast3,1))))","v":""},{"$f":"IF($L144=\"x\",\"x\",IF($N144=\"\",\"\",IF(OR(AND(S144=\"NP\",S145=\"NP\"),AND(S144=\"DNF\",S145=\"DNF\")),S144,IF(AND(S144=\"NP\",S145=\"DNF\"),S144,IF(AND(S144=\"DNF\",S145=\"NP\"),S145,MIN(S144,S145))))))","v":""}]
[null,null,null,"II.pokus",null,null,null,{"$f":"IF($C144=\"\",\"\",IF(OR($E145=\"DNF\",$F145=\"DNF\",$G145=\"DNF\"),\"DNF\",IF(OR($E145=\"NP\",$F145=\"NP\",$G145=\"NP\"),\"NP\",IF(ISERROR(MEDIAN($E145:$G145)),\"DNF\",IF(COUNT($E145:$G145)<3,MAX($E145:$G145),MEDIAN($E145:$G145))))))","v":""},null,null,null,null,null,null,"II.pokus",null,null,null,{"$f":"IF($N144=\"\",\"\",IF(OR($P145=\"DNF\",$Q145=\"DNF\",$R145=\"DNF\"),\"DNF\",IF(OR($P145=\"NP\",$Q145=\"NP\",$R145=\"NP\"),\"NP\",IF(ISERROR(MEDIAN($P145:$R145)),\"DNF\",IF(COUNT($P145:$R145)<3,MAX($P145:$R145),MEDIAN($P145:$R145))))))","v":""}]
[{"$f":"IF('Start - jaro'!Q16=\"\",\"\",\"x\")","v":""},86,{"$f":"IF('Start - jaro'!O16=\"\",\"\",'Start - jaro'!O16)","v":""},"I.pokus",null,null,null,{"$f":"IF($C146=\"\",\"\",IF(OR($E146=\"DNF\",$F146=\"DNF\",$G146=\"DNF\"),\"DNF\",IF(OR($E146=\"NP\",$F146=\"NP\",$G146=\"NP\"),\"NP\",IF(ISERROR(MEDIAN($E146:$G146)),\"DNF\",IF(COUNT($E146:$G146)<3,MAX($E146:$G146),MEDIAN($E146:$G146))))))","v":""},{"$f":"IF($A146=\"x\",\"x\",IF($C146=\"\",\"\",IF(OR(J146=\"NP\",J146=\"DNF\"),IF(J146=\"NP\",MAX(Oblast4)+COUNTIF(($J$12:$J$154),MAX(Oblast4))+COUNTIF(($U$12:$U$154),MAX(Oblast4)),MAX(Oblast4)+COUNTIF(($J$12:$J$154),MAX(Oblast4))+COUNTIF(($U$12:$U$154),MAX(Oblast4))+COUNTIF(($J$12:$J$154),\"NP\")+COUNTIF(($U$12:$U$154),\"NP\")),J146)))","v":""},{"$f":"IF($A146=\"x\",\"x\",IF($C146=\"\",\"\",IF(OR(K146=\"NP\",K146=\"DNF\"),K146,RANK(K146,Oblast3,1))))","v":""},{"$f":"IF($A146=\"x\",\"x\",IF($C146=\"\",\"\",IF(OR(AND(H146=\"NP\",H147=\"NP\"),AND(H146=\"DNF\",H147=\"DNF\")),H146,IF(AND(H146=\"NP\",H147=\"DNF\"),H146,IF(AND(H146=\"DNF\",H147=\"NP\"),H147,MIN(H146,H147))))))","v":""},{"$f":"IF('Start - jaro'!Q26=\"\",\"\",\"x\")","v":""},96,{"$f":"IF('Start - jaro'!O26=\"\",\"\",'Start - jaro'!O26)","v":""},"I.pokus",null,null,null,{"$f":"IF($N146=\"\",\"\",IF(OR($P146=\"DNF\",$Q146=\"DNF\",$R146=\"DNF\"),\"DNF\",IF(OR($P146=\"NP\",$Q146=\"NP\",$R146=\"NP\"),\"NP\",IF(ISERROR(MEDIAN($P146:$R146)),\"DNF\",IF(COUNT($P146:$R146)<3,MAX($P146:$R146),MEDIAN($P146:$R146))))))","v":""},{"$f":"IF($L146=\"x\",\"x\",IF($N146=\"\",\"\",IF(OR(U146=\"NP\",U146=\"DNF\"),IF(U146=\"NP\",MAX(Oblast4)+COUNTIF(($J$12:$J$154),MAX(Oblast4))+COUNTIF(($U$12:$U$154),MAX(Oblast4)),MAX(Oblast4)+COUNTIF(($J$12:$J$154),MAX(Oblast4))+COUNTIF(($U$12:$U$154),MAX(Oblast4))+COUNTIF(($J$12:$J$154),\"NP\")+COUNTIF(($U$12:$U$154),\"NP\")),U146)))","v":""},{"$f":"IF($L146=\"x\",\"x\",IF($N146=\"\",\"\",IF(OR(V146=\"NP\",V146=\"DNF\"),V146,RANK(V146,Oblast3,1))))","v":""},{"$f":"IF($L146=\"x\",\"x\",IF($N146=\"\",\"\",IF(OR(AND(S146=\"NP\",S147=\"NP\"),AND(S146=\"DNF\",S147=\"DNF\")),S146,IF(AND(S146=\"NP\",S147=\"DNF\"),S146,IF(AND(S146=\"DNF\",S147=\"NP\"),S147,MIN(S146,S147))))))","v":""}]
[null,null,null,"II.pokus",null,null,null,{"$f":"IF($C146=\"\",\"\",IF(OR($E147=\"DNF\",$F147=\"DNF\",$G147=\"DNF\"),\"DNF\",IF(OR($E147=\"NP\",$F147=\"NP\",$G147=\"NP\"),\"NP\",IF(ISERROR(MEDIAN($E147:$G147)),\"DNF\",IF(COUNT($E147:$G147)<3,MAX($E147:$G147),MEDIAN($E147:$G147))))))","v":""},null,null,null,null,null,null,"II.pokus",null,null,null,{"$f":"IF($N146=\"\",\"\",IF(OR($P147=\"DNF\",$Q147=\"DNF\",$R147=\"DNF\"),\"DNF\",IF(OR($P147=\"NP\",$Q147=\"NP\",$R147=\"NP\"),\"NP\",IF(ISERROR(MEDIAN($P147:$R147)),\"DNF\",IF(COUNT($P147:$R147)<3,MAX($P147:$R147),MEDIAN($P147:$R147))))))","v":""}]
[{"$f":"IF('Start - jaro'!Q17=\"\",\"\",\"x\")","v":""},87,{"$f":"IF('Start - jaro'!O17=\"\",\"\",'Start - jaro'!O17)","v":""},"I.pokus",null,null,null,{"$f":"IF($C148=\"\",\"\",IF(OR($E148=\"DNF\",$F148=\"DNF\",$G148=\"DNF\"),\"DNF\",IF(OR($E148=\"NP\",$F148=\"NP\",$G148=\"NP\"),\"NP\",IF(ISERROR(MEDIAN($E148:$G148)),\"DNF\",IF(COUNT($E148:$G148)<3,MAX($E148:$G148),MEDIAN($E148:$G148))))))","v":""},{"$f":"IF($A148=\"x\",\"x\",IF($C148=\"\",\"\",IF(OR(J148=\"NP\",J148=\"DNF\"),IF(J148=\"NP\",MAX(Oblast4)+COUNTIF(($J$12:$J$154),MAX(Oblast4))+COUNTIF(($U$12:$U$154),MAX(Oblast4)),MAX(Oblast4)+COUNTIF(($J$12:$J$154),MAX(Oblast4))+COUNTIF(($U$12:$U$154),MAX(Oblast4))+COUNTIF(($J$12:$J$154),\"NP\")+COUNTIF(($U$12:$U$154),\"NP\")),J148)))","v":""},{"$f":"IF($A148=\"x\",\"x\",IF($C148=\"\",\"\",IF(OR(K148=\"NP\",K148=\"DNF\"),K148,RANK(K148,Oblast3,1))))","v":""},{"$f":"IF($A148=\"x\",\"x\",IF($C148=\"\",\"\",IF(OR(AND(H148=\"NP\",H149=\"NP\"),AND(H148=\"DNF\",H149=\"DNF\")),H148,IF(AND(H148=\"NP\",H149=\"DNF\"),H148,IF(AND(H148=\"DNF\",H149=\"NP\"),H149,MIN(H148,H149))))))","v":""},{"$f":"IF('Start - jaro'!Q27=\"\",\"\",\"x\")","v":""},97,{"$f":"IF('Start - jaro'!O27=\"\",\"\",'Start - jaro'!O27)","v":""},"I.pokus",null,null,null,{"$f":"IF($N148=\"\",\"\",IF(OR($P148=\"DNF\",$Q148=\"DNF\",$R148=\"DNF\"),\"DNF\",IF(OR($P148=\"NP\",$Q148=\"NP\",$R148=\"NP\"),\"NP\",IF(ISERROR(MEDIAN($P148:$R148)),\"DNF\",IF(COUNT($P148:$R148)<3,MAX($P148:$R148),MEDIAN($P148:$R148))))))","v":""},{"$f":"IF($L148=\"x\",\"x\",IF($N148=\"\",\"\",IF(OR(U148=\"NP\",U148=\"DNF\"),IF(U148=\"NP\",MAX(Oblast4)+COUNTIF(($J$12:$J$154),MAX(Oblast4))+COUNTIF(($U$12:$U$154),MAX(Oblast4)),MAX(Oblast4)+COUNTIF(($J$12:$J$154),MAX(Oblast4))+COUNTIF(($U$12:$U$154),MAX(Oblast4))+COUNTIF(($J$12:$J$154),\"NP\")+COUNTIF(($U$12:$U$154),\"NP\")),U148)))","v":""},{"$f":"IF($L148=\"x\",\"x\",IF($N148=\"\",\"\",IF(OR(V148=\"NP\",V148=\"DNF\"),V148,RANK(V148,Oblast3,1))))","v":""},{"$f":"IF($L148=\"x\",\"x\",IF($N148=\"\",\"\",IF(OR(AND(S148=\"NP\",S149=\"NP\"),AND(S148=\"DNF\",S149=\"DNF\")),S148,IF(AND(S148=\"NP\",S149=\"DNF\"),S148,IF(AND(S148=\"DNF\",S149=\"NP\"),S149,MIN(S148,S149))))))","v":""}]
[null,null,null,"II.pokus",null,null,null,{"$f":"IF($C148=\"\",\"\",IF(OR($E149=\"DNF\",$F149=\"DNF\",$G149=\"DNF\"),\"DNF\",IF(OR($E149=\"NP\",$F149=\"NP\",$G149=\"NP\"),\"NP\",IF(ISERROR(MEDIAN($E149:$G149)),\"DNF\",IF(COUNT($E149:$G149)<3,MAX($E149:$G149),MEDIAN($E149:$G149))))))","v":""},null,null,null,null,null,null,"II.pokus",null,null,null,{"$f":"IF($N148=\"\",\"\",IF(OR($P149=\"DNF\",$Q149=\"DNF\",$R149=\"DNF\"),\"DNF\",IF(OR($P149=\"NP\",$Q149=\"NP\",$R149=\"NP\"),\"NP\",IF(ISERROR(MEDIAN($P149:$R149)),\"DNF\",IF(COUNT($P149:$R149)<3,MAX($P149:$R149),MEDIAN($P149:$R149))))))","v":""}]
[{"$f":"IF('Start - jaro'!Q18=\"\",\"\",\"x\")","v":""},88,{"$f":"IF('Start - jaro'!O18=\"\",\"\",'Start - jaro'!O18)","v":""},"I.pokus",null,null,null,{"$f":"IF($C150=\"\",\"\",IF(OR($E150=\"DNF\",$F150=\"DNF\",$G150=\"DNF\"),\"DNF\",IF(OR($E150=\"NP\",$F150=\"NP\",$G150=\"NP\"),\"NP\",IF(ISERROR(MEDIAN($E150:$G150)),\"DNF\",IF(COUNT($E150:$G150)<3,MAX($E150:$G150),MEDIAN($E150:$G150))))))","v":""},{"$f":"IF($A150=\"x\",\"x\",IF($C150=\"\",\"\",IF(OR(J150=\"NP\",J150=\"DNF\"),IF(J150=\"NP\",MAX(Oblast4)+COUNTIF(($J$12:$J$154),MAX(Oblast4))+COUNTIF(($U$12:$U$154),MAX(Oblast4)),MAX(Oblast4)+COUNTIF(($J$12:$J$154),MAX(Oblast4))+COUNTIF(($U$12:$U$154),MAX(Oblast4))+COUNTIF(($J$12:$J$154),\"NP\")+COUNTIF(($U$12:$U$154),\"NP\")),J150)))","v":""},{"$f":"IF($A150=\"x\",\"x\",IF($C150=\"\",\"\",IF(OR(K150=\"NP\",K150=\"DNF\"),K150,RANK(K150,Oblast3,1))))","v":""},{"$f":"IF($A150=\"x\",\"x\",IF($C150=\"\",\"\",IF(OR(AND(H150=\"NP\",H151=\"NP\"),AND(H150=\"DNF\",H151=\"DNF\")),H150,IF(AND(H150=\"NP\",H151=\"DNF\"),H150,IF(AND(H150=\"DNF\",H151=\"NP\"),H151,MIN(H150,H151))))))","v":""},{"$f":"IF('Start - jaro'!Q28=\"\",\"\",\"x\")","v":""},98,{"$f":"IF('Start - jaro'!O28=\"\",\"\",'Start - jaro'!O28)","v":""},"I.pokus",null,null,null,{"$f":"IF($N150=\"\",\"\",IF(OR($P150=\"DNF\",$Q150=\"DNF\",$R150=\"DNF\"),\"DNF\",IF(OR($P150=\"NP\",$Q150=\"NP\",$R150=\"NP\"),\"NP\",IF(ISERROR(MEDIAN($P150:$R150)),\"DNF\",IF(COUNT($P150:$R150)<3,MAX($P150:$R150),MEDIAN($P150:$R150))))))","v":""},{"$f":"IF($L150=\"x\",\"x\",IF($N150=\"\",\"\",IF(OR(U150=\"NP\",U150=\"DNF\"),IF(U150=\"NP\",MAX(Oblast4)+COUNTIF(($J$12:$J$154),MAX(Oblast4))+COUNTIF(($U$12:$U$154),MAX(Oblast4)),MAX(Oblast4)+COUNTIF(($J$12:$J$154),MAX(Oblast4))+COUNTIF(($U$12:$U$154),MAX(Oblast4))+COUNTIF(($J$12:$J$154),\"NP\")+COUNTIF(($U$12:$U$154),\"NP\")),U150)))","v":""},{"$f":"IF($L150=\"x\",\"x\",IF($N150=\"\",\"\",IF(OR(V150=\"NP\",V150=\"DNF\"),V150,RANK(V150,Oblast3,1))))","v":""},{"$f":"IF($L150=\"x\",\"x\",IF($N150=\"\",\"\",IF(OR(AND(S150=\"NP\",S151=\"NP\"),AND(S150=\"DNF\",S151=\"DNF\")),S150,IF(AND(S150=\"NP\",S151=\"DNF\"),S150,IF(AND(S150=\"DNF\",S151=\"NP\"),S151,MIN(S150,S151))))))","v":""}]
[null,null,null,"II.pokus",null,null,null,{"$f":"IF($C150=\"\",\"\",IF(OR($E151=\"DNF\",$F151=\"DNF\",$G151=\"DNF\"),\"DNF\",IF(OR($E151=\"NP\",$F151=\"NP\",$G151=\"NP\"),\"NP\",IF(ISERROR(MEDIAN($E151:$G151)),\"DNF\",IF(COUNT($E151:$G151)<3,MAX($E151:$G151),MEDIAN($E151:$G151))))))","v":""},null,null,null,null,null,null,"II.pokus",null,null,null,{"$f":"IF($N150=\"\",\"\",IF(OR($P151=\"DNF\",$Q151=\"DNF\",$R151=\"DNF\"),\"DNF\",IF(OR($P151=\"NP\",$Q151=\"NP\",$R151=\"NP\"),\"NP\",IF(ISERROR(MEDIAN($P151:$R151)),\"DNF\",IF(COUNT($P151:$R151)<3,MAX($P151:$R151),MEDIAN($P151:$R151))))))","v":""}]
[{"$f":"IF('Start - jaro'!Q19=\"\",\"\",\"x\")","v":""},89,{"$f":"IF('Start - jaro'!O19=\"\",\"\",'Start - jaro'!O19)","v":""},"I.pokus",null,null,null,{"$f":"IF($C152=\"\",\"\",IF(OR($E152=\"DNF\",$F152=\"DNF\",$G152=\"DNF\"),\"DNF\",IF(OR($E152=\"NP\",$F152=\"NP\",$G152=\"NP\"),\"NP\",IF(ISERROR(MEDIAN($E152:$G152)),\"DNF\",IF(COUNT($E152:$G152)<3,MAX($E152:$G152),MEDIAN($E152:$G152))))))","v":""},{"$f":"IF($A152=\"x\",\"x\",IF($C152=\"\",\"\",IF(OR(J152=\"NP\",J152=\"DNF\"),IF(J152=\"NP\",MAX(Oblast4)+COUNTIF(($J$12:$J$154),MAX(Oblast4))+COUNTIF(($U$12:$U$154),MAX(Oblast4)),MAX(Oblast4)+COUNTIF(($J$12:$J$154),MAX(Oblast4))+COUNTIF(($U$12:$U$154),MAX(Oblast4))+COUNTIF(($J$12:$J$154),\"NP\")+COUNTIF(($U$12:$U$154),\"NP\")),J152)))","v":""},{"$f":"IF($A152=\"x\",\"x\",IF($C152=\"\",\"\",IF(OR(K152=\"NP\",K152=\"DNF\"),K152,RANK(K152,Oblast3,1))))","v":""},{"$f":"IF($A152=\"x\",\"x\",IF($C152=\"\",\"\",IF(OR(AND(H152=\"NP\",H153=\"NP\"),AND(H152=\"DNF\",H153=\"DNF\")),H152,IF(AND(H152=\"NP\",H153=\"DNF\"),H152,IF(AND(H152=\"DNF\",H153=\"NP\"),H153,MIN(H152,H153))))))","v":""},{"$f":"IF('Start - jaro'!Q29=\"\",\"\",\"x\")","v":""},99,{"$f":"IF('Start - jaro'!O29=\"\",\"\",'Start - jaro'!O29)","v":""},"I.pokus",null,null,null,{"$f":"IF($N152=\"\",\"\",IF(OR($P152=\"DNF\",$Q152=\"DNF\",$R152=\"DNF\"),\"DNF\",IF(OR($P152=\"NP\",$Q152=\"NP\",$R152=\"NP\"),\"NP\",IF(ISERROR(MEDIAN($P152:$R152)),\"DNF\",IF(COUNT($P152:$R152)<3,MAX($P152:$R152),MEDIAN($P152:$R152))))))","v":""},{"$f":"IF($L152=\"x\",\"x\",IF($N152=\"\",\"\",IF(OR(U152=\"NP\",U152=\"DNF\"),IF(U152=\"NP\",MAX(Oblast4)+COUNTIF(($J$12:$J$154),MAX(Oblast4))+COUNTIF(($U$12:$U$154),MAX(Oblast4)),MAX(Oblast4)+COUNTIF(($J$12:$J$154),MAX(Oblast4))+COUNTIF(($U$12:$U$154),MAX(Oblast4))+COUNTIF(($J$12:$J$154),\"NP\")+COUNTIF(($U$12:$U$154),\"NP\")),U152)))","v":""},{"$f":"IF($L152=\"x\",\"x\",IF($N152=\"\",\"\",IF(OR(V152=\"NP\",V152=\"DNF\"),V152,RANK(V152,Oblast3,1))))","v":""},{"$f":"IF($L152=\"x\",\"x\",IF($N152=\"\",\"\",IF(OR(AND(S152=\"NP\",S153=\"NP\"),AND(S152=\"DNF\",S153=\"DNF\")),S152,IF(AND(S152=\"NP\",S153=\"DNF\"),S152,IF(AND(S152=\"DNF\",S153=\"NP\"),S153,MIN(S152,S153))))))","v":""}]
[null,null,null,"II.pokus",null,null,null,{"$f":"IF($C152=\"\",\"\",IF(OR($E153=\"DNF\",$F153=\"DNF\",$G153=\"DNF\"),\"DNF\",IF(OR($E153=\"NP\",$F153=\"NP\",$G153=\"NP\"),\"NP\",IF(ISERROR(MEDIAN($E153:$G153)),\"DNF\",IF(COUNT($E153:$G153)<3,MAX($E153:$G153),MEDIAN($E153:$G153))))))","v":""},null,null,null,null,null,null,"II.pokus",null,null,null,{"$f":"IF($N152=\"\",\"\",IF(OR($P153=\"DNF\",$Q153=\"DNF\",$R153=\"DNF\"),\"DNF\",IF(OR($P153=\"NP\",$Q153=\"NP\",$R153=\"NP\"),\"NP\",IF(ISERROR(MEDIAN($P153:$R153)),\"DNF\",IF(COUNT($P153:$R153)<3,MAX($P153:$R153),MEDIAN($P153:$R153))))))","v":""}]
[{"$f":"IF('Start - jaro'!Q20=\"\",\"\",\"x\")","v":""},90,{"$f":"IF('Start - jaro'!O20=\"\",\"\",'Start - jaro'!O20)","v":""},"I.pokus",null,null,null,{"$f":"IF($C154=\"\",\"\",IF(OR($E154=\"DNF\",$F154=\"DNF\",$G154=\"DNF\"),\"DNF\",IF(OR($E154=\"NP\",$F154=\"NP\",$G154=\"NP\"),\"NP\",IF(ISERROR(MEDIAN($E154:$G154)),\"DNF\",IF(COUNT($E154:$G154)<3,MAX($E154:$G154),MEDIAN($E154:$G154))))))","v":""},{"$f":"IF($A154=\"x\",\"x\",IF($C154=\"\",\"\",IF(OR(J154=\"NP\",J154=\"DNF\"),IF(J154=\"NP\",MAX(Oblast4)+COUNTIF(($J$12:$J$154),MAX(Oblast4))+COUNTIF(($U$12:$U$154),MAX(Oblast4)),MAX(Oblast4)+COUNTIF(($J$12:$J$154),MAX(Oblast4))+COUNTIF(($U$12:$U$154),MAX(Oblast4))+COUNTIF(($J$12:$J$154),\"NP\")+COUNTIF(($U$12:$U$154),\"NP\")),J154)))","v":""},{"$f":"IF($A154=\"x\",\"x\",IF($C154=\"\",\"\",IF(OR(K154=\"NP\",K154=\"DNF\"),K154,RANK(K154,Oblast3,1))))","v":""},{"$f":"IF($A154=\"x\",\"x\",IF($C154=\"\",\"\",IF(OR(AND(H154=\"NP\",H155=\"NP\"),AND(H154=\"DNF\",H155=\"DNF\")),H154,IF(AND(H154=\"NP\",H155=\"DNF\"),H154,IF(AND(H154=\"DNF\",H155=\"NP\"),H155,MIN(H154,H155))))))","v":""},{"$f":"IF('Start - jaro'!Q30=\"\",\"\",\"x\")","v":""},100,{"$f":"IF('Start - jaro'!O30=\"\",\"\",'Start - jaro'!O30)","v":""},"I.pokus",null,null,null,{"$f":"IF($N154=\"\",\"\",IF(OR($P154=\"DNF\",$Q154=\"DNF\",$R154=\"DNF\"),\"DNF\",IF(OR($P154=\"NP\",$Q154=\"NP\",$R154=\"NP\"),\"NP\",IF(ISERROR(MEDIAN($P154:$R154)),\"DNF\",IF(COUNT($P154:$R154)<3,MAX($P154:$R154),MEDIAN($P154:$R154))))))","v":""},{"$f":"IF($L154=\"x\",\"x\",IF($N154=\"\",\"\",IF(OR(U154=\"NP\",U154=\"DNF\"),IF(U154=\"NP\",MAX(Oblast4)+COUNTIF(($J$12:$J$154),MAX(Oblast4))+COUNTIF(($U$12:$U$154),MAX(Oblast4)),MAX(Oblast4)+COUNTIF(($J$12:$J$154),MAX(Oblast4))+COUNTIF(($U$12:$U$154),MAX(Oblast4))+COUNTIF(($J$12:$J$154),\"NP\")+COUNTIF(($U$12:$U$154),\"NP\")),U154)))","v":""},{"$f":"IF($L154=\"x\",\"x\",IF($N154=\"\",\"\",IF(OR(V154=\"NP\",V154=\"DNF\"),V154,RANK(V154,Oblast3,1))))","v":""},{"$f":"IF($L154=\"x\",\"x\",IF($N154=\"\",\"\",IF(OR(AND(S154=\"NP\",S155=\"NP\"),AND(S154=\"DNF\",S155=\"DNF\")),S154,IF(AND(S154=\"NP\",S155=\"DNF\"),S154,IF(AND(S154=\"DNF\",S155=\"NP\"),S155,MIN(S154,S155))))))","v":""}]
[null,null,null,"II.pokus",null,null,null,{"$f":"IF($C154=\"\",\"\",IF(OR($E155=\"DNF\",$F155=\"DNF\",$G155=\"DNF\"),\"DNF\",IF(OR($E155=\"NP\",$F155=\"NP\",$G155=\"NP\"),\"NP\",IF(ISERROR(MEDIAN($E155:$G155)),\"DNF\",IF(COUNT($E155:$G155)<3,MAX($E155:$G155),MEDIAN($E155:$G155))))))","v":""},null,null,null,null,null,null,"II.pokus",null,null,null,{"$f":"IF($N154=\"\",\"\",IF(OR($P155=\"DNF\",$Q155=\"DNF\",$R155=\"DNF\"),\"DNF\",IF(OR($P155=\"NP\",$Q155=\"NP\",$R155=\"NP\"),\"NP\",IF(ISERROR(MEDIAN($P155:$R155)),\"DNF\",IF(COUNT($P155:$R155)<3,MAX($P155:$R155),MEDIAN($P155:$R155))))))","v":""}]

{"sheet":"Št.400mCTIF","index":10,"n_rows":310,"n_cols":24,"rows_kept":310,"cut":false,"hidden":false,"merged":[[0,1,2,14],[0,15,3,21],[3,1,3,14],[4,1,6,3],[4,4,6,7],[4,8,4,19],[4,20,5,21],[7,7,10,7],[9,1,10,1],[9,2,10,2],[5,11,10,13],[5,14,10,16],[5,17,10,19],[5,8,10,10],[9,3,10,3],[11,0,12,0],[11,1,12,1],[11,2,12,2],[6,20,10,20],[6,21,10,21],[7,1,8,3],[7,4,10,4],[7,5,10,5],[7,6,10,6],[11,21,12,21],[11,22,12,22],[11,23,12,23],[13,0,14,0],[13,1,14,1],[13,2,14,2],[13,21,14,21],[13,22,14,22],[13,23,14,23],[11,8,11,10],[15,0,16,0],[15,1,16,1],[15,2,16,2],[15,21,16,21],[15,14,15,16],[15,17,15,19],[16,8,16,10],[16,11,16,13],[16,14,16,16],[16,17,16,19],[15,22,16,22],[15,23,16,23],[17,0,18,0],[17,1,18,1],[17,2,18,2],[17,21,18,21],[17,22,18,22],[17,23,18,23],[15,8,15,10],[15,11,15,13],[19,0,20,0],[19,1,20,1],[19,2,20,2],[19,21,20,21],[19,14,19,16],[19,17,19,19],[20,8,20,10],[20,11,20,13],[20,14,20,16],[20,17,20,19],[19,22,20,22],[19,23,20,23],[21,0,22,0],[21,1,22,1],[21,2,22,2],[21,21,22,21],[21,22,22,22],[21,23,22,23],[19,8,19,10],[19,11,19,13],[23,0,24,0],[23,1,24,1],[23,2,24,2],[23,21,24,21],[23,14,23,16],[23,17,23,19],[24,8,24,10],[24,11,24,13],[24,14,24,16],[24,17,24,19],[23,22,24,22],[23,23,24,23],[22,11,22,13],[22,14,22,16],[22,17,22,19],[21,8,21,10],[21,11,21,13],[21,14,21,16],[21,17,21,19],[25,0,26,0],[25,1,26,1],[25,2,26,2],[25,21,26,21],[25,22,26,22],[25,23,26,23],[23,8,23,10],[23,11,23,13],[27,0,28,0],[27,1,28,1],[27,2,28,2],[27,21,28,21],[27,14,27,16],[27,17,27,19],[28,8,28,10],[28,11,28,13],[28,14,28,16],[28,17,28,19],[26,8,26,10],[26,11,26,13],[26,14,26,16],[26,17,26,19],[25,8,25,10],[25,11,25,13],[25,14,25,16],[25,17,25,19],[29,0,30,0],[29,1,30,1],[29,2,30,2],[29,21,30,21],[29,22,30,22],[29,23,30,23],[35,20,36,21],[37,20,41,20],[37,21,41,21],[38,1,39,3],[27,22,28,22],[27,23,28,23],[27,8,27,10],[27,11,27,13],[38,4,41,4],[38,5,41,5],[38,6,41,6],[38,7,41,7],[31,1,33,14],[31,15,34,21],[34,1,34,14],[35,1,37,3],[35,4,37,7],[35,8,35,19],[40,1,41,1],[40,2,41,2],[40,3,41,3],[30,8,30,10],[30,11,30,13],[30,14,30,16],[30,17,30,19],[29,8,29,10],[42,0,43,0],[42,1,43,1],[42,2,43,2],[42,21,43,21],[42,22,43,22],[42,23,43,23],[44,0,45,0],[44,1,45,1],[44,2,45,2],[44,21,45,21],[44,22,45,22],[44,23,45,23],[42,8,42,10],[46,0,47,0],[46,1,47,1],[46,2,47,2],[46,21,47,21],[46,14,46,16],[46,17,46,19],[47,8,47,10],[47,11,47,13],[47,14,47,16],[47,17,47,19],[46,22,47,22],[46,23,47,23],[43,17,43,19],[48,0,49,0],[48,1,49,1],[48,2,49,2],[48,21,49,21],[48,22,49,22],[48,23,49,23],[46,8,46,10],[46,11,46,13],[50,0,51,0],[50,1,51,1],[50,2,51,2],[50,21,51,21],[50,14,50,16],[50,17,50,19],[51,8,51,10],[51,11,51,13],[51,14,51,16],[51,17,51,19],[50,22,51,22],[50,23,51,23],[49,8,49,10],[49,11,49,13],[49,14,49,16],[49,17,49,19],[52,0,53,0],[52,1,53,1],[52,2,53,2],[52,21,53,21],[52,22,53,22],[52,23,53,23],[50,8,50,10],[50,11,50,13],[54,0,55,0],[54,1,55,1],[54,2,55,2],[54,21,55,21],[54,14,54,16],[54,17,54,19],[55,8,55,10],[55,11,55,13],[55,14,55,16],[55,17,55,19],[54,22,55,22],[54,23,55,23],[52,8,52,10],[52,11,52,13],[52,14,52,16],[52,17,52,19],[53,8,53,10],[53,11,53,13],[53,14,53,16],[53,17,53,19],[56,0,57,0],[56,1,57,1],[56,2,57,2],[56,21,57,21],[56,22,57,22],[56,23,57,23],[54,8,54,10],[54,11,54,13],[58,0,59,0],[58,1,59,1],[58,2,59,2],[58,21,59,21],[58,14,58,16],[58,17,58,19],[59,8,59,10],[59,11,59,13],[59,14,59,16],[59,17,59,19],[58,22,59,22],[58,23,59,23],[56,8,56,10],[56,11,56,13],[56,14,56,16],[56,17,56,19],[60,0,61,0],[60,1,61,1],[60,2,61,2],[60,21,61,21],[60,22,61,22],[60,23,61,23],[58,8,58,10],[58,11,58,13],[13,14,13,16],[13,17,13,19],[11,11,11,13],[11,14,11,16],[11,17,11,19],[12,14,12,16],[12,17,12,19],[12,8,12,10],[12,11,12,13],[14,8,14,10],[14,11,14,13],[13,8,13,10],[13,11,13,13],[18,8,18,10],[18,11,18,13],[18,14,18,16],[18,17,18,19],[14,14,14,16],[14,17,14,19],[17,8,17,10],[17,11,17,13],[17,14,17,16],[17,17,17,19],[22,8,22,10],[29,11,29,13],[29,14,29,16],[29,17,29,19],[44,8,44,10],[44,11,44,13],[44,14,44,16],[44,17,44,19],[42,11,42,13],[42,14,42,16],[42,17,42,19],[43,8,43,10],[43,11,43,13],[43,14,43,16],[48,8,48,10],[48,11,48,13],[48,14,48,16],[48,17,48,19],[45,8,45,10],[45,11,45,13],[45,14,45,16],[45,17,45,19],[60,14,60,16],[60,17,60,19],[57,8,57,10],[57,11,57,13],[57,14,57,16],[57,17,57,19],[36,8,41,10],[36,11,41,13],[36,14,41,16],[36,17,41,19],[61,8,61,10],[61,11,61,13],[61,14,61,16],[61,17,61,19],[60,8,60,10],[60,11,60,13],[62,1,64,14],[62,15,65,21],[65,1,65,14],[66,1,68,3],[66,4,68,7],[66,8,66,19],[66,20,67,21],[67,8,72,10],[67,11,72,13],[67,14,72,16],[68,21,72,21],[69,1,70,3],[69,4,72,4],[69,5,72,5],[69,6,72,6],[69,7,72,7],[71,1,72,1],[71,2,72,2],[71,3,72,3],[73,0,74,0],[73,1,74,1],[73,2,74,2],[67,17,72,19],[68,20,72,20],[73,23,74,23],[74,8,74,10],[74,11,74,13],[74,14,74,16],[74,17,74,19],[73,8,73,10],[73,11,73,13],[73,14,73,16],[73,17,73,19],[75,0,76,0],[75,1,76,1],[75,2,76,2],[75,8,75,10],[73,21,74,21],[73,22,74,22],[75,22,76,22],[75,23,76,23],[76,8,76,10],[76,11,76,13],[76,14,76,16],[76,17,76,19],[75,11,75,13],[75,14,75,16],[75,17,75,19],[75,21,76,21],[77,11,77,13],[77,14,77,16],[77,17,77,19],[77,21,78,21],[77,0,78,0],[77,1,78,1],[77,2,78,2],[77,8,77,10],[79,0,80,0],[79,1,80,1],[79,2,80,2],[79,8,79,10],[77,22,78,22],[77,23,78,23],[78,8,78,10],[78,11,78,13],[78,14,78,16],[78,17,78,19],[79,22,80,22],[79,23,80,23],[80,8,80,10],[80,11,80,13],[80,14,80,16],[80,17,80,19],[79,11,79,13],[79,14,79,16],[79,17,79,19],[79,21,80,21],[81,11,81,13],[81,14,81,16],[81,17,81,19],[81,21,82,21],[81,0,82,0],[81,1,82,1],[81,2,82,2],[81,8,81,10],[83,0,84,0],[83,1,84,1],[83,2,84,2],[83,8,83,10],[81,22,82,22],[81,23,82,23],[82,8,82,10],[82,11,82,13],[82,14,82,16],[82,17,82,19],[83,22,84,22],[83,23,84,23],[84,8,84,10],[84,11,84,13],[84,14,84,16],[84,17,84,19],[83,11,83,13],[83,14,83,16],[83,17,83,19],[83,21,84,21],[85,11,85,13],[85,14,85,16],[85,17,85,19],[85,21,86,21],[85,0,86,0],[85,1,86,1],[85,2,86,2],[85,8,85,10],[87,0,88,0],[87,1,88,1],[87,2,88,2],[87,8,87,10],[85,22,86,22],[85,23,86,23],[86,8,86,10],[86,11,86,13],[86,14,86,16],[86,17,86,19],[87,22,88,22],[87,23,88,23],[88,8,88,10],[88,11,88,13],[88,14,88,16],[88,17,88,19],[87,11,87,13],[87,14,87,16],[87,17,87,19],[87,21,88,21],[89,11,89,13],[89,14,89,16],[89,17,89,19],[89,21,90,21],[89,0,90,0],[89,1,90,1],[89,2,90,2],[89,8,89,10],[91,0,92,0],[91,1,92,1],[91,2,92,2],[91,8,91,10],[89,22,90,22],[89,23,90,23],[90,8,90,10],[90,11,90,13],[90,14,90,16],[90,17,90,19],[91,22,92,22],[91,23,92,23],[92,8,92,10],[92,11,92,13],[92,14,92,16],[92,17,92,19],[91,11,91,13],[91,14,91,16],[91,17,91,19],[91,21,92,21],[93,1,95,14],[93,15,96,21],[96,1,96,14],[97,1,99,3],[97,4,99,7],[97,8,97,19],[97,20,98,21],[98,8,103,10],[98,11,103,13],[98,14,103,16],[99,21,103,21],[100,1,101,3],[100,4,103,4],[100,5,103,5],[100,6,103,6],[100,7,103,7],[102,1,103,1],[102,2,103,2],[102,3,103,3],[104,0,105,0],[104,1,105,1],[104,2,105,2],[98,17,103,19],[99,20,103,20],[104,23,105,23],[105,8,105,10],[105,11,105,13],[105,14,105,16],[105,17,105,19],[104,8,104,10],[104,11,104,13],[104,14,104,16],[104,17,104,19],[106,0,107,0],[106,1,107,1],[106,2,107,2],[106,8,106,10],[104,21,105,21],[104,22,105,22],[106,22,107,22],[106,23,107,23],[107,8,107,10],[107,11,107,13],[107,14,107,16],[107,17,107,19],[106,11,106,13],[106,14,106,16],[106,17,106,19],[106,21,107,21],[108,11,108,13],[108,14,108,16],[108,17,108,19],[108,21,109,21],[108,0,109,0],[108,1,109,1],[108,2,109,2],[108,8,108,10],[110,0,111,0],[110,1,111,1],[110,2,111,2],[110,8,110,10],[108,22,109,22],[108,23,109,23],[109,8,109,10],[109,11,109,13],[109,14,109,16],[109,17,109,19],[110,22,111,22],[110,23,111,23],[111,8,111,10],[111,11,111,13],[111,14,111,16],[111,17,111,19],[110,11,110,13],[110,14,110,16],[110,17,110,19],[110,21,111,21],[112,11,112,13],[112,14,112,16],[112,17,112,19],[112,21,113,21],[112,0,113,0],[112,1,113,1],[112,2,113,2],[112,8,112,10],[114,0,115,0],[114,1,115,1],[114,2,115,2],[114,8,114,10],[112,22,113,22],[112,23,113,23],[113,8,113,10],[113,11,113,13],[113,14,113,16],[113,17,113,19],[114,22,115,22],[114,23,115,23],[115,8,115,10],[115,11,115,13],[115,14,115,16],[115,17,115,19],[114,11,114,13],[114,14,114,16],[114,17,114,19],[114,21,115,21],[116,11,116,13],[116,14,116,16],[116,17,116,19],[116,21,117,21],[116,0,117,0],[116,1,117,1],[116,2,117,2],[116,8,116,10],[118,0,119,0],[118,1,119,1],[118,2,119,2],[118,8,118,10],[116,22,117,22],[116,23,117,23],[117,8,117,10],[117,11,117,13],[117,14,117,16],[117,17,117,19],[118,22,119,22],[118,23,119,23],[119,8,119,10],[119,11,119,13],[119,14,119,16],[119,17,119,19],[118,11,118,13],[118,14,118,16],[118,17,118,19],[118,21,119,21],[120,11,120,13],[120,14,120,16],[120,17,120,19],[120,21,121,21],[120,0,121,0],[120,1,121,1],[120,2,121,2],[120,8,120,10],[122,0,123,0],[122,1,123,1],[122,2,123,2],[122,8,122,10],[120,22,121,22],[120,23,121,23],[121,8,121,10],[121,11,121,13],[121,14,121,16],[121,17,121,19],[122,22,123,22],[122,23,123,23],[123,8,123,10],[123,11,123,13],[123,14,123,16],[123,17,123,19],[122,11,122,13],[122,14,122,16],[122,17,122,19],[122,21,123,21],[124,1,126,14],[124,15,127,21],[127,1,127,14],[128,1,130,3],[128,4,130,7],[128,8,128,19],[128,20,129,21],[129,8,134,10],[129,11,134,13],[129,14,134,16],[130,21,134,21],[131,1,132,3],[131,4,134,4],[131,5,134,5],[131,6,134,6],[131,7,134,7],[133,1,134,1],[133,2,134,2],[133,3,134,3],[135,0,136,0],[135,1,136,1],[135,2,136,2],[129,17,134,19],[130,20,134,20],[135,23,136,23],[136,8,136,10],[136,11,136,13],[136,14,136,16],[136,17,136,19],[135,8,135,10],[135,11,135,13],[135,14,135,16],[135,17,135,19],[137,0,138,0],[137,1,138,1],[137,2,138,2],[137,8,137,10],[135,21,136,21],[135,22,136,22],[137,22,138,22],[137,23,138,23],[138,8,138,10],[138,11,138,13],[138,14,138,16],[138,17,138,19],[137,11,137,13],[137,14,137,16],[137,17,137,19],[137,21,138,21],[139,11,139,13],[139,14,139,16],[139,17,139,19],[139,21,140,21],[139,0,140,0],[139,1,140,1],[139,2,140,2],[139,8,139,10],[141,0,142,0],[141,1,142,1],[141,2,142,2],[141,8,141,10],[139,22,140,22],[139,23,140,23],[140,8,140,10],[140,11,140,13],[140,14,140,16],[140,17,140,19],[141,22,142,22],[141,23,142,23],[142,8,142,10],[142,11,142,13],[142,14,142,16],[142,17,142,19],[141,11,141,13],[141,14,141,16],[141,17,141,19],[141,21,142,21],[143,11,143,13],[143,14,143,16],[143,17,143,19],[143,21,144,21],[143,0,144,0],[143,1,144,1],[143,2,144,2],[143,8,143,10],[145,0,146,0],[145,1,146,1],[145,2,146,2],[145,8,145,10],[143,22,144,22],[143,23,144,23],[144,8,144,10],[144,11,144,13],[144,14,144,16],[144,17,144,19],[145,22,146,22],[145,23,146,23],[146,8,146,10],[146,11,146,13],[146,14,146,16],[146,17,146,19],[145,11,145,13],[145,14,145,16],[145,17,145,19],[145,21,146,21],[147,11,147,13],[147,14,147,16],[147,17,147,19],[147,21,148,21],[147,0,148,0],[147,1,148,1],[147,2,148,2],[147,8,147,10],[149,0,150,0],[149,1,150,1],[149,2,150,2],[149,8,149,10],[147,22,148,22],[147,23,148,23],[148,8,148,10],[148,11,148,13],[148,14,148,16],[148,17,148,19],[149,22,150,22],[149,23,150,23],[150,8,150,10],[150,11,150,13],[150,14,150,16],[150,17,150,19],[149,11,149,13],[149,14,149,16],[149,17,149,19],[149,21,150,21],[151,11,151,13],[151,14,151,16],[151,17,151,19],[151,21,152,21],[151,0,152,0],[151,1,152,1],[151,2,152,2],[151,8,151,10],[153,0,154,0],[153,1,154,1],[153,2,154,2],[153,8,153,10],[151,22,152,22],[151,23,152,23],[152,8,152,10],[152,11,152,13],[152,14,152,16],[152,17,152,19],[153,22,154,22],[153,23,154,23],[154,8,154,10],[154,11,154,13],[154,14,154,16],[154,17,154,19],[153,11,153,13],[153,14,153,16],[153,17,153,19],[153,21,154,21],[155,1,157,14],[155,15,158,21],[158,1,158,14],[159,1,161,3],[159,4,161,7],[159,8,159,19],[159,20,160,21],[160,8,165,10],[160,11,165,13],[160,14,165,16],[161,21,165,21],[162,1,163,3],[162,4,165,4],[162,5,165,5],[162,6,165,6],[162,7,165,7],[164,1,165,1],[164,2,165,2],[164,3,165,3],[166,0,167,0],[166,1,167,1],[166,2,167,2],[160,17,165,19],[161,20,165,20],[166,23,167,23],[167,8,167,10],[167,11,167,13],[167,14,167,16],[167,17,167,19],[166,8,166,10],[166,11,166,13],[166,14,166,16],[166,17,166,19],[168,0,169,0],[168,1,169,1],[168,2,169,2],[168,8,168,10],[166,21,167,21],[166,22,167,22],[168,22,169,22],[168,23,169,23],[169,8,169,10],[169,11,169,13],[169,14,169,16],[169,17,169,19],[168,11,168,13],[168,14,168,16],[168,17,168,19],[168,21,169,21],[170,11,170,13],[170,14,170,16],[170,17,170,19],[170,21,171,21],[170,0,171,0],[170,1,171,1],[170,2,171,2],[170,8,170,10],[172,0,173,0],[172,1,173,1],[172,2,173,2],[172,8,172,10],[170,22,171,22],[170,23,171,23],[171,8,171,10],[171,11,171,13],[171,14,171,16],[171,17,171,19],[172,22,173,22],[172,23,173,23],[173,8,173,10],[173,11,173,13],[173,14,173,16],[173,17,173,19],[172,11,172,13],[172,14,172,16],[172,17,172,19],[172,21,173,21],[174,11,174,13],[174,14,174,16],[174,17,174,19],[174,21,175,21],[174,0,175,0],[174,1,175,1],[174,2,175,2],[174,8,174,10],[176,0,177,0],[176,1,177,1],[176,2,177,2],[176,8,176,10],[174,22,175,22],[174,23,175,23],[175,8,175,10],[175,11,175,13],[175,14,175,16],[175,17,175,19],[176,22,177,22],[176,23,177,23],[177,8,177,10],[177,11,177,13],[177,14,177,16],[177,17,177,19],[176,11,176,13],[176,14,176,16],[176,17,176,19],[176,21,177,21],[178,11,178,13],[178,14,178,16],[178,17,178,19],[178,21,179,21],[178,0,179,0],[178,1,179,1],[178,2,179,2],[178,8,178,10],[180,0,181,0],[180,1,181,1],[180,2,181,2],[180,8,180,10],[178,22,179,22],[178,23,179,23],[179,8,179,10],[179,11,179,13],[179,14,179,16],[179,17,179,19],[180,22,181,22],[180,23,181,23],[181,8,181,10],[181,11,181,13],[181,14,181,16],[181,17,181,19],[180,11,180,13],[180,14,180,16],[180,17,180,19],[180,21,181,21],[182,11,182,13],[182,14,182,16],[182,17,182,19],[182,21,183,21],[182,0,183,0],[182,1,183,1],[182,2,183,2],[182,8,182,10],[184,0,185,0],[184,1,185,1],[184,2,185,2],[184,8,184,10],[182,22,183,22],[182,23,183,23],[183,8,183,10],[183,11,183,13],[183,14,183,16],[183,17,183,19],[184,22,185,22],[184,23,185,23],[185,8,185,10],[185,11,185,13],[185,14,185,16],[185,17,185,19],[184,11,184,13],[184,14,184,16],[184,17,184,19],[184,21,185,21],[186,1,188,14],[186,15,189,21],[189,1,189,14],[190,1,192,3],[190,4,192,7],[190,8,190,19],[190,20,191,21],[191,8,196,10],[191,11,196,13],[191,14,196,16],[192,21,196,21],[193,1,194,3],[193,4,196,4],[193,5,196,5],[193,6,196,6],[193,7,196,7],[195,1,196,1],[195,2,196,2],[195,3,196,3],[197,0,198,0],[197,1,198,1],[197,2,198,2],[191,17,196,19],[192,20,196,20],[197,23,198,23],[198,8,198,10],[198,11,198,13],[198,14,198,16],[198,17,198,19],[197,8,197,10],[197,11,197,13],[197,14,197,16],[197,17,197,19],[199,0,200,0]],"merged_total":1610,"flags":["merged_cut"]}
[null,"CELOSTÁTNÍ HRA PLAMEN"]
[]
[]
[null,"Výsledková listina č: 1"]
[null,"Štafeta 400 m CTIF",null,null,"Základem je čas naměřený od vydání signálu startéra do proběhnutí posledního člena cílem",null,null,null,"K úřednímu času se připočítávají trest. Sekundy - za každý případ 10 sekund",null,null,null,null,null,null,null,null,null,null,null,"Výsledek soutěže"]
[null,null,null,null,null,null,null,null,"za nesprávné spojení spojek\n(hadice, rozdělovač, proudnice)\nza každý případ",null,null,"nesprávně překonaná překážka nebo\nnesprávně provedený úkon\nza každý případ",null,null,"vyšlápnutí z dráhy oběma nohama\nza každý případ"]
[null,null,null,null,null,null,null,null,null,null,null,null,null,null,null,null,null,null,null,null,"součet trest. Sekund a úředního času","počet bodů za umístění"]
[null,{"$f":"\"KATEGORIE: \"&'Start - podzim'!$N$2","v":"KATEGORIE: STARŠÍ"},null,null,"I. časoměřič","II. časoměřič","III. časoměřič","úřední čas"]
[]
[null,"start. číslo","SOUTĚŽNÍ DRUŽSTVO","pokus"]
[]
[{"$f":"IF('Start - jaro'!E6=\"\",\"\",\"x\")","v":""},1,{"$f":"IF('Start - jaro'!C6=\"\",\"\",'Start - jaro'!C6)","v":"Srubec (ČB)"},"I.pokus",81.42,null,null,{"$f":"IF($C12=\"\",\"\",IF(OR($E12=\"DNF\",$F12=\"DNF\",$G12=\"DNF\"),\"DNF\",IF(OR($E12=\"NP\",$F12=\"NP\",$G12=\"NP\"),\"NP\",IF(ISERROR(MEDIAN($E12:$G12)),\"DNF\",IF(COUNT($E12:$G12)<3,MAX($E12:$G12),MEDIAN($E12:$G12))))))","v":81.42},0,null,null,0,null,null,0,null,null,null,null,null,{"$f":"IF(H12=\"\",\"\",IF(H12=\"NP\",\"NP\",IF(H12=\"DNF\",\"DNF\",SUM(I12:T12)+H12)))","v":81.42},{"$f":"IF(C12=\"x\",\"x\",IF(C12=\"\",\"\",IF(OR(W12=\"NP\",W12=\"DNF\"),IF(W12=\"NP\",MAX(W$12:W$309)+COUNTIF((W$12:W$309),MAX(W$12:W$309)),MAX(W$12:W$309)+COUNTIF((W$12:W$309),MAX(W$12:W$309))+COUNTIF((W$12:W$309),\"NP\")),W12)))","v":1},{"$f":"IF(A12=\"x\",\"x\",IF(C12=\"\",\"\",IF(OR(X12=\"NP\",X12=\"DNF\"),X12,RANK(X12,X$12:X$309,1))))","v":1},{"$f":"IF(A12=\"x\",\"x\",IF(C12=\"\",\"\",IF(OR(AND(U12=\"NP\",U13=\"NP\"),AND(U12=\"DNF\",U13=\"DNF\")),U12,IF(AND(U12=\"NP\",U13=\"DNF\"),U12,IF(AND(U12=\"DNF\",U13=\"NP\"),U13,MIN(U12,U13))))))","v":80.31}]
[null,null,null,"II.pokus",80.31,null,null,{"$f":"IF($C12=\"\",\"\",IF(OR($E13=\"DNF\",$F13=\"DNF\",$G13=\"DNF\"),\"DNF\",IF(OR($E13=\"NP\",$F13=\"NP\",$G13=\"NP\"),\"NP\",IF(ISERROR(MEDIAN($E13:$G13)),\"DNF\",IF(COUNT($E13:$G13)<3,MAX($E13:$G13),MEDIAN($E13:$G13))))))","v":80.31},0,null,null,0,null,null,0,null,null,null,null,null,80.31]
[{"$f":"IF('Start - jaro'!E7=\"\",\"\",\"x\")","v":""},2,{"$f":"IF('Start - jaro'!C7=\"\",\"\",'Start - jaro'!C7)","v":"Zhoř u Tábora (TÁ)"},"I.pokus",83.49,null,null,{"$f":"IF($C14=\"\",\"\",IF(OR($E14=\"DNF\",$F14=\"DNF\",$G14=\"DNF\"),\"DNF\",IF(OR($E14=\"NP\",$F14=\"NP\",$G14=\"NP\"),\"NP\",IF(ISERROR(MEDIAN($E14:$G14)),\"DNF\",IF(COUNT($E14:$G14)<3,MAX($E14:$G14),MEDIAN($E14:$G14))))))","v":83.49},0,null,null,0,null,null,0,null,null,null,null,null,83.49,{"$f":"IF(C14=\"x\",\"x\",IF(C14=\"\",\"\",IF(OR(W14=\"NP\",W14=\"DNF\"),IF(W14=\"NP\",MAX(W$12:W$309)+COUNTIF((W$12:W$309),MAX(W$12:W$309)),MAX(W$12:W$309)+COUNTIF((W$12:W$309),MAX(W$12:W$309))+COUNTIF((W$12:W$309),\"NP\")),W14)))","v":4},{"$f":"IF(A14=\"x\",\"x\",IF(C14=\"\",\"\",IF(OR(X14=\"NP\",X14=\"DNF\"),X14,RANK(X14,X$12:X$309,1))))","v":4},{"$f":"IF(A14=\"x\",\"x\",IF(C14=\"\",\"\",IF(OR(AND(U14=\"NP\",U15=\"NP\"),AND(U14=\"DNF\",U15=\"DNF\")),U14,IF(AND(U14=\"NP\",U15=\"DNF\"),U14,IF(AND(U14=\"DNF\",U15=\"NP\"),U15,MIN(U14,U15))))))","v":83.49}]
[null,null,null,"II.pokus",83.1,null,null,{"$f":"IF($C14=\"\",\"\",IF(OR($E15=\"DNF\",$F15=\"DNF\",$G15=\"DNF\"),\"DNF\",IF(OR($E15=\"NP\",$F15=\"NP\",$G15=\"NP\"),\"NP\",IF(ISERROR(MEDIAN($E15:$G15)),\"DNF\",IF(COUNT($E15:$G15)<3,MAX($E15:$G15),MEDIAN($E15:$G15))))))","v":83.1},0,null,null,10,null,null,0,null,null,null,null,null,93.1]
[{"$f":"IF('Start - jaro'!E8=\"\",\"\",\"x\")","v":""},3,{"$f":"IF('Start - jaro'!C8=\"\",\"\",'Start - jaro'!C8)","v":"Svatá Maří (PT)"},"I.pokus",83.63,null,null,{"$f":"IF($C16=\"\",\"\",IF(OR($E16=\"DNF\",$F16=\"DNF\",$G16=\"DNF\"),\"DNF\",IF(OR($E16=\"NP\",$F16=\"NP\",$G16=\"NP\"),\"NP\",IF(ISERROR(MEDIAN($E16:$G16)),\"DNF\",IF(COUNT($E16:$G16)<3,MAX($E16:$G16),MEDIAN($E16:$G16))))))","v":83.63},0,null,null,0,null,null,0,null,null,null,null,null,83.63,{"$f":"IF(C16=\"x\",\"x\",IF(C16=\"\",\"\",IF(OR(W16=\"NP\",W16=\"DNF\"),IF(W16=\"NP\",MAX(W$12:W$309)+COUNTIF((W$12:W$309),MAX(W$12:W$309)),MAX(W$12:W$309)+COUNTIF((W$12:W$309),MAX(W$12:W$309))+COUNTIF((W$12:W$309),\"NP\")),W16)))","v":2},{"$f":"IF(A16=\"x\",\"x\",IF(C16=\"\",\"\",IF(OR(X16=\"NP\",X16=\"DNF\"),X16,RANK(X16,X$12:X$309,1))))","v":2},{"$f":"IF(A16=\"x\",\"x\",IF(C16=\"\",\"\",IF(OR(AND(U16=\"NP\",U17=\"NP\"),AND(U16=\"DNF\",U17=\"DNF\")),U16,IF(AND(U16=\"NP\",U17=\"DNF\"),U16,IF(AND(U16=\"DNF\",U17=\"NP\"),U17,MIN(U16,U17))))))","v":80.77}]
[null,null,null,"II.pokus",80.77,null,null,{"$f":"IF($C16=\"\",\"\",IF(OR($E17=\"DNF\",$F17=\"DNF\",$G17=\"DNF\"),\"DNF\",IF(OR($E17=\"NP\",$F17=\"NP\",$G17=\"NP\"),\"NP\",IF(ISERROR(MEDIAN($E17:$G17)),\"DNF\",IF(COUNT($E17:$G17)<3,MAX($E17:$G17),MEDIAN($E17:$G17))))))","v":80.77},0,null,null,0,null,null,0,null,null,null,null,null,80.77]
[{"$f":"IF('Start - jaro'!E9=\"\",\"\",\"x\")","v":""},4,{"$f":"IF('Start - jaro'!C9=\"\",\"\",'Start - jaro'!C9)","v":"Drahonice (ST)"},"I.pokus",79.680000000000007,null,null,{"$f":"IF($C18=\"\",\"\",IF(OR($E18=\"DNF\",$F18=\"DNF\",$G18=\"DNF\"),\"DNF\",IF(OR($E18=\"NP\",$F18=\"NP\",$G18=\"NP\"),\"NP\",IF(ISERROR(MEDIAN($E18:$G18)),\"DNF\",IF(COUNT($E18:$G18)<3,MAX($E18:$G18),MEDIAN($E18:$G18))))))","v":79.680000000000007},0,null,null,0,null,null,10,null,null,null,null,null,89.68,{"$f":"IF(C18=\"x\",\"x\",IF(C18=\"\",\"\",IF(OR(W18=\"NP\",W18=\"DNF\"),IF(W18=\"NP\",MAX(W$12:W$309)+COUNTIF((W$12:W$309),MAX(W$12:W$309)),MAX(W$12:W$309)+COUNTIF((W$12:W$309),MAX(W$12:W$309))+COUNTIF((W$12:W$309),\"NP\")),W18)))","v":5},{"$f":"IF(A18=\"x\",\"x\",IF(C18=\"\",\"\",IF(OR(X18=\"NP\",X18=\"DNF\"),X18,RANK(X18,X$12:X$309,1))))","v":5},{"$f":"IF(A18=\"x\",\"x\",IF(C18=\"\",\"\",IF(OR(AND(U18=\"NP\",U19=\"NP\"),AND(U18=\"DNF\",U19=\"DNF\")),U18,IF(AND(U18=\"NP\",U19=\"DNF\"),U18,IF(AND(U18=\"DNF\",U19=\"NP\"),U19,MIN(U18,U19))))))","v":89.68}]
[null,null,null,"II.pokus",100.55,null,null,{"$f":"IF($C18=\"\",\"\",IF(OR($E19=\"DNF\",$F19=\"DNF\",$G19=\"DNF\"),\"DNF\",IF(OR($E19=\"NP\",$F19=\"NP\",$G19=\"NP\"),\"NP\",IF(ISERROR(MEDIAN($E19:$G19)),\"DNF\",IF(COUNT($E19:$G19)<3,MAX($E19:$G19),MEDIAN($E19:$G19))))))","v":100.55},0,null,null,20,null,null,0,null,null,null,null,null,120.55]
[{"$f":"IF('Start - jaro'!E10=\"\",\"\",\"x\")","v":""},5,{"$f":"IF('Start - jaro'!C10=\"\",\"\",'Start - jaro'!C10)","v":"Dobrošov (PÍ)"},"I.pokus",83.14,null,null,{"$f":"IF($C20=\"\",\"\",IF(OR($E20=\"DNF\",$F20=\"DNF\",$G20=\"DNF\"),\"DNF\",IF(OR($E20=\"NP\",$F20=\"NP\",$G20=\"NP\"),\"NP\",IF(ISERROR(MEDIAN($E20:$G20)),\"DNF\",IF(COUNT($E20:$G20)<3,MAX($E20:$G20),MEDIAN($E20:$G20))))))","v":83.14},0,null,null,0,null,null,10,null,null,null,null,null,93.14,{"$f":"IF(C20=\"x\",\"x\",IF(C20=\"\",\"\",IF(OR(W20=\"NP\",W20=\"DNF\"),IF(W20=\"NP\",MAX(W$12:W$309)+COUNTIF((W$12:W$309),MAX(W$12:W$309)),MAX(W$12:W$309)+COUNTIF((W$12:W$309),MAX(W$12:W$309))+COUNTIF((W$12:W$309),\"NP\")),W20)))","v":3},{"$f":"IF(A20=\"x\",\"x\",IF(C20=\"\",\"\",IF(OR(X20=\"NP\",X20=\"DNF\"),X20,RANK(X20,X$12:X$309,1))))","v":3},{"$f":"IF(A20=\"x\",\"x\",IF(C20=\"\",\"\",IF(OR(AND(U20=\"NP\",U21=\"NP\"),AND(U20=\"DNF\",U21=\"DNF\")),U20,IF(AND(U20=\"NP\",U21=\"DNF\"),U20,IF(AND(U20=\"DNF\",U21=\"NP\"),U21,MIN(U20,U21))))))","v":81.63}]
[null,null,null,"II.pokus",81.63,null,null,{"$f":"IF($C20=\"\",\"\",IF(OR($E21=\"DNF\",$F21=\"DNF\",$G21=\"DNF\"),\"DNF\",IF(OR($E21=\"NP\",$F21=\"NP\",$G21=\"NP\"),\"NP\",IF(ISERROR(MEDIAN($E21:$G21)),\"DNF\",IF(COUNT($E21:$G21)<3,MAX($E21:$G21),MEDIAN($E21:$G21))))))","v":81.63},0,null,null,0,null,null,0,null,null,null,null,null,81.63]
[{"$f":"IF('Start - jaro'!E11=\"\",\"\",\"x\")","v":""},6,{"$f":"IF('Start - jaro'!C11=\"\",\"\",'Start - jaro'!C11)","v":"Plešovice (ČK)"},"I.pokus",80.349999999999994,null,null,{"$f":"IF($C22=\"\",\"\",IF(OR($E22=\"DNF\",$F22=\"DNF\",$G22=\"DNF\"),\"DNF\",IF(OR($E22=\"NP\",$F22=\"NP\",$G22=\"NP\"),\"NP\",IF(ISERROR(MEDIAN($E22:$G22)),\"DNF\",IF(COUNT($E22:$G22)<3,MAX($E22:$G22),MEDIAN($E22:$G22))))))","v":80.349999999999994},0,null,null,0,null,null,10,null,null,null,null,null,90.35,{"$f":"IF(C22=\"x\",\"x\",IF(C22=\"\",\"\",IF(OR(W22=\"NP\",W22=\"DNF\"),IF(W22=\"NP\",MAX(W$12:W$309)+COUNTIF((W$12:W$309),MAX(W$12:W$309)),MAX(W$12:W$309)+COUNTIF((W$12:W$309),MAX(W$12:W$309))+COUNTIF((W$12:W$309),\"NP\")),W22)))","v":6},{"$f":"IF(A22=\"x\",\"x\",IF(C22=\"\",\"\",IF(OR(X22=\"NP\",X22=\"DNF\"),X22,RANK(X22,X$12:X$309,1))))","v":6},{"$f":"IF(A22=\"x\",\"x\",IF(C22=\"\",\"\",IF(OR(AND(U22=\"NP\",U23=\"NP\"),AND(U22=\"DNF\",U23=\"DNF\")),U22,IF(AND(U22=\"NP\",U23=\"DNF\"),U22,IF(AND(U22=\"DNF\",U23=\"NP\"),U23,MIN(U22,U23))))))","v":90.35}]
[null,null,null,"II.pokus",85.96,null,null,{"$f":"IF($C22=\"\",\"\",IF(OR($E23=\"DNF\",$F23=\"DNF\",$G23=\"DNF\"),\"DNF\",IF(OR($E23=\"NP\",$F23=\"NP\",$G23=\"NP\"),\"NP\",IF(ISERROR(MEDIAN($E23:$G23)),\"DNF\",IF(COUNT($E23:$G23)<3,MAX($E23:$G23),MEDIAN($E23:$G23))))))","v":85.96},0,null,null,0,null,null,20,null,null,null,null,null,105.96]
[{"$f":"IF('Start - jaro'!E12=\"\",\"\",\"x\")","v":""},7,{"$f":"IF('Start - jaro'!C12=\"\",\"\",'Start - jaro'!C12)","v":""},"I.pokus",null,null,null,{"$f":"IF($C24=\"\",\"\",IF(OR($E24=\"DNF\",$F24=\"DNF\",$G24=\"DNF\"),\"DNF\",IF(OR($E24=\"NP\",$F24=\"NP\",$G24=\"NP\"),\"NP\",IF(ISERROR(MEDIAN($E24:$G24)),\"DNF\",IF(COUNT($E24:$G24)<3,MAX($E24:$G24),MEDIAN($E24:$G24))))))","v":""},null,null,null,null,null,null,null,null,null,null,null,null,"",{"$f":"IF(C24=\"x\",\"x\",IF(C24=\"\",\"\",IF(OR(W24=\"NP\",W24=\"DNF\"),IF(W24=\"NP\",MAX(W$12:W$309)+COUNTIF((W$12:W$309),MAX(W$12:W$309)),MAX(W$12:W$309)+COUNTIF((W$12:W$309),MAX(W$12:W$309))+COUNTIF((W$12:W$309),\"NP\")),W24)))","v":""},{"$f":"IF(A24=\"x\",\"x\",IF(C24=\"\",\"\",IF(OR(X24=\"NP\",X24=\"DNF\"),X24,RANK(X24,X$12:X$309,1))))","v":""},{"$f":"IF(A24=\"x\",\"x\",IF(C24=\"\",\"\",IF(OR(AND(U24=\"NP\",U25=\"NP\"),AND(U24=\"DNF\",U25=\"DNF\")),U24,IF(AND(U24=\"NP\",U25=\"DNF\"),U24,IF(AND(U24=\"DNF\",U25=\"NP\"),U25,MIN(U24,U25))))))","v":""}]
[null,null,null,"II.pokus",null,null,null,{"$f":"IF($C24=\"\",\"\",IF(OR($E25=\"DNF\",$F25=\"DNF\",$G25=\"DNF\"),\"DNF\",IF(OR($E25=\"NP\",$F25=\"NP\",$G25=\"NP\"),\"NP\",IF(ISERROR(MEDIAN($E25:$G25)),\"DNF\",IF(COUNT($E25:$G25)<3,MAX($E25:$G25),MEDIAN($E25:$G25))))))","v":""},null,null,null,null,null,null,null,null,null,null,null,null,""]
[{"$f":"IF('Start - jaro'!E13=\"\",\"\",\"x\")","v":""},8,{"$f":"IF('Start - jaro'!C13=\"\",\"\",'Start - jaro'!C13)","v":""},"I.pokus",null,null,null,{"$f":"IF($C26=\"\",\"\",IF(OR($E26=\"DNF\",$F26=\"DNF\",$G26=\"DNF\"),\"DNF\",IF(OR($E26=\"NP\",$F26=\"NP\",$G26=\"NP\"),\"NP\",IF(ISERROR(MEDIAN($E26:$G26)),\"DNF\",IF(COUNT($E26:$G26)<3,MAX($E26:$G26),MEDIAN($E26:$G26))))))","v":""},null,null,null,null,null,null,null,null,null,null,null,null,"",{"$f":"IF(C26=\"x\",\"x\",IF(C26=\"\",\"\",IF(OR(W26=\"NP\",W26=\"DNF\"),IF(W26=\"NP\",MAX(W$12:W$309)+COUNTIF((W$12:W$309),MAX(W$12:W$309)),MAX(W$12:W$309)+COUNTIF((W$12:W$309),MAX(W$12:W$309))+COUNTIF((W$12:W$309),\"NP\")),W26)))","v":""},{"$f":"IF(A26=\"x\",\"x\",IF(C26=\"\",\"\",IF(OR(X26=\"NP\",X26=\"DNF\"),X26,RANK(X26,X$12:X$309,1))))","v":""},{"$f":"IF(A26=\"x\",\"x\",IF(C26=\"\",\"\",IF(OR(AND(U26=\"NP\",U27=\"NP\"),AND(U26=\"DNF\",U27=\"DNF\")),U26,IF(AND(U26=\"NP\",U27=\"DNF\"),U26,IF(AND(U26=\"DNF\",U27=\"NP\"),U27,MIN(U26,U27))))))","v":""}]
[null,null,null,"II.pokus",null,null,null,{"$f":"IF($C26=\"\",\"\",IF(OR($E27=\"DNF\",$F27=\"DNF\",$G27=\"DNF\"),\"DNF\",IF(OR($E27=\"NP\",$F27=\"NP\",$G27=\"NP\"),\"NP\",IF(ISERROR(MEDIAN($E27:$G27)),\"DNF\",IF(COUNT($E27:$G27)<3,MAX($E27:$G27),MEDIAN($E27:$G27))))))","v":""},null,null,null,null,null,null,null,null,null,null,null,null,""]
[{"$f":"IF('Start - jaro'!E14=\"\",\"\",\"x\")","v":""},9,{"$f":"IF('Start - jaro'!C14=\"\",\"\",'Start - jaro'!C14)","v":""},"I.pokus",null,null,null,{"$f":"IF($C28=\"\",\"\",IF(OR($E28=\"DNF\",$F28=\"DNF\",$G28=\"DNF\"),\"DNF\",IF(OR($E28=\"NP\",$F28=\"NP\",$G28=\"NP\"),\"NP\",IF(ISERROR(MEDIAN($E28:$G28)),\"DNF\",IF(COUNT($E28:$G28)<3,MAX($E28:$G28),MEDIAN($E28:$G28))))))","v":""},null,null,null,null,null,null,null,null,null,null,null,null,"",{"$f":"IF(C28=\"x\",\"x\",IF(C28=\"\",\"\",IF(OR(W28=\"NP\",W28=\"DNF\"),IF(W28=\"NP\",MAX(W$12:W$309)+COUNTIF((W$12:W$309),MAX(W$12:W$309)),MAX(W$12:W$309)+COUNTIF((W$12:W$309),MAX(W$12:W$309))+COUNTIF((W$12:W$309),\"NP\")),W28)))","v":""},{"$f":"IF(A28=\"x\",\"x\",IF(C28=\"\",\"\",IF(OR(X28=\"NP\",X28=\"DNF\"),X28,RANK(X28,X$12:X$309,1))))","v":""},{"$f":"IF(A28=\"x\",\"x\",IF(C28=\"\",\"\",IF(OR(AND(U28=\"NP\",U29=\"NP\"),AND(U28=\"DNF\",U29=\"DNF\")),U28,IF(AND(U28=\"NP\",U29=\"DNF\"),U28,IF(AND(U28=\"DNF\",U29=\"NP\"),U29,MIN(U28,U29))))))","v":""}]
[null,null,null,"II.pokus",null,null,null,{"$f":"IF($C28=\"\",\"\",IF(OR($E29=\"DNF\",$F29=\"DNF\",$G29=\"DNF\"),\"DNF\",IF(OR($E29=\"NP\",$F29=\"NP\",$G29=\"NP\"),\"NP\",IF(ISERROR(MEDIAN($E29:$G29)),\"DNF\",IF(COUNT($E29:$G29)<3,MAX($E29:$G29),MEDIAN($E29:$G29))))))","v":""},null,null,null,null,null,null,null,null,null,null,null,null,""]
[{"$f":"IF('Start - jaro'!E15=\"\",\"\",\"x\")","v":""},10,{"$f":"IF('Start - jaro'!C15=\"\",\"\",'Start - jaro'!C15)","v":""},"I.pokus",null,null,null,{"$f":"IF($C30=\"\",\"\",IF(OR($E30=\"DNF\",$F30=\"DNF\",$G30=\"DNF\"),\"DNF\",IF(OR($E30=\"NP\",$F30=\"NP\",$G30=\"NP\"),\"NP\",IF(ISERROR(MEDIAN($E30:$G30)),\"DNF\",IF(COUNT($E30:$G30)<3,MAX($E30:$G30),MEDIAN($E30:$G30))))))","v":""},null,null,null,null,null,null,null,null,null,null,null,null,"",{"$f":"IF(C30=\"x\",\"x\",IF(C30=\"\",\"\",IF(OR(W30=\"NP\",W30=\"DNF\"),IF(W30=\"NP\",MAX(W$12:W$309)+COUNTIF((W$12:W$309),MAX(W$12:W$309)),MAX(W$12:W$309)+COUNTIF((W$12:W$309),MAX(W$12:W$309))+COUNTIF((W$12:W$309),\"NP\")),W30)))","v":""},{"$f":"IF(A30=\"x\",\"x\",IF(C30=\"\",\"\",IF(OR(X30=\"NP\",X30=\"DNF\"),X30,RANK(X30,X$12:X$309,1))))","v":""},{"$f":"IF(A30=\"x\",\"x\",IF(C30=\"\",\"\",IF(OR(AND(U30=\"NP\",U31=\"NP\"),AND(U30=\"DNF\",U31=\"DNF\")),U30,IF(AND(U30=\"NP\",U31=\"DNF\"),U30,IF(AND(U30=\"DNF\",U31=\"NP\"),U31,MIN(U30,U31))))))","v":""}]
[null,null,null,"II.pokus",null,null,null,{"$f":"IF($C30=\"\",\"\",IF(OR($E31=\"DNF\",$F31=\"DNF\",$G31=\"DNF\"),\"DNF\",IF(OR($E31=\"NP\",$F31=\"NP\",$G31=\"NP\"),\"NP\",IF(ISERROR(MEDIAN($E31:$G31)),\"DNF\",IF(COUNT($E31:$G31)<3,MAX($E31:$G31),MEDIAN($E31:$G31))))))","v":""},null,null,null,null,null,null,null,null,null,null,null,null,""]
[null,"CELOSTÁTNÍ HRA PLAMEN"]
[]
[]
[null,"Výsledková listina č: 2"]
[null,"Štafeta 400 m CTIF",null,null,"Základem je čas naměřený od vydání signálu startéra do proběhnutí posledního člena cílem",null,null,null,"K úřednímu času se připočítávají trest. Sekundy - za každý případ 10 sekund",null,null,null,null,null,null,null,null,null,null,null,"Výsledek soutěže"]
[null,null,null,null,null,null,null,null,"za nesprávné spojení spojek\n(hadice, rozdělovač, proudnice)\nza každý případ",null,null,"nesprávně překonaná překážka nebo\nnesprávně provedený úkon\nza každý případ",null,null,"vyšlápnutí z dráhy oběma nohama\nza každý případ"]
[null,null,null,null,null,null,null,null,null,null,null,null,null,null,null,null,null,null,null,null,"součet trest. Sekund a úředního času","počet bodů za umístění"]
[null,{"$f":"\"KATEGORIE: \"&'Start - podzim'!$N$2","v":"KATEGORIE: STARŠÍ"},null,null,"I. časoměřič","II. časoměřič","III. časoměřič","úřední čas"]
[]
[null,"start. číslo","SOUTĚŽNÍ DRUŽSTVO","pokus"]
[]
[{"$f":"IF('Start - jaro'!E16=\"\",\"\",\"x\")","v":""},11,{"$f":"IF('Start - jaro'!C16=\"\",\"\",'Start - jaro'!C16)","v":""},"I.pokus",null,null,null,{"$f":"IF($C43=\"\",\"\",IF(OR($E43=\"DNF\",$F43=\"DNF\",$G43=\"DNF\"),\"DNF\",IF(OR($E43=\"NP\",$F43=\"NP\",$G43=\"NP\"),\"NP\",IF(ISERROR(MEDIAN($E43:$G43)),\"DNF\",IF(COUNT($E43:$G43)<3,MAX($E43:$G43),MEDIAN($E43:$G43))))))","v":""},null,null,null,null,null,null,null,null,null,null,null,null,{"$f":"IF(H43=\"\",\"\",IF(H43=\"NP\",\"NP\",IF(H43=\"DNF\",\"DNF\",SUM(I43:T43)+H43)))","v":""},{"$f":"IF(C43=\"x\",\"x\",IF(C43=\"\",\"\",IF(OR(W43=\"NP\",W43=\"DNF\"),IF(W43=\"NP\",MAX(W$12:W$309)+COUNTIF((W$12:W$309),MAX(W$12:W$309)),MAX(W$12:W$309)+COUNTIF((W$12:W$309),MAX(W$12:W$309))+COUNTIF((W$12:W$309),\"NP\")),W43)))","v":""},{"$f":"IF(A43=\"x\",\"x\",IF(C43=\"\",\"\",IF(OR(X43=\"NP\",X43=\"DNF\"),X43,RANK(X43,X$12:X$309,1))))","v":""},{"$f":"IF(A43=\"x\",\"x\",IF(C43=\"\",\"\",IF(OR(AND(U43=\"NP\",U44=\"NP\"),AND(U43=\"DNF\",U44=\"DNF\")),U43,IF(AND(U43=\"NP\",U44=\"DNF\"),U43,IF(AND(U43=\"DNF\",U44=\"NP\"),U44,MIN(U43,U44))))))","v":""}]
[null,null,null,"II.pokus",null,null,null,{"$f":"IF($C43=\"\",\"\",IF(OR($E44=\"DNF\",$F44=\"DNF\",$G44=\"DNF\"),\"DNF\",IF(OR($E44=\"NP\",$F44=\"NP\",$G44=\"NP\"),\"NP\",IF(ISERROR(MEDIAN($E44:$G44)),\"DNF\",IF(COUNT($E44:$G44)<3,MAX($E44:$G44),MEDIAN($E44:$G44))))))","v":""},null,null,null,null,null,null,null,null,null,null,null,null,""]
[{"$f":"IF('Start - jaro'!E17=\"\",\"\",\"x\")","v":""},12,{"$f":"IF('Start - jaro'!C17=\"\",\"\",'Start - jaro'!C17)","v":""},"I.pokus",null,null,null,{"$f":"IF($C45=\"\",\"\",IF(OR($E45=\"DNF\",$F45=\"DNF\",$G45=\"DNF\"),\"DNF\",IF(OR($E45=\"NP\",$F45=\"NP\",$G45=\"NP\"),\"NP\",IF(ISERROR(MEDIAN($E45:$G45)),\"DNF\",IF(COUNT($E45:$G45)<3,MAX($E45:$G45),MEDIAN($E45:$G45))))))","v":""},null,null,null,null,null,null,null,null,null,null,null,null,"",{"$f":"IF(C45=\"x\",\"x\",IF(C45=\"\",\"\",IF(OR(W45=\"NP\",W45=\"DNF\"),IF(W45=\"NP\",MAX(W$12:W$309)+COUNTIF((W$12:W$309),MAX(W$12:W$309)),MAX(W$12:W$309)+COUNTIF((W$12:W$309),MAX(W$12:W$309))+COUNTIF((W$12:W$309),\"NP\")),W45)))","v":""},{"$f":"IF(A45=\"x\",\"x\",IF(C45=\"\",\"\",IF(OR(X45=\"NP\",X45=\"DNF\"),X45,RANK(X45,X$12:X$309,1))))","v":""},{"$f":"IF(A45=\"x\",\"x\",IF(C45=\"\",\"\",IF(OR(AND(U45=\"NP\",U46=\"NP\"),AND(U45=\"DNF\",U46=\"DNF\")),U45,IF(AND(U45=\"NP\",U46=\"DNF\"),U45,IF(AND(U45=\"DNF\",U46=\"NP\"),U46,MIN(U45,U46))))))","v":""}]
[null,null,null,"II.pokus",null,null,null,{"$f":"IF($C45=\"\",\"\",IF(OR($E46=\"DNF\",$F46=\"DNF\",$G46=\"DNF\"),\"DNF\",IF(OR($E46=\"NP\",$F46=\"NP\",$G46=\"NP\"),\"NP\",IF(ISERROR(MEDIAN($E46:$G46)),\"DNF\",IF(COUNT($E46:$G46)<3,MAX($E46:$G46),MEDIAN($E46:$G46))))))","v":""},null,null,null,null,null,null,null,null,null,null,null,null,""]
[{"$f":"IF('Start - jaro'!E18=\"\",\"\",\"x\")","v":""},13,{"$f":"IF('Start - jaro'!C18=\"\",\"\",'Start - jaro'!C18)","v":""},"I.pokus",null,null,null,{"$f":"IF($C47=\"\",\"\",IF(OR($E47=\"DNF\",$F47=\"DNF\",$G47=\"DNF\"),\"DNF\",IF(OR($E47=\"NP\",$F47=\"NP\",$G47=\"NP\"),\"NP\",IF(ISERROR(MEDIAN($E47:$G47)),\"DNF\",IF(COUNT($E47:$G47)<3,MAX($E47:$G47),MEDIAN($E47:$G47))))))","v":""},null,null,null,null,null,null,null,null,null,null,null,null,"",{"$f":"IF(C47=\"x\",\"x\",IF(C47=\"\",\"\",IF(OR(W47=\"NP\",W47=\"DNF\"),IF(W47=\"NP\",MAX(W$12:W$309)+COUNTIF((W$12:W$309),MAX(W$12:W$309)),MAX(W$12:W$309)+COUNTIF((W$12:W$309),MAX(W$12:W$309))+COUNTIF((W$12:W$309),\"NP\")),W47)))","v":""},{"$f":"IF(A47=\"x\",\"x\",IF(C47=\"\",\"\",IF(OR(X47=\"NP\",X47=\"DNF\"),X47,RANK(X47,X$12:X$309,1))))","v":""},{"$f":"IF(A47=\"x\",\"x\",IF(C47=\"\",\"\",IF(OR(AND(U47=\"NP\",U48=\"NP\"),AND(U47=\"DNF\",U48=\"DNF\")),U47,IF(AND(U47=\"NP\",U48=\"DNF\"),U47,IF(AND(U47=\"DNF\",U48=\"NP\"),U48,MIN(U47,U48))))))","v":""}]
[null,null,null,"II.pokus",null,null,null,{"$f":"IF($C47=\"\",\"\",IF(OR($E48=\"DNF\",$F48=\"DNF\",$G48=\"DNF\"),\"DNF\",IF(OR($E48=\"NP\",$F48=\"NP\",$G48=\"NP\"),\"NP\",IF(ISERROR(MEDIAN($E48:$G48)),\"DNF\",IF(COUNT($E48:$G48)<3,MAX($E48:$G48),MEDIAN($E48:$G48))))))","v":""},null,null,null,null,null,null,null,null,null,null,null,null,""]
[{"$f":"IF('Start - jaro'!E19=\"\",\"\",\"x\")","v":""},14,{"$f":"IF('Start - jaro'!C19=\"\",\"\",'Start - jaro'!C19)","v":""},"I.pokus",null,null,null,{"$f":"IF($C49=\"\",\"\",IF(OR($E49=\"DNF\",$F49=\"DNF\",$G49=\"DNF\"),\"DNF\",IF(OR($E49=\"NP\",$F49=\"NP\",$G49=\"NP\"),\"NP\",IF(ISERROR(MEDIAN($E49:$G49)),\"DNF\",IF(COUNT($E49:$G49)<3,MAX($E49:$G49),MEDIAN($E49:$G49))))))","v":""},null,null,null,null,null,null,null,null,null,null,null,null,"",{"$f":"IF(C49=\"x\",\"x\",IF(C49=\"\",\"\",IF(OR(W49=\"NP\",W49=\"DNF\"),IF(W49=\"NP\",MAX(W$12:W$309)+COUNTIF((W$12:W$309),MAX(W$12:W$309)),MAX(W$12:W$309)+COUNTIF((W$12:W$309),MAX(W$12:W$309))+COUNTIF((W$12:W$309),\"NP\")),W49)))","v":""},{"$f":"IF(A49=\"x\",\"x\",IF(C49=\"\",\"\",IF(OR(X49=\"NP\",X49=\"DNF\"),X49,RANK(X49,X$12:X$309,1))))","v":""},{"$f":"IF(A49=\"x\",\"x\",IF(C49=\"\",\"\",IF(OR(AND(U49=\"NP\",U50=\"NP\"),AND(U49=\"DNF\",U50=\"DNF\")),U49,IF(AND(U49=\"NP\",U50=\"DNF\"),U49,IF(AND(U49=\"DNF\",U50=\"NP\"),U50,MIN(U49,U50))))))","v":""}]
[null,null,null,"II.pokus",null,null,null,{"$f":"IF($C49=\"\",\"\",IF(OR($E50=\"DNF\",$F50=\"DNF\",$G50=\"DNF\"),\"DNF\",IF(OR($E50=\"NP\",$F50=\"NP\",$G50=\"NP\"),\"NP\",IF(ISERROR(MEDIAN($E50:$G50)),\"DNF\",IF(COUNT($E50:$G50)<3,MAX($E50:$G50),MEDIAN($E50:$G50))))))","v":""},null,null,null,null,null,null,null,null,null,null,null,null,""]
[{"$f":"IF('Start - jaro'!E20=\"\",\"\",\"x\")","v":""},15,{"$f":"IF('Start - jaro'!C20=\"\",\"\",'Start - jaro'!C20)","v":""},"I.pokus",null,null,null,{"$f":"IF($C51=\"\",\"\",IF(OR($E51=\"DNF\",$F51=\"DNF\",$G51=\"DNF\"),\"DNF\",IF(OR($E51=\"NP\",$F51=\"NP\",$G51=\"NP\"),\"NP\",IF(ISERROR(MEDIAN($E51:$G51)),\"DNF\",IF(COUNT($E51:$G51)<3,MAX($E51:$G51),MEDIAN($E51:$G51))))))","v":""},null,null,null,null,null,null,null,null,null,null,null,null,"",{"$f":"IF(C51=\"x\",\"x\",IF(C51=\"\",\"\",IF(OR(W51=\"NP\",W51=\"DNF\"),IF(W51=\"NP\",MAX(W$12:W$309)+COUNTIF((W$12:W$309),MAX(W$12:W$309)),MAX(W$12:W$309)+COUNTIF((W$12:W$309),MAX(W$12:W$309))+COUNTIF((W$12:W$309),\"NP\")),W51)))","v":""},{"$f":"IF(A51=\"x\",\"x\",IF(C51=\"\",\"\",IF(OR(X51=\"NP\",X51=\"DNF\"),X51,RANK(X51,X$12:X$309,1))))","v":""},{"$f":"IF(A51=\"x\",\"x\",IF(C51=\"\",\"\",IF(OR(AND(U51=\"NP\",U52=\"NP\"),AND(U51=\"DNF\",U52=\"DNF\")),U51,IF(AND(U51=\"NP\",U52=\"DNF\"),U51,IF(AND(U51=\"DNF\",U52=\"NP\"),U52,MIN(U51,U52))))))","v":""}]
[null,null,null,"II.pokus",null,null,null,{"$f":"IF($C51=\"\",\"\",IF(OR($E52=\"DNF\",$F52=\"DNF\",$G52=\"DNF\"),\"DNF\",IF(OR($E52=\"NP\",$F52=\"NP\",$G52=\"NP\"),\"NP\",IF(ISERROR(MEDIAN($E52:$G52)),\"DNF\",IF(COUNT($E52:$G52)<3,MAX($E52:$G52),MEDIAN($E52:$G52))))))","v":""},null,null,null,null,null,null,null,null,null,null,null,null,""]
[{"$f":"IF('Start - jaro'!E21=\"\",\"\",\"x\")","v":""},16,{"$f":"IF('Start - jaro'!C21=\"\",\"\",'Start - jaro'!C21)","v":""},"I.pokus",null,null,null,{"$f":"IF($C53=\"\",\"\",IF(OR($E53=\"DNF\",$F53=\"DNF\",$G53=\"DNF\"),\"DNF\",IF(OR($E53=\"NP\",$F53=\"NP\",$G53=\"NP\"),\"NP\",IF(ISERROR(MEDIAN($E53:$G53)),\"DNF\",IF(COUNT($E53:$G53)<3,MAX($E53:$G53),MEDIAN($E53:$G53))))))","v":""},null,null,null,null,null,null,null,null,null,null,null,null,"",{"$f":"IF(C53=\"x\",\"x\",IF(C53=\"\",\"\",IF(OR(W53=\"NP\",W53=\"DNF\"),IF(W53=\"NP\",MAX(W$12:W$309)+COUNTIF((W$12:W$309),MAX(W$12:W$309)),MAX(W$12:W$309)+COUNTIF((W$12:W$309),MAX(W$12:W$309))+COUNTIF((W$12:W$309),\"NP\")),W53)))","v":""},{"$f":"IF(A53=\"x\",\"x\",IF(C53=\"\",\"\",IF(OR(X53=\"NP\",X53=\"DNF\"),X53,RANK(X53,X$12:X$309,1))))","v":""},{"$f":"IF(A53=\"x\",\"x\",IF(C53=\"\",\"\",IF(OR(AND(U53=\"NP\",U54=\"NP\"),AND(U53=\"DNF\",U54=\"DNF\")),U53,IF(AND(U53=\"NP\",U54=\"DNF\"),U53,IF(AND(U53=\"DNF\",U54=\"NP\"),U54,MIN(U53,U54))))))","v":""}]
[null,null,null,"II.pokus",null,null,null,{"$f":"IF($C53=\"\",\"\",IF(OR($E54=\"DNF\",$F54=\"DNF\",$G54=\"DNF\"),\"DNF\",IF(OR($E54=\"NP\",$F54=\"NP\",$G54=\"NP\"),\"NP\",IF(ISERROR(MEDIAN($E54:$G54)),\"DNF\",IF(COUNT($E54:$G54)<3,MAX($E54:$G54),MEDIAN($E54:$G54))))))","v":""},null,null,null,null,null,null,null,null,null,null,null,null,""]
[{"$f":"IF('Start - jaro'!E22=\"\",\"\",\"x\")","v":""},17,{"$f":"IF('Start - jaro'!C22=\"\",\"\",'Start - jaro'!C22)","v":""},"I.pokus",null,null,null,{"$f":"IF($C55=\"\",\"\",IF(OR($E55=\"DNF\",$F55=\"DNF\",$G55=\"DNF\"),\"DNF\",IF(OR($E55=\"NP\",$F55=\"NP\",$G55=\"NP\"),\"NP\",IF(ISERROR(MEDIAN($E55:$G55)),\"DNF\",IF(COUNT($E55:$G55)<3,MAX($E55:$G55),MEDIAN($E55:$G55))))))","v":""},null,null,null,null,null,null,null,null,null,null,null,null,"",{"$f":"IF(C55=\"x\",\"x\",IF(C55=\"\",\"\",IF(OR(W55=\"NP\",W55=\"DNF\"),IF(W55=\"NP\",MAX(W$12:W$309)+COUNTIF((W$12:W$309),MAX(W$12:W$309)),MAX(W$12:W$309)+COUNTIF((W$12:W$309),MAX(W$12:W$309))+COUNTIF((W$12:W$309),\"NP\")),W55)))","v":""},{"$f":"IF(A55=\"x\",\"x\",IF(C55=\"\",\"\",IF(OR(X55=\"NP\",X55=\"DNF\"),X55,RANK(X55,X$12:X$309,1))))","v":""},{"$f":"IF(A55=\"x\",\"x\",IF(C55=\"\",\"\",IF(OR(AND(U55=\"NP\",U56=\"NP\"),AND(U55=\"DNF\",U56=\"DNF\")),U55,IF(AND(U55=\"NP\",U56=\"DNF\"),U55,IF(AND(U55=\"DNF\",U56=\"NP\"),U56,MIN(U55,U56))))))","v":""}]
[null,null,null,"II.pokus",null,null,null,{"$f":"IF($C55=\"\",\"\",IF(OR($E56=\"DNF\",$F56=\"DNF\",$G56=\"DNF\"),\"DNF\",IF(OR($E56=\"NP\",$F56=\"NP\",$G56=\"NP\"),\"NP\",IF(ISERROR(MEDIAN($E56:$G56)),\"DNF\",IF(COUNT($E56:$G56)<3,MAX($E56:$G56),MEDIAN($E56:$G56))))))","v":""},null,null,null,null,null,null,null,null,null,null,null,null,""]
[{"$f":"IF('Start - jaro'!E23=\"\",\"\",\"x\")","v":""},18,{"$f":"IF('Start - jaro'!C23=\"\",\"\",'Start - jaro'!C23)","v":""},"I.pokus",null,null,null,{"$f":"IF($C57=\"\",\"\",IF(OR($E57=\"DNF\",$F57=\"DNF\",$G57=\"DNF\"),\"DNF\",IF(OR($E57=\"NP\",$F57=\"NP\",$G57=\"NP\"),\"NP\",IF(ISERROR(MEDIAN($E57:$G57)),\"DNF\",IF(COUNT($E57:$G57)<3,MAX($E57:$G57),MEDIAN($E57:$G57))))))","v":""},null,null,null,null,null,null,null,null,null,null,null,null,"",{"$f":"IF(C57=\"x\",\"x\",IF(C57=\"\",\"\",IF(OR(W57=\"NP\",W57=\"DNF\"),IF(W57=\"NP\",MAX(W$12:W$309)+COUNTIF((W$12:W$309),MAX(W$12:W$309)),MAX(W$12:W$309)+COUNTIF((W$12:W$309),MAX(W$12:W$309))+COUNTIF((W$12:W$309),\"NP\")),W57)))","v":""},{"$f":"IF(A57=\"x\",\"x\",IF(C57=\"\",\"\",IF(OR(X57=\"NP\",X57=\"DNF\"),X57,RANK(X57,X$12:X$309,1))))","v":""},{"$f":"IF(A57=\"x\",\"x\",IF(C57=\"\",\"\",IF(OR(AND(U57=\"NP\",U58=\"NP\"),AND(U57=\"DNF\",U58=\"DNF\")),U57,IF(AND(U57=\"NP\",U58=\"DNF\"),U57,IF(AND(U57=\"DNF\",U58=\"NP\"),U58,MIN(U57,U58))))))","v":""}]
[null,null,null,"II.pokus",null,null,null,{"$f":"IF($C57=\"\",\"\",IF(OR($E58=\"DNF\",$F58=\"DNF\",$G58=\"DNF\"),\"DNF\",IF(OR($E58=\"NP\",$F58=\"NP\",$G58=\"NP\"),\"NP\",IF(ISERROR(MEDIAN($E58:$G58)),\"DNF\",IF(COUNT($E58:$G58)<3,MAX($E58:$G58),MEDIAN($E58:$G58))))))","v":""},null,null,null,null,null,null,null,null,null,null,null,null,""]
[{"$f":"IF('Start - jaro'!E24=\"\",\"\",\"x\")","v":""},19,{"$f":"IF('Start - jaro'!C24=\"\",\"\",'Start - jaro'!C24)","v":""},"I.pokus",null,null,null,{"$f":"IF($C59=\"\",\"\",IF(OR($E59=\"DNF\",$F59=\"DNF\",$G59=\"DNF\"),\"DNF\",IF(OR($E59=\"NP\",$F59=\"NP\",$G59=\"NP\"),\"NP\",IF(ISERROR(MEDIAN($E59:$G59)),\"DNF\",IF(COUNT($E59:$G59)<3,MAX($E59:$G59),MEDIAN($E59:$G59))))))","v":""},null,null,null,null,null,null,null,null,null,null,null,null,"",{"$f":"IF(C59=\"x\",\"x\",IF(C59=\"\",\"\",IF(OR(W59=\"NP\",W59=\"DNF\"),IF(W59=\"NP\",MAX(W$12:W$309)+COUNTIF((W$12:W$309),MAX(W$12:W$309)),MAX(W$12:W$309)+COUNTIF((W$12:W$309),MAX(W$12:W$309))+COUNTIF((W$12:W$309),\"NP\")),W59)))","v":""},{"$f":"IF(A59=\"x\",\"x\",IF(C59=\"\",\"\",IF(OR(X59=\"NP\",X59=\"DNF\"),X59,RANK(X59,X$12:X$309,1))))","v":""},{"$f":"IF(A59=\"x\",\"x\",IF(C59=\"\",\"\",IF(OR(AND(U59=\"NP\",U60=\"NP\"),AND(U59=\"DNF\",U60=\"DNF\")),U59,IF(AND(U59=\"NP\",U60=\"DNF\"),U59,IF(AND(U59=\"DNF\",U60=\"NP\"),U60,MIN(U59,U60))))))","v":""}]
[null,null,null,"II.pokus",null,null,null,{"$f":"IF($C59=\"\",\"\",IF(OR($E60=\"DNF\",$F60=\"DNF\",$G60=\"DNF\"),\"DNF\",IF(OR($E60=\"NP\",$F60=\"NP\",$G60=\"NP\"),\"NP\",IF(ISERROR(MEDIAN($E60:$G60)),\"DNF\",IF(COUNT($E60:$G60)<3,MAX($E60:$G60),MEDIAN($E60:$G60))))))","v":""},null,null,null,null,null,null,null,null,null,null,null,null,""]
[{"$f":"IF('Start - jaro'!E25=\"\",\"\",\"x\")","v":""},20,{"$f":"IF('Start - jaro'!C25=\"\",\"\",'Start - jaro'!C25)","v":""},"I.pokus",null,null,null,{"$f":"IF($C61=\"\",\"\",IF(OR($E61=\"DNF\",$F61=\"DNF\",$G61=\"DNF\"),\"DNF\",IF(OR($E61=\"NP\",$F61=\"NP\",$G61=\"NP\"),\"NP\",IF(ISERROR(MEDIAN($E61:$G61)),\"DNF\",IF(COUNT($E61:$G61)<3,MAX($E61:$G61),MEDIAN($E61:$G61))))))","v":""},null,null,null,null,null,null,null,null,null,null,null,null,"",{"$f":"IF(C61=\"x\",\"x\",IF(C61=\"\",\"\",IF(OR(W61=\"NP\",W61=\"DNF\"),IF(W61=\"NP\",MAX(W$12:W$309)+COUNTIF((W$12:W$309),MAX(W$12:W$309)),MAX(W$12:W$309)+COUNTIF((W$12:W$309),MAX(W$12:W$309))+COUNTIF((W$12:W$309),\"NP\")),W61)))","v":""},{"$f":"IF(A61=\"x\",\"x\",IF(C61=\"\",\"\",IF(OR(X61=\"NP\",X61=\"DNF\"),X61,RANK(X61,X$12:X$309,1))))","v":""},{"$f":"IF(A61=\"x\",\"x\",IF(C61=\"\",\"\",IF(OR(AND(U61=\"NP\",U62=\"NP\"),AND(U61=\"DNF\",U62=\"DNF\")),U61,IF(AND(U61=\"NP\",U62=\"DNF\"),U61,IF(AND(U61=\"DNF\",U62=\"NP\"),U62,MIN(U61,U62))))))","v":""}]
[null,null,null,"II.pokus",null,null,null,{"$f":"IF($C61=\"\",\"\",IF(OR($E62=\"DNF\",$F62=\"DNF\",$G62=\"DNF\"),\"DNF\",IF(OR($E62=\"NP\",$F62=\"NP\",$G62=\"NP\"),\"NP\",IF(ISERROR(MEDIAN($E62:$G62)),\"DNF\",IF(COUNT($E62:$G62)<3,MAX($E62:$G62),MEDIAN($E62:$G62))))))","v":""},null,null,null,null,null,null,null,null,null,null,null,null,""]
[null,"CELOSTÁTNÍ HRA PLAMEN"]
[]
[]
[null,"Výsledková listina č: 3"]
[null,"Štafeta 400 m CTIF",null,null,"Základem je čas naměřený od vydání signálu startéra do proběhnutí posledního člena cílem",null,null,null,"K úřednímu času se připočítávají trest. Sekundy - za každý případ 10 sekund",null,null,null,null,null,null,null,null,null,null,null,"Výsledek soutěže"]
[null,null,null,null,null,null,null,null,"za nesprávné spojení spojek\n(hadice, rozdělovač, proudnice)\nza každý případ",null,null,"nesprávně překonaná překážka nebo\nnesprávně provedený úkon\nza každý případ",null,null,"vyšlápnutí z dráhy oběma nohama\nza každý případ"]
[null,null,null,null,null,null,null,null,null,null,null,null,null,null,null,null,null,null,null,null,"součet trest. Sekund a úředního času","počet bodů za umístění"]
[null,{"$f":"\"KATEGORIE: \"&'Start - podzim'!$N$2","v":"KATEGORIE: STARŠÍ"},null,null,"I. časoměřič","II. časoměřič","III. časoměřič","úřední čas"]
[]
[null,"start. číslo","SOUTĚŽNÍ DRUŽSTVO","pokus"]
[]
[{"$f":"IF('Start - jaro'!E26=\"\",\"\",\"x\")","v":""},21,{"$f":"IF('Start - jaro'!C26=\"\",\"\",'Start - jaro'!C26)","v":""},"I.pokus",null,null,null,{"$f":"IF($C74=\"\",\"\",IF(OR($E74=\"DNF\",$F74=\"DNF\",$G74=\"DNF\"),\"DNF\",IF(OR($E74=\"NP\",$F74=\"NP\",$G74=\"NP\"),\"NP\",IF(ISERROR(MEDIAN($E74:$G74)),\"DNF\",IF(COUNT($E74:$G74)<3,MAX($E74:$G74),MEDIAN($E74:$G74))))))","v":""},null,null,null,null,null,null,null,null,null,null,null,null,{"$f":"IF(H74=\"\",\"\",IF(H74=\"NP\",\"NP\",IF(H74=\"DNF\",\"DNF\",SUM(I74:T74)+H74)))","v":""},{"$f":"IF(C74=\"x\",\"x\",IF(C74=\"\",\"\",IF(OR(W74=\"NP\",W74=\"DNF\"),IF(W74=\"NP\",MAX(W$12:W$309)+COUNTIF((W$12:W$309),MAX(W$12:W$309)),MAX(W$12:W$309)+COUNTIF((W$12:W$309),MAX(W$12:W$309))+COUNTIF((W$12:W$309),\"NP\")),W74)))","v":""},{"$f":"IF(A74=\"x\",\"x\",IF(C74=\"\",\"\",IF(OR(X74=\"NP\",X74=\"DNF\"),X74,RANK(X74,X$12:X$309,1))))","v":""},{"$f":"IF(A74=\"x\",\"x\",IF(C74=\"\",\"\",IF(OR(AND(U74=\"NP\",U75=\"NP\"),AND(U74=\"DNF\",U75=\"DNF\")),U74,IF(AND(U74=\"NP\",U75=\"DNF\"),U74,IF(AND(U74=\"DNF\",U75=\"NP\"),U75,MIN(U74,U75))))))","v":""}]
[null,null,null,"II.pokus",null,null,null,{"$f":"IF($C74=\"\",\"\",IF(OR($E75=\"DNF\",$F75=\"DNF\",$G75=\"DNF\"),\"DNF\",IF(OR($E75=\"NP\",$F75=\"NP\",$G75=\"NP\"),\"NP\",IF(ISERROR(MEDIAN($E75:$G75)),\"DNF\",IF(COUNT($E75:$G75)<3,MAX($E75:$G75),MEDIAN($E75:$G75))))))","v":""},null,null,null,null,null,null,null,null,null,null,null,null,""]
[{"$f":"IF('Start - jaro'!E27=\"\",\"\",\"x\")","v":""},22,{"$f":"IF('Start - jaro'!C27=\"\",\"\",'Start - jaro'!C27)","v":""},"I.pokus",null,null,null,{"$f":"IF($C76=\"\",\"\",IF(OR($E76=\"DNF\",$F76=\"DNF\",$G76=\"DNF\"),\"DNF\",IF(OR($E76=\"NP\",$F76=\"NP\",$G76=\"NP\"),\"NP\",IF(ISERROR(MEDIAN($E76:$G76)),\"DNF\",IF(COUNT($E76:$G76)<3,MAX($E76:$G76),MEDIAN($E76:$G76))))))","v":""},null,null,null,null,null,null,null,null,null,null,null,null,"",{"$f":"IF(C76=\"x\",\"x\",IF(C76=\"\",\"\",IF(OR(W76=\"NP\",W76=\"DNF\"),IF(W76=\"NP\",MAX(W$12:W$309)+COUNTIF((W$12:W$309),MAX(W$12:W$309)),MAX(W$12:W$309)+COUNTIF((W$12:W$309),MAX(W$12:W$309))+COUNTIF((W$12:W$309),\"NP\")),W76)))","v":""},{"$f":"IF(A76=\"x\",\"x\",IF(C76=\"\",\"\",IF(OR(X76=\"NP\",X76=\"DNF\"),X76,RANK(X76,X$12:X$309,1))))","v":""},{"$f":"IF(A76=\"x\",\"x\",IF(C76=\"\",\"\",IF(OR(AND(U76=\"NP\",U77=\"NP\"),AND(U76=\"DNF\",U77=\"DNF\")),U76,IF(AND(U76=\"NP\",U77=\"DNF\"),U76,IF(AND(U76=\"DNF\",U77=\"NP\"),U77,MIN(U76,U77))))))","v":""}]
[null,null,null,"II.pokus",null,null,null,{"$f":"IF($C76=\"\",\"\",IF(OR($E77=\"DNF\",$F77=\"DNF\",$G77=\"DNF\"),\"DNF\",IF(OR($E77=\"NP\",$F77=\"NP\",$G77=\"NP\"),\"NP\",IF(ISERROR(MEDIAN($E77:$G77)),\"DNF\",IF(COUNT($E77:$G77)<3,MAX($E77:$G77),MEDIAN($E77:$G77))))))","v":""},null,null,null,null,null,null,null,null,null,null,null,null,""]
[{"$f":"IF('Start - jaro'!E28=\"\",\"\",\"x\")","v":""},23,{"$f":"IF('Start - jaro'!C28=\"\",\"\",'Start - jaro'!C28)","v":""},"I.pokus",null,null,null,{"$f":"IF($C78=\"\",\"\",IF(OR($E78=\"DNF\",$F78=\"DNF\",$G78=\"DNF\"),\"DNF\",IF(OR($E78=\"NP\",$F78=\"NP\",$G78=\"NP\"),\"NP\",IF(ISERROR(MEDIAN($E78:$G78)),\"DNF\",IF(COUNT($E78:$G78)<3,MAX($E78:$G78),MEDIAN($E78:$G78))))))","v":""},null,null,null,null,null,null,null,null,null,null,null,null,"",{"$f":"IF(C78=\"x\",\"x\",IF(C78=\"\",\"\",IF(OR(W78=\"NP\",W78=\"DNF\"),IF(W78=\"NP\",MAX(W$12:W$309)+COUNTIF((W$12:W$309),MAX(W$12:W$309)),MAX(W$12:W$309)+COUNTIF((W$12:W$309),MAX(W$12:W$309))+COUNTIF((W$12:W$309),\"NP\")),W78)))","v":""},{"$f":"IF(A78=\"x\",\"x\",IF(C78=\"\",\"\",IF(OR(X78=\"NP\",X78=\"DNF\"),X78,RANK(X78,X$12:X$309,1))))","v":""},{"$f":"IF(A78=\"x\",\"x\",IF(C78=\"\",\"\",IF(OR(AND(U78=\"NP\",U79=\"NP\"),AND(U78=\"DNF\",U79=\"DNF\")),U78,IF(AND(U78=\"NP\",U79=\"DNF\"),U78,IF(AND(U78=\"DNF\",U79=\"NP\"),U79,MIN(U78,U79))))))","v":""}]
[null,null,null,"II.pokus",null,null,null,{"$f":"IF($C78=\"\",\"\",IF(OR($E79=\"DNF\",$F79=\"DNF\",$G79=\"DNF\"),\"DNF\",IF(OR($E79=\"NP\",$F79=\"NP\",$G79=\"NP\"),\"NP\",IF(ISERROR(MEDIAN($E79:$G79)),\"DNF\",IF(COUNT($E79:$G79)<3,MAX($E79:$G79),MEDIAN($E79:$G79))))))","v":""},null,null,null,null,null,null,null,null,null,null,null,null,""]
[{"$f":"IF('Start - jaro'!E29=\"\",\"\",\"x\")","v":""},24,{"$f":"IF('Start - jaro'!C29=\"\",\"\",'Start - jaro'!C29)","v":""},"I.pokus",null,null,null,{"$f":"IF($C80=\"\",\"\",IF(OR($E80=\"DNF\",$F80=\"DNF\",$G80=\"DNF\"),\"DNF\",IF(OR($E80=\"NP\",$F80=\"NP\",$G80=\"NP\"),\"NP\",IF(ISERROR(MEDIAN($E80:$G80)),\"DNF\",IF(COUNT($E80:$G80)<3,MAX($E80:$G80),MEDIAN($E80:$G80))))))","v":""},null,null,null,null,null,null,null,null,null,null,null,null,"",{"$f":"IF(C80=\"x\",\"x\",IF(C80=\"\",\"\",IF(OR(W80=\"NP\",W80=\"DNF\"),IF(W80=\"NP\",MAX(W$12:W$309)+COUNTIF((W$12:W$309),MAX(W$12:W$309)),MAX(W$12:W$309)+COUNTIF((W$12:W$309),MAX(W$12:W$309))+COUNTIF((W$12:W$309),\"NP\")),W80)))","v":""},{"$f":"IF(A80=\"x\",\"x\",IF(C80=\"\",\"\",IF(OR(X80=\"NP\",X80=\"DNF\"),X80,RANK(X80,X$12:X$309,1))))","v":""},{"$f":"IF(A80=\"x\",\"x\",IF(C80=\"\",\"\",IF(OR(AND(U80=\"NP\",U81=\"NP\"),AND(U80=\"DNF\",U81=\"DNF\")),U80,IF(AND(U80=\"NP\",U81=\"DNF\"),U80,IF(AND(U80=\"DNF\",U81=\"NP\"),U81,MIN(U80,U81))))))","v":""}]
[null,null,null,"II.pokus",null,null,null,{"$f":"IF($C80=\"\",\"\",IF(OR($E81=\"DNF\",$F81=\"DNF\",$G81=\"DNF\"),\"DNF\",IF(OR($E81=\"NP\",$F81=\"NP\",$G81=\"NP\"),\"NP\",IF(ISERROR(MEDIAN($E81:$G81)),\"DNF\",IF(COUNT($E81:$G81)<3,MAX($E81:$G81),MEDIAN($E81:$G81))))))","v":""},null,null,null,null,null,null,null,null,null,null,null,null,""]
[{"$f":"IF('Start - jaro'!E30=\"\",\"\",\"x\")","v":""},25,{"$f":"IF('Start - jaro'!C30=\"\",\"\",'Start - jaro'!C30)","v":""},"I.pokus",null,null,null,{"$f":"IF($C82=\"\",\"\",IF(OR($E82=\"DNF\",$F82=\"DNF\",$G82=\"DNF\"),\"DNF\",IF(OR($E82=\"NP\",$F82=\"NP\",$G82=\"NP\"),\"NP\",IF(ISERROR(MEDIAN($E82:$G82)),\"DNF\",IF(COUNT($E82:$G82)<3,MAX($E82:$G82),MEDIAN($E82:$G82))))))","v":""},null,null,null,null,null,null,null,null,null,null,null,null,"",{"$f":"IF(C82=\"x\",\"x\",IF(C82=\"\",\"\",IF(OR(W82=\"NP\",W82=\"DNF\"),IF(W82=\"NP\",MAX(W$12:W$309)+COUNTIF((W$12:W$309),MAX(W$12:W$309)),MAX(W$12:W$309)+COUNTIF((W$12:W$309),MAX(W$12:W$309))+COUNTIF((W$12:W$309),\"NP\")),W82)))","v":""},{"$f":"IF(A82=\"x\",\"x\",IF(C82=\"\",\"\",IF(OR(X82=\"NP\",X82=\"DNF\"),X82,RANK(X82,X$12:X$309,1))))","v":""},{"$f":"IF(A82=\"x\",\"x\",IF(C82=\"\",\"\",IF(OR(AND(U82=\"NP\",U83=\"NP\"),AND(U82=\"DNF\",U83=\"DNF\")),U82,IF(AND(U82=\"NP\",U83=\"DNF\"),U82,IF(AND(U82=\"DNF\",U83=\"NP\"),U83,MIN(U82,U83))))))","v":""}]
[null,null,null,"II.pokus",null,null,null,{"$f":"IF($C82=\"\",\"\",IF(OR($E83=\"DNF\",$F83=\"DNF\",$G83=\"DNF\"),\"DNF\",IF(OR($E83=\"NP\",$F83=\"NP\",$G83=\"NP\"),\"NP\",IF(ISERROR(MEDIAN($E83:$G83)),\"DNF\",IF(COUNT($E83:$G83)<3,MAX($E83:$G83),MEDIAN($E83:$G83))))))","v":""},null,null,null,null,null,null,null,null,null,null,null,null,""]
[{"$f":"IF('Start - jaro'!I6=\"\",\"\",\"x\")","v":""},26,{"$f":"IF('Start - jaro'!G6=\"\",\"\",'Start - jaro'!G6)","v":""},"I.pokus",null,null,null,{"$f":"IF($C84=\"\",\"\",IF(OR($E84=\"DNF\",$F84=\"DNF\",$G84=\"DNF\"),\"DNF\",IF(OR($E84=\"NP\",$F84=\"NP\",$G84=\"NP\"),\"NP\",IF(ISERROR(MEDIAN($E84:$G84)),\"DNF\",IF(COUNT($E84:$G84)<3,MAX($E84:$G84),MEDIAN($E84:$G84))))))","v":""},null,null,null,null,null,null,null,null,null,null,null,null,"",{"$f":"IF(C84=\"x\",\"x\",IF(C84=\"\",\"\",IF(OR(W84=\"NP\",W84=\"DNF\"),IF(W84=\"NP\",MAX(W$12:W$309)+COUNTIF((W$12:W$309),MAX(W$12:W$309)),MAX(W$12:W$309)+COUNTIF((W$12:W$309),MAX(W$12:W$309))+COUNTIF((W$12:W$309),\"NP\")),W84)))","v":""},{"$f":"IF(A84=\"x\",\"x\",IF(C84=\"\",\"\",IF(OR(X84=\"NP\",X84=\"DNF\"),X84,RANK(X84,X$12:X$309,1))))","v":""},{"$f":"IF(A84=\"x\",\"x\",IF(C84=\"\",\"\",IF(OR(AND(U84=\"NP\",U85=\"NP\"),AND(U84=\"DNF\",U85=\"DNF\")),U84,IF(AND(U84=\"NP\",U85=\"DNF\"),U84,IF(AND(U84=\"DNF\",U85=\"NP\"),U85,MIN(U84,U85))))))","v":""}]
[null,null,null,"II.pokus",null,null,null,{"$f":"IF($C84=\"\",\"\",IF(OR($E85=\"DNF\",$F85=\"DNF\",$G85=\"DNF\"),\"DNF\",IF(OR($E85=\"NP\",$F85=\"NP\",$G85=\"NP\"),\"NP\",IF(ISERROR(MEDIAN($E85:$G85)),\"DNF\",IF(COUNT($E85:$G85)<3,MAX($E85:$G85),MEDIAN($E85:$G85))))))","v":""},null,null,null,null,null,null,null,null,null,null,null,null,""]
[{"$f":"IF('Start - jaro'!I7=\"\",\"\",\"x\")","v":""},27,{"$f":"IF('Start - jaro'!G7=\"\",\"\",'Start - jaro'!G7)","v":""},"I.pokus",null,null,null,{"$f":"IF($C86=\"\",\"\",IF(OR($E86=\"DNF\",$F86=\"DNF\",$G86=\"DNF\"),\"DNF\",IF(OR($E86=\"NP\",$F86=\"NP\",$G86=\"NP\"),\"NP\",IF(ISERROR(MEDIAN($E86:$G86)),\"DNF\",IF(COUNT($E86:$G86)<3,MAX($E86:$G86),MEDIAN($E86:$G86))))))","v":""},null,null,null,null,null,null,null,null,null,null,null,null,"",{"$f":"IF(C86=\"x\",\"x\",IF(C86=\"\",\"\",IF(OR(W86=\"NP\",W86=\"DNF\"),IF(W86=\"NP\",MAX(W$12:W$309)+COUNTIF((W$12:W$309),MAX(W$12:W$309)),MAX(W$12:W$309)+COUNTIF((W$12:W$309),MAX(W$12:W$309))+COUNTIF((W$12:W$309),\"NP\")),W86)))","v":""},{"$f":"IF(A86=\"x\",\"x\",IF(C86=\"\",\"\",IF(OR(X86=\"NP\",X86=\"DNF\"),X86,RANK(X86,X$12:X$309,1))))","v":""},{"$f":"IF(A86=\"x\",\"x\",IF(C86=\"\",\"\",IF(OR(AND(U86=\"NP\",U87=\"NP\"),AND(U86=\"DNF\",U87=\"DNF\")),U86,IF(AND(U86=\"NP\",U87=\"DNF\"),U86,IF(AND(U86=\"DNF\",U87=\"NP\"),U87,MIN(U86,U87))))))","v":""}]
[null,null,null,"II.pokus",null,null,null,{"$f":"IF($C86=\"\",\"\",IF(OR($E87=\"DNF\",$F87=\"DNF\",$G87=\"DNF\"),\"DNF\",IF(OR($E87=\"NP\",$F87=\"NP\",$G87=\"NP\"),\"NP\",IF(ISERROR(MEDIAN($E87:$G87)),\"DNF\",IF(COUNT($E87:$G87)<3,MAX($E87:$G87),MEDIAN($E87:$G87))))))","v":""},null,null,null,null,null,null,null,null,null,null,null,null,""]
[{"$f":"IF('Start - jaro'!I8=\"\",\"\",\"x\")","v":""},28,{"$f":"IF('Start - jaro'!G8=\"\",\"\",'Start - jaro'!G8)","v":""},"I.pokus",null,null,null,{"$f":"IF($C88=\"\",\"\",IF(OR($E88=\"DNF\",$F88=\"DNF\",$G88=\"DNF\"),\"DNF\",IF(OR($E88=\"NP\",$F88=\"NP\",$G88=\"NP\"),\"NP\",IF(ISERROR(MEDIAN($E88:$G88)),\"DNF\",IF(COUNT($E88:$G88)<3,MAX($E88:$G88),MEDIAN($E88:$G88))))))","v":""},null,null,null,null,null,null,null,null,null,null,null,null,"",{"$f":"IF(C88=\"x\",\"x\",IF(C88=\"\",\"\",IF(OR(W88=\"NP\",W88=\"DNF\"),IF(W88=\"NP\",MAX(W$12:W$309)+COUNTIF((W$12:W$309),MAX(W$12:W$309)),MAX(W$12:W$309)+COUNTIF((W$12:W$309),MAX(W$12:W$309))+COUNTIF((W$12:W$309),\"NP\")),W88)))","v":""},{"$f":"IF(A88=\"x\",\"x\",IF(C88=\"\",\"\",IF(OR(X88=\"NP\",X88=\"DNF\"),X88,RANK(X88,X$12:X$309,1))))","v":""},{"$f":"IF(A88=\"x\",\"x\",IF(C88=\"\",\"\",IF(OR(AND(U88=\"NP\",U89=\"NP\"),AND(U88=\"DNF\",U89=\"DNF\")),U88,IF(AND(U88=\"NP\",U89=\"DNF\"),U88,IF(AND(U88=\"DNF\",U89=\"NP\"),U89,MIN(U88,U89))))))","v":""}]
[null,null,null,"II.pokus",null,null,null,{"$f":"IF($C88=\"\",\"\",IF(OR($E89=\"DNF\",$F89=\"DNF\",$G89=\"DNF\"),\"DNF\",IF(OR($E89=\"NP\",$F89=\"NP\",$G89=\"NP\"),\"NP\",IF(ISERROR(MEDIAN($E89:$G89)),\"DNF\",IF(COUNT($E89:$G89)<3,MAX($E89:$G89),MEDIAN($E89:$G89))))))","v":""},null,null,null,null,null,null,null,null,null,null,null,null,""]
[{"$f":"IF('Start - jaro'!I9=\"\",\"\",\"x\")","v":""},29,{"$f":"IF('Start - jaro'!G9=\"\",\"\",'Start - jaro'!G9)","v":""},"I.pokus",null,null,null,{"$f":"IF($C90=\"\",\"\",IF(OR($E90=\"DNF\",$F90=\"DNF\",$G90=\"DNF\"),\"DNF\",IF(OR($E90=\"NP\",$F90=\"NP\",$G90=\"NP\"),\"NP\",IF(ISERROR(MEDIAN($E90:$G90)),\"DNF\",IF(COUNT($E90:$G90)<3,MAX($E90:$G90),MEDIAN($E90:$G90))))))","v":""},null,null,null,null,null,null,null,null,null,null,null,null,"",{"$f":"IF(C90=\"x\",\"x\",IF(C90=\"\",\"\",IF(OR(W90=\"NP\",W90=\"DNF\"),IF(W90=\"NP\",MAX(W$12:W$309)+COUNTIF((W$12:W$309),MAX(W$12:W$309)),MAX(W$12:W$309)+COUNTIF((W$12:W$309),MAX(W$12:W$309))+COUNTIF((W$12:W$309),\"NP\")),W90)))","v":""},{"$f":"IF(A90=\"x\",\"x\",IF(C90=\"\",\"\",IF(OR(X90=\"NP\",X90=\"DNF\"),X90,RANK(X90,X$12:X$309,1))))","v":""},{"$f":"IF(A90=\"x\",\"x\",IF(C90=\"\",\"\",IF(OR(AND(U90=\"NP\",U91=\"NP\"),AND(U90=\"DNF\",U91=\"DNF\")),U90,IF(AND(U90=\"NP\",U91=\"DNF\"),U90,IF(AND(U90=\"DNF\",U91=\"NP\"),U91,MIN(U90,U91))))))","v":""}]
[null,null,null,"II.pokus",null,null,null,{"$f":"IF($C90=\"\",\"\",IF(OR($E91=\"DNF\",$F91=\"DNF\",$G91=\"DNF\"),\"DNF\",IF(OR($E91=\"NP\",$F91=\"NP\",$G91=\"NP\"),\"NP\",IF(ISERROR(MEDIAN($E91:$G91)),\"DNF\",IF(COUNT($E91:$G91)<3,MAX($E91:$G91),MEDIAN($E91:$G91))))))","v":""},null,null,null,null,null,null,null,null,null,null,null,null,""]
[{"$f":"IF('Start - jaro'!I10=\"\",\"\",\"x\")","v":""},30,{"$f":"IF('Start - jaro'!G10=\"\",\"\",'Start - jaro'!G10)","v":""},"I.pokus",null,null,null,{"$f":"IF($C92=\"\",\"\",IF(OR($E92=\"DNF\",$F92=\"DNF\",$G92=\"DNF\"),\"DNF\",IF(OR($E92=\"NP\",$F92=\"NP\",$G92=\"NP\"),\"NP\",IF(ISERROR(MEDIAN($E92:$G92)),\"DNF\",IF(COUNT($E92:$G92)<3,MAX($E92:$G92),MEDIAN($E92:$G92))))))","v":""},null,null,null,null,null,null,null,null,null,null,null,null,"",{"$f":"IF(C92=\"x\",\"x\",IF(C92=\"\",\"\",IF(OR(W92=\"NP\",W92=\"DNF\"),IF(W92=\"NP\",MAX(W$12:W$309)+COUNTIF((W$12:W$309),MAX(W$12:W$309)),MAX(W$12:W$309)+COUNTIF((W$12:W$309),MAX(W$12:W$309))+COUNTIF((W$12:W$309),\"NP\")),W92)))","v":""},{"$f":"IF(A92=\"x\",\"x\",IF(C92=\"\",\"\",IF(OR(X92=\"NP\",X92=\"DNF\"),X92,RANK(X92,X$12:X$309,1))))","v":""},{"$f":"IF(A92=\"x\",\"x\",IF(C92=\"\",\"\",IF(OR(AND(U92=\"NP\",U93=\"NP\"),AND(U92=\"DNF\",U93=\"DNF\")),U92,IF(AND(U92=\"NP\",U93=\"DNF\"),U92,IF(AND(U92=\"DNF\",U93=\"NP\"),U93,MIN(U92,U93))))))","v":""}]
[null,null,null,"II.pokus",null,null,null,{"$f":"IF($C92=\"\",\"\",IF(OR($E93=\"DNF\",$F93=\"DNF\",$G93=\"DNF\"),\"DNF\",IF(OR($E93=\"NP\",$F93=\"NP\",$G93=\"NP\"),\"NP\",IF(ISERROR(MEDIAN($E93:$G93)),\"DNF\",IF(COUNT($E93:$G93)<3,MAX($E93:$G93),MEDIAN($E93:$G93))))))","v":""},null,null,null,null,null,null,null,null,null,null,null,null,""]
[null,"CELOSTÁTNÍ HRA PLAMEN"]
[]
[]
[null,"Výsledková listina č: 4"]
[null,"Štafeta 400 m CTIF",null,null,"Základem je čas naměřený od vydání signálu startéra do proběhnutí posledního člena cílem",null,null,null,"K úřednímu času se připočítávají trest. Sekundy - za každý případ 10 sekund",null,null,null,null,null,null,null,null,null,null,null,"Výsledek soutěže"]
[null,null,null,null,null,null,null,null,"za nesprávné spojení spojek\n(hadice, rozdělovač, proudnice)\nza každý případ",null,null,"nesprávně překonaná překážka nebo\nnesprávně provedený úkon\nza každý případ",null,null,"vyšlápnutí z dráhy oběma nohama\nza každý případ"]
[null,null,null,null,null,null,null,null,null,null,null,null,null,null,null,null,null,null,null,null,"součet trest. Sekund a úředního času","počet bodů za umístění"]
[null,{"$f":"\"KATEGORIE: \"&'Start - podzim'!$N$2","v":"KATEGORIE: STARŠÍ"},null,null,"I. časoměřič","II. časoměřič","III. časoměřič","úřední čas"]
[]
[null,"start. číslo","SOUTĚŽNÍ DRUŽSTVO","pokus"]
[]
[{"$f":"IF('Start - jaro'!I11=\"\",\"\",\"x\")","v":""},31,{"$f":"IF('Start - jaro'!G11=\"\",\"\",'Start - jaro'!G11)","v":""},"I.pokus",null,null,null,{"$f":"IF($C105=\"\",\"\",IF(OR($E105=\"DNF\",$F105=\"DNF\",$G105=\"DNF\"),\"DNF\",IF(OR($E105=\"NP\",$F105=\"NP\",$G105=\"NP\"),\"NP\",IF(ISERROR(MEDIAN($E105:$G105)),\"DNF\",IF(COUNT($E105:$G105)<3,MAX($E105:$G105),MEDIAN($E105:$G105))))))","v":""},null,null,null,null,null,null,null,null,null,null,null,null,{"$f":"IF(H105=\"\",\"\",IF(H105=\"NP\",\"NP\",IF(H105=\"DNF\",\"DNF\",SUM(I105:T105)+H105)))","v":""},{"$f":"IF(C105=\"x\",\"x\",IF(C105=\"\",\"\",IF(OR(W105=\"NP\",W105=\"DNF\"),IF(W105=\"NP\",MAX(W$12:W$309)+COUNTIF((W$12:W$309),MAX(W$12:W$309)),MAX(W$12:W$309)+COUNTIF((W$12:W$309),MAX(W$12:W$309))+COUNTIF((W$12:W$309),\"NP\")),W105)))","v":""},{"$f":"IF(A105=\"x\",\"x\",IF(C105=\"\",\"\",IF(OR(X105=\"NP\",X105=\"DNF\"),X105,RANK(X105,X$12:X$309,1))))","v":""},{"$f":"IF(A105=\"x\",\"x\",IF(C105=\"\",\"\",IF(OR(AND(U105=\"NP\",U106=\"NP\"),AND(U105=\"DNF\",U106=\"DNF\")),U105,IF(AND(U105=\"NP\",U106=\"DNF\"),U105,IF(AND(U105=\"DNF\",U106=\"NP\"),U106,MIN(U105,U106))))))","v":""}]
[null,null,null,"II.pokus",null,null,null,{"$f":"IF($C105=\"\",\"\",IF(OR($E106=\"DNF\",$F106=\"DNF\",$G106=\"DNF\"),\"DNF\",IF(OR($E106=\"NP\",$F106=\"NP\",$G106=\"NP\"),\"NP\",IF(ISERROR(MEDIAN($E106:$G106)),\"DNF\",IF(COUNT($E106:$G106)<3,MAX($E106:$G106),MEDIAN($E106:$G106))))))","v":""},null,null,null,null,null,null,null,null,null,null,null,null,""]
[{"$f":"IF('Start - jaro'!I12=\"\",\"\",\"x\")","v":""},32,{"$f":"IF('Start - jaro'!G12=\"\",\"\",'Start - jaro'!G12)","v":""},"I.pokus",null,null,null,{"$f":"IF($C107=\"\",\"\",IF(OR($E107=\"DNF\",$F107=\"DNF\",$G107=\"DNF\"),\"DNF\",IF(OR($E107=\"NP\",$F107=\"NP\",$G107=\"NP\"),\"NP\",IF(ISERROR(MEDIAN($E107:$G107)),\"DNF\",IF(COUNT($E107:$G107)<3,MAX($E107:$G107),MEDIAN($E107:$G107))))))","v":""},null,null,null,null,null,null,null,null,null,null,null,null,"",{"$f":"IF(C107=\"x\",\"x\",IF(C107=\"\",\"\",IF(OR(W107=\"NP\",W107=\"DNF\"),IF(W107=\"NP\",MAX(W$12:W$309)+COUNTIF((W$12:W$309),MAX(W$12:W$309)),MAX(W$12:W$309)+COUNTIF((W$12:W$309),MAX(W$12:W$309))+COUNTIF((W$12:W$309),\"NP\")),W107)))","v":""},{"$f":"IF(A107=\"x\",\"x\",IF(C107=\"\",\"\",IF(OR(X107=\"NP\",X107=\"DNF\"),X107,RANK(X107,X$12:X$309,1))))","v":""},{"$f":"IF(A107=\"x\",\"x\",IF(C107=\"\",\"\",IF(OR(AND(U107=\"NP\",U108=\"NP\"),AND(U107=\"DNF\",U108=\"DNF\")),U107,IF(AND(U107=\"NP\",U108=\"DNF\"),U107,IF(AND(U107=\"DNF\",U108=\"NP\"),U108,MIN(U107,U108))))))","v":""}]
[null,null,null,"II.pokus",null,null,null,{"$f":"IF($C107=\"\",\"\",IF(OR($E108=\"DNF\",$F108=\"DNF\",$G108=\"DNF\"),\"DNF\",IF(OR($E108=\"NP\",$F108=\"NP\",$G108=\"NP\"),\"NP\",IF(ISERROR(MEDIAN($E108:$G108)),\"DNF\",IF(COUNT($E108:$G108)<3,MAX($E108:$G108),MEDIAN($E108:$G108))))))","v":""},null,null,null,null,null,null,null,null,null,null,null,null,""]
[{"$f":"IF('Start - jaro'!I13=\"\",\"\",\"x\")","v":""},33,{"$f":"IF('Start - jaro'!G13=\"\",\"\",'Start - jaro'!G13)","v":""},"I.pokus",null,null,null,{"$f":"IF($C109=\"\",\"\",IF(OR($E109=\"DNF\",$F109=\"DNF\",$G109=\"DNF\"),\"DNF\",IF(OR($E109=\"NP\",$F109=\"NP\",$G109=\"NP\"),\"NP\",IF(ISERROR(MEDIAN($E109:$G109)),\"DNF\",IF(COUNT($E109:$G109)<3,MAX($E109:$G109),MEDIAN($E109:$G109))))))","v":""},null,null,null,null,null,null,null,null,null,null,null,null,"",{"$f":"IF(C109=\"x\",\"x\",IF(C109=\"\",\"\",IF(OR(W109=\"NP\",W109=\"DNF\"),IF(W109=\"NP\",MAX(W$12:W$309)+COUNTIF((W$12:W$309),MAX(W$12:W$309)),MAX(W$12:W$309)+COUNTIF((W$12:W$309),MAX(W$12:W$309))+COUNTIF((W$12:W$309),\"NP\")),W109)))","v":""},{"$f":"IF(A109=\"x\",\"x\",IF(C109=\"\",\"\",IF(OR(X109=\"NP\",X109=\"DNF\"),X109,RANK(X109,X$12:X$309,1))))","v":""},{"$f":"IF(A109=\"x\",\"x\",IF(C109=\"\",\"\",IF(OR(AND(U109=\"NP\",U110=\"NP\"),AND(U109=\"DNF\",U110=\"DNF\")),U109,IF(AND(U109=\"NP\",U110=\"DNF\"),U109,IF(AND(U109=\"DNF\",U110=\"NP\"),U110,MIN(U109,U110))))))","v":""}]
[null,null,null,"II.pokus",null,null,null,{"$f":"IF($C109=\"\",\"\",IF(OR($E110=\"DNF\",$F110=\"DNF\",$G110=\"DNF\"),\"DNF\",IF(OR($E110=\"NP\",$F110=\"NP\",$G110=\"NP\"),\"NP\",IF(ISERROR(MEDIAN($E110:$G110)),\"DNF\",IF(COUNT($E110:$G110)<3,MAX($E110:$G110),MEDIAN($E110:$G110))))))","v":""},null,null,null,null,null,null,null,null,null,null,null,null,""]
[{"$f":"IF('Start - jaro'!I14=\"\",\"\",\"x\")","v":""},34,{"$f":"IF('Start - jaro'!G14=\"\",\"\",'Start - jaro'!G14)","v":""},"I.pokus",null,null,null,{"$f":"IF($C111=\"\",\"\",IF(OR($E111=\"DNF\",$F111=\"DNF\",$G111=\"DNF\"),\"DNF\",IF(OR($E111=\"NP\",$F111=\"NP\",$G111=\"NP\"),\"NP\",IF(ISERROR(MEDIAN($E111:$G111)),\"DNF\",IF(COUNT($E111:$G111)<3,MAX($E111:$G111),MEDIAN($E111:$G111))))))","v":""},null,null,null,null,null,null,null,null,null,null,null,null,"",{"$f":"IF(C111=\"x\",\"x\",IF(C111=\"\",\"\",IF(OR(W111=\"NP\",W111=\"DNF\"),IF(W111=\"NP\",MAX(W$12:W$309)+COUNTIF((W$12:W$309),MAX(W$12:W$309)),MAX(W$12:W$309)+COUNTIF((W$12:W$309),MAX(W$12:W$309))+COUNTIF((W$12:W$309),\"NP\")),W111)))","v":""},{"$f":"IF(A111=\"x\",\"x\",IF(C111=\"\",\"\",IF(OR(X111=\"NP\",X111=\"DNF\"),X111,RANK(X111,X$12:X$309,1))))","v":""},{"$f":"IF(A111=\"x\",\"x\",IF(C111=\"\",\"\",IF(OR(AND(U111=\"NP\",U112=\"NP\"),AND(U111=\"DNF\",U112=\"DNF\")),U111,IF(AND(U111=\"NP\",U112=\"DNF\"),U111,IF(AND(U111=\"DNF\",U112=\"NP\"),U112,MIN(U111,U112))))))","v":""}]
[null,null,null,"II.pokus",null,null,null,{"$f":"IF($C111=\"\",\"\",IF(OR($E112=\"DNF\",$F112=\"DNF\",$G112=\"DNF\"),\"DNF\",IF(OR($E112=\"NP\",$F112=\"NP\",$G112=\"NP\"),\"NP\",IF(ISERROR(MEDIAN($E112:$G112)),\"DNF\",IF(COUNT($E112:$G112)<3,MAX($E112:$G112),MEDIAN($E112:$G112))))))","v":""},null,null,null,null,null,null,null,null,null,null,null,null,""]
[{"$f":"IF('Start - jaro'!I15=\"\",\"\",\"x\")","v":""},35,{"$f":"IF('Start - jaro'!G15=\"\",\"\",'Start - jaro'!G15)","v":""},"I.pokus",null,null,null,{"$f":"IF($C113=\"\",\"\",IF(OR($E113=\"DNF\",$F113=\"DNF\",$G113=\"DNF\"),\"DNF\",IF(OR($E113=\"NP\",$F113=\"NP\",$G113=\"NP\"),\"NP\",IF(ISERROR(MEDIAN($E113:$G113)),\"DNF\",IF(COUNT($E113:$G113)<3,MAX($E113:$G113),MEDIAN($E113:$G113))))))","v":""},null,null,null,null,null,null,null,null,null,null,null,null,"",{"$f":"IF(C113=\"x\",\"x\",IF(C113=\"\",\"\",IF(OR(W113=\"NP\",W113=\"DNF\"),IF(W113=\"NP\",MAX(W$12:W$309)+COUNTIF((W$12:W$309),MAX(W$12:W$309)),MAX(W$12:W$309)+COUNTIF((W$12:W$309),MAX(W$12:W$309))+COUNTIF((W$12:W$309),\"NP\")),W113)))","v":""},{"$f":"IF(A113=\"x\",\"x\",IF(C113=\"\",\"\",IF(OR(X113=\"NP\",X113=\"DNF\"),X113,RANK(X113,X$12:X$309,1))))","v":""},{"$f":"IF(A113=\"x\",\"x\",IF(C113=\"\",\"\",IF(OR(AND(U113=\"NP\",U114=\"NP\"),AND(U113=\"DNF\",U114=\"DNF\")),U113,IF(AND(U113=\"NP\",U114=\"DNF\"),U113,IF(AND(U113=\"DNF\",U114=\"NP\"),U114,MIN(U113,U114))))))","v":""}]
[null,null,null,"II.pokus",null,null,null,{"$f":"IF($C113=\"\",\"\",IF(OR($E114=\"DNF\",$F114=\"DNF\",$G114=\"DNF\"),\"DNF\",IF(OR($E114=\"NP\",$F114=\"NP\",$G114=\"NP\"),\"NP\",IF(ISERROR(MEDIAN($E114:$G114)),\"DNF\",IF(COUNT($E114:$G114)<3,MAX($E114:$G114),MEDIAN($E114:$G114))))))","v":""},null,null,null,null,null,null,null,null,null,null,null,null,""]
[{"$f":"IF('Start - jaro'!I16=\"\",\"\",\"x\")","v":""},36,{"$f":"IF('Start - jaro'!G16=\"\",\"\",'Start - jaro'!G16)","v":""},"I.pokus",null,null,null,{"$f":"IF($C115=\"\",\"\",IF(OR($E115=\"DNF\",$F115=\"DNF\",$G115=\"DNF\"),\"DNF\",IF(OR($E115=\"NP\",$F115=\"NP\",$G115=\"NP\"),\"NP\",IF(ISERROR(MEDIAN($E115:$G115)),\"DNF\",IF(COUNT($E115:$G115)<3,MAX($E115:$G115),MEDIAN($E115:$G115))))))","v":""},null,null,null,null,null,null,null,null,null,null,null,null,"",{"$f":"IF(C115=\"x\",\"x\",IF(C115=\"\",\"\",IF(OR(W115=\"NP\",W115=\"DNF\"),IF(W115=\"NP\",MAX(W$12:W$309)+COUNTIF((W$12:W$309),MAX(W$12:W$309)),MAX(W$12:W$309)+COUNTIF((W$12:W$309),MAX(W$12:W$309))+COUNTIF((W$12:W$309),\"NP\")),W115)))","v":""},{"$f":"IF(A115=\"x\",\"x\",IF(C115=\"\",\"\",IF(OR(X115=\"NP\",X115=\"DNF\"),X115,RANK(X115,X$12:X$309,1))))","v":""},{"$f":"IF(A115=\"x\",\"x\",IF(C115=\"\",\"\",IF(OR(AND(U115=\"NP\",U116=\"NP\"),AND(U115=\"DNF\",U116=\"DNF\")),U115,IF(AND(U115=\"NP\",U116=\"DNF\"),U115,IF(AND(U115=\"DNF\",U116=\"NP\"),U116,MIN(U115,U116))))))","v":""}]
[null,null,null,"II.pokus",null,null,null,{"$f":"IF($C115=\"\",\"\",IF(OR($E116=\"DNF\",$F116=\"DNF\",$G116=\"DNF\"),\"DNF\",IF(OR($E116=\"NP\",$F116=\"NP\",$G116=\"NP\"),\"NP\",IF(ISERROR(MEDIAN($E116:$G116)),\"DNF\",IF(COUNT($E116:$G116)<3,MAX($E116:$G116),MEDIAN($E116:$G116))))))","v":""},null,null,null,null,null,null,null,null,null,null,null,null,""]
[{"$f":"IF('Start - jaro'!I17=\"\",\"\",\"x\")","v":""},37,{"$f":"IF('Start - jaro'!G17=\"\",\"\",'Start - jaro'!G17)","v":""},"I.pokus",null,null,null,{"$f":"IF($C117=\"\",\"\",IF(OR($E117=\"DNF\",$F117=\"DNF\",$G117=\"DNF\"),\"DNF\",IF(OR($E117=\"NP\",$F117=\"NP\",$G117=\"NP\"),\"NP\",IF(ISERROR(MEDIAN($E117:$G117)),\"DNF\",IF(COUNT($E117:$G117)<3,MAX($E117:$G117),MEDIAN($E117:$G117))))))","v":""},null,null,null,null,null,null,null,null,null,null,null,null,"",{"$f":"IF(C117=\"x\",\"x\",IF(C117=\"\",\"\",IF(OR(W117=\"NP\",W117=\"DNF\"),IF(W117=\"NP\",MAX(W$12:W$309)+COUNTIF((W$12:W$309),MAX(W$12:W$309)),MAX(W$12:W$309)+COUNTIF((W$12:W$309),MAX(W$12:W$309))+COUNTIF((W$12:W$309),\"NP\")),W117)))","v":""},{"$f":"IF(A117=\"x\",\"x\",IF(C117=\"\",\"\",IF(OR(X117=\"NP\",X117=\"DNF\"),X117,RANK(X117,X$12:X$309,1))))","v":""},{"$f":"IF(A117=\"x\",\"x\",IF(C117=\"\",\"\",IF(OR(AND(U117=\"NP\",U118=\"NP\"),AND(U117=\"DNF\",U118=\"DNF\")),U117,IF(AND(U117=\"NP\",U118=\"DNF\"),U117,IF(AND(U117=\"DNF\",U118=\"NP\"),U118,MIN(U117,U118))))))","v":""}]
[null,null,null,"II.pokus",null,null,null,{"$f":"IF($C117=\"\",\"\",IF(OR($E118=\"DNF\",$F118=\"DNF\",$G118=\"DNF\"),\"DNF\",IF(OR($E118=\"NP\",$F118=\"NP\",$G118=\"NP\"),\"NP\",IF(ISERROR(MEDIAN($E118:$G118)),\"DNF\",IF(COUNT($E118:$G118)<3,MAX($E118:$G118),MEDIAN($E118:$G118))))))","v":""},null,null,null,null,null,null,null,null,null,null,null,null,""]
[{"$f":"IF('Start - jaro'!I18=\"\",\"\",\"x\")","v":""},38,{"$f":"IF('Start - jaro'!G18=\"\",\"\",'Start - jaro'!G18)","v":""},"I.pokus",null,null,null,{"$f":"IF($C119=\"\",\"\",IF(OR($E119=\"DNF\",$F119=\"DNF\",$G119=\"DNF\"),\"DNF\",IF(OR($E119=\"NP\",$F119=\"NP\",$G119=\"NP\"),\"NP\",IF(ISERROR(MEDIAN($E119:$G119)),\"DNF\",IF(COUNT($E119:$G119)<3,MAX($E119:$G119),MEDIAN($E119:$G119))))))","v":""},null,null,null,null,null,null,null,null,null,null,null,null,"",{"$f":"IF(C119=\"x\",\"x\",IF(C119=\"\",\"\",IF(OR(W119=\"NP\",W119=\"DNF\"),IF(W119=\"NP\",MAX(W$12:W$309)+COUNTIF((W$12:W$309),MAX(W$12:W$309)),MAX(W$12:W$309)+COUNTIF((W$12:W$309),MAX(W$12:W$309))+COUNTIF((W$12:W$309),\"NP\")),W119)))","v":""},{"$f":"IF(A119=\"x\",\"x\",IF(C119=\"\",\"\",IF(OR(X119=\"NP\",X119=\"DNF\"),X119,RANK(X119,X$12:X$309,1))))","v":""},{"$f":"IF(A119=\"x\",\"x\",IF(C119=\"\",\"\",IF(OR(AND(U119=\"NP\",U120=\"NP\"),AND(U119=\"DNF\",U120=\"DNF\")),U119,IF(AND(U119=\"NP\",U120=\"DNF\"),U119,IF(AND(U119=\"DNF\",U120=\"NP\"),U120,MIN(U119,U120))))))","v":""}]
[null,null,null,"II.pokus",null,null,null,{"$f":"IF($C119=\"\",\"\",IF(OR($E120=\"DNF\",$F120=\"DNF\",$G120=\"DNF\"),\"DNF\",IF(OR($E120=\"NP\",$F120=\"NP\",$G120=\"NP\"),\"NP\",IF(ISERROR(MEDIAN($E120:$G120)),\"DNF\",IF(COUNT($E120:$G120)<3,MAX($E120:$G120),MEDIAN($E120:$G120))))))","v":""},null,null,null,null,null,null,null,null,null,null,null,null,""]
[{"$f":"IF('Start - jaro'!I19=\"\",\"\",\"x\")","v":""},39,{"$f":"IF('Start - jaro'!G19=\"\",\"\",'Start - jaro'!G19)","v":""},"I.pokus",null,null,null,{"$f":"IF($C121=\"\",\"\",IF(OR($E121=\"DNF\",$F121=\"DNF\",$G121=\"DNF\"),\"DNF\",IF(OR($E121=\"NP\",$F121=\"NP\",$G121=\"NP\"),\"NP\",IF(ISERROR(MEDIAN($E121:$G121)),\"DNF\",IF(COUNT($E121:$G121)<3,MAX($E121:$G121),MEDIAN($E121:$G121))))))","v":""},null,null,null,null,null,null,null,null,null,null,null,null,"",{"$f":"IF(C121=\"x\",\"x\",IF(C121=\"\",\"\",IF(OR(W121=\"NP\",W121=\"DNF\"),IF(W121=\"NP\",MAX(W$12:W$309)+COUNTIF((W$12:W$309),MAX(W$12:W$309)),MAX(W$12:W$309)+COUNTIF((W$12:W$309),MAX(W$12:W$309))+COUNTIF((W$12:W$309),\"NP\")),W121)))","v":""},{"$f":"IF(A121=\"x\",\"x\",IF(C121=\"\",\"\",IF(OR(X121=\"NP\",X121=\"DNF\"),X121,RANK(X121,X$12:X$309,1))))","v":""},{"$f":"IF(A121=\"x\",\"x\",IF(C121=\"\",\"\",IF(OR(AND(U121=\"NP\",U122=\"NP\"),AND(U121=\"DNF\",U122=\"DNF\")),U121,IF(AND(U121=\"NP\",U122=\"DNF\"),U121,IF(AND(U121=\"DNF\",U122=\"NP\"),U122,MIN(U121,U122))))))","v":""}]
[null,null,null,"II.pokus",null,null,null,{"$f":"IF($C121=\"\",\"\",IF(OR($E122=\"DNF\",$F122=\"DNF\",$G122=\"DNF\"),\"DNF\",IF(OR($E122=\"NP\",$F122=\"NP\",$G122=\"NP\"),\"NP\",IF(ISERROR(MEDIAN($E122:$G122)),\"DNF\",IF(COUNT($E122:$G122)<3,MAX($E122:$G122),MEDIAN($E122:$G122))))))","v":""},null,null,null,null,null,null,null,null,null,null,null,null,""]
[{"$f":"IF('Start - jaro'!I20=\"\",\"\",\"x\")","v":""},40,{"$f":"IF('Start - jaro'!G20=\"\",\"\",'Start - jaro'!G20)","v":""},"I.pokus",null,null,null,{"$f":"IF($C123=\"\",\"\",IF(OR($E123=\"DNF\",$F123=\"DNF\",$G123=\"DNF\"),\"DNF\",IF(OR($E123=\"NP\",$F123=\"NP\",$G123=\"NP\"),\"NP\",IF(ISERROR(MEDIAN($E123:$G123)),\"DNF\",IF(COUNT($E123:$G123)<3,MAX($E123:$G123),MEDIAN($E123:$G123))))))","v":""},null,null,null,null,null,null,null,null,null,null,null,null,"",{"$f":"IF(C123=\"x\",\"x\",IF(C123=\"\",\"\",IF(OR(W123=\"NP\",W123=\"DNF\"),IF(W123=\"NP\",MAX(W$12:W$309)+COUNTIF((W$12:W$309),MAX(W$12:W$309)),MAX(W$12:W$309)+COUNTIF((W$12:W$309),MAX(W$12:W$309))+COUNTIF((W$12:W$309),\"NP\")),W123)))","v":""},{"$f":"IF(A123=\"x\",\"x\",IF(C123=\"\",\"\",IF(OR(X123=\"NP\",X123=\"DNF\"),X123,RANK(X123,X$12:X$309,1))))","v":""},{"$f":"IF(A123=\"x\",\"x\",IF(C123=\"\",\"\",IF(OR(AND(U123=\"NP\",U124=\"NP\"),AND(U123=\"DNF\",U124=\"DNF\")),U123,IF(AND(U123=\"NP\",U124=\"DNF\"),U123,IF(AND(U123=\"DNF\",U124=\"NP\"),U124,MIN(U123,U124))))))","v":""}]
[null,null,null,"II.pokus",null,null,null,{"$f":"IF($C123=\"\",\"\",IF(OR($E124=\"DNF\",$F124=\"DNF\",$G124=\"DNF\"),\"DNF\",IF(OR($E124=\"NP\",$F124=\"NP\",$G124=\"NP\"),\"NP\",IF(ISERROR(MEDIAN($E124:$G124)),\"DNF\",IF(COUNT($E124:$G124)<3,MAX($E124:$G124),MEDIAN($E124:$G124))))))","v":""},null,null,null,null,null,null,null,null,null,null,null,null,""]
[null,"CELOSTÁTNÍ HRA PLAMEN"]
[]
[]
[null,"Výsledková listina č: 5"]
[null,"Štafeta 400 m CTIF",null,null,"Základem je čas naměřený od vydání signálu startéra do proběhnutí posledního člena cílem",null,null,null,"K úřednímu času se připočítávají trest. Sekundy - za každý případ 10 sekund",null,null,null,null,null,null,null,null,null,null,null,"Výsledek soutěže"]
[null,null,null,null,null,null,null,null,"za nesprávné spojení spojek\n(hadice, rozdělovač, proudnice)\nza každý případ",null,null,"nesprávně překonaná překážka nebo\nnesprávně provedený úkon\nza každý případ",null,null,"vyšlápnutí z dráhy oběma nohama\nza každý případ"]
[null,null,null,null,null,null,null,null,null,null,null,null,null,null,null,null,null,null,null,null,"součet trest. Sekund a úředního času","počet bodů za umístění"]
[null,{"$f":"\"KATEGORIE: \"&'Start - podzim'!$N$2","v":"KATEGORIE: STARŠÍ"},null,null,"I. časoměřič","II. časoměřič","III. časoměřič","úřední čas"]
[]
[null,"start. číslo","SOUTĚŽNÍ DRUŽSTVO","pokus"]
[]
[{"$f":"IF('Start - jaro'!I21=\"\",\"\",\"x\")","v":""},41,{"$f":"IF('Start - jaro'!G21=\"\",\"\",'Start - jaro'!G21)","v":""},"I.pokus",null,null,null,{"$f":"IF($C136=\"\",\"\",IF(OR($E136=\"DNF\",$F136=\"DNF\",$G136=\"DNF\"),\"DNF\",IF(OR($E136=\"NP\",$F136=\"NP\",$G136=\"NP\"),\"NP\",IF(ISERROR(MEDIAN($E136:$G136)),\"DNF\",IF(COUNT($E136:$G136)<3,MAX($E136:$G136),MEDIAN($E136:$G136))))))","v":""},null,null,null,null,null,null,null,null,null,null,null,null,{"$f":"IF(H136=\"\",\"\",IF(H136=\"NP\",\"NP\",IF(H136=\"DNF\",\"DNF\",SUM(I136:T136)+H136)))","v":""},{"$f":"IF(C136=\"x\",\"x\",IF(C136=\"\",\"\",IF(OR(W136=\"NP\",W136=\"DNF\"),IF(W136=\"NP\",MAX(W$12:W$309)+COUNTIF((W$12:W$309),MAX(W$12:W$309)),MAX(W$12:W$309)+COUNTIF((W$12:W$309),MAX(W$12:W$309))+COUNTIF((W$12:W$309),\"NP\")),W136)))","v":""},{"$f":"IF(A136=\"x\",\"x\",IF(C136=\"\",\"\",IF(OR(X136=\"NP\",X136=\"DNF\"),X136,RANK(X136,X$12:X$309,1))))","v":""},{"$f":"IF(A136=\"x\",\"x\",IF(C136=\"\",\"\",IF(OR(AND(U136=\"NP\",U137=\"NP\"),AND(U136=\"DNF\",U137=\"DNF\")),U136,IF(AND(U136=\"NP\",U137=\"DNF\"),U136,IF(AND(U136=\"DNF\",U137=\"NP\"),U137,MIN(U136,U137))))))","v":""}]
[null,null,null,"II.pokus",null,null,null,{"$f":"IF($C136=\"\",\"\",IF(OR($E137=\"DNF\",$F137=\"DNF\",$G137=\"DNF\"),\"DNF\",IF(OR($E137=\"NP\",$F137=\"NP\",$G137=\"NP\"),\"NP\",IF(ISERROR(MEDIAN($E137:$G137)),\"DNF\",IF(COUNT($E137:$G137)<3,MAX($E137:$G137),MEDIAN($E137:$G137))))))","v":""},null,null,null,null,null,null,null,null,null,null,null,null,""]
[{"$f":"IF('Start - jaro'!I22=\"\",\"\",\"x\")","v":""},42,{"$f":"IF('Start - jaro'!G22=\"\",\"\",'Start - jaro'!G22)","v":""},"I.pokus",null,null,null,{"$f":"IF($C138=\"\",\"\",IF(OR($E138=\"DNF\",$F138=\"DNF\",$G138=\"DNF\"),\"DNF\",IF(OR($E138=\"NP\",$F138=\"NP\",$G138=\"NP\"),\"NP\",IF(ISERROR(MEDIAN($E138:$G138)),\"DNF\",IF(COUNT($E138:$G138)<3,MAX($E138:$G138),MEDIAN($E138:$G138))))))","v":""},null,null,null,null,null,null,null,null,null,null,null,null,"",{"$f":"IF(C138=\"x\",\"x\",IF(C138=\"\",\"\",IF(OR(W138=\"NP\",W138=\"DNF\"),IF(W138=\"NP\",MAX(W$12:W$309)+COUNTIF((W$12:W$309),MAX(W$12:W$309)),MAX(W$12:W$309)+COUNTIF((W$12:W$309),MAX(W$12:W$309))+COUNTIF((W$12:W$309),\"NP\")),W138)))","v":""},{"$f":"IF(A138=\"x\",\"x\",IF(C138=\"\",\"\",IF(OR(X138=\"NP\",X138=\"DNF\"),X138,RANK(X138,X$12:X$309,1))))","v":""},{"$f":"IF(A138=\"x\",\"x\",IF(C138=\"\",\"\",IF(OR(AND(U138=\"NP\",U139=\"NP\"),AND(U138=\"DNF\",U139=\"DNF\")),U138,IF(AND(U138=\"NP\",U139=\"DNF\"),U138,IF(AND(U138=\"DNF\",U139=\"NP\"),U139,MIN(U138,U139))))))","v":""}]
[null,null,null,"II.pokus",null,null,null,{"$f":"IF($C138=\"\",\"\",IF(OR($E139=\"DNF\",$F139=\"DNF\",$G139=\"DNF\"),\"DNF\",IF(OR($E139=\"NP\",$F139=\"NP\",$G139=\"NP\"),\"NP\",IF(ISERROR(MEDIAN($E139:$G139)),\"DNF\",IF(COUNT($E139:$G139)<3,MAX($E139:$G139),MEDIAN($E139:$G139))))))","v":""},null,null,null,null,null,null,null,null,null,null,null,null,""]
[{"$f":"IF('Start - jaro'!I23=\"\",\"\",\"x\")","v":""},43,{"$f":"IF('Start - jaro'!G23=\"\",\"\",'Start - jaro'!G23)","v":""},"I.pokus",null,null,null,{"$f":"IF($C140=\"\",\"\",IF(OR($E140=\"DNF\",$F140=\"DNF\",$G140=\"DNF\"),\"DNF\",IF(OR($E140=\"NP\",$F140=\"NP\",$G140=\"NP\"),\"NP\",IF(ISERROR(MEDIAN($E140:$G140)),\"DNF\",IF(COUNT($E140:$G140)<3,MAX($E140:$G140),MEDIAN($E140:$G140))))))","v":""},null,null,null,null,null,null,null,null,null,null,null,null,"",{"$f":"IF(C140=\"x\",\"x\",IF(C140=\"\",\"\",IF(OR(W140=\"NP\",W140=\"DNF\"),IF(W140=\"NP\",MAX(W$12:W$309)+COUNTIF((W$12:W$309),MAX(W$12:W$309)),MAX(W$12:W$309)+COUNTIF((W$12:W$309),MAX(W$12:W$309))+COUNTIF((W$12:W$309),\"NP\")),W140)))","v":""},{"$f":"IF(A140=\"x\",\"x\",IF(C140=\"\",\"\",IF(OR(X140=\"NP\",X140=\"DNF\"),X140,RANK(X140,X$12:X$309,1))))","v":""},{"$f":"IF(A140=\"x\",\"x\",IF(C140=\"\",\"\",IF(OR(AND(U140=\"NP\",U141=\"NP\"),AND(U140=\"DNF\",U141=\"DNF\")),U140,IF(AND(U140=\"NP\",U141=\"DNF\"),U140,IF(AND(U140=\"DNF\",U141=\"NP\"),U141,MIN(U140,U141))))))","v":""}]
[null,null,null,"II.pokus",null,null,null,{"$f":"IF($C140=\"\",\"\",IF(OR($E141=\"DNF\",$F141=\"DNF\",$G141=\"DNF\"),\"DNF\",IF(OR($E141=\"NP\",$F141=\"NP\",$G141=\"NP\"),\"NP\",IF(ISERROR(MEDIAN($E141:$G141)),\"DNF\",IF(COUNT($E141:$G141)<3,MAX($E141:$G141),MEDIAN($E141:$G141))))))","v":""},null,null,null,null,null,null,null,null,null,null,null,null,""]
[{"$f":"IF('Start - jaro'!I24=\"\",\"\",\"x\")","v":""},44,{"$f":"IF('Start - jaro'!G24=\"\",\"\",'Start - jaro'!G24)","v":""},"I.pokus",null,null,null,{"$f":"IF($C142=\"\",\"\",IF(OR($E142=\"DNF\",$F142=\"DNF\",$G142=\"DNF\"),\"DNF\",IF(OR($E142=\"NP\",$F142=\"NP\",$G142=\"NP\"),\"NP\",IF(ISERROR(MEDIAN($E142:$G142)),\"DNF\",IF(COUNT($E142:$G142)<3,MAX($E142:$G142),MEDIAN($E142:$G142))))))","v":""},null,null,null,null,null,null,null,null,null,null,null,null,"",{"$f":"IF(C142=\"x\",\"x\",IF(C142=\"\",\"\",IF(OR(W142=\"NP\",W142=\"DNF\"),IF(W142=\"NP\",MAX(W$12:W$309)+COUNTIF((W$12:W$309),MAX(W$12:W$309)),MAX(W$12:W$309)+COUNTIF((W$12:W$309),MAX(W$12:W$309))+COUNTIF((W$12:W$309),\"NP\")),W142)))","v":""},{"$f":"IF(A142=\"x\",\"x\",IF(C142=\"\",\"\",IF(OR(X142=\"NP\",X142=\"DNF\"),X142,RANK(X142,X$12:X$309,1))))","v":""},{"$f":"IF(A142=\"x\",\"x\",IF(C142=\"\",\"\",IF(OR(AND(U142=\"NP\",U143=\"NP\"),AND(U142=\"DNF\",U143=\"DNF\")),U142,IF(AND(U142=\"NP\",U143=\"DNF\"),U142,IF(AND(U142=\"DNF\",U143=\"NP\"),U143,MIN(U142,U143))))))","v":""}]
[null,null,null,"II.pokus",null,null,null,{"$f":"IF($C142=\"\",\"\",IF(OR($E143=\"DNF\",$F143=\"DNF\",$G143=\"DNF\"),\"DNF\",IF(OR($E143=\"NP\",$F143=\"NP\",$G143=\"NP\"),\"NP\",IF(ISERROR(MEDIAN($E143:$G143)),\"DNF\",IF(COUNT($E143:$G143)<3,MAX($E143:$G143),MEDIAN($E143:$G143))))))","v":""},null,null,null,null,null,null,null,null,null,null,null,null,""]
[{"$f":"IF('Start - jaro'!I25=\"\",\"\",\"x\")","v":""},45,{"$f":"IF('Start - jaro'!G25=\"\",\"\",'Start - jaro'!G25)","v":""},"I.pokus",null,null,null,{"$f":"IF($C144=\"\",\"\",IF(OR($E144=\"DNF\",$F144=\"DNF\",$G144=\"DNF\"),\"DNF\",IF(OR($E144=\"NP\",$F144=\"NP\",$G144=\"NP\"),\"NP\",IF(ISERROR(MEDIAN($E144:$G144)),\"DNF\",IF(COUNT($E144:$G144)<3,MAX($E144:$G144),MEDIAN($E144:$G144))))))","v":""},null,null,null,null,null,null,null,null,null,null,null,null,"",{"$f":"IF(C144=\"x\",\"x\",IF(C144=\"\",\"\",IF(OR(W144=\"NP\",W144=\"DNF\"),IF(W144=\"NP\",MAX(W$12:W$309)+COUNTIF((W$12:W$309),MAX(W$12:W$309)),MAX(W$12:W$309)+COUNTIF((W$12:W$309),MAX(W$12:W$309))+COUNTIF((W$12:W$309),\"NP\")),W144)))","v":""},{"$f":"IF(A144=\"x\",\"x\",IF(C144=\"\",\"\",IF(OR(X144=\"NP\",X144=\"DNF\"),X144,RANK(X144,X$12:X$309,1))))","v":""},{"$f":"IF(A144=\"x\",\"x\",IF(C144=\"\",\"\",IF(OR(AND(U144=\"NP\",U145=\"NP\"),AND(U144=\"DNF\",U145=\"DNF\")),U144,IF(AND(U144=\"NP\",U145=\"DNF\"),U144,IF(AND(U144=\"DNF\",U145=\"NP\"),U145,MIN(U144,U145))))))","v":""}]
[null,null,null,"II.pokus",null,null,null,{"$f":"IF($C144=\"\",\"\",IF(OR($E145=\"DNF\",$F145=\"DNF\",$G145=\"DNF\"),\"DNF\",IF(OR($E145=\"NP\",$F145=\"NP\",$G145=\"NP\"),\"NP\",IF(ISERROR(MEDIAN($E145:$G145)),\"DNF\",IF(COUNT($E145:$G145)<3,MAX($E145:$G145),MEDIAN($E145:$G145))))))","v":""},null,null,null,null,null,null,null,null,null,null,null,null,""]
[{"$f":"IF('Start - jaro'!I26=\"\",\"\",\"x\")","v":""},46,{"$f":"IF('Start - jaro'!G26=\"\",\"\",'Start - jaro'!G26)","v":""},"I.pokus",null,null,null,{"$f":"IF($C146=\"\",\"\",IF(OR($E146=\"DNF\",$F146=\"DNF\",$G146=\"DNF\"),\"DNF\",IF(OR($E146=\"NP\",$F146=\"NP\",$G146=\"NP\"),\"NP\",IF(ISERROR(MEDIAN($E146:$G146)),\"DNF\",IF(COUNT($E146:$G146)<3,MAX($E146:$G146),MEDIAN($E146:$G146))))))","v":""},null,null,null,null,null,null,null,null,null,null,null,null,"",{"$f":"IF(C146=\"x\",\"x\",IF(C146=\"\",\"\",IF(OR(W146=\"NP\",W146=\"DNF\"),IF(W146=\"NP\",MAX(W$12:W$309)+COUNTIF((W$12:W$309),MAX(W$12:W$309)),MAX(W$12:W$309)+COUNTIF((W$12:W$309),MAX(W$12:W$309))+COUNTIF((W$12:W$309),\"NP\")),W146)))","v":""},{"$f":"IF(A146=\"x\",\"x\",IF(C146=\"\",\"\",IF(OR(X146=\"NP\",X146=\"DNF\"),X146,RANK(X146,X$12:X$309,1))))","v":""},{"$f":"IF(A146=\"x\",\"x\",IF(C146=\"\",\"\",IF(OR(AND(U146=\"NP\",U147=\"NP\"),AND(U146=\"DNF\",U147=\"DNF\")),U146,IF(AND(U146=\"NP\",U147=\"DNF\"),U146,IF(AND(U146=\"DNF\",U147=\"NP\"),U147,MIN(U146,U147))))))","v":""}]
[null,null,null,"II.pokus",null,null,null,{"$f":"IF($C146=\"\",\"\",IF(OR($E147=\"DNF\",$F147=\"DNF\",$G147=\"DNF\"),\"DNF\",IF(OR($E147=\"NP\",$F147=\"NP\",$G147=\"NP\"),\"NP\",IF(ISERROR(MEDIAN($E147:$G147)),\"DNF\",IF(COUNT($E147:$G147)<3,MAX($E147:$G147),MEDIAN($E147:$G147))))))","v":""},null,null,null,null,null,null,null,null,null,null,null,null,""]
[{"$f":"IF('Start - jaro'!I27=\"\",\"\",\"x\")","v":""},47,{"$f":"IF('Start - jaro'!G27=\"\",\"\",'Start - jaro'!G27)","v":""},"I.pokus",null,null,null,{"$f":"IF($C148=\"\",\"\",IF(OR($E148=\"DNF\",$F148=\"DNF\",$G148=\"DNF\"),\"DNF\",IF(OR($E148=\"NP\",$F148=\"NP\",$G148=\"NP\"),\"NP\",IF(ISERROR(MEDIAN($E148:$G148)),\"DNF\",IF(COUNT($E148:$G148)<3,MAX($E148:$G148),MEDIAN($E148:$G148))))))","v":""},null,null,null,null,null,null,null,null,null,null,null,null,"",{"$f":"IF(C148=\"x\",\"x\",IF(C148=\"\",\"\",IF(OR(W148=\"NP\",W148=\"DNF\"),IF(W148=\"NP\",MAX(W$12:W$309)+COUNTIF((W$12:W$309),MAX(W$12:W$309)),MAX(W$12:W$309)+COUNTIF((W$12:W$309),MAX(W$12:W$309))+COUNTIF((W$12:W$309),\"NP\")),W148)))","v":""},{"$f":"IF(A148=\"x\",\"x\",IF(C148=\"\",\"\",IF(OR(X148=\"NP\",X148=\"DNF\"),X148,RANK(X148,X$12:X$309,1))))","v":""},{"$f":"IF(A148=\"x\",\"x\",IF(C148=\"\",\"\",IF(OR(AND(U148=\"NP\",U149=\"NP\"),AND(U148=\"DNF\",U149=\"DNF\")),U148,IF(AND(U148=\"NP\",U149=\"DNF\"),U148,IF(AND(U148=\"DNF\",U149=\"NP\"),U149,MIN(U148,U149))))))","v":""}]
[null,null,null,"II.pokus",null,null,null,{"$f":"IF($C148=\"\",\"\",IF(OR($E149=\"DNF\",$F149=\"DNF\",$G149=\"DNF\"),\"DNF\",IF(OR($E149=\"NP\",$F149=\"NP\",$G149=\"NP\"),\"NP\",IF(ISERROR(MEDIAN($E149:$G149)),\"DNF\",IF(COUNT($E149:$G149)<3,MAX($E149:$G149),MEDIAN($E149:$G149))))))","v":""},null,null,null,null,null,null,null,null,null,null,null,null,""]
[{"$f":"IF('Start - jaro'!I28=\"\",\"\",\"x\")","v":""},48,{"$f":"IF('Start - jaro'!G28=\"\",\"\",'Start - jaro'!G28)","v":""},"I.pokus",null,null,null,{"$f":"IF($C150=\"\",\"\",IF(OR($E150=\"DNF\",$F150=\"DNF\",$G150=\"DNF\"),\"DNF\",IF(OR($E150=\"NP\",$F150=\"NP\",$G150=\"NP\"),\"NP\",IF(ISERROR(MEDIAN($E150:$G150)),\"DNF\",IF(COUNT($E150:$G150)<3,MAX($E150:$G150),MEDIAN($E150:$G150))))))","v":""},null,null,null,null,null,null,null,null,null,null,null,null,"",{"$f":"IF(C150=\"x\",\"x\",IF(C150=\"\",\"\",IF(OR(W150=\"NP\",W150=\"DNF\"),IF(W150=\"NP\",MAX(W$12:W$309)+COUNTIF((W$12:W$309),MAX(W$12:W$309)),MAX(W$12:W$309)+COUNTIF((W$12:W$309),MAX(W$12:W$309))+COUNTIF((W$12:W$309),\"NP\")),W150)))","v":""},{"$f":"IF(A150=\"x\",\"x\",IF(C150=\"\",\"\",IF(OR(X150=\"NP\",X150=\"DNF\"),X150,RANK(X150,X$12:X$309,1))))","v":""},{"$f":"IF(A150=\"x\",\"x\",IF(C150=\"\",\"\",IF(OR(AND(U150=\"NP\",U151=\"NP\"),AND(U150=\"DNF\",U151=\"DNF\")),U150,IF(AND(U150=\"NP\",U151=\"DNF\"),U150,IF(AND(U150=\"DNF\",U151=\"NP\"),U151,MIN(U150,U151))))))","v":""}]
[null,null,null,"II.pokus",null,null,null,{"$f":"IF($C150=\"\",\"\",IF(OR($E151=\"DNF\",$F151=\"DNF\",$G151=\"DNF\"),\"DNF\",IF(OR($E151=\"NP\",$F151=\"NP\",$G151=\"NP\"),\"NP\",IF(ISERROR(MEDIAN($E151:$G151)),\"DNF\",IF(COUNT($E151:$G151)<3,MAX($E151:$G151),MEDIAN($E151:$G151))))))","v":""},null,null,null,null,null,null,null,null,null,null,null,null,""]
[{"$f":"IF('Start - jaro'!I29=\"\",\"\",\"x\")","v":""},49,{"$f":"IF('Start - jaro'!G29=\"\",\"\",'Start - jaro'!G29)","v":""},"I.pokus",null,null,null,{"$f":"IF($C152=\"\",\"\",IF(OR($E152=\"DNF\",$F152=\"DNF\",$G152=\"DNF\"),\"DNF\",IF(OR($E152=\"NP\",$F152=\"NP\",$G152=\"NP\"),\"NP\",IF(ISERROR(MEDIAN($E152:$G152)),\"DNF\",IF(COUNT($E152:$G152)<3,MAX($E152:$G152),MEDIAN($E152:$G152))))))","v":""},null,null,null,null,null,null,null,null,null,null,null,null,"",{"$f":"IF(C152=\"x\",\"x\",IF(C152=\"\",\"\",IF(OR(W152=\"NP\",W152=\"DNF\"),IF(W152=\"NP\",MAX(W$12:W$309)+COUNTIF((W$12:W$309),MAX(W$12:W$309)),MAX(W$12:W$309)+COUNTIF((W$12:W$309),MAX(W$12:W$309))+COUNTIF((W$12:W$309),\"NP\")),W152)))","v":""},{"$f":"IF(A152=\"x\",\"x\",IF(C152=\"\",\"\",IF(OR(X152=\"NP\",X152=\"DNF\"),X152,RANK(X152,X$12:X$309,1))))","v":""},{"$f":"IF(A152=\"x\",\"x\",IF(C152=\"\",\"\",IF(OR(AND(U152=\"NP\",U153=\"NP\"),AND(U152=\"DNF\",U153=\"DNF\")),U152,IF(AND(U152=\"NP\",U153=\"DNF\"),U152,IF(AND(U152=\"DNF\",U153=\"NP\"),U153,MIN(U152,U153))))))","v":""}]
[null,null,null,"II.pokus",null,null,null,{"$f":"IF($C152=\"\",\"\",IF(OR($E153=\"DNF\",$F153=\"DNF\",$G153=\"DNF\"),\"DNF\",IF(OR($E153=\"NP\",$F153=\"NP\",$G153=\"NP\"),\"NP\",IF(ISERROR(MEDIAN($E153:$G153)),\"DNF\",IF(COUNT($E153:$G153)<3,MAX($E153:$G153),MEDIAN($E153:$G153))))))","v":""},null,null,null,null,null,null,null,null,null,null,null,null,""]
[{"$f":"IF('Start - jaro'!I30=\"\",\"\",\"x\")","v":""},50,{"$f":"IF('Start - jaro'!G30=\"\",\"\",'Start - jaro'!G30)","v":""},"I.pokus",null,null,null,{"$f":"IF($C154=\"\",\"\",IF(OR($E154=\"DNF\",$F154=\"DNF\",$G154=\"DNF\"),\"DNF\",IF(OR($E154=\"NP\",$F154=\"NP\",$G154=\"NP\"),\"NP\",IF(ISERROR(MEDIAN($E154:$G154)),\"DNF\",IF(COUNT($E154:$G154)<3,MAX($E154:$G154),MEDIAN($E154:$G154))))))","v":""},null,null,null,null,null,null,null,null,null,null,null,null,"",{"$f":"IF(C154=\"x\",\"x\",IF(C154=\"\",\"\",IF(OR(W154=\"NP\",W154=\"DNF\"),IF(W154=\"NP\",MAX(W$12:W$309)+COUNTIF((W$12:W$309),MAX(W$12:W$309)),MAX(W$12:W$309)+COUNTIF((W$12:W$309),MAX(W$12:W$309))+COUNTIF((W$12:W$309),\"NP\")),W154)))","v":""},{"$f":"IF(A154=\"x\",\"x\",IF(C154=\"\",\"\",IF(OR(X154=\"NP\",X154=\"DNF\"),X154,RANK(X154,X$12:X$309,1))))","v":""},{"$f":"IF(A154=\"x\",\"x\",IF(C154=\"\",\"\",IF(OR(AND(U154=\"NP\",U155=\"NP\"),AND(U154=\"DNF\",U155=\"DNF\")),U154,IF(AND(U154=\"NP\",U155=\"DNF\"),U154,IF(AND(U154=\"DNF\",U155=\"NP\"),U155,MIN(U154,U155))))))","v":""}]
[null,null,null,"II.pokus",null,null,null,{"$f":"IF($C154=\"\",\"\",IF(OR($E155=\"DNF\",$F155=\"DNF\",$G155=\"DNF\"),\"DNF\",IF(OR($E155=\"NP\",$F155=\"NP\",$G155=\"NP\"),\"NP\",IF(ISERROR(MEDIAN($E155:$G155)),\"DNF\",IF(COUNT($E155:$G155)<3,MAX($E155:$G155),MEDIAN($E155:$G155))))))","v":""},null,null,null,null,null,null,null,null,null,null,null,null,""]
[null,"CELOSTÁTNÍ HRA PLAMEN"]
[]
[]
[null,"Výsledková listina č: 6"]
[null,"Štafeta 400 m CTIF",null,null,"Základem je čas naměřený od vydání signálu startéra do proběhnutí posledního člena cílem",null,null,null,"K úřednímu času se připočítávají trest. Sekundy - za každý případ 10 sekund",null,null,null,null,null,null,null,null,null,null,null,"Výsledek soutěže"]
[null,null,null,null,null,null,null,null,"za nesprávné spojení spojek\n(hadice, rozdělovač, proudnice)\nza každý případ",null,null,"nesprávně překonaná překážka nebo\nnesprávně provedený úkon\nza každý případ",null,null,"vyšlápnutí z dráhy oběma nohama\nza každý případ"]
[null,null,null,null,null,null,null,null,null,null,null,null,null,null,null,null,null,null,null,null,"součet trest. Sekund a úředního času","počet bodů za umístění"]
[null,{"$f":"\"KATEGORIE: \"&'Start - podzim'!$N$2","v":"KATEGORIE: STARŠÍ"},null,null,"I. časoměřič","II. časoměřič","III. časoměřič","úřední čas"]
[]
[null,"start. číslo","SOUTĚŽNÍ DRUŽSTVO","pokus"]
[]
[{"$f":"IF('Start - jaro'!M6=\"\",\"\",\"x\")","v":""},51,{"$f":"IF('Start - jaro'!K6=\"\",\"\",'Start - jaro'!K6)","v":""},"I.pokus",null,null,null,{"$f":"IF($C167=\"\",\"\",IF(OR($E167=\"DNF\",$F167=\"DNF\",$G167=\"DNF\"),\"DNF\",IF(OR($E167=\"NP\",$F167=\"NP\",$G167=\"NP\"),\"NP\",IF(ISERROR(MEDIAN($E167:$G167)),\"DNF\",IF(COUNT($E167:$G167)<3,MAX($E167:$G167),MEDIAN($E167:$G167))))))","v":""},null,null,null,null,null,null,null,null,null,null,null,null,{"$f":"IF(H167=\"\",\"\",IF(H167=\"NP\",\"NP\",IF(H167=\"DNF\",\"DNF\",SUM(I167:T167)+H167)))","v":""},{"$f":"IF(C167=\"x\",\"x\",IF(C167=\"\",\"\",IF(OR(W167=\"NP\",W167=\"DNF\"),IF(W167=\"NP\",MAX(W$12:W$309)+COUNTIF((W$12:W$309),MAX(W$12:W$309)),MAX(W$12:W$309)+COUNTIF((W$12:W$309),MAX(W$12:W$309))+COUNTIF((W$12:W$309),\"NP\")),W167)))","v":""},{"$f":"IF(A167=\"x\",\"x\",IF(C167=\"\",\"\",IF(OR(X167=\"NP\",X167=\"DNF\"),X167,RANK(X167,X$12:X$309,1))))","v":""},{"$f":"IF(A167=\"x\",\"x\",IF(C167=\"\",\"\",IF(OR(AND(U167=\"NP\",U168=\"NP\"),AND(U167=\"DNF\",U168=\"DNF\")),U167,IF(AND(U167=\"NP\",U168=\"DNF\"),U167,IF(AND(U167=\"DNF\",U168=\"NP\"),U168,MIN(U167,U168))))))","v":""}]
[null,null,null,"II.pokus",null,null,null,{"$f":"IF($C167=\"\",\"\",IF(OR($E168=\"DNF\",$F168=\"DNF\",$G168=\"DNF\"),\"DNF\",IF(OR($E168=\"NP\",$F168=\"NP\",$G168=\"NP\"),\"NP\",IF(ISERROR(MEDIAN($E168:$G168)),\"DNF\",IF(COUNT($E168:$G168)<3,MAX($E168:$G168),MEDIAN($E168:$G168))))))","v":""},null,null,null,null,null,null,null,null,null,null,null,null,""]
[{"$f":"IF('Start - jaro'!M7=\"\",\"\",\"x\")","v":""},52,{"$f":"IF('Start - jaro'!K7=\"\",\"\",'Start - jaro'!K7)","v":""},"I.pokus",null,null,null,{"$f":"IF($C169=\"\",\"\",IF(OR($E169=\"DNF\",$F169=\"DNF\",$G169=\"DNF\"),\"DNF\",IF(OR($E169=\"NP\",$F169=\"NP\",$G169=\"NP\"),\"NP\",IF(ISERROR(MEDIAN($E169:$G169)),\"DNF\",IF(COUNT($E169:$G169)<3,MAX($E169:$G169),MEDIAN($E169:$G169))))))","v":""},null,null,null,null,null,null,null,null,null,null,null,null,"",{"$f":"IF(C169=\"x\",\"x\",IF(C169=\"\",\"\",IF(OR(W169=\"NP\",W169=\"DNF\"),IF(W169=\"NP\",MAX(W$12:W$309)+COUNTIF((W$12:W$309),MAX(W$12:W$309)),MAX(W$12:W$309)+COUNTIF((W$12:W$309),MAX(W$12:W$309))+COUNTIF((W$12:W$309),\"NP\")),W169)))","v":""},"",{"$f":"IF(A169=\"x\",\"x\",IF(C169=\"\",\"\",IF(OR(AND(U169=\"NP\",U170=\"NP\"),AND(U169=\"DNF\",U170=\"DNF\")),U169,IF(AND(U169=\"NP\",U170=\"DNF\"),U169,IF(AND(U169=\"DNF\",U170=\"NP\"),U170,MIN(U169,U170))))))","v":""}]
[null,null,null,"II.pokus",null,null,null,{"$f":"IF($C169=\"\",\"\",IF(OR($E170=\"DNF\",$F170=\"DNF\",$G170=\"DNF\"),\"DNF\",IF(OR($E170=\"NP\",$F170=\"NP\",$G170=\"NP\"),\"NP\",IF(ISERROR(MEDIAN($E170:$G170)),\"DNF\",IF(COUNT($E170:$G170)<3,MAX($E170:$G170),MEDIAN($E170:$G170))))))","v":""},null,null,null,null,null,null,null,null,null,null,null,null,""]
[{"$f":"IF('Start - jaro'!M8=\"\",\"\",\"x\")","v":""},53,{"$f":"IF('Start - jaro'!K8=\"\",\"\",'Start - jaro'!K8)","v":""},"I.pokus",null,null,null,{"$f":"IF($C171=\"\",\"\",IF(OR($E171=\"DNF\",$F171=\"DNF\",$G171=\"DNF\"),\"DNF\",IF(OR($E171=\"NP\",$F171=\"NP\",$G171=\"NP\"),\"NP\",IF(ISERROR(MEDIAN($E171:$G171)),\"DNF\",IF(COUNT($E171:$G171)<3,MAX($E171:$G171),MEDIAN($E171:$G171))))))","v":""},null,null,null,null,null,null,null,null,null,null,null,null,"",{"$f":"IF(C171=\"x\",\"x\",IF(C171=\"\",\"\",IF(OR(W171=\"NP\",W171=\"DNF\"),IF(W171=\"NP\",MAX(W$12:W$309)+COUNTIF((W$12:W$309),MAX(W$12:W$309)),MAX(W$12:W$309)+COUNTIF((W$12:W$309),MAX(W$12:W$309))+COUNTIF((W$12:W$309),\"NP\")),W171)))","v":""},"",{"$f":"IF(A171=\"x\",\"x\",IF(C171=\"\",\"\",IF(OR(AND(U171=\"NP\",U172=\"NP\"),AND(U171=\"DNF\",U172=\"DNF\")),U171,IF(AND(U171=\"NP\",U172=\"DNF\"),U171,IF(AND(U171=\"DNF\",U172=\"NP\"),U172,MIN(U171,U172))))))","v":""}]
[null,null,null,"II.pokus",null,null,null,{"$f":"IF($C171=\"\",\"\",IF(OR($E172=\"DNF\",$F172=\"DNF\",$G172=\"DNF\"),\"DNF\",IF(OR($E172=\"NP\",$F172=\"NP\",$G172=\"NP\"),\"NP\",IF(ISERROR(MEDIAN($E172:$G172)),\"DNF\",IF(COUNT($E172:$G172)<3,MAX($E172:$G172),MEDIAN($E172:$G172))))))","v":""},null,null,null,null,null,null,null,null,null,null,null,null,""]
[{"$f":"IF('Start - jaro'!M9=\"\",\"\",\"x\")","v":""},54,{"$f":"IF('Start - jaro'!K9=\"\",\"\",'Start - jaro'!K9)","v":""},"I.pokus",null,null,null,{"$f":"IF($C173=\"\",\"\",IF(OR($E173=\"DNF\",$F173=\"DNF\",$G173=\"DNF\"),\"DNF\",IF(OR($E173=\"NP\",$F173=\"NP\",$G173=\"NP\"),\"NP\",IF(ISERROR(MEDIAN($E173:$G173)),\"DNF\",IF(COUNT($E173:$G173)<3,MAX($E173:$G173),MEDIAN($E173:$G173))))))","v":""},null,null,null,null,null,null,null,null,null,null,null,null,"",{"$f":"IF(C173=\"x\",\"x\",IF(C173=\"\",\"\",IF(OR(W173=\"NP\",W173=\"DNF\"),IF(W173=\"NP\",MAX(W$12:W$309)+COUNTIF((W$12:W$309),MAX(W$12:W$309)),MAX(W$12:W$309)+COUNTIF((W$12:W$309),MAX(W$12:W$309))+COUNTIF((W$12:W$309),\"NP\")),W173)))","v":""},"",{"$f":"IF(A173=\"x\",\"x\",IF(C173=\"\",\"\",IF(OR(AND(U173=\"NP\",U174=\"NP\"),AND(U173=\"DNF\",U174=\"DNF\")),U173,IF(AND(U173=\"NP\",U174=\"DNF\"),U173,IF(AND(U173=\"DNF\",U174=\"NP\"),U174,MIN(U173,U174))))))","v":""}]
[null,null,null,"II.pokus",null,null,null,{"$f":"IF($C173=\"\",\"\",IF(OR($E174=\"DNF\",$F174=\"DNF\",$G174=\"DNF\"),\"DNF\",IF(OR($E174=\"NP\",$F174=\"NP\",$G174=\"NP\"),\"NP\",IF(ISERROR(MEDIAN($E174:$G174)),\"DNF\",IF(COUNT($E174:$G174)<3,MAX($E174:$G174),MEDIAN($E174:$G174))))))","v":""},null,null,null,null,null,null,null,null,null,null,null,null,""]
[{"$f":"IF('Start - jaro'!M10=\"\",\"\",\"x\")","v":""},55,{"$f":"IF('Start - jaro'!K10=\"\",\"\",'Start - jaro'!K10)","v":""},"I.pokus",null,null,null,{"$f":"IF($C175=\"\",\"\",IF(OR($E175=\"DNF\",$F175=\"DNF\",$G175=\"DNF\"),\"DNF\",IF(OR($E175=\"NP\",$F175=\"NP\",$G175=\"NP\"),\"NP\",IF(ISERROR(MEDIAN($E175:$G175)),\"DNF\",IF(COUNT($E175:$G175)<3,MAX($E175:$G175),MEDIAN($E175:$G175))))))","v":""},null,null,null,null,null,null,null,null,null,null,null,null,"",{"$f":"IF(C175=\"x\",\"x\",IF(C175=\"\",\"\",IF(OR(W175=\"NP\",W175=\"DNF\"),IF(W175=\"NP\",MAX(W$12:W$309)+COUNTIF((W$12:W$309),MAX(W$12:W$309)),MAX(W$12:W$309)+COUNTIF((W$12:W$309),MAX(W$12:W$309))+COUNTIF((W$12:W$309),\"NP\")),W175)))","v":""},"",{"$f":"IF(A175=\"x\",\"x\",IF(C175=\"\",\"\",IF(OR(AND(U175=\"NP\",U176=\"NP\"),AND(U175=\"DNF\",U176=\"DNF\")),U175,IF(AND(U175=\"NP\",U176=\"DNF\"),U175,IF(AND(U175=\"DNF\",U176=\"NP\"),U176,MIN(U175,U176))))))","v":""}]
[null,null,null,"II.pokus",null,null,null,{"$f":"IF($C175=\"\",\"\",IF(OR($E176=\"DNF\",$F176=\"DNF\",$G176=\"DNF\"),\"DNF\",IF(OR($E176=\"NP\",$F176=\"NP\",$G176=\"NP\"),\"NP\",IF(ISERROR(MEDIAN($E176:$G176)),\"DNF\",IF(COUNT($E176:$G176)<3,MAX($E176:$G176),MEDIAN($E176:$G176))))))","v":""},null,null,null,null,null,null,null,null,null,null,null,null,""]
[{"$f":"IF('Start - jaro'!M11=\"\",\"\",\"x\")","v":""},56,{"$f":"IF('Start - jaro'!K11=\"\",\"\",'Start - jaro'!K11)","v":""},"I.pokus",null,null,null,{"$f":"IF($C177=\"\",\"\",IF(OR($E177=\"DNF\",$F177=\"DNF\",$G177=\"DNF\"),\"DNF\",IF(OR($E177=\"NP\",$F177=\"NP\",$G177=\"NP\"),\"NP\",IF(ISERROR(MEDIAN($E177:$G177)),\"DNF\",IF(COUNT($E177:$G177)<3,MAX($E177:$G177),MEDIAN($E177:$G177))))))","v":""},null,null,null,null,null,null,null,null,null,null,null,null,"",{"$f":"IF(C177=\"x\",\"x\",IF(C177=\"\",\"\",IF(OR(W177=\"NP\",W177=\"DNF\"),IF(W177=\"NP\",MAX(W$12:W$309)+COUNTIF((W$12:W$309),MAX(W$12:W$309)),MAX(W$12:W$309)+COUNTIF((W$12:W$309),MAX(W$12:W$309))+COUNTIF((W$12:W$309),\"NP\")),W177)))","v":""},"",{"$f":"IF(A177=\"x\",\"x\",IF(C177=\"\",\"\",IF(OR(AND(U177=\"NP\",U178=\"NP\"),AND(U177=\"DNF\",U178=\"DNF\")),U177,IF(AND(U177=\"NP\",U178=\"DNF\"),U177,IF(AND(U177=\"DNF\",U178=\"NP\"),U178,MIN(U177,U178))))))","v":""}]
[null,null,null,"II.pokus",null,null,null,{"$f":"IF($C177=\"\",\"\",IF(OR($E178=\"DNF\",$F178=\"DNF\",$G178=\"DNF\"),\"DNF\",IF(OR($E178=\"NP\",$F178=\"NP\",$G178=\"NP\"),\"NP\",IF(ISERROR(MEDIAN($E178:$G178)),\"DNF\",IF(COUNT($E178:$G178)<3,MAX($E178:$G178),MEDIAN($E178:$G178))))))","v":""},null,null,null,null,null,null,null,null,null,null,null,null,""]
[{"$f":"IF('Start - jaro'!M12=\"\",\"\",\"x\")","v":""},57,{"$f":"IF('Start - jaro'!K12=\"\",\"\",'Start - jaro'!K12)","v":""},"I.pokus",null,null,null,{"$f":"IF($C179=\"\",\"\",IF(OR($E179=\"DNF\",$F179=\"DNF\",$G179=\"DNF\"),\"DNF\",IF(OR($E179=\"NP\",$F179=\"NP\",$G179=\"NP\"),\"NP\",IF(ISERROR(MEDIAN($E179:$G179)),\"DNF\",IF(COUNT($E179:$G179)<3,MAX($E179:$G179),MEDIAN($E179:$G179))))))","v":""},null,null,null,null,null,null,null,null,null,null,null,null,"",{"$f":"IF(C179=\"x\",\"x\",IF(C179=\"\",\"\",IF(OR(W179=\"NP\",W179=\"DNF\"),IF(W179=\"NP\",MAX(W$12:W$309)+COUNTIF((W$12:W$309),MAX(W$12:W$309)),MAX(W$12:W$309)+COUNTIF((W$12:W$309),MAX(W$12:W$309))+COUNTIF((W$12:W$309),\"NP\")),W179)))","v":""},"",{"$f":"IF(A179=\"x\",\"x\",IF(C179=\"\",\"\",IF(OR(AND(U179=\"NP\",U180=\"NP\"),AND(U179=\"DNF\",U180=\"DNF\")),U179,IF(AND(U179=\"NP\",U180=\"DNF\"),U179,IF(AND(U179=\"DNF\",U180=\"NP\"),U180,MIN(U179,U180))))))","v":""}]
[null,null,null,"II.pokus",null,null,null,{"$f":"IF($C179=\"\",\"\",IF(OR($E180=\"DNF\",$F180=\"DNF\",$G180=\"DNF\"),\"DNF\",IF(OR($E180=\"NP\",$F180=\"NP\",$G180=\"NP\"),\"NP\",IF(ISERROR(MEDIAN($E180:$G180)),\"DNF\",IF(COUNT($E180:$G180)<3,MAX($E180:$G180),MEDIAN($E180:$G180))))))","v":""},null,null,null,null,null,null,null,null,null,null,null,null,""]
[{"$f":"IF('Start - jaro'!M13=\"\",\"\",\"x\")","v":""},58,{"$f":"IF('Start - jaro'!K13=\"\",\"\",'Start - jaro'!K13)","v":""},"I.pokus",null,null,null,{"$f":"IF($C181=\"\",\"\",IF(OR($E181=\"DNF\",$F181=\"DNF\",$G181=\"DNF\"),\"DNF\",IF(OR($E181=\"NP\",$F181=\"NP\",$G181=\"NP\"),\"NP\",IF(ISERROR(MEDIAN($E181:$G181)),\"DNF\",IF(COUNT($E181:$G181)<3,MAX($E181:$G181),MEDIAN($E181:$G181))))))","v":""},null,null,null,null,null,null,null,null,null,null,null,null,"",{"$f":"IF(C181=\"x\",\"x\",IF(C181=\"\",\"\",IF(OR(W181=\"NP\",W181=\"DNF\"),IF(W181=\"NP\",MAX(W$12:W$309)+COUNTIF((W$12:W$309),MAX(W$12:W$309)),MAX(W$12:W$309)+COUNTIF((W$12:W$309),MAX(W$12:W$309))+COUNTIF((W$12:W$309),\"NP\")),W181)))","v":""},"",{"$f":"IF(A181=\"x\",\"x\",IF(C181=\"\",\"\",IF(OR(AND(U181=\"NP\",U182=\"NP\"),AND(U181=\"DNF\",U182=\"DNF\")),U181,IF(AND(U181=\"NP\",U182=\"DNF\"),U181,IF(AND(U181=\"DNF\",U182=\"NP\"),U182,MIN(U181,U182))))))","v":""}]
[null,null,null,"II.pokus",null,null,null,{"$f":"IF($C181=\"\",\"\",IF(OR($E182=\"DNF\",$F182=\"DNF\",$G182=\"DNF\"),\"DNF\",IF(OR($E182=\"NP\",$F182=\"NP\",$G182=\"NP\"),\"NP\",IF(ISERROR(MEDIAN($E182:$G182)),\"DNF\",IF(COUNT($E182:$G182)<3,MAX($E182:$G182),MEDIAN($E182:$G182))))))","v":""},null,null,null,null,null,null,null,null,null,null,null,null,""]
[{"$f":"IF('Start - jaro'!M14=\"\",\"\",\"x\")","v":""},59,{"$f":"IF('Start - jaro'!K14=\"\",\"\",'Start - jaro'!K14)","v":""},"I.pokus",null,null,null,{"$f":"IF($C183=\"\",\"\",IF(OR($E183=\"DNF\",$F183=\"DNF\",$G183=\"DNF\"),\"DNF\",IF(OR($E183=\"NP\",$F183=\"NP\",$G183=\"NP\"),\"NP\",IF(ISERROR(MEDIAN($E183:$G183)),\"DNF\",IF(COUNT($E183:$G183)<3,MAX($E183:$G183),MEDIAN($E183:$G183))))))","v":""},null,null,null,null,null,null,null,null,null,null,null,null,"",{"$f":"IF(C183=\"x\",\"x\",IF(C183=\"\",\"\",IF(OR(W183=\"NP\",W183=\"DNF\"),IF(W183=\"NP\",MAX(W$12:W$309)+COUNTIF((W$12:W$309),MAX(W$12:W$309)),MAX(W$12:W$309)+COUNTIF((W$12:W$309),MAX(W$12:W$309))+COUNTIF((W$12:W$309),\"NP\")),W183)))","v":""},"",{"$f":"IF(A183=\"x\",\"x\",IF(C183=\"\",\"\",IF(OR(AND(U183=\"NP\",U184=\"NP\"),AND(U183=\"DNF\",U184=\"DNF\")),U183,IF(AND(U183=\"NP\",U184=\"DNF\"),U183,IF(AND(U183=\"DNF\",U184=\"NP\"),U184,MIN(U183,U184))))))","v":""}]
[null,null,null,"II.pokus",null,null,null,{"$f":"IF($C183=\"\",\"\",IF(OR($E184=\"DNF\",$F184=\"DNF\",$G184=\"DNF\"),\"DNF\",IF(OR($E184=\"NP\",$F184=\"NP\",$G184=\"NP\"),\"NP\",IF(ISERROR(MEDIAN($E184:$G184)),\"DNF\",IF(COUNT($E184:$G184)<3,MAX($E184:$G184),MEDIAN($E184:$G184))))))","v":""},null,null,null,null,null,null,null,null,null,null,null,null,""]
[{"$f":"IF('Start - jaro'!M15=\"\",\"\",\"x\")","v":""},60,{"$f":"IF('Start - jaro'!K15=\"\",\"\",'Start - jaro'!K15)","v":""},"I.pokus",null,null,null,{"$f":"IF($C185=\"\",\"\",IF(OR($E185=\"DNF\",$F185=\"DNF\",$G185=\"DNF\"),\"DNF\",IF(OR($E185=\"NP\",$F185=\"NP\",$G185=\"NP\"),\"NP\",IF(ISERROR(MEDIAN($E185:$G185)),\"DNF\",IF(COUNT($E185:$G185)<3,MAX($E185:$G185),MEDIAN($E185:$G185))))))","v":""},null,null,null,null,null,null,null,null,null,null,null,null,"",{"$f":"IF(C185=\"x\",\"x\",IF(C185=\"\",\"\",IF(OR(W185=\"NP\",W185=\"DNF\"),IF(W185=\"NP\",MAX(W$12:W$309)+COUNTIF((W$12:W$309),MAX(W$12:W$309)),MAX(W$12:W$309)+COUNTIF((W$12:W$309),MAX(W$12:W$309))+COUNTIF((W$12:W$309),\"NP\")),W185)))","v":""},"",{"$f":"IF(A185=\"x\",\"x\",IF(C185=\"\",\"\",IF(OR(AND(U185=\"NP\",U186=\"NP\"),AND(U185=\"DNF\",U186=\"DNF\")),U185,IF(AND(U185=\"NP\",U186=\"DNF\"),U185,IF(AND(U185=\"DNF\",U186=\"NP\"),U186,MIN(U185,U186))))))","v":""}]
[null,null,null,"II.pokus",null,null,null,{"$f":"IF($C185=\"\",\"\",IF(OR($E186=\"DNF\",$F186=\"DNF\",$G186=\"DNF\"),\"DNF\",IF(OR($E186=\"NP\",$F186=\"NP\",$G186=\"NP\"),\"NP\",IF(ISERROR(MEDIAN($E186:$G186)),\"DNF\",IF(COUNT($E186:$G186)<3,MAX($E186:$G186),MEDIAN($E186:$G186))))))","v":""},null,null,null,null,null,null,null,null,null,null,null,null,""]
[null,"CELOSTÁTNÍ HRA PLAMEN"]
[]
[]
[null,"Výsledková listina č: 7"]
[null,"Štafeta 400 m CTIF",null,null,"Základem je čas naměřený od vydání signálu startéra do proběhnutí posledního člena cílem",null,null,null,"K úřednímu času se připočítávají trest. Sekundy - za každý případ 10 sekund",null,null,null,null,null,null,null,null,null,null,null,"Výsledek soutěže"]
[null,null,null,null,null,null,null,null,"za nesprávné spojení spojek\n(hadice, rozdělovač, proudnice)\nza každý případ",null,null,"nesprávně překonaná překážka nebo\nnesprávně provedený úkon\nza každý případ",null,null,"vyšlápnutí z dráhy oběma nohama\nza každý případ"]
[null,null,null,null,null,null,null,null,null,null,null,null,null,null,null,null,null,null,null,null,"součet trest. Sekund a úředního času","počet bodů za umístění"]
[null,{"$f":"\"KATEGORIE: \"&'Start - podzim'!$N$2","v":"KATEGORIE: STARŠÍ"},null,null,"I. časoměřič","II. časoměřič","III. časoměřič","úřední čas"]
[]
[null,"start. číslo","SOUTĚŽNÍ DRUŽSTVO","pokus"]
[]
[{"$f":"IF('Start - jaro'!M16=\"\",\"\",\"x\")","v":""},61,{"$f":"IF('Start - jaro'!K16=\"\",\"\",'Start - jaro'!K16)","v":""},"I.pokus",null,null,null,{"$f":"IF($C198=\"\",\"\",IF(OR($E198=\"DNF\",$F198=\"DNF\",$G198=\"DNF\"),\"DNF\",IF(OR($E198=\"NP\",$F198=\"NP\",$G198=\"NP\"),\"NP\",IF(ISERROR(MEDIAN($E198:$G198)),\"DNF\",IF(COUNT($E198:$G198)<3,MAX($E198:$G198),MEDIAN($E198:$G198))))))","v":""},null,null,null,null,null,null,null,null,null,null,null,null,{"$f":"IF(H198=\"\",\"\",IF(H198=\"NP\",\"NP\",IF(H198=\"DNF\",\"DNF\",SUM(I198:T198)+H198)))","v":""},{"$f":"IF(C198=\"x\",\"x\",IF(C198=\"\",\"\",IF(OR(W198=\"NP\",W198=\"DNF\"),IF(W198=\"NP\",MAX(W$12:W$309)+COUNTIF((W$12:W$309),MAX(W$12:W$309)),MAX(W$12:W$309)+COUNTIF((W$12:W$309),MAX(W$12:W$309))+COUNTIF((W$12:W$309),\"NP\")),W198)))","v":""},{"$f":"IF(A198=\"x\",\"x\",IF(C198=\"\",\"\",IF(OR(X198=\"NP\",X198=\"DNF\"),X198,RANK(X198,X$12:X$309,1))))","v":""},{"$f":"IF(A198=\"x\",\"x\",IF(C198=\"\",\"\",IF(OR(AND(U198=\"NP\",U199=\"NP\"),AND(U198=\"DNF\",U199=\"DNF\")),U198,IF(AND(U198=\"NP\",U199=\"DNF\"),U198,IF(AND(U198=\"DNF\",U199=\"NP\"),U199,MIN(U198,U199))))))","v":""}]
[null,null,null,"II.pokus",null,null,null,{"$f":"IF($C198=\"\",\"\",IF(OR($E199=\"DNF\",$F199=\"DNF\",$G199=\"DNF\"),\"DNF\",IF(OR($E199=\"NP\",$F199=\"NP\",$G199=\"NP\"),\"NP\",IF(ISERROR(MEDIAN($E199:$G199)),\"DNF\",IF(COUNT($E199:$G199)<3,MAX($E199:$G199),MEDIAN($E199:$G199))))))","v":""},null,null,null,null,null,null,null,null,null,null,null,null,""]
[{"$f":"IF('Start - jaro'!M17=\"\",\"\",\"x\")","v":""},62,{"$f":"IF('Start - jaro'!K17=\"\",\"\",'Start - jaro'!K17)","v":""},"I.pokus",null,null,null,{"$f":"IF($C200=\"\",\"\",IF(OR($E200=\"DNF\",$F200=\"DNF\",$G200=\"DNF\"),\"DNF\",IF(OR($E200=\"NP\",$F200=\"NP\",$G200=\"NP\"),\"NP\",IF(ISERROR(MEDIAN($E200:$G200)),\"DNF\",IF(COUNT($E200:$G200)<3,MAX($E200:$G200),MEDIAN($E200:$G200))))))","v":""},null,null,null,null,null,null,null,null,null,null,null,null,"",{"$f":"IF(C200=\"x\",\"x\",IF(C200=\"\",\"\",IF(OR(W200=\"NP\",W200=\"DNF\"),IF(W200=\"NP\",MAX(W$12:W$309)+COUNTIF((W$12:W$309),MAX(W$12:W$309)),MAX(W$12:W$309)+COUNTIF((W$12:W$309),MAX(W$12:W$309))+COUNTIF((W$12:W$309),\"NP\")),W200)))","v":""},"",{"$f":"IF(A200=\"x\",\"x\",IF(C200=\"\",\"\",IF(OR(AND(U200=\"NP\",U201=\"NP\"),AND(U200=\"DNF\",U201=\"DNF\")),U200,IF(AND(U200=\"NP\",U201=\"DNF\"),U200,IF(AND(U200=\"DNF\",U201=\"NP\"),U201,MIN(U200,U201))))))","v":""}]
[null,null,null,"II.pokus",null,null,null,{"$f":"IF($C200=\"\",\"\",IF(OR($E201=\"DNF\",$F201=\"DNF\",$G201=\"DNF\"),\"DNF\",IF(OR($E201=\"NP\",$F201=\"NP\",$G201=\"NP\"),\"NP\",IF(ISERROR(MEDIAN($E201:$G201)),\"DNF\",IF(COUNT($E201:$G201)<3,MAX($E201:$G201),MEDIAN($E201:$G201))))))","v":""},null,null,null,null,null,null,null,null,null,null,null,null,""]
[{"$f":"IF('Start - jaro'!M18=\"\",\"\",\"x\")","v":""},63,{"$f":"IF('Start - jaro'!K18=\"\",\"\",'Start - jaro'!K18)","v":""},"I.pokus",null,null,null,{"$f":"IF($C202=\"\",\"\",IF(OR($E202=\"DNF\",$F202=\"DNF\",$G202=\"DNF\"),\"DNF\",IF(OR($E202=\"NP\",$F202=\"NP\",$G202=\"NP\"),\"NP\",IF(ISERROR(MEDIAN($E202:$G202)),\"DNF\",IF(COUNT($E202:$G202)<3,MAX($E202:$G202),MEDIAN($E202:$G202))))))","v":""},null,null,null,null,null,null,null,null,null,null,null,null,"",{"$f":"IF(C202=\"x\",\"x\",IF(C202=\"\",\"\",IF(OR(W202=\"NP\",W202=\"DNF\"),IF(W202=\"NP\",MAX(W$12:W$309)+COUNTIF((W$12:W$309),MAX(W$12:W$309)),MAX(W$12:W$309)+COUNTIF((W$12:W$309),MAX(W$12:W$309))+COUNTIF((W$12:W$309),\"NP\")),W202)))","v":""},"",{"$f":"IF(A202=\"x\",\"x\",IF(C202=\"\",\"\",IF(OR(AND(U202=\"NP\",U203=\"NP\"),AND(U202=\"DNF\",U203=\"DNF\")),U202,IF(AND(U202=\"NP\",U203=\"DNF\"),U202,IF(AND(U202=\"DNF\",U203=\"NP\"),U203,MIN(U202,U203))))))","v":""}]
[null,null,null,"II.pokus",null,null,null,{"$f":"IF($C202=\"\",\"\",IF(OR($E203=\"DNF\",$F203=\"DNF\",$G203=\"DNF\"),\"DNF\",IF(OR($E203=\"NP\",$F203=\"NP\",$G203=\"NP\"),\"NP\",IF(ISERROR(MEDIAN($E203:$G203)),\"DNF\",IF(COUNT($E203:$G203)<3,MAX($E203:$G203),MEDIAN($E203:$G203))))))","v":""},null,null,null,null,null,null,null,null,null,null,null,null,""]
[{"$f":"IF('Start - jaro'!M19=\"\",\"\",\"x\")","v":""},64,{"$f":"IF('Start - jaro'!K19=\"\",\"\",'Start - jaro'!K19)","v":""},"I.pokus",null,null,null,{"$f":"IF($C204=\"\",\"\",IF(OR($E204=\"DNF\",$F204=\"DNF\",$G204=\"DNF\"),\"DNF\",IF(OR($E204=\"NP\",$F204=\"NP\",$G204=\"NP\"),\"NP\",IF(ISERROR(MEDIAN($E204:$G204)),\"DNF\",IF(COUNT($E204:$G204)<3,MAX($E204:$G204),MEDIAN($E204:$G204))))))","v":""},null,null,null,null,null,null,null,null,null,null,null,null,"",{"$f":"IF(C204=\"x\",\"x\",IF(C204=\"\",\"\",IF(OR(W204=\"NP\",W204=\"DNF\"),IF(W204=\"NP\",MAX(W$12:W$309)+COUNTIF((W$12:W$309),MAX(W$12:W$309)),MAX(W$12:W$309)+COUNTIF((W$12:W$309),MAX(W$12:W$309))+COUNTIF((W$12:W$309),\"NP\")),W204)))","v":""},"",{"$f":"IF(A204=\"x\",\"x\",IF(C204=\"\",\"\",IF(OR(AND(U204=\"NP\",U205=\"NP\"),AND(U204=\"DNF\",U205=\"DNF\")),U204,IF(AND(U204=\"NP\",U205=\"DNF\"),U204,IF(AND(U204=\"DNF\",U205=\"NP\"),U205,MIN(U204,U205))))))","v":""}]
[null,null,null,"II.pokus",null,null,null,{"$f":"IF($C204=\"\",\"\",IF(OR($E205=\"DNF\",$F205=\"DNF\",$G205=\"DNF\"),\"DNF\",IF(OR($E205=\"NP\",$F205=\"NP\",$G205=\"NP\"),\"NP\",IF(ISERROR(MEDIAN($E205:$G205)),\"DNF\",IF(COUNT($E205:$G205)<3,MAX($E205:$G205),MEDIAN($E205:$G205))))))","v":""},null,null,null,null,null,null,null,null,null,null,null,null,""]
[{"$f":"IF('Start - jaro'!M20=\"\",\"\",\"x\")","v":""},65,{"$f":"IF('Start - jaro'!K20=\"\",\"\",'Start - jaro'!K20)","v":""},"I.pokus",null,null,null,{"$f":"IF($C206=\"\",\"\",IF(OR($E206=\"DNF\",$F206=\"DNF\",$G206=\"DNF\"),\"DNF\",IF(OR($E206=\"NP\",$F206=\"NP\",$G206=\"NP\"),\"NP\",IF(ISERROR(MEDIAN($E206:$G206)),\"DNF\",IF(COUNT($E206:$G206)<3,MAX($E206:$G206),MEDIAN($E206:$G206))))))","v":""},null,null,null,null,null,null,null,null,null,null,null,null,"",{"$f":"IF(C206=\"x\",\"x\",IF(C206=\"\",\"\",IF(OR(W206=\"NP\",W206=\"DNF\"),IF(W206=\"NP\",MAX(W$12:W$309)+COUNTIF((W$12:W$309),MAX(W$12:W$309)),MAX(W$12:W$309)+COUNTIF((W$12:W$309),MAX(W$12:W$309))+COUNTIF((W$12:W$309),\"NP\")),W206)))","v":""},"",{"$f":"IF(A206=\"x\",\"x\",IF(C206=\"\",\"\",IF(OR(AND(U206=\"NP\",U207=\"NP\"),AND(U206=\"DNF\",U207=\"DNF\")),U206,IF(AND(U206=\"NP\",U207=\"DNF\"),U206,IF(AND(U206=\"DNF\",U207=\"NP\"),U207,MIN(U206,U207))))))","v":""}]
[null,null,null,"II.pokus",null,null,null,{"$f":"IF($C206=\"\",\"\",IF(OR($E207=\"DNF\",$F207=\"DNF\",$G207=\"DNF\"),\"DNF\",IF(OR($E207=\"NP\",$F207=\"NP\",$G207=\"NP\"),\"NP\",IF(ISERROR(MEDIAN($E207:$G207)),\"DNF\",IF(COUNT($E207:$G207)<3,MAX($E207:$G207),MEDIAN($E207:$G207))))))","v":""},null,null,null,null,null,null,null,null,null,null,null,null,""]
[{"$f":"IF('Start - jaro'!M21=\"\",\"\",\"x\")","v":""},66,{"$f":"IF('Start - jaro'!K21=\"\",\"\",'Start - jaro'!K21)","v":""},"I.pokus",null,null,null,{"$f":"IF($C208=\"\",\"\",IF(OR($E208=\"DNF\",$F208=\"DNF\",$G208=\"DNF\"),\"DNF\",IF(OR($E208=\"NP\",$F208=\"NP\",$G208=\"NP\"),\"NP\",IF(ISERROR(MEDIAN($E208:$G208)),\"DNF\",IF(COUNT($E208:$G208)<3,MAX($E208:$G208),MEDIAN($E208:$G208))))))","v":""},null,null,null,null,null,null,null,null,null,null,null,null,"",{"$f":"IF(C208=\"x\",\"x\",IF(C208=\"\",\"\",IF(OR(W208=\"NP\",W208=\"DNF\"),IF(W208=\"NP\",MAX(W$12:W$309)+COUNTIF((W$12:W$309),MAX(W$12:W$309)),MAX(W$12:W$309)+COUNTIF((W$12:W$309),MAX(W$12:W$309))+COUNTIF((W$12:W$309),\"NP\")),W208)))","v":""},"",{"$f":"IF(A208=\"x\",\"x\",IF(C208=\"\",\"\",IF(OR(AND(U208=\"NP\",U209=\"NP\"),AND(U208=\"DNF\",U209=\"DNF\")),U208,IF(AND(U208=\"NP\",U209=\"DNF\"),U208,IF(AND(U208=\"DNF\",U209=\"NP\"),U209,MIN(U208,U209))))))","v":""}]
[null,null,null,"II.pokus",null,null,null,{"$f":"IF($C208=\"\",\"\",IF(OR($E209=\"DNF\",$F209=\"DNF\",$G209=\"DNF\"),\"DNF\",IF(OR($E209=\"NP\",$F209=\"NP\",$G209=\"NP\"),\"NP\",IF(ISERROR(MEDIAN($E209:$G209)),\"DNF\",IF(COUNT($E209:$G209)<3,MAX($E209:$G209),MEDIAN($E209:$G209))))))","v":""},null,null,null,null,null,null,null,null,null,null,null,null,""]
[{"$f":"IF('Start - jaro'!M22=\"\",\"\",\"x\")","v":""},67,{"$f":"IF('Start - jaro'!K22=\"\",\"\",'Start - jaro'!K22)","v":""},"I.pokus",null,null,null,{"$f":"IF($C210=\"\",\"\",IF(OR($E210=\"DNF\",$F210=\"DNF\",$G210=\"DNF\"),\"DNF\",IF(OR($E210=\"NP\",$F210=\"NP\",$G210=\"NP\"),\"NP\",IF(ISERROR(MEDIAN($E210:$G210)),\"DNF\",IF(COUNT($E210:$G210)<3,MAX($E210:$G210),MEDIAN($E210:$G210))))))","v":""},null,null,null,null,null,null,null,null,null,null,null,null,"",{"$f":"IF(C210=\"x\",\"x\",IF(C210=\"\",\"\",IF(OR(W210=\"NP\",W210=\"DNF\"),IF(W210=\"NP\",MAX(W$12:W$309)+COUNTIF((W$12:W$309),MAX(W$12:W$309)),MAX(W$12:W$309)+COUNTIF((W$12:W$309),MAX(W$12:W$309))+COUNTIF((W$12:W$309),\"NP\")),W210)))","v":""},"",{"$f":"IF(A210=\"x\",\"x\",IF(C210=\"\",\"\",IF(OR(AND(U210=\"NP\",U211=\"NP\"),AND(U210=\"DNF\",U211=\"DNF\")),U210,IF(AND(U210=\"NP\",U211=\"DNF\"),U210,IF(AND(U210=\"DNF\",U211=\"NP\"),U211,MIN(U210,U211))))))","v":""}]
[null,null,null,"II.pokus",null,null,null,{"$f":"IF($C210=\"\",\"\",IF(OR($E211=\"DNF\",$F211=\"DNF\",$G211=\"DNF\"),\"DNF\",IF(OR($E211=\"NP\",$F211=\"NP\",$G211=\"NP\"),\"NP\",IF(ISERROR(MEDIAN($E211:$G211)),\"DNF\",IF(COUNT($E211:$G211)<3,MAX($E211:$G211),MEDIAN($E211:$G211))))))","v":""},null,null,null,null,null,null,null,null,null,null,null,null,""]
[{"$f":"IF('Start - jaro'!M23=\"\",\"\",\"x\")","v":""},68,{"$f":"IF('Start - jaro'!K23=\"\",\"\",'Start - jaro'!K23)","v":""},"I.pokus",null,null,null,{"$f":"IF($C212=\"\",\"\",IF(OR($E212=\"DNF\",$F212=\"DNF\",$G212=\"DNF\"),\"DNF\",IF(OR($E212=\"NP\",$F212=\"NP\",$G212=\"NP\"),\"NP\",IF(ISERROR(MEDIAN($E212:$G212)),\"DNF\",IF(COUNT($E212:$G212)<3,MAX($E212:$G212),MEDIAN($E212:$G212))))))","v":""},null,null,null,null,null,null,null,null,null,null,null,null,"",{"$f":"IF(C212=\"x\",\"x\",IF(C212=\"\",\"\",IF(OR(W212=\"NP\",W212=\"DNF\"),IF(W212=\"NP\",MAX(W$12:W$309)+COUNTIF((W$12:W$309),MAX(W$12:W$309)),MAX(W$12:W$309)+COUNTIF((W$12:W$309),MAX(W$12:W$309))+COUNTIF((W$12:W$309),\"NP\")),W212)))","v":""},"",{"$f":"IF(A212=\"x\",\"x\",IF(C212=\"\",\"\",IF(OR(AND(U212=\"NP\",U213=\"NP\"),AND(U212=\"DNF\",U213=\"DNF\")),U212,IF(AND(U212=\"NP\",U213=\"DNF\"),U212,IF(AND(U212=\"DNF\",U213=\"NP\"),U213,MIN(U212,U213))))))","v":""}]
[null,null,null,"II.pokus",null,null,null,{"$f":"IF($C212=\"\",\"\",IF(OR($E213=\"DNF\",$F213=\"DNF\",$G213=\"DNF\"),\"DNF\",IF(OR($E213=\"NP\",$F213=\"NP\",$G213=\"NP\"),\"NP\",IF(ISERROR(MEDIAN($E213:$G213)),\"DNF\",IF(COUNT($E213:$G213)<3,MAX($E213:$G213),MEDIAN($E213:$G213))))))","v":""},null,null,null,null,null,null,null,null,null,null,null,null,""]
[{"$f":"IF('Start - jaro'!M24=\"\",\"\",\"x\")","v":""},69,{"$f":"IF('Start - jaro'!K24=\"\",\"\",'Start - jaro'!K24)","v":""},"I.pokus",null,null,null,{"$f":"IF($C214=\"\",\"\",IF(OR($E214=\"DNF\",$F214=\"DNF\",$G214=\"DNF\"),\"DNF\",IF(OR($E214=\"NP\",$F214=\"NP\",$G214=\"NP\"),\"NP\",IF(ISERROR(MEDIAN($E214:$G214)),\"DNF\",IF(COUNT($E214:$G214)<3,MAX($E214:$G214),MEDIAN($E214:$G214))))))","v":""},null,null,null,null,null,null,null,null,null,null,null,null,"",{"$f":"IF(C214=\"x\",\"x\",IF(C214=\"\",\"\",IF(OR(W214=\"NP\",W214=\"DNF\"),IF(W214=\"NP\",MAX(W$12:W$309)+COUNTIF((W$12:W$309),MAX(W$12:W$309)),MAX(W$12:W$309)+COUNTIF((W$12:W$309),MAX(W$12:W$309))+COUNTIF((W$12:W$309),\"NP\")),W214)))","v":""},"",{"$f":"IF(A214=\"x\",\"x\",IF(C214=\"\",\"\",IF(OR(AND(U214=\"NP\",U215=\"NP\"),AND(U214=\"DNF\",U215=\"DNF\")),U214,IF(AND(U214=\"NP\",U215=\"DNF\"),U214,IF(AND(U214=\"DNF\",U215=\"NP\"),U215,MIN(U214,U215))))))","v":""}]
[null,null,null,"II.pokus",null,null,null,{"$f":"IF($C214=\"\",\"\",IF(OR($E215=\"DNF\",$F215=\"DNF\",$G215=\"DNF\"),\"DNF\",IF(OR($E215=\"NP\",$F215=\"NP\",$G215=\"NP\"),\"NP\",IF(ISERROR(MEDIAN($E215:$G215)),\"DNF\",IF(COUNT($E215:$G215)<3,MAX($E215:$G215),MEDIAN($E215:$G215))))))","v":""},null,null,null,null,null,null,null,null,null,null,null,null,""]
[{"$f":"IF('Start - jaro'!M25=\"\",\"\",\"x\")","v":""},70,{"$f":"IF('Start - jaro'!K25=\"\",\"\",'Start - jaro'!K25)","v":""},"I.pokus",null,null,null,{"$f":"IF($C216=\"\",\"\",IF(OR($E216=\"DNF\",$F216=\"DNF\",$G216=\"DNF\"),\"DNF\",IF(OR($E216=\"NP\",$F216=\"NP\",$G216=\"NP\"),\"NP\",IF(ISERROR(MEDIAN($E216:$G216)),\"DNF\",IF(COUNT($E216:$G216)<3,MAX($E216:$G216),MEDIAN($E216:$G216))))))","v":""},null,null,null,null,null,null,null,null,null,null,null,null,"",{"$f":"IF(C216=\"x\",\"x\",IF(C216=\"\",\"\",IF(OR(W216=\"NP\",W216=\"DNF\"),IF(W216=\"NP\",MAX(W$12:W$309)+COUNTIF((W$12:W$309),MAX(W$12:W$309)),MAX(W$12:W$309)+COUNTIF((W$12:W$309),MAX(W$12:W$309))+COUNTIF((W$12:W$309),\"NP\")),W216)))","v":""},"",{"$f":"IF(A216=\"x\",\"x\",IF(C216=\"\",\"\",IF(OR(AND(U216=\"NP\",U217=\"NP\"),AND(U216=\"DNF\",U217=\"DNF\")),U216,IF(AND(U216=\"NP\",U217=\"DNF\"),U216,IF(AND(U216=\"DNF\",U217=\"NP\"),U217,MIN(U216,U217))))))","v":""}]
[null,null,null,"II.pokus",null,null,null,{"$f":"IF($C216=\"\",\"\",IF(OR($E217=\"DNF\",$F217=\"DNF\",$G217=\"DNF\"),\"DNF\",IF(OR($E217=\"NP\",$F217=\"NP\",$G217=\"NP\"),\"NP\",IF(ISERROR(MEDIAN($E217:$G217)),\"DNF\",IF(COUNT($E217:$G217)<3,MAX($E217:$G217),MEDIAN($E217:$G217))))))","v":""},null,null,null,null,null,null,null,null,null,null,null,null,""]
[null,"CELOSTÁTNÍ HRA PLAMEN"]
[]
[]
[null,"Výsledková listina č: 8"]
[null,"Štafeta 400 m CTIF",null,null,"Základem je čas naměřený od vydání signálu startéra do proběhnutí posledního člena cílem",null,null,null,"K úřednímu času se připočítávají trest. Sekundy - za každý případ 10 sekund",null,null,null,null,null,null,null,null,null,null,null,"Výsledek soutěže"]
[null,null,null,null,null,null,null,null,"za nesprávné spojení spojek\n(hadice, rozdělovač, proudnice)\nza každý případ",null,null,"nesprávně překonaná překážka nebo\nnesprávně provedený úkon\nza každý případ",null,null,"vyšlápnutí z dráhy oběma nohama\nza každý případ"]
[null,null,null,null,null,null,null,null,null,null,null,null,null,null,null,null,null,null,null,null,"součet trest. Sekund a úředního času","počet bodů za umístění"]
[null,{"$f":"\"KATEGORIE: \"&'Start - podzim'!$N$2","v":"KATEGORIE: STARŠÍ"},null,null,"I. časoměřič","II. časoměřič","III. časoměřič","úřední čas"]
[]
[null,"start. číslo","SOUTĚŽNÍ DRUŽSTVO","pokus"]
[]
[{"$f":"IF('Start - jaro'!M26=\"\",\"\",\"x\")","v":""},71,{"$f":"IF('Start - jaro'!K26=\"\",\"\",'Start - jaro'!K26)","v":""},"I.pokus",null,null,null,{"$f":"IF($C229=\"\",\"\",IF(OR($E229=\"DNF\",$F229=\"DNF\",$G229=\"DNF\"),\"DNF\",IF(OR($E229=\"NP\",$F229=\"NP\",$G229=\"NP\"),\"NP\",IF(ISERROR(MEDIAN($E229:$G229)),\"DNF\",IF(COUNT($E229:$G229)<3,MAX($E229:$G229),MEDIAN($E229:$G229))))))","v":""},null,null,null,null,null,null,null,null,null,null,null,null,{"$f":"IF(H229=\"\",\"\",IF(H229=\"NP\",\"NP\",IF(H229=\"DNF\",\"DNF\",SUM(I229:T229)+H229)))","v":""},{"$f":"IF(C229=\"x\",\"x\",IF(C229=\"\",\"\",IF(OR(W229=\"NP\",W229=\"DNF\"),IF(W229=\"NP\",MAX(W$12:W$309)+COUNTIF((W$12:W$309),MAX(W$12:W$309)),MAX(W$12:W$309)+COUNTIF((W$12:W$309),MAX(W$12:W$309))+COUNTIF((W$12:W$309),\"NP\")),W229)))","v":""},{"$f":"IF(A229=\"x\",\"x\",IF(C229=\"\",\"\",IF(OR(X229=\"NP\",X229=\"DNF\"),X229,RANK(X229,X$12:X$309,1))))","v":""},{"$f":"IF(A229=\"x\",\"x\",IF(C229=\"\",\"\",IF(OR(AND(U229=\"NP\",U230=\"NP\"),AND(U229=\"DNF\",U230=\"DNF\")),U229,IF(AND(U229=\"NP\",U230=\"DNF\"),U229,IF(AND(U229=\"DNF\",U230=\"NP\"),U230,MIN(U229,U230))))))","v":""}]
[null,null,null,"II.pokus",null,null,null,{"$f":"IF($C229=\"\",\"\",IF(OR($E230=\"DNF\",$F230=\"DNF\",$G230=\"DNF\"),\"DNF\",IF(OR($E230=\"NP\",$F230=\"NP\",$G230=\"NP\"),\"NP\",IF(ISERROR(MEDIAN($E230:$G230)),\"DNF\",IF(COUNT($E230:$G230)<3,MAX($E230:$G230),MEDIAN($E230:$G230))))))","v":""},null,null,null,null,null,null,null,null,null,null,null,null,""]
[{"$f":"IF('Start - jaro'!M27=\"\",\"\",\"x\")","v":""},72,{"$f":"IF('Start - jaro'!K27=\"\",\"\",'Start - jaro'!K27)","v":""},"I.pokus",null,null,null,{"$f":"IF($C231=\"\",\"\",IF(OR($E231=\"DNF\",$F231=\"DNF\",$G231=\"DNF\"),\"DNF\",IF(OR($E231=\"NP\",$F231=\"NP\",$G231=\"NP\"),\"NP\",IF(ISERROR(MEDIAN($E231:$G231)),\"DNF\",IF(COUNT($E231:$G231)<3,MAX($E231:$G231),MEDIAN($E231:$G231))))))","v":""},null,null,null,null,null,null,null,null,null,null,null,null,"",{"$f":"IF(C231=\"x\",\"x\",IF(C231=\"\",\"\",IF(OR(W231=\"NP\",W231=\"DNF\"),IF(W231=\"NP\",MAX(W$12:W$309)+COUNTIF((W$12:W$309),MAX(W$12:W$309)),MAX(W$12:W$309)+COUNTIF((W$12:W$309),MAX(W$12:W$309))+COUNTIF((W$12:W$309),\"NP\")),W231)))","v":""},"",{"$f":"IF(A231=\"x\",\"x\",IF(C231=\"\",\"\",IF(OR(AND(U231=\"NP\",U232=\"NP\"),AND(U231=\"DNF\",U232=\"DNF\")),U231,IF(AND(U231=\"NP\",U232=\"DNF\"),U231,IF(AND(U231=\"DNF\",U232=\"NP\"),U232,MIN(U231,U232))))))","v":""}]
[null,null,null,"II.pokus",null,null,null,{"$f":"IF($C231=\"\",\"\",IF(OR($E232=\"DNF\",$F232=\"DNF\",$G232=\"DNF\"),\"DNF\",IF(OR($E232=\"NP\",$F232=\"NP\",$G232=\"NP\"),\"NP\",IF(ISERROR(MEDIAN($E232:$G232)),\"DNF\",IF(COUNT($E232:$G232)<3,MAX($E232:$G232),MEDIAN($E232:$G232))))))","v":""},null,null,null,null,null,null,null,null,null,null,null,null,""]
[{"$f":"IF('Start - jaro'!M28=\"\",\"\",\"x\")","v":""},73,{"$f":"IF('Start - jaro'!K28=\"\",\"\",'Start - jaro'!K28)","v":""},"I.pokus",null,null,null,{"$f":"IF($C233=\"\",\"\",IF(OR($E233=\"DNF\",$F233=\"DNF\",$G233=\"DNF\"),\"DNF\",IF(OR($E233=\"NP\",$F233=\"NP\",$G233=\"NP\"),\"NP\",IF(ISERROR(MEDIAN($E233:$G233)),\"DNF\",IF(COUNT($E233:$G233)<3,MAX($E233:$G233),MEDIAN($E233:$G233))))))","v":""},null,null,null,null,null,null,null,null,null,null,null,null,"",{"$f":"IF(C233=\"x\",\"x\",IF(C233=\"\",\"\",IF(OR(W233=\"NP\",W233=\"DNF\"),IF(W233=\"NP\",MAX(W$12:W$309)+COUNTIF((W$12:W$309),MAX(W$12:W$309)),MAX(W$12:W$309)+COUNTIF((W$12:W$309),MAX(W$12:W$309))+COUNTIF((W$12:W$309),\"NP\")),W233)))","v":""},"",{"$f":"IF(A233=\"x\",\"x\",IF(C233=\"\",\"\",IF(OR(AND(U233=\"NP\",U234=\"NP\"),AND(U233=\"DNF\",U234=\"DNF\")),U233,IF(AND(U233=\"NP\",U234=\"DNF\"),U233,IF(AND(U233=\"DNF\",U234=\"NP\"),U234,MIN(U233,U234))))))","v":""}]
[null,null,null,"II.pokus",null,null,null,{"$f":"IF($C233=\"\",\"\",IF(OR($E234=\"DNF\",$F234=\"DNF\",$G234=\"DNF\"),\"DNF\",IF(OR($E234=\"NP\",$F234=\"NP\",$G234=\"NP\"),\"NP\",IF(ISERROR(MEDIAN($E234:$G234)),\"DNF\",IF(COUNT($E234:$G234)<3,MAX($E234:$G234),MEDIAN($E234:$G234))))))","v":""},null,null,null,null,null,null,null,null,null,null,null,null,""]
[{"$f":"IF('Start - jaro'!M29=\"\",\"\",\"x\")","v":""},74,{"$f":"IF('Start - jaro'!K29=\"\",\"\",'Start - jaro'!K29)","v":""},"I.pokus",null,null,null,{"$f":"IF($C235=\"\",\"\",IF(OR($E235=\"DNF\",$F235=\"DNF\",$G235=\"DNF\"),\"DNF\",IF(OR($E235=\"NP\",$F235=\"NP\",$G235=\"NP\"),\"NP\",IF(ISERROR(MEDIAN($E235:$G235)),\"DNF\",IF(COUNT($E235:$G235)<3,MAX($E235:$G235),MEDIAN($E235:$G235))))))","v":""},null,null,null,null,null,null,null,null,null,null,null,null,"",{"$f":"IF(C235=\"x\",\"x\",IF(C235=\"\",\"\",IF(OR(W235=\"NP\",W235=\"DNF\"),IF(W235=\"NP\",MAX(W$12:W$309)+COUNTIF((W$12:W$309),MAX(W$12:W$309)),MAX(W$12:W$309)+COUNTIF((W$12:W$309),MAX(W$12:W$309))+COUNTIF((W$12:W$309),\"NP\")),W235)))","v":""},"",{"$f":"IF(A235=\"x\",\"x\",IF(C235=\"\",\"\",IF(OR(AND(U235=\"NP\",U236=\"NP\"),AND(U235=\"DNF\",U236=\"DNF\")),U235,IF(AND(U235=\"NP\",U236=\"DNF\"),U235,IF(AND(U235=\"DNF\",U236=\"NP\"),U236,MIN(U235,U236))))))","v":""}]
[null,null,null,"II.pokus",null,null,null,{"$f":"IF($C235=\"\",\"\",IF(OR($E236=\"DNF\",$F236=\"DNF\",$G236=\"DNF\"),\"DNF\",IF(OR($E236=\"NP\",$F236=\"NP\",$G236=\"NP\"),\"NP\",IF(ISERROR(MEDIAN($E236:$G236)),\"DNF\",IF(COUNT($E236:$G236)<3,MAX($E236:$G236),MEDIAN($E236:$G236))))))","v":""},null,null,null,null,null,null,null,null,null,null,null,null,""]
[{"$f":"IF('Start - jaro'!M30=\"\",\"\",\"x\")","v":""},75,{"$f":"IF('Start - jaro'!K30=\"\",\"\",'Start - jaro'!K30)","v":""},"I.pokus",null,null,null,{"$f":"IF($C237=\"\",\"\",IF(OR($E237=\"DNF\",$F237=\"DNF\",$G237=\"DNF\"),\"DNF\",IF(OR($E237=\"NP\",$F237=\"NP\",$G237=\"NP\"),\"NP\",IF(ISERROR(MEDIAN($E237:$G237)),\"DNF\",IF(COUNT($E237:$G237)<3,MAX($E237:$G237),MEDIAN($E237:$G237))))))","v":""},null,null,null,null,null,null,null,null,null,null,null,null,"",{"$f":"IF(C237=\"x\",\"x\",IF(C237=\"\",\"\",IF(OR(W237=\"NP\",W237=\"DNF\"),IF(W237=\"NP\",MAX(W$12:W$309)+COUNTIF((W$12:W$309),MAX(W$12:W$309)),MAX(W$12:W$309)+COUNTIF((W$12:W$309),MAX(W$12:W$309))+COUNTIF((W$12:W$309),\"NP\")),W237)))","v":""},"",{"$f":"IF(A237=\"x\",\"x\",IF(C237=\"\",\"\",IF(OR(AND(U237=\"NP\",U238=\"NP\"),AND(U237=\"DNF\",U238=\"DNF\")),U237,IF(AND(U237=\"NP\",U238=\"DNF\"),U237,IF(AND(U237=\"DNF\",U238=\"NP\"),U238,MIN(U237,U238))))))","v":""}]
[null,null,null,"II.pokus",null,null,null,{"$f":"IF($C237=\"\",\"\",IF(OR($E238=\"DNF\",$F238=\"DNF\",$G238=\"DNF\"),\"DNF\",IF(OR($E238=\"NP\",$F238=\"NP\",$G238=\"NP\"),\"NP\",IF(ISERROR(MEDIAN($E238:$G238)),\"DNF\",IF(COUNT($E238:$G238)<3,MAX($E238:$G238),MEDIAN($E238:$G238))))))","v":""},null,null,null,null,null,null,null,null,null,null,null,null,""]
[{"$f":"IF('Start - jaro'!Q6=\"\",\"\",\"x\")","v":""},76,{"$f":"IF('Start - jaro'!O6=\"\",\"\",'Start - jaro'!O6)","v":""},"I.pokus",null,null,null,{"$f":"IF($C239=\"\",\"\",IF(OR($E239=\"DNF\",$F239=\"DNF\",$G239=\"DNF\"),\"DNF\",IF(OR($E239=\"NP\",$F239=\"NP\",$G239=\"NP\"),\"NP\",IF(ISERROR(MEDIAN($E239:$G239)),\"DNF\",IF(COUNT($E239:$G239)<3,MAX($E239:$G239),MEDIAN($E239:$G239))))))","v":""},null,null,null,null,null,null,null,null,null,null,null,null,"",{"$f":"IF(C239=\"x\",\"x\",IF(C239=\"\",\"\",IF(OR(W239=\"NP\",W239=\"DNF\"),IF(W239=\"NP\",MAX(W$12:W$309)+COUNTIF((W$12:W$309),MAX(W$12:W$309)),MAX(W$12:W$309)+COUNTIF((W$12:W$309),MAX(W$12:W$309))+COUNTIF((W$12:W$309),\"NP\")),W239)))","v":""},"",{"$f":"IF(A239=\"x\",\"x\",IF(C239=\"\",\"\",IF(OR(AND(U239=\"NP\",U240=\"NP\"),AND(U239=\"DNF\",U240=\"DNF\")),U239,IF(AND(U239=\"NP\",U240=\"DNF\"),U239,IF(AND(U239=\"DNF\",U240=\"NP\"),U240,MIN(U239,U240))))))","v":""}]
[null,null,null,"II.pokus",null,null,null,{"$f":"IF($C239=\"\",\"\",IF(OR($E240=\"DNF\",$F240=\"DNF\",$G240=\"DNF\"),\"DNF\",IF(OR($E240=\"NP\",$F240=\"NP\",$G240=\"NP\"),\"NP\",IF(ISERROR(MEDIAN($E240:$G240)),\"DNF\",IF(COUNT($E240:$G240)<3,MAX($E240:$G240),MEDIAN($E240:$G240))))))","v":""},null,null,null,null,null,null,null,null,null,null,null,null,""]
[{"$f":"IF('Start - jaro'!Q7=\"\",\"\",\"x\")","v":""},77,{"$f":"IF('Start - jaro'!O7=\"\",\"\",'Start - jaro'!O7)","v":""},"I.pokus",null,null,null,{"$f":"IF($C241=\"\",\"\",IF(OR($E241=\"DNF\",$F241=\"DNF\",$G241=\"DNF\"),\"DNF\",IF(OR($E241=\"NP\",$F241=\"NP\",$G241=\"NP\"),\"NP\",IF(ISERROR(MEDIAN($E241:$G241)),\"DNF\",IF(COUNT($E241:$G241)<3,MAX($E241:$G241),MEDIAN($E241:$G241))))))","v":""},null,null,null,null,null,null,null,null,null,null,null,null,"",{"$f":"IF(C241=\"x\",\"x\",IF(C241=\"\",\"\",IF(OR(W241=\"NP\",W241=\"DNF\"),IF(W241=\"NP\",MAX(W$12:W$309)+COUNTIF((W$12:W$309),MAX(W$12:W$309)),MAX(W$12:W$309)+COUNTIF((W$12:W$309),MAX(W$12:W$309))+COUNTIF((W$12:W$309),\"NP\")),W241)))","v":""},"",{"$f":"IF(A241=\"x\",\"x\",IF(C241=\"\",\"\",IF(OR(AND(U241=\"NP\",U242=\"NP\"),AND(U241=\"DNF\",U242=\"DNF\")),U241,IF(AND(U241=\"NP\",U242=\"DNF\"),U241,IF(AND(U241=\"DNF\",U242=\"NP\"),U242,MIN(U241,U242))))))","v":""}]
[null,null,null,"II.pokus",null,null,null,{"$f":"IF($C241=\"\",\"\",IF(OR($E242=\"DNF\",$F242=\"DNF\",$G242=\"DNF\"),\"DNF\",IF(OR($E242=\"NP\",$F242=\"NP\",$G242=\"NP\"),\"NP\",IF(ISERROR(MEDIAN($E242:$G242)),\"DNF\",IF(COUNT($E242:$G242)<3,MAX($E242:$G242),MEDIAN($E242:$G242))))))","v":""},null,null,null,null,null,null,null,null,null,null,null,null,""]
[{"$f":"IF('Start - jaro'!Q8=\"\",\"\",\"x\")","v":""},78,{"$f":"IF('Start - jaro'!O8=\"\",\"\",'Start - jaro'!O8)","v":""},"I.pokus",null,null,null,{"$f":"IF($C243=\"\",\"\",IF(OR($E243=\"DNF\",$F243=\"DNF\",$G243=\"DNF\"),\"DNF\",IF(OR($E243=\"NP\",$F243=\"NP\",$G243=\"NP\"),\"NP\",IF(ISERROR(MEDIAN($E243:$G243)),\"DNF\",IF(COUNT($E243:$G243)<3,MAX($E243:$G243),MEDIAN($E243:$G243))))))","v":""},null,null,null,null,null,null,null,null,null,null,null,null,"",{"$f":"IF(C243=\"x\",\"x\",IF(C243=\"\",\"\",IF(OR(W243=\"NP\",W243=\"DNF\"),IF(W243=\"NP\",MAX(W$12:W$309)+COUNTIF((W$12:W$309),MAX(W$12:W$309)),MAX(W$12:W$309)+COUNTIF((W$12:W$309),MAX(W$12:W$309))+COUNTIF((W$12:W$309),\"NP\")),W243)))","v":""},"",{"$f":"IF(A243=\"x\",\"x\",IF(C243=\"\",\"\",IF(OR(AND(U243=\"NP\",U244=\"NP\"),AND(U243=\"DNF\",U244=\"DNF\")),U243,IF(AND(U243=\"NP\",U244=\"DNF\"),U243,IF(AND(U243=\"DNF\",U244=\"NP\"),U244,MIN(U243,U244))))))","v":""}]
[null,null,null,"II.pokus",null,null,null,{"$f":"IF($C243=\"\",\"\",IF(OR($E244=\"DNF\",$F244=\"DNF\",$G244=\"DNF\"),\"DNF\",IF(OR($E244=\"NP\",$F244=\"NP\",$G244=\"NP\"),\"NP\",IF(ISERROR(MEDIAN($E244:$G244)),\"DNF\",IF(COUNT($E244:$G244)<3,MAX($E244:$G244),MEDIAN($E244:$G244))))))","v":""},null,null,null,null,null,null,null,null,null,null,null,null,""]
[{"$f":"IF('Start - jaro'!Q9=\"\",\"\",\"x\")","v":""},79,{"$f":"IF('Start - jaro'!O9=\"\",\"\",'Start - jaro'!O9)","v":""},"I.pokus",null,null,null,{"$f":"IF($C245=\"\",\"\",IF(OR($E245=\"DNF\",$F245=\"DNF\",$G245=\"DNF\"),\"DNF\",IF(OR($E245=\"NP\",$F245=\"NP\",$G245=\"NP\"),\"NP\",IF(ISERROR(MEDIAN($E245:$G245)),\"DNF\",IF(COUNT($E245:$G245)<3,MAX($E245:$G245),MEDIAN($E245:$G245))))))","v":""},null,null,null,null,null,null,null,null,null,null,null,null,"",{"$f":"IF(C245=\"x\",\"x\",IF(C245=\"\",\"\",IF(OR(W245=\"NP\",W245=\"DNF\"),IF(W245=\"NP\",MAX(W$12:W$309)+COUNTIF((W$12:W$309),MAX(W$12:W$309)),MAX(W$12:W$309)+COUNTIF((W$12:W$309),MAX(W$12:W$309))+COUNTIF((W$12:W$309),\"NP\")),W245)))","v":""},"",{"$f":"IF(A245=\"x\",\"x\",IF(C245=\"\",\"\",IF(OR(AND(U245=\"NP\",U246=\"NP\"),AND(U245=\"DNF\",U246=\"DNF\")),U245,IF(AND(U245=\"NP\",U246=\"DNF\"),U245,IF(AND(U245=\"DNF\",U246=\"NP\"),U246,MIN(U245,U246))))))","v":""}]
[null,null,null,"II.pokus",null,null,null,{"$f":"IF($C245=\"\",\"\",IF(OR($E246=\"DNF\",$F246=\"DNF\",$G246=\"DNF\"),\"DNF\",IF(OR($E246=\"NP\",$F246=\"NP\",$G246=\"NP\"),\"NP\",IF(ISERROR(MEDIAN($E246:$G246)),\"DNF\",IF(COUNT($E246:$G246)<3,MAX($E246:$G246),MEDIAN($E246:$G246))))))","v":""},null,null,null,null,null,null,null,null,null,null,null,null,""]
[{"$f":"IF('Start - jaro'!Q10=\"\",\"\",\"x\")","v":""},80,{"$f":"IF('Start - jaro'!O10=\"\",\"\",'Start - jaro'!O10)","v":""},"I.pokus",null,null,null,{"$f":"IF($C247=\"\",\"\",IF(OR($E247=\"DNF\",$F247=\"DNF\",$G247=\"DNF\"),\"DNF\",IF(OR($E247=\"NP\",$F247=\"NP\",$G247=\"NP\"),\"NP\",IF(ISERROR(MEDIAN($E247:$G247)),\"DNF\",IF(COUNT($E247:$G247)<3,MAX($E247:$G247),MEDIAN($E247:$G247))))))","v":""},null,null,null,null,null,null,null,null,null,null,null,null,"",{"$f":"IF(C247=\"x\",\"x\",IF(C247=\"\",\"\",IF(OR(W247=\"NP\",W247=\"DNF\"),IF(W247=\"NP\",MAX(W$12:W$309)+COUNTIF((W$12:W$309),MAX(W$12:W$309)),MAX(W$12:W$309)+COUNTIF((W$12:W$309),MAX(W$12:W$309))+COUNTIF((W$12:W$309),\"NP\")),W247)))","v":""},"",{"$f":"IF(A247=\"x\",\"x\",IF(C247=\"\",\"\",IF(OR(AND(U247=\"NP\",U248=\"NP\"),AND(U247=\"DNF\",U248=\"DNF\")),U247,IF(AND(U247=\"NP\",U248=\"DNF\"),U247,IF(AND(U247=\"DNF\",U248=\"NP\"),U248,MIN(U247,U248))))))","v":""}]
[null,null,null,"II.pokus",null,null,null,{"$f":"IF($C247=\"\",\"\",IF(OR($E248=\"DNF\",$F248=\"DNF\",$G248=\"DNF\"),\"DNF\",IF(OR($E248=\"NP\",$F248=\"NP\",$G248=\"NP\"),\"NP\",IF(ISERROR(MEDIAN($E248:$G248)),\"DNF\",IF(COUNT($E248:$G248)<3,MAX($E248:$G248),MEDIAN($E248:$G248))))))","v":""},null,null,null,null,null,null,null,null,null,null,null,null,""]
[null,"CELOSTÁTNÍ HRA PLAMEN"]
[]
[]
[null,"Výsledková listina č: 9"]
[null,"Štafeta 400 m CTIF",null,null,"Základem je čas naměřený od vydání signálu startéra do proběhnutí posledního člena cílem",null,null,null,"K úřednímu času se připočítávají trest. Sekundy - za každý případ 10 sekund",null,null,null,null,null,null,null,null,null,null,null,"Výsledek soutěže"]
[null,null,null,null,null,null,null,null,"za nesprávné spojení spojek\n(hadice, rozdělovač, proudnice)\nza každý případ",null,null,"nesprávně překonaná překážka nebo\nnesprávně provedený úkon\nza každý případ",null,null,"vyšlápnutí z dráhy oběma nohama\nza každý případ"]
[null,null,null,null,null,null,null,null,null,null,null,null,null,null,null,null,null,null,null,null,"součet trest. Sekund a úředního času","počet bodů za umístění"]
[null,{"$f":"\"KATEGORIE: \"&'Start - podzim'!$N$2","v":"KATEGORIE: STARŠÍ"},null,null,"I. časoměřič","II. časoměřič","III. časoměřič","úřední čas"]
[]
[null,"start. číslo","SOUTĚŽNÍ DRUŽSTVO","pokus"]
[]
[{"$f":"IF('Start - jaro'!Q11=\"\",\"\",\"x\")","v":""},81,{"$f":"IF('Start - jaro'!O11=\"\",\"\",'Start - jaro'!O11)","v":""},"I.pokus",null,null,null,{"$f":"IF($C260=\"\",\"\",IF(OR($E260=\"DNF\",$F260=\"DNF\",$G260=\"DNF\"),\"DNF\",IF(OR($E260=\"NP\",$F260=\"NP\",$G260=\"NP\"),\"NP\",IF(ISERROR(MEDIAN($E260:$G260)),\"DNF\",IF(COUNT($E260:$G260)<3,MAX($E260:$G260),MEDIAN($E260:$G260))))))","v":""},null,null,null,null,null,null,null,null,null,null,null,null,{"$f":"IF(H260=\"\",\"\",IF(H260=\"NP\",\"NP\",IF(H260=\"DNF\",\"DNF\",SUM(I260:T260)+H260)))","v":""},{"$f":"IF(C260=\"x\",\"x\",IF(C260=\"\",\"\",IF(OR(W260=\"NP\",W260=\"DNF\"),IF(W260=\"NP\",MAX(W$12:W$309)+COUNTIF((W$12:W$309),MAX(W$12:W$309)),MAX(W$12:W$309)+COUNTIF((W$12:W$309),MAX(W$12:W$309))+COUNTIF((W$12:W$309),\"NP\")),W260)))","v":""},{"$f":"IF(A260=\"x\",\"x\",IF(C260=\"\",\"\",IF(OR(X260=\"NP\",X260=\"DNF\"),X260,RANK(X260,X$12:X$309,1))))","v":""},{"$f":"IF(A260=\"x\",\"x\",IF(C260=\"\",\"\",IF(OR(AND(U260=\"NP\",U261=\"NP\"),AND(U260=\"DNF\",U261=\"DNF\")),U260,IF(AND(U260=\"NP\",U261=\"DNF\"),U260,IF(AND(U260=\"DNF\",U261=\"NP\"),U261,MIN(U260,U261))))))","v":""}]
[null,null,null,"II.pokus",null,null,null,{"$f":"IF($C260=\"\",\"\",IF(OR($E261=\"DNF\",$F261=\"DNF\",$G261=\"DNF\"),\"DNF\",IF(OR($E261=\"NP\",$F261=\"NP\",$G261=\"NP\"),\"NP\",IF(ISERROR(MEDIAN($E261:$G261)),\"DNF\",IF(COUNT($E261:$G261)<3,MAX($E261:$G261),MEDIAN($E261:$G261))))))","v":""},null,null,null,null,null,null,null,null,null,null,null,null,""]
[{"$f":"IF('Start - jaro'!Q12=\"\",\"\",\"x\")","v":""},82,{"$f":"IF('Start - jaro'!O12=\"\",\"\",'Start - jaro'!O12)","v":""},"I.pokus",null,null,null,{"$f":"IF($C262=\"\",\"\",IF(OR($E262=\"DNF\",$F262=\"DNF\",$G262=\"DNF\"),\"DNF\",IF(OR($E262=\"NP\",$F262=\"NP\",$G262=\"NP\"),\"NP\",IF(ISERROR(MEDIAN($E262:$G262)),\"DNF\",IF(COUNT($E262:$G262)<3,MAX($E262:$G262),MEDIAN($E262:$G262))))))","v":""},null,null,null,null,null,null,null,null,null,null,null,null,"",{"$f":"IF(C262=\"x\",\"x\",IF(C262=\"\",\"\",IF(OR(W262=\"NP\",W262=\"DNF\"),IF(W262=\"NP\",MAX(W$12:W$309)+COUNTIF((W$12:W$309),MAX(W$12:W$309)),MAX(W$12:W$309)+COUNTIF((W$12:W$309),MAX(W$12:W$309))+COUNTIF((W$12:W$309),\"NP\")),W262)))","v":""},"",{"$f":"IF(A262=\"x\",\"x\",IF(C262=\"\",\"\",IF(OR(AND(U262=\"NP\",U263=\"NP\"),AND(U262=\"DNF\",U263=\"DNF\")),U262,IF(AND(U262=\"NP\",U263=\"DNF\"),U262,IF(AND(U262=\"DNF\",U263=\"NP\"),U263,MIN(U262,U263))))))","v":""}]
[null,null,null,"II.pokus",null,null,null,{"$f":"IF($C262=\"\",\"\",IF(OR($E263=\"DNF\",$F263=\"DNF\",$G263=\"DNF\"),\"DNF\",IF(OR($E263=\"NP\",$F263=\"NP\",$G263=\"NP\"),\"NP\",IF(ISERROR(MEDIAN($E263:$G263)),\"DNF\",IF(COUNT($E263:$G263)<3,MAX($E263:$G263),MEDIAN($E263:$G263))))))","v":""},null,null,null,null,null,null,null,null,null,null,null,null,""]
[{"$f":"IF('Start - jaro'!Q13=\"\",\"\",\"x\")","v":""},83,{"$f":"IF('Start - jaro'!O13=\"\",\"\",'Start - jaro'!O13)","v":""},"I.pokus",null,null,null,{"$f":"IF($C264=\"\",\"\",IF(OR($E264=\"DNF\",$F264=\"DNF\",$G264=\"DNF\"),\"DNF\",IF(OR($E264=\"NP\",$F264=\"NP\",$G264=\"NP\"),\"NP\",IF(ISERROR(MEDIAN($E264:$G264)),\"DNF\",IF(COUNT($E264:$G264)<3,MAX($E264:$G264),MEDIAN($E264:$G264))))))","v":""},null,null,null,null,null,null,null,null,null,null,null,null,"",{"$f":"IF(C264=\"x\",\"x\",IF(C264=\"\",\"\",IF(OR(W264=\"NP\",W264=\"DNF\"),IF(W264=\"NP\",MAX(W$12:W$309)+COUNTIF((W$12:W$309),MAX(W$12:W$309)),MAX(W$12:W$309)+COUNTIF((W$12:W$309),MAX(W$12:W$309))+COUNTIF((W$12:W$309),\"NP\")),W264)))","v":""},"",{"$f":"IF(A264=\"x\",\"x\",IF(C264=\"\",\"\",IF(OR(AND(U264=\"NP\",U265=\"NP\"),AND(U264=\"DNF\",U265=\"DNF\")),U264,IF(AND(U264=\"NP\",U265=\"DNF\"),U264,IF(AND(U264=\"DNF\",U265=\"NP\"),U265,MIN(U264,U265))))))","v":""}]
[null,null,null,"II.pokus",null,null,null,{"$f":"IF($C264=\"\",\"\",IF(OR($E265=\"DNF\",$F265=\"DNF\",$G265=\"DNF\"),\"DNF\",IF(OR($E265=\"NP\",$F265=\"NP\",$G265=\"NP\"),\"NP\",IF(ISERROR(MEDIAN($E265:$G265)),\"DNF\",IF(COUNT($E265:$G265)<3,MAX($E265:$G265),MEDIAN($E265:$G265))))))","v":""},null,null,null,null,null,null,null,null,null,null,null,null,""]
[{"$f":"IF('Start - jaro'!Q14=\"\",\"\",\"x\")","v":""},84,{"$f":"IF('Start - jaro'!O14=\"\",\"\",'Start - jaro'!O14)","v":""},"I.pokus",null,null,null,{"$f":"IF($C266=\"\",\"\",IF(OR($E266=\"DNF\",$F266=\"DNF\",$G266=\"DNF\"),\"DNF\",IF(OR($E266=\"NP\",$F266=\"NP\",$G266=\"NP\"),\"NP\",IF(ISERROR(MEDIAN($E266:$G266)),\"DNF\",IF(COUNT($E266:$G266)<3,MAX($E266:$G266),MEDIAN($E266:$G266))))))","v":""},null,null,null,null,null,null,null,null,null,null,null,null,"",{"$f":"IF(C266=\"x\",\"x\",IF(C266=\"\",\"\",IF(OR(W266=\"NP\",W266=\"DNF\"),IF(W266=\"NP\",MAX(W$12:W$309)+COUNTIF((W$12:W$309),MAX(W$12:W$309)),MAX(W$12:W$309)+COUNTIF((W$12:W$309),MAX(W$12:W$309))+COUNTIF((W$12:W$309),\"NP\")),W266)))","v":""},"",{"$f":"IF(A266=\"x\",\"x\",IF(C266=\"\",\"\",IF(OR(AND(U266=\"NP\",U267=\"NP\"),AND(U266=\"DNF\",U267=\"DNF\")),U266,IF(AND(U266=\"NP\",U267=\"DNF\"),U266,IF(AND(U266=\"DNF\",U267=\"NP\"),U267,MIN(U266,U267))))))","v":""}]
[null,null,null,"II.pokus",null,null,null,{"$f":"IF($C266=\"\",\"\",IF(OR($E267=\"DNF\",$F267=\"DNF\",$G267=\"DNF\"),\"DNF\",IF(OR($E267=\"NP\",$F267=\"NP\",$G267=\"NP\"),\"NP\",IF(ISERROR(MEDIAN($E267:$G267)),\"DNF\",IF(COUNT($E267:$G267)<3,MAX($E267:$G267),MEDIAN($E267:$G267))))))","v":""},null,null,null,null,null,null,null,null,null,null,null,null,""]
[{"$f":"IF('Start - jaro'!Q15=\"\",\"\",\"x\")","v":""},85,{"$f":"IF('Start - jaro'!O15=\"\",\"\",'Start - jaro'!O15)","v":""},"I.pokus",null,null,null,{"$f":"IF($C268=\"\",\"\",IF(OR($E268=\"DNF\",$F268=\"DNF\",$G268=\"DNF\"),\"DNF\",IF(OR($E268=\"NP\",$F268=\"NP\",$G268=\"NP\"),\"NP\",IF(ISERROR(MEDIAN($E268:$G268)),\"DNF\",IF(COUNT($E268:$G268)<3,MAX($E268:$G268),MEDIAN($E268:$G268))))))","v":""},null,null,null,null,null,null,null,null,null,null,null,null,"",{"$f":"IF(C268=\"x\",\"x\",IF(C268=\"\",\"\",IF(OR(W268=\"NP\",W268=\"DNF\"),IF(W268=\"NP\",MAX(W$12:W$309)+COUNTIF((W$12:W$309),MAX(W$12:W$309)),MAX(W$12:W$309)+COUNTIF((W$12:W$309),MAX(W$12:W$309))+COUNTIF((W$12:W$309),\"NP\")),W268)))","v":""},"",{"$f":"IF(A268=\"x\",\"x\",IF(C268=\"\",\"\",IF(OR(AND(U268=\"NP\",U269=\"NP\"),AND(U268=\"DNF\",U269=\"DNF\")),U268,IF(AND(U268=\"NP\",U269=\"DNF\"),U268,IF(AND(U268=\"DNF\",U269=\"NP\"),U269,MIN(U268,U269))))))","v":""}]
[null,null,null,"II.pokus",null,null,null,{"$f":"IF($C268=\"\",\"\",IF(OR($E269=\"DNF\",$F269=\"DNF\",$G269=\"DNF\"),\"DNF\",IF(OR($E269=\"NP\",$F269=\"NP\",$G269=\"NP\"),\"NP\",IF(ISERROR(MEDIAN($E269:$G269)),\"DNF\",IF(COUNT($E269:$G269)<3,MAX($E269:$G269),MEDIAN($E269:$G269))))))","v":""},null,null,null,null,null,null,null,null,null,null,null,null,""]
[{"$f":"IF('Start - jaro'!Q16=\"\",\"\",\"x\")","v":""},86,{"$f":"IF('Start - jaro'!O16=\"\",\"\",'Start - jaro'!O16)","v":""},"I.pokus",null,null,null,{"$f":"IF($C270=\"\",\"\",IF(OR($E270=\"DNF\",$F270=\"DNF\",$G270=\"DNF\"),\"DNF\",IF(OR($E270=\"NP\",$F270=\"NP\",$G270=\"NP\"),\"NP\",IF(ISERROR(MEDIAN($E270:$G270)),\"DNF\",IF(COUNT($E270:$G270)<3,MAX($E270:$G270),MEDIAN($E270:$G270))))))","v":""},null,null,null,null,null,null,null,null,null,null,null,null,"",{"$f":"IF(C270=\"x\",\"x\",IF(C270=\"\",\"\",IF(OR(W270=\"NP\",W270=\"DNF\"),IF(W270=\"NP\",MAX(W$12:W$309)+COUNTIF((W$12:W$309),MAX(W$12:W$309)),MAX(W$12:W$309)+COUNTIF((W$12:W$309),MAX(W$12:W$309))+COUNTIF((W$12:W$309),\"NP\")),W270)))","v":""},"",{"$f":"IF(A270=\"x\",\"x\",IF(C270=\"\",\"\",IF(OR(AND(U270=\"NP\",U271=\"NP\"),AND(U270=\"DNF\",U271=\"DNF\")),U270,IF(AND(U270=\"NP\",U271=\"DNF\"),U270,IF(AND(U270=\"DNF\",U271=\"NP\"),U271,MIN(U270,U271))))))","v":""}]
[null,null,null,"II.pokus",null,null,null,{"$f":"IF($C270=\"\",\"\",IF(OR($E271=\"DNF\",$F271=\"DNF\",$G271=\"DNF\"),\"DNF\",IF(OR($E271=\"NP\",$F271=\"NP\",$G271=\"NP\"),\"NP\",IF(ISERROR(MEDIAN($E271:$G271)),\"DNF\",IF(COUNT($E271:$G271)<3,MAX($E271:$G271),MEDIAN($E271:$G271))))))","v":""},null,null,null,null,null,null,null,null,null,null,null,null,""]
[{"$f":"IF('Start - jaro'!Q17=\"\",\"\",\"x\")","v":""},87,{"$f":"IF('Start - jaro'!O17=\"\",\"\",'Start - jaro'!O17)","v":""},"I.pokus",null,null,null,{"$f":"IF($C272=\"\",\"\",IF(OR($E272=\"DNF\",$F272=\"DNF\",$G272=\"DNF\"),\"DNF\",IF(OR($E272=\"NP\",$F272=\"NP\",$G272=\"NP\"),\"NP\",IF(ISERROR(MEDIAN($E272:$G272)),\"DNF\",IF(COUNT($E272:$G272)<3,MAX($E272:$G272),MEDIAN($E272:$G272))))))","v":""},null,null,null,null,null,null,null,null,null,null,null,null,"",{"$f":"IF(C272=\"x\",\"x\",IF(C272=\"\",\"\",IF(OR(W272=\"NP\",W272=\"DNF\"),IF(W272=\"NP\",MAX(W$12:W$309)+COUNTIF((W$12:W$309),MAX(W$12:W$309)),MAX(W$12:W$309)+COUNTIF((W$12:W$309),MAX(W$12:W$309))+COUNTIF((W$12:W$309),\"NP\")),W272)))","v":""},"",{"$f":"IF(A272=\"x\",\"x\",IF(C272=\"\",\"\",IF(OR(AND(U272=\"NP\",U273=\"NP\"),AND(U272=\"DNF\",U273=\"DNF\")),U272,IF(AND(U272=\"NP\",U273=\"DNF\"),U272,IF(AND(U272=\"DNF\",U273=\"NP\"),U273,MIN(U272,U273))))))","v":""}]
[null,null,null,"II.pokus",null,null,null,{"$f":"IF($C272=\"\",\"\",IF(OR($E273=\"DNF\",$F273=\"DNF\",$G273=\"DNF\"),\"DNF\",IF(OR($E273=\"NP\",$F273=\"NP\",$G273=\"NP\"),\"NP\",IF(ISERROR(MEDIAN($E273:$G273)),\"DNF\",IF(COUNT($E273:$G273)<3,MAX($E273:$G273),MEDIAN($E273:$G273))))))","v":""},null,null,null,null,null,null,null,null,null,null,null,null,""]
[{"$f":"IF('Start - jaro'!Q18=\"\",\"\",\"x\")","v":""},88,{"$f":"IF('Start - jaro'!O18=\"\",\"\",'Start - jaro'!O18)","v":""},"I.pokus",null,null,null,{"$f":"IF($C274=\"\",\"\",IF(OR($E274=\"DNF\",$F274=\"DNF\",$G274=\"DNF\"),\"DNF\",IF(OR($E274=\"NP\",$F274=\"NP\",$G274=\"NP\"),\"NP\",IF(ISERROR(MEDIAN($E274:$G274)),\"DNF\",IF(COUNT($E274:$G274)<3,MAX($E274:$G274),MEDIAN($E274:$G274))))))","v":""},null,null,null,null,null,null,null,null,null,null,null,null,"",{"$f":"IF(C274=\"x\",\"x\",IF(C274=\"\",\"\",IF(OR(W274=\"NP\",W274=\"DNF\"),IF(W274=\"NP\",MAX(W$12:W$309)+COUNTIF((W$12:W$309),MAX(W$12:W$309)),MAX(W$12:W$309)+COUNTIF((W$12:W$309),MAX(W$12:W$309))+COUNTIF((W$12:W$309),\"NP\")),W274)))","v":""},"",{"$f":"IF(A274=\"x\",\"x\",IF(C274=\"\",\"\",IF(OR(AND(U274=\"NP\",U275=\"NP\"),AND(U274=\"DNF\",U275=\"DNF\")),U274,IF(AND(U274=\"NP\",U275=\"DNF\"),U274,IF(AND(U274=\"DNF\",U275=\"NP\"),U275,MIN(U274,U275))))))","v":""}]
[null,null,null,"II.pokus",null,null,null,{"$f":"IF($C274=\"\",\"\",IF(OR($E275=\"DNF\",$F275=\"DNF\",$G275=\"DNF\"),\"DNF\",IF(OR($E275=\"NP\",$F275=\"NP\",$G275=\"NP\"),\"NP\",IF(ISERROR(MEDIAN($E275:$G275)),\"DNF\",IF(COUNT($E275:$G275)<3,MAX($E275:$G275),MEDIAN($E275:$G275))))))","v":""},null,null,null,null,null,null,null,null,null,null,null,null,""]
[{"$f":"IF('Start - jaro'!Q19=\"\",\"\",\"x\")","v":""},89,{"$f":"IF('Start - jaro'!O19=\"\",\"\",'Start - jaro'!O19)","v":""},"I.pokus",null,null,null,{"$f":"IF($C276=\"\",\"\",IF(OR($E276=\"DNF\",$F276=\"DNF\",$G276=\"DNF\"),\"DNF\",IF(OR($E276=\"NP\",$F276=\"NP\",$G276=\"NP\"),\"NP\",IF(ISERROR(MEDIAN($E276:$G276)),\"DNF\",IF(COUNT($E276:$G276)<3,MAX($E276:$G276),MEDIAN($E276:$G276))))))","v":""},null,null,null,null,null,null,null,null,null,null,null,null,"",{"$f":"IF(C276=\"x\",\"x\",IF(C276=\"\",\"\",IF(OR(W276=\"NP\",W276=\"DNF\"),IF(W276=\"NP\",MAX(W$12:W$309)+COUNTIF((W$12:W$309),MAX(W$12:W$309)),MAX(W$12:W$309)+COUNTIF((W$12:W$309),MAX(W$12:W$309))+COUNTIF((W$12:W$309),\"NP\")),W276)))","v":""},"",{"$f":"IF(A276=\"x\",\"x\",IF(C276=\"\",\"\",IF(OR(AND(U276=\"NP\",U277=\"NP\"),AND(U276=\"DNF\",U277=\"DNF\")),U276,IF(AND(U276=\"NP\",U277=\"DNF\"),U276,IF(AND(U276=\"DNF\",U277=\"NP\"),U277,MIN(U276,U277))))))","v":""}]
[null,null,null,"II.pokus",null,null,null,{"$f":"IF($C276=\"\",\"\",IF(OR($E277=\"DNF\",$F277=\"DNF\",$G277=\"DNF\"),\"DNF\",IF(OR($E277=\"NP\",$F277=\"NP\",$G277=\"NP\"),\"NP\",IF(ISERROR(MEDIAN($E277:$G277)),\"DNF\",IF(COUNT($E277:$G277)<3,MAX($E277:$G277),MEDIAN($E277:$G277))))))","v":""},null,null,null,null,null,null,null,null,null,null,null,null,""]
[{"$f":"IF('Start - jaro'!Q20=\"\",\"\",\"x\")","v":""},90,{"$f":"IF('Start - jaro'!O20=\"\",\"\",'Start - jaro'!O20)","v":""},"I.pokus",null,null,null,{"$f":"IF($C278=\"\",\"\",IF(OR($E278=\"DNF\",$F278=\"DNF\",$G278=\"DNF\"),\"DNF\",IF(OR($E278=\"NP\",$F278=\"NP\",$G278=\"NP\"),\"NP\",IF(ISERROR(MEDIAN($E278:$G278)),\"DNF\",IF(COUNT($E278:$G278)<3,MAX($E278:$G278),MEDIAN($E278:$G278))))))","v":""},null,null,null,null,null,null,null,null,null,null,null,null,"",{"$f":"IF(C278=\"x\",\"x\",IF(C278=\"\",\"\",IF(OR(W278=\"NP\",W278=\"DNF\"),IF(W278=\"NP\",MAX(W$12:W$309)+COUNTIF((W$12:W$309),MAX(W$12:W$309)),MAX(W$12:W$309)+COUNTIF((W$12:W$309),MAX(W$12:W$309))+COUNTIF((W$12:W$309),\"NP\")),W278)))","v":""},"",{"$f":"IF(A278=\"x\",\"x\",IF(C278=\"\",\"\",IF(OR(AND(U278=\"NP\",U279=\"NP\"),AND(U278=\"DNF\",U279=\"DNF\")),U278,IF(AND(U278=\"NP\",U279=\"DNF\"),U278,IF(AND(U278=\"DNF\",U279=\"NP\"),U279,MIN(U278,U279))))))","v":""}]
[null,null,null,"II.pokus",null,null,null,{"$f":"IF($C278=\"\",\"\",IF(OR($E279=\"DNF\",$F279=\"DNF\",$G279=\"DNF\"),\"DNF\",IF(OR($E279=\"NP\",$F279=\"NP\",$G279=\"NP\"),\"NP\",IF(ISERROR(MEDIAN($E279:$G279)),\"DNF\",IF(COUNT($E279:$G279)<3,MAX($E279:$G279),MEDIAN($E279:$G279))))))","v":""},null,null,null,null,null,null,null,null,null,null,null,null,""]
[null,"CELOSTÁTNÍ HRA PLAMEN"]
[]
[]
[null,"Výsledková listina č: 10"]
[null,"Štafeta 400 m CTIF",null,null,"Základem je čas naměřený od vydání signálu startéra do proběhnutí posledního člena cílem",null,null,null,"K úřednímu času se připočítávají trest. Sekundy - za každý případ 10 sekund",null,null,null,null,null,null,null,null,null,null,null,"Výsledek soutěže"]
[null,null,null,null,null,null,null,null,"za nesprávné spojení spojek\n(hadice, rozdělovač, proudnice)\nza každý případ",null,null,"nesprávně překonaná překážka nebo\nnesprávně provedený úkon\nza každý případ",null,null,"vyšlápnutí z dráhy oběma nohama\nza každý případ"]
[null,null,null,null,null,null,null,null,null,null,null,null,null,null,null,null,null,null,null,null,"součet trest. Sekund a úředního času","počet bodů za umístění"]
[null,{"$f":"\"KATEGORIE: \"&'Start - podzim'!$N$2","v":"KATEGORIE: STARŠÍ"},null,null,"I. časoměřič","II. časoměřič","III. časoměřič","úřední čas"]
[]
[null,"start. číslo","SOUTĚŽNÍ DRUŽSTVO","pokus"]
[]
[{"$f":"IF('Start - jaro'!Q21=\"\",\"\",\"x\")","v":""},91,{"$f":"IF('Start - jaro'!O21=\"\",\"\",'Start - jaro'!O21)","v":""},"I.pokus",null,null,null,{"$f":"IF($C291=\"\",\"\",IF(OR($E291=\"DNF\",$F291=\"DNF\",$G291=\"DNF\"),\"DNF\",IF(OR($E291=\"NP\",$F291=\"NP\",$G291=\"NP\"),\"NP\",IF(ISERROR(MEDIAN($E291:$G291)),\"DNF\",IF(COUNT($E291:$G291)<3,MAX($E291:$G291),MEDIAN($E291:$G291))))))","v":""},null,null,null,null,null,null,null,null,null,null,null,null,{"$f":"IF(H291=\"\",\"\",IF(H291=\"NP\",\"NP\",IF(H291=\"DNF\",\"DNF\",SUM(I291:T291)+H291)))","v":""},{"$f":"IF(C291=\"x\",\"x\",IF(C291=\"\",\"\",IF(OR(W291=\"NP\",W291=\"DNF\"),IF(W291=\"NP\",MAX(W$12:W$309)+COUNTIF((W$12:W$309),MAX(W$12:W$309)),MAX(W$12:W$309)+COUNTIF((W$12:W$309),MAX(W$12:W$309))+COUNTIF((W$12:W$309),\"NP\")),W291)))","v":""},{"$f":"IF(A291=\"x\",\"x\",IF(C291=\"\",\"\",IF(OR(X291=\"NP\",X291=\"DNF\"),X291,RANK(X291,X$12:X$61,1))))","v":""},{"$f":"IF(A291=\"x\",\"x\",IF(C291=\"\",\"\",IF(OR(AND(U291=\"NP\",U292=\"NP\"),AND(U291=\"DNF\",U292=\"DNF\")),U291,IF(AND(U291=\"NP\",U292=\"DNF\"),U291,IF(AND(U291=\"DNF\",U292=\"NP\"),U292,MIN(U291,U292))))))","v":""}]
[null,null,null,"II.pokus",null,null,null,{"$f":"IF($C291=\"\",\"\",IF(OR($E292=\"DNF\",$F292=\"DNF\",$G292=\"DNF\"),\"DNF\",IF(OR($E292=\"NP\",$F292=\"NP\",$G292=\"NP\"),\"NP\",IF(ISERROR(MEDIAN($E292:$G292)),\"DNF\",IF(COUNT($E292:$G292)<3,MAX($E292:$G292),MEDIAN($E292:$G292))))))","v":""},null,null,null,null,null,null,null,null,null,null,null,null,""]
[{"$f":"IF('Start - jaro'!Q22=\"\",\"\",\"x\")","v":""},92,{"$f":"IF('Start - jaro'!O22=\"\",\"\",'Start - jaro'!O22)","v":""},"I.pokus",null,null,null,{"$f":"IF($C293=\"\",\"\",IF(OR($E293=\"DNF\",$F293=\"DNF\",$G293=\"DNF\"),\"DNF\",IF(OR($E293=\"NP\",$F293=\"NP\",$G293=\"NP\"),\"NP\",IF(ISERROR(MEDIAN($E293:$G293)),\"DNF\",IF(COUNT($E293:$G293)<3,MAX($E293:$G293),MEDIAN($E293:$G293))))))","v":""},null,null,null,null,null,null,null,null,null,null,null,null,"",{"$f":"IF(C293=\"x\",\"x\",IF(C293=\"\",\"\",IF(OR(W293=\"NP\",W293=\"DNF\"),IF(W293=\"NP\",MAX(W$12:W$309)+COUNTIF((W$12:W$309),MAX(W$12:W$309)),MAX(W$12:W$309)+COUNTIF((W$12:W$309),MAX(W$12:W$309))+COUNTIF((W$12:W$309),\"NP\")),W293)))","v":""},{"$f":"IF(A293=\"x\",\"x\",IF(C293=\"\",\"\",IF(OR(X293=\"NP\",X293=\"DNF\"),X293,RANK(X293,X$12:X$61,1))))","v":""},{"$f":"IF(A293=\"x\",\"x\",IF(C293=\"\",\"\",IF(OR(AND(U293=\"NP\",U294=\"NP\"),AND(U293=\"DNF\",U294=\"DNF\")),U293,IF(AND(U293=\"NP\",U294=\"DNF\"),U293,IF(AND(U293=\"DNF\",U294=\"NP\"),U294,MIN(U293,U294))))))","v":""}]
[null,null,null,"II.pokus",null,null,null,{"$f":"IF($C293=\"\",\"\",IF(OR($E294=\"DNF\",$F294=\"DNF\",$G294=\"DNF\"),\"DNF\",IF(OR($E294=\"NP\",$F294=\"NP\",$G294=\"NP\"),\"NP\",IF(ISERROR(MEDIAN($E294:$G294)),\"DNF\",IF(COUNT($E294:$G294)<3,MAX($E294:$G294),MEDIAN($E294:$G294))))))","v":""},null,null,null,null,null,null,null,null,null,null,null,null,""]
[{"$f":"IF('Start - jaro'!Q23=\"\",\"\",\"x\")","v":""},93,{"$f":"IF('Start - jaro'!O23=\"\",\"\",'Start - jaro'!O23)","v":""},"I.pokus",null,null,null,{"$f":"IF($C295=\"\",\"\",IF(OR($E295=\"DNF\",$F295=\"DNF\",$G295=\"DNF\"),\"DNF\",IF(OR($E295=\"NP\",$F295=\"NP\",$G295=\"NP\"),\"NP\",IF(ISERROR(MEDIAN($E295:$G295)),\"DNF\",IF(COUNT($E295:$G295)<3,MAX($E295:$G295),MEDIAN($E295:$G295))))))","v":""},null,null,null,null,null,null,null,null,null,null,null,null,"",{"$f":"IF(C295=\"x\",\"x\",IF(C295=\"\",\"\",IF(OR(W295=\"NP\",W295=\"DNF\"),IF(W295=\"NP\",MAX(W$12:W$309)+COUNTIF((W$12:W$309),MAX(W$12:W$309)),MAX(W$12:W$309)+COUNTIF((W$12:W$309),MAX(W$12:W$309))+COUNTIF((W$12:W$309),\"NP\")),W295)))","v":""},{"$f":"IF(A295=\"x\",\"x\",IF(C295=\"\",\"\",IF(OR(X295=\"NP\",X295=\"DNF\"),X295,RANK(X295,X$12:X$61,1))))","v":""},{"$f":"IF(A295=\"x\",\"x\",IF(C295=\"\",\"\",IF(OR(AND(U295=\"NP\",U296=\"NP\"),AND(U295=\"DNF\",U296=\"DNF\")),U295,IF(AND(U295=\"NP\",U296=\"DNF\"),U295,IF(AND(U295=\"DNF\",U296=\"NP\"),U296,MIN(U295,U296))))))","v":""}]
[null,null,null,"II.pokus",null,null,null,{"$f":"IF($C295=\"\",\"\",IF(OR($E296=\"DNF\",$F296=\"DNF\",$G296=\"DNF\"),\"DNF\",IF(OR($E296=\"NP\",$F296=\"NP\",$G296=\"NP\"),\"NP\",IF(ISERROR(MEDIAN($E296:$G296)),\"DNF\",IF(COUNT($E296:$G296)<3,MAX($E296:$G296),MEDIAN($E296:$G296))))))","v":""},null,null,null,null,null,null,null,null,null,null,null,null,""]
[{"$f":"IF('Start - jaro'!Q24=\"\",\"\",\"x\")","v":""},94,{"$f":"IF('Start - jaro'!O24=\"\",\"\",'Start - jaro'!O24)","v":""},"I.pokus",null,null,null,{"$f":"IF($C297=\"\",\"\",IF(OR($E297=\"DNF\",$F297=\"DNF\",$G297=\"DNF\"),\"DNF\",IF(OR($E297=\"NP\",$F297=\"NP\",$G297=\"NP\"),\"NP\",IF(ISERROR(MEDIAN($E297:$G297)),\"DNF\",IF(COUNT($E297:$G297)<3,MAX($E297:$G297),MEDIAN($E297:$G297))))))","v":""},null,null,null,null,null,null,null,null,null,null,null,null,"",{"$f":"IF(C297=\"x\",\"x\",IF(C297=\"\",\"\",IF(OR(W297=\"NP\",W297=\"DNF\"),IF(W297=\"NP\",MAX(W$12:W$309)+COUNTIF((W$12:W$309),MAX(W$12:W$309)),MAX(W$12:W$309)+COUNTIF((W$12:W$309),MAX(W$12:W$309))+COUNTIF((W$12:W$309),\"NP\")),W297)))","v":""},{"$f":"IF(A297=\"x\",\"x\",IF(C297=\"\",\"\",IF(OR(X297=\"NP\",X297=\"DNF\"),X297,RANK(X297,X$12:X$61,1))))","v":""},{"$f":"IF(A297=\"x\",\"x\",IF(C297=\"\",\"\",IF(OR(AND(U297=\"NP\",U298=\"NP\"),AND(U297=\"DNF\",U298=\"DNF\")),U297,IF(AND(U297=\"NP\",U298=\"DNF\"),U297,IF(AND(U297=\"DNF\",U298=\"NP\"),U298,MIN(U297,U298))))))","v":""}]
[null,null,null,"II.pokus",null,null,null,{"$f":"IF($C297=\"\",\"\",IF(OR($E298=\"DNF\",$F298=\"DNF\",$G298=\"DNF\"),\"DNF\",IF(OR($E298=\"NP\",$F298=\"NP\",$G298=\"NP\"),\"NP\",IF(ISERROR(MEDIAN($E298:$G298)),\"DNF\",IF(COUNT($E298:$G298)<3,MAX($E298:$G298),MEDIAN($E298:$G298))))))","v":""},null,null,null,null,null,null,null,null,null,null,null,null,""]
[{"$f":"IF('Start - jaro'!Q25=\"\",\"\",\"x\")","v":""},95,{"$f":"IF('Start - jaro'!O25=\"\",\"\",'Start - jaro'!O25)","v":""},"I.pokus",null,null,null,{"$f":"IF($C299=\"\",\"\",IF(OR($E299=\"DNF\",$F299=\"DNF\",$G299=\"DNF\"),\"DNF\",IF(OR($E299=\"NP\",$F299=\"NP\",$G299=\"NP\"),\"NP\",IF(ISERROR(MEDIAN($E299:$G299)),\"DNF\",IF(COUNT($E299:$G299)<3,MAX($E299:$G299),MEDIAN($E299:$G299))))))","v":""},null,null,null,null,null,null,null,null,null,null,null,null,"",{"$f":"IF(C299=\"x\",\"x\",IF(C299=\"\",\"\",IF(OR(W299=\"NP\",W299=\"DNF\"),IF(W299=\"NP\",MAX(W$12:W$309)+COUNTIF((W$12:W$309),MAX(W$12:W$309)),MAX(W$12:W$309)+COUNTIF((W$12:W$309),MAX(W$12:W$309))+COUNTIF((W$12:W$309),\"NP\")),W299)))","v":""},{"$f":"IF(A299=\"x\",\"x\",IF(C299=\"\",\"\",IF(OR(X299=\"NP\",X299=\"DNF\"),X299,RANK(X299,X$12:X$61,1))))","v":""},{"$f":"IF(A299=\"x\",\"x\",IF(C299=\"\",\"\",IF(OR(AND(U299=\"NP\",U300=\"NP\"),AND(U299=\"DNF\",U300=\"DNF\")),U299,IF(AND(U299=\"NP\",U300=\"DNF\"),U299,IF(AND(U299=\"DNF\",U300=\"NP\"),U300,MIN(U299,U300))))))","v":""}]
[null,null,null,"II.pokus",null,null,null,{"$f":"IF($C299=\"\",\"\",IF(OR($E300=\"DNF\",$F300=\"DNF\",$G300=\"DNF\"),\"DNF\",IF(OR($E300=\"NP\",$F300=\"NP\",$G300=\"NP\"),\"NP\",IF(ISERROR(MEDIAN($E300:$G300)),\"DNF\",IF(COUNT($E300:$G300)<3,MAX($E300:$G300),MEDIAN($E300:$G300))))))","v":""},null,null,null,null,null,null,null,null,null,null,null,null,""]
[{"$f":"IF('Start - jaro'!Q26=\"\",\"\",\"x\")","v":""},96,{"$f":"IF('Start - jaro'!O26=\"\",\"\",'Start - jaro'!O26)","v":""},"I.pokus",null,null,null,{"$f":"IF($C301=\"\",\"\",IF(OR($E301=\"DNF\",$F301=\"DNF\",$G301=\"DNF\"),\"DNF\",IF(OR($E301=\"NP\",$F301=\"NP\",$G301=\"NP\"),\"NP\",IF(ISERROR(MEDIAN($E301:$G301)),\"DNF\",IF(COUNT($E301:$G301)<3,MAX($E301:$G301),MEDIAN($E301:$G301))))))","v":""},null,null,null,null,null,null,null,null,null,null,null,null,"",{"$f":"IF(C301=\"x\",\"x\",IF(C301=\"\",\"\",IF(OR(W301=\"NP\",W301=\"DNF\"),IF(W301=\"NP\",MAX(W$12:W$309)+COUNTIF((W$12:W$309),MAX(W$12:W$309)),MAX(W$12:W$309)+COUNTIF((W$12:W$309),MAX(W$12:W$309))+COUNTIF((W$12:W$309),\"NP\")),W301)))","v":""},{"$f":"IF(A301=\"x\",\"x\",IF(C301=\"\",\"\",IF(OR(X301=\"NP\",X301=\"DNF\"),X301,RANK(X301,X$12:X$61,1))))","v":""},{"$f":"IF(A301=\"x\",\"x\",IF(C301=\"\",\"\",IF(OR(AND(U301=\"NP\",U302=\"NP\"),AND(U301=\"DNF\",U302=\"DNF\")),U301,IF(AND(U301=\"NP\",U302=\"DNF\"),U301,IF(AND(U301=\"DNF\",U302=\"NP\"),U302,MIN(U301,U302))))))","v":""}]
[null,null,null,"II.pokus",null,null,null,{"$f":"IF($C301=\"\",\"\",IF(OR($E302=\"DNF\",$F302=\"DNF\",$G302=\"DNF\"),\"DNF\",IF(OR($E302=\"NP\",$F302=\"NP\",$G302=\"NP\"),\"NP\",IF(ISERROR(MEDIAN($E302:$G302)),\"DNF\",IF(COUNT($E302:$G302)<3,MAX($E302:$G302),MEDIAN($E302:$G302))))))","v":""},null,null,null,null,null,null,null,null,null,null,null,null,""]
[{"$f":"IF('Start - jaro'!Q27=\"\",\"\",\"x\")","v":""},97,{"$f":"IF('Start - jaro'!O27=\"\",\"\",'Start - jaro'!O27)","v":""},"I.pokus",null,null,null,{"$f":"IF($C303=\"\",\"\",IF(OR($E303=\"DNF\",$F303=\"DNF\",$G303=\"DNF\"),\"DNF\",IF(OR($E303=\"NP\",$F303=\"NP\",$G303=\"NP\"),\"NP\",IF(ISERROR(MEDIAN($E303:$G303)),\"DNF\",IF(COUNT($E303:$G303)<3,MAX($E303:$G303),MEDIAN($E303:$G303))))))","v":""},null,null,null,null,null,null,null,null,null,null,null,null,"",{"$f":"IF(C303=\"x\",\"x\",IF(C303=\"\",\"\",IF(OR(W303=\"NP\",W303=\"DNF\"),IF(W303=\"NP\",MAX(W$12:W$309)+COUNTIF((W$12:W$309),MAX(W$12:W$309)),MAX(W$12:W$309)+COUNTIF((W$12:W$309),MAX(W$12:W$309))+COUNTIF((W$12:W$309),\"NP\")),W303)))","v":""},{"$f":"IF(A303=\"x\",\"x\",IF(C303=\"\",\"\",IF(OR(X303=\"NP\",X303=\"DNF\"),X303,RANK(X303,X$12:X$61,1))))","v":""},{"$f":"IF(A303=\"x\",\"x\",IF(C303=\"\",\"\",IF(OR(AND(U303=\"NP\",U304=\"NP\"),AND(U303=\"DNF\",U304=\"DNF\")),U303,IF(AND(U303=\"NP\",U304=\"DNF\"),U303,IF(AND(U303=\"DNF\",U304=\"NP\"),U304,MIN(U303,U304))))))","v":""}]
[null,null,null,"II.pokus",null,null,null,{"$f":"IF($C303=\"\",\"\",IF(OR($E304=\"DNF\",$F304=\"DNF\",$G304=\"DNF\"),\"DNF\",IF(OR($E304=\"NP\",$F304=\"NP\",$G304=\"NP\"),\"NP\",IF(ISERROR(MEDIAN($E304:$G304)),\"DNF\",IF(COUNT($E304:$G304)<3,MAX($E304:$G304),MEDIAN($E304:$G304))))))","v":""},null,null,null,null,null,null,null,null,null,null,null,null,""]
[{"$f":"IF('Start - jaro'!Q28=\"\",\"\",\"x\")","v":""},98,{"$f":"IF('Start - jaro'!O28=\"\",\"\",'Start - jaro'!O28)","v":""},"I.pokus",null,null,null,{"$f":"IF($C305=\"\",\"\",IF(OR($E305=\"DNF\",$F305=\"DNF\",$G305=\"DNF\"),\"DNF\",IF(OR($E305=\"NP\",$F305=\"NP\",$G305=\"NP\"),\"NP\",IF(ISERROR(MEDIAN($E305:$G305)),\"DNF\",IF(COUNT($E305:$G305)<3,MAX($E305:$G305),MEDIAN($E305:$G305))))))","v":""},null,null,null,null,null,null,null,null,null,null,null,null,"",{"$f":"IF(C305=\"x\",\"x\",IF(C305=\"\",\"\",IF(OR(W305=\"NP\",W305=\"DNF\"),IF(W305=\"NP\",MAX(W$12:W$309)+COUNTIF((W$12:W$309),MAX(W$12:W$309)),MAX(W$12:W$309)+COUNTIF((W$12:W$309),MAX(W$12:W$309))+COUNTIF((W$12:W$309),\"NP\")),W305)))","v":""},{"$f":"IF(A305=\"x\",\"x\",IF(C305=\"\",\"\",IF(OR(X305=\"NP\",X305=\"DNF\"),X305,RANK(X305,X$12:X$61,1))))","v":""},{"$f":"IF(A305=\"x\",\"x\",IF(C305=\"\",\"\",IF(OR(AND(U305=\"NP\",U306=\"NP\"),AND(U305=\"DNF\",U306=\"DNF\")),U305,IF(AND(U305=\"NP\",U306=\"DNF\"),U305,IF(AND(U305=\"DNF\",U306=\"NP\"),U306,MIN(U305,U306))))))","v":""}]
[null,null,null,"II.pokus",null,null,null,{"$f":"IF($C305=\"\",\"\",IF(OR($E306=\"DNF\",$F306=\"DNF\",$G306=\"DNF\"),\"DNF\",IF(OR($E306=\"NP\",$F306=\"NP\",$G306=\"NP\"),\"NP\",IF(ISERROR(MEDIAN($E306:$G306)),\"DNF\",IF(COUNT($E306:$G306)<3,MAX($E306:$G306),MEDIAN($E306:$G306))))))","v":""},null,null,null,null,null,null,null,null,null,null,null,null,""]
[{"$f":"IF('Start - jaro'!Q29=\"\",\"\",\"x\")","v":""},99,{"$f":"IF('Start - jaro'!O29=\"\",\"\",'Start - jaro'!O29)","v":""},"I.pokus",null,null,null,{"$f":"IF($C307=\"\",\"\",IF(OR($E307=\"DNF\",$F307=\"DNF\",$G307=\"DNF\"),\"DNF\",IF(OR($E307=\"NP\",$F307=\"NP\",$G307=\"NP\"),\"NP\",IF(ISERROR(MEDIAN($E307:$G307)),\"DNF\",IF(COUNT($E307:$G307)<3,MAX($E307:$G307),MEDIAN($E307:$G307))))))","v":""},null,null,null,null,null,null,null,null,null,null,null,null,"",{"$f":"IF(C307=\"x\",\"x\",IF(C307=\"\",\"\",IF(OR(W307=\"NP\",W307=\"DNF\"),IF(W307=\"NP\",MAX(W$12:W$309)+COUNTIF((W$12:W$309),MAX(W$12:W$309)),MAX(W$12:W$309)+COUNTIF((W$12:W$309),MAX(W$12:W$309))+COUNTIF((W$12:W$309),\"NP\")),W307)))","v":""},{"$f":"IF(A307=\"x\",\"x\",IF(C307=\"\",\"\",IF(OR(X307=\"NP\",X307=\"DNF\"),X307,RANK(X307,X$12:X$61,1))))","v":""},{"$f":"IF(A307=\"x\",\"x\",IF(C307=\"\",\"\",IF(OR(AND(U307=\"NP\",U308=\"NP\"),AND(U307=\"DNF\",U308=\"DNF\")),U307,IF(AND(U307=\"NP\",U308=\"DNF\"),U307,IF(AND(U307=\"DNF\",U308=\"NP\"),U308,MIN(U307,U308))))))","v":""}]
[null,null,null,"II.pokus",null,null,null,{"$f":"IF($C307=\"\",\"\",IF(OR($E308=\"DNF\",$F308=\"DNF\",$G308=\"DNF\"),\"DNF\",IF(OR($E308=\"NP\",$F308=\"NP\",$G308=\"NP\"),\"NP\",IF(ISERROR(MEDIAN($E308:$G308)),\"DNF\",IF(COUNT($E308:$G308)<3,MAX($E308:$G308),MEDIAN($E308:$G308))))))","v":""},null,null,null,null,null,null,null,null,null,null,null,null,""]
[{"$f":"IF('Start - jaro'!Q30=\"\",\"\",\"x\")","v":""},100,{"$f":"IF('Start - jaro'!O30=\"\",\"\",'Start - jaro'!O30)","v":""},"I.pokus",null,null,null,{"$f":"IF($C309=\"\",\"\",IF(OR($E309=\"DNF\",$F309=\"DNF\",$G309=\"DNF\"),\"DNF\",IF(OR($E309=\"NP\",$F309=\"NP\",$G309=\"NP\"),\"NP\",IF(ISERROR(MEDIAN($E309:$G309)),\"DNF\",IF(COUNT($E309:$G309)<3,MAX($E309:$G309),MEDIAN($E309:$G309))))))","v":""},null,null,null,null,null,null,null,null,null,null,null,null,"",{"$f":"IF(C309=\"x\",\"x\",IF(C309=\"\",\"\",IF(OR(W309=\"NP\",W309=\"DNF\"),IF(W309=\"NP\",MAX(W$12:W$309)+COUNTIF((W$12:W$309),MAX(W$12:W$309)),MAX(W$12:W$309)+COUNTIF((W$12:W$309),MAX(W$12:W$309))+COUNTIF((W$12:W$309),\"NP\")),W309)))","v":""},{"$f":"IF(A309=\"x\",\"x\",IF(C309=\"\",\"\",IF(OR(X309=\"NP\",X309=\"DNF\"),X309,RANK(X309,X$12:X$61,1))))","v":""},{"$f":"IF(A309=\"x\",\"x\",IF(C309=\"\",\"\",IF(OR(AND(U309=\"NP\",U310=\"NP\"),AND(U309=\"DNF\",U310=\"DNF\")),U309,IF(AND(U309=\"NP\",U310=\"DNF\"),U309,IF(AND(U309=\"DNF\",U310=\"NP\"),U310,MIN(U309,U310))))))","v":""}]
[null,null,null,"II.pokus",null,null,null,{"$f":"IF($C309=\"\",\"\",IF(OR($E310=\"DNF\",$F310=\"DNF\",$G310=\"DNF\"),\"DNF\",IF(OR($E310=\"NP\",$F310=\"NP\",$G310=\"NP\"),\"NP\",IF(ISERROR(MEDIAN($E310:$G310)),\"DNF\",IF(COUNT($E310:$G310)<3,MAX($E310:$G310),MEDIAN($E310:$G310))))))","v":""},null,null,null,null,null,null,null,null,null,null,null,null,""]

{"sheet":"PÚ CTIF","index":11,"n_rows":310,"n_cols":21,"rows_kept":310,"cut":false,"hidden":false,"merged":[[0,1,2,13],[0,14,3,18],[3,1,3,13],[4,1,6,3],[4,4,6,7],[4,8,4,16],[4,17,5,18],[5,8,10,8],[9,2,10,2],[9,3,10,3],[5,11,10,11],[5,12,10,12],[5,9,10,9],[5,10,10,10],[6,17,10,17],[6,18,10,18],[7,1,8,3],[7,4,10,4],[7,5,10,5],[7,6,10,6],[7,7,10,7],[9,1,10,1],[11,19,12,19],[11,20,12,20],[13,0,14,0],[13,1,14,1],[13,2,14,2],[13,18,14,18],[13,19,14,19],[13,20,14,20],[11,0,12,0],[11,1,12,1],[5,15,10,15],[5,14,10,14],[5,13,10,13],[5,16,10,16],[11,2,12,2],[11,18,12,18],[15,20,16,20],[17,19,18,19],[17,20,18,20],[19,19,20,19],[19,20,20,20],[21,19,22,19],[21,20,22,20],[19,0,20,0],[19,1,20,1],[21,0,22,0],[21,1,22,1],[21,2,22,2],[21,18,22,18],[19,2,20,2],[19,18,20,18],[17,0,18,0],[17,1,18,1],[17,2,18,2],[17,18,18,18],[15,0,16,0],[15,1,16,1],[15,2,16,2],[15,18,16,18],[15,19,16,19],[23,20,24,20],[25,19,26,19],[25,20,26,20],[27,19,28,19],[27,20,28,20],[29,19,30,19],[29,20,30,20],[27,0,28,0],[27,1,28,1],[29,0,30,0],[29,1,30,1],[29,2,30,2],[29,18,30,18],[27,2,28,2],[27,18,28,18],[25,0,26,0],[25,1,26,1],[25,2,26,2],[25,18,26,18],[23,0,24,0],[23,1,24,1],[23,2,24,2],[23,18,24,18],[23,19,24,19],[31,1,33,13],[31,14,34,18],[34,1,34,13],[35,1,37,3],[35,4,37,7],[35,8,35,16],[35,17,36,18],[36,8,41,8],[40,2,41,2],[40,3,41,3],[36,11,41,11],[36,12,41,12],[36,9,41,9],[36,10,41,10],[36,15,41,15],[36,14,41,14],[37,17,41,17],[37,18,41,18],[38,1,39,3],[38,4,41,4],[38,5,41,5],[38,6,41,6],[38,7,41,7],[40,1,41,1],[36,13,41,13],[36,16,41,16],[42,19,43,19],[42,20,43,20],[44,0,45,0],[44,1,45,1],[44,2,45,2],[44,18,45,18],[44,19,45,19],[44,20,45,20],[42,0,43,0],[42,1,43,1],[42,2,43,2],[42,18,43,18],[46,20,47,20],[48,19,49,19],[48,20,49,20],[50,19,51,19],[50,20,51,20],[52,19,53,19],[52,20,53,20],[50,0,51,0],[50,1,51,1],[52,0,53,0],[52,1,53,1],[52,2,53,2],[52,18,53,18],[50,2,51,2],[50,18,51,18],[48,0,49,0],[48,1,49,1],[48,2,49,2],[48,18,49,18],[46,0,47,0],[46,1,47,1],[46,2,47,2],[46,18,47,18],[46,19,47,19],[54,20,55,20],[56,19,57,19],[56,20,57,20],[58,19,59,19],[58,20,59,20],[60,19,61,19],[60,20,61,20],[58,0,59,0],[58,1,59,1],[60,0,61,0],[60,1,61,1],[60,2,61,2],[60,18,61,18],[58,2,59,2],[58,18,59,18],[56,0,57,0],[56,1,57,1],[56,2,57,2],[56,18,57,18],[54,0,55,0],[54,1,55,1],[54,2,55,2],[54,18,55,18],[54,19,55,19],[62,14,65,18],[65,1,65,13],[66,1,68,3],[66,4,68,7],[66,8,66,16],[66,17,67,18],[67,8,72,8],[67,9,72,9],[67,10,72,10],[67,15,72,15],[67,16,72,16],[68,17,72,17],[68,18,72,18],[67,11,72,11],[67,12,72,12],[67,13,72,13],[67,14,72,14],[69,7,72,7],[71,1,72,1],[71,2,72,2],[71,3,72,3],[69,1,70,3],[69,4,72,4],[69,5,72,5],[69,6,72,6],[62,1,64,13],[73,19,74,19],[73,20,74,20],[75,0,76,0],[75,1,76,1],[75,2,76,2],[75,18,76,18],[75,19,76,19],[75,20,76,20],[73,0,74,0],[73,1,74,1],[73,2,74,2],[73,18,74,18],[77,20,78,20],[79,19,80,19],[79,20,80,20],[81,19,82,19],[81,20,82,20],[83,19,84,19],[83,20,84,20],[81,0,82,0],[81,1,82,1],[83,0,84,0],[83,1,84,1],[83,2,84,2],[83,18,84,18],[81,2,82,2],[81,18,82,18],[79,0,80,0],[79,1,80,1],[79,2,80,2],[79,18,80,18],[77,0,78,0],[77,1,78,1],[77,2,78,2],[77,18,78,18],[77,19,78,19],[85,20,86,20],[87,19,88,19],[87,20,88,20],[89,19,90,19],[89,20,90,20],[91,19,92,19],[91,20,92,20],[89,0,90,0],[89,1,90,1],[91,0,92,0],[91,1,92,1],[91,2,92,2],[91,18,92,18],[89,2,90,2],[89,18,90,18],[87,0,88,0],[87,1,88,1],[87,2,88,2],[87,18,88,18],[85,0,86,0],[85,1,86,1],[85,2,86,2],[85,18,86,18],[85,19,86,19],[93,14,96,18],[96,1,96,13],[97,1,99,3],[97,4,99,7],[97,8,97,16],[97,17,98,18],[98,8,103,8],[98,9,103,9],[98,10,103,10],[98,15,103,15],[98,16,103,16],[99,17,103,17],[99,18,103,18],[98,11,103,11],[98,12,103,12],[98,13,103,13],[98,14,103,14],[100,7,103,7],[102,1,103,1],[102,2,103,2],[102,3,103,3],[100,1,101,3],[100,4,103,4],[100,5,103,5],[100,6,103,6],[93,1,95,13],[104,19,105,19],[104,20,105,20],[106,0,107,0],[106,1,107,1],[106,2,107,2],[106,18,107,18],[106,19,107,19],[106,20,107,20],[104,0,105,0],[104,1,105,1],[104,2,105,2],[104,18,105,18],[108,20,109,20],[110,19,111,19],[110,20,111,20],[112,19,113,19],[112,20,113,20],[114,19,115,19],[114,20,115,20],[112,0,113,0],[112,1,113,1],[114,0,115,0],[114,1,115,1],[114,2,115,2],[114,18,115,18],[112,2,113,2],[112,18,113,18],[110,0,111,0],[110,1,111,1],[110,2,111,2],[110,18,111,18],[108,0,109,0],[108,1,109,1],[108,2,109,2],[108,18,109,18],[108,19,109,19],[116,20,117,20],[118,19,119,19],[118,20,119,20],[120,19,121,19],[120,20,121,20],[122,19,123,19],[122,20,123,20],[120,0,121,0],[120,1,121,1],[122,0,123,0],[122,1,123,1],[122,2,123,2],[122,18,123,18],[120,2,121,2],[120,18,121,18],[118,0,119,0],[118,1,119,1],[118,2,119,2],[118,18,119,18],[116,0,117,0],[116,1,117,1],[116,2,117,2],[116,18,117,18],[116,19,117,19],[124,14,127,18],[127,1,127,13],[128,1,130,3],[128,4,130,7],[128,8,128,16],[128,17,129,18],[129,8,134,8],[129,9,134,9],[129,10,134,10],[129,15,134,15],[129,16,134,16],[130,17,134,17],[130,18,134,18],[129,11,134,11],[129,12,134,12],[129,13,134,13],[129,14,134,14],[131,7,134,7],[133,1,134,1],[133,2,134,2],[133,3,134,3],[131,1,132,3],[131,4,134,4],[131,5,134,5],[131,6,134,6],[124,1,126,13],[135,19,136,19],[135,20,136,20],[137,0,138,0],[137,1,138,1],[137,2,138,2],[137,18,138,18],[137,19,138,19],[137,20,138,20],[135,0,136,0],[135,1,136,1],[135,2,136,2],[135,18,136,18],[139,20,140,20],[141,19,142,19],[141,20,142,20],[143,19,144,19],[143,20,144,20],[145,19,146,19],[145,20,146,20],[143,0,144,0],[143,1,144,1],[145,0,146,0],[145,1,146,1],[145,2,146,2],[145,18,146,18],[143,2,144,2],[143,18,144,18],[141,0,142,0],[141,1,142,1],[141,2,142,2],[141,18,142,18],[139,0,140,0],[139,1,140,1],[139,2,140,2],[139,18,140,18],[139,19,140,19],[147,20,148,20],[149,19,150,19],[149,20,150,20],[151,19,152,19],[151,20,152,20],[153,19,154,19],[153,20,154,20],[151,0,152,0],[151,1,152,1],[153,0,154,0],[153,1,154,1],[153,2,154,2],[153,18,154,18],[151,2,152,2],[151,18,152,18],[149,0,150,0],[149,1,150,1],[149,2,150,2],[149,18,150,18],[147,0,148,0],[147,1,148,1],[147,2,148,2],[147,18,148,18],[147,19,148,19],[155,14,158,18],[158,1,158,13],[159,1,161,3],[159,4,161,7],[159,8,159,16],[159,17,160,18],[160,8,165,8],[160,9,165,9],[160,10,165,10],[160,15,165,15],[160,16,165,16],[161,17,165,17],[161,18,165,18],[160,11,165,11],[160,12,165,12],[160,13,165,13],[160,14,165,14],[162,7,165,7],[164,1,165,1],[164,2,165,2],[164,3,165,3],[162,1,163,3],[162,4,165,4],[162,5,165,5],[162,6,165,6],[155,1,157,13],[166,19,167,19],[166,20,167,20],[168,0,169,0],[168,1,169,1],[168,2,169,2],[168,18,169,18],[168,19,169,19],[168,20,169,20],[166,0,167,0],[166,1,167,1],[166,2,167,2],[166,18,167,18],[170,20,171,20],[172,19,173,19],[172,20,173,20],[174,19,175,19],[174,20,175,20],[176,19,177,19],[176,20,177,20],[174,0,175,0],[174,1,175,1],[176,0,177,0],[176,1,177,1],[176,2,177,2],[176,18,177,18],[174,2,175,2],[174,18,175,18],[172,0,173,0],[172,1,173,1],[172,2,173,2],[172,18,173,18],[170,0,171,0],[170,1,171,1],[170,2,171,2],[170,18,171,18],[170,19,171,19],[178,20,179,20],[180,19,181,19],[180,20,181,20],[182,19,183,19],[182,20,183,20],[184,19,185,19],[184,20,185,20],[182,0,183,0],[182,1,183,1],[184,0,185,0],[184,1,185,1],[184,2,185,2],[184,18,185,18],[182,2,183,2],[182,18,183,18],[180,0,181,0],[180,1,181,1],[180,2,181,2],[180,18,181,18],[178,0,179,0],[178,1,179,1],[178,2,179,2],[178,18,179,18],[178,19,179,19],[186,14,189,18],[189,1,189,13],[190,1,192,3],[190,4,192,7],[190,8,190,16],[190,17,191,18],[191,8,196,8],[191,9,196,9],[191,10,196,10],[191,15,196,15],[191,16,196,16],[192,17,196,17],[192,18,196,18],[191,11,196,11],[191,12,196,12],[191,13,196,13],[191,14,196,14],[193,7,196,7],[195,1,196,1],[195,2,196,2],[195,3,196,3],[193,1,194,3],[193,4,196,4],[193,5,196,5],[193,6,196,6],[186,1,188,13],[197,19,198,19],[197,20,198,20],[199,0,200,0],[199,1,200,1],[199,2,200,2],[199,18,200,18],[199,19,200,19],[199,20,200,20],[197,0,198,0],[197,1,198,1],[197,2,198,2],[197,18,198,18],[201,20,202,20],[203,19,204,19],[203,20,204,20],[205,19,206,19],[205,20,206,20],[207,19,208,19],[207,20,208,20],[205,0,206,0],[205,1,206,1],[207,0,208,0],[207,1,208,1],[207,2,208,2],[207,18,208,18],[205,2,206,2],[205,18,206,18],[203,0,204,0],[203,1,204,1],[203,2,204,2],[203,18,204,18],[201,0,202,0],[201,1,202,1],[201,2,202,2],[201,18,202,18],[201,19,202,19],[209,20,210,20],[211,19,212,19],[211,20,212,20],[213,19,214,19],[213,20,214,20],[215,19,216,19],[215,20,216,20],[213,0,214,0],[213,1,214,1],[215,0,216,0],[215,1,216,1],[215,2,216,2],[215,18,216,18],[213,2,214,2],[213,18,214,18],[211,0,212,0],[211,1,212,1],[211,2,212,2],[211,18,212,18],[209,0,210,0],[209,1,210,1],[209,2,210,2],[209,18,210,18],[209,19,210,19],[217,14,220,18],[220,1,220,13],[221,1,223,3],[221,4,223,7],[221,8,221,16],[221,17,222,18],[222,8,227,8],[222,9,227,9],[222,10,227,10],[222,15,227,15],[222,16,227,16],[223,17,227,17],[223,18,227,18],[222,11,227,11],[222,12,227,12],[222,13,227,13],[222,14,227,14],[224,7,227,7],[226,1,227,1],[226,2,227,2],[226,3,227,3],[224,1,225,3],[224,4,227,4],[224,5,227,5],[224,6,227,6],[217,1,219,13],[228,19,229,19],[228,20,229,20],[230,0,231,0],[230,1,231,1],[230,2,231,2],[230,18,231,18],[230,19,231,19],[230,20,231,20],[228,0,229,0],[228,1,229,1],[228,2,229,2],[228,18,229,18],[232,20,233,20],[234,19,235,19],[234,20,235,20],[236,19,237,19],[236,20,237,20],[238,19,239,19],[238,20,239,20],[236,0,237,0],[236,1,237,1],[238,0,239,0],[238,1,239,1],[238,2,239,2],[238,18,239,18],[236,2,237,2],[236,18,237,18],[234,0,235,0],[234,1,235,1],[234,2,235,2],[234,18,235,18],[232,0,233,0],[232,1,233,1],[232,2,233,2],[232,18,233,18],[232,19,233,19],[240,20,241,20],[242,19,243,19],[242,20,243,20],[244,19,245,19],[244,20,245,20],[246,19,247,19],[246,20,247,20],[244,0,245,0],[244,1,245,1],[246,0,247,0],[246,1,247,1],[246,2,247,2],[246,18,247,18],[244,2,245,2],[244,18,245,18],[242,0,243,0],[242,1,243,1],[242,2,243,2],[242,18,243,18],[240,0,241,0],[240,1,241,1],[240,2,241,2],[240,18,241,18],[240,19,241,19],[248,14,251,18],[251,1,251,13],[252,1,254,3],[252,4,254,7],[252,8,252,16],[252,17,253,18],[253,8,258,8],[253,9,258,9],[253,10,258,10],[253,15,258,15],[253,16,258,16],[254,17,258,17],[254,18,258,18],[253,11,258,11],[253,12,258,12],[253,13,258,13],[253,14,258,14],[255,7,258,7],[257,1,258,1],[257,2,258,2],[257,3,258,3],[255,1,256,3],[255,4,258,4],[255,5,258,5],[255,6,258,6],[248,1,250,13],[259,19,260,19],[259,20,260,20],[261,0,262,0],[261,1,262,1],[261,2,262,2],[261,18,262,18],[261,19,262,19],[261,20,262,20],[259,0,260,0],[259,1,260,1],[259,2,260,2],[259,18,260,18],[263,20,264,20],[265,19,266,19],[265,20,266,20],[267,19,268,19],[267,20,268,20],[269,19,270,19],[269,20,270,20],[267,0,268,0],[267,1,268,1],[269,0,270,0],[269,1,270,1],[269,2,270,2],[269,18,270,18],[267,2,268,2],[267,18,268,18],[265,0,266,0],[265,1,266,1],[265,2,266,2],[265,18,266,18],[263,0,264,0],[263,1,264,1],[263,2,264,2],[263,18,264,18],[263,19,264,19],[271,20,272,20],[273,19,274,19],[273,20,274,20],[275,19,276,19],[275,20,276,20],[277,19,278,19],[277,20,278,20],[275,0,276,0],[275,1,276,1],[277,0,278,0],[277,1,278,1],[277,2,278,2],[277,18,278,18],[275,2,276,2],[275,18,276,18],[273,0,274,0],[273,1,274,1],[273,2,274,2],[273,18,274,18],[271,0,272,0],[271,1,272,1],[271,2,272,2],[271,18,272,18],[271,19,272,19],[279,14,282,18],[282,1,282,13],[283,1,285,3],[283,4,285,7],[283,8,283,16],[283,17,284,18],[284,8,289,8],[284,9,289,9],[284,10,289,10],[284,15,289,15],[284,16,289,16],[285,17,289,17],[285,18,289,18],[284,11,289,11],[284,12,289,12],[284,13,289,13],[284,14,289,14],[286,7,289,7],[288,1,289,1],[288,2,289,2],[288,3,289,3],[286,1,287,3],[286,4,289,4],[286,5,289,5],[286,6,289,6],[279,1,281,13],[290,19,291,19],[290,20,291,20],[292,0,293,0],[292,1,293,1],[292,2,293,2],[292,18,293,18],[292,19,293,19],[292,20,293,20],[290,0,291,0],[290,1,291,1],[290,2,291,2],[290,18,291,18],[294,20,295,20],[296,19,297,19],[296,20,297,20],[298,19,299,19],[298,20,299,20],[300,19,301,19],[300,20,301,20],[298,0,299,0],[298,1,299,1],[300,0,301,0],[300,1,301,1],[300,2,301,2],[300,18,301,18],[298,2,299,2],[298,18,299,18],[296,0,297,0],[296,1,297,1],[296,2,297,2],[296,18,297,18],[294,0,295,0],[294,1,295,1],[294,2,295,2],[294,18,295,18],[294,19,295,19],[302,20,303,20],[304,19,305,19],[304,20,305,20],[306,19,307,19],[306,20,307,20],[308,19,309,19],[308,20,309,20],[306,0,307,0],[306,1,307,1],[308,0,309,0],[308,1,309,1],[308,2,309,2],[308,18,309,18],[306,2,307,2],[306,18,307,18],[304,0,305,0],[304,1,305,1],[304,2,305,2],[304,18,305,18],[302,0,303,0],[302,1,303,1],[302,2,303,2],[302,18,303,18],[302,19,303,19]]}
[null,"CELOSTÁTNÍ HRA PLAMEN"]
[]
[]
[null,"Výsledková listina č: 1"]
[null,"Požární útok CTIF",null,null,"Základem je čas naměřený od vydání signálu startéra do proběhnutí posledního člena cílem",null,null,null,"K úřednímu času se připočítávají trestné sekundy",null,null,null,null,null,null,null,null,"Výsledek soutěže"]
[null,null,null,null,null,null,null,null,"nesprávné překonání překážek\n10 tb. = sekund","za celé přetočení hadice\n(každá hadice se posuzuje samostatně)\n5 tb. = sekund","za rozpojení spojky nebo zapojení na 1 ozub\nza každý případ\n20 tb. = sekund","nesprávné rozložení hadice nebo\nnesprávné položení hadic u překářek\n10 tb. = sekund","za zapomenuté, ztracené ne špatně \nodložené nářadí\n5 tb. = sekund","za nesprávné zařazení techn. prostředku\nu stojanu\n10 tb. = sekund","za nesprávné uvázaný uzel\nza každý případ\n10 tb. = sekund","za mluvení během plnění disciplíny \nza každý případ\n10 tb. = sekund)","nesprávná práce\n10 tb. = sekund"]
[null,null,null,null,null,null,null,null,null,null,null,null,null,null,null,null,null,"součet trest. Sekund a úředního času","počet bodů za umístění"]
[null,{"$f":"\"KATEGORIE: \"&'Start - podzim'!$N$2","v":"KATEGORIE: STARŠÍ"},null,null,"I. časoměřič","II. časoměřič","III. časoměřič","úřední čas"]
[]
[null,"start. číslo","SOUTĚŽNÍ DRUŽSTVO","pokus"]
[]
[{"$f":"IF('Start - jaro'!E6=\"\",\"\",\"x\")","v":""},1,{"$f":"IF('Start - jaro'!C6=\"\",\"\",'Start - jaro'!C6)","v":"Srubec (ČB)"},"I.pokus",81.209999999999994,null,null,{"$f":"IF($C12=\"\",\"\",IF(OR($E12=\"DNF\",$F12=\"DNF\",$G12=\"DNF\"),\"DNF\",IF(OR($E12=\"NP\",$F12=\"NP\",$G12=\"NP\"),\"NP\",IF(ISERROR(MEDIAN($E12:$G12)),\"DNF\",IF(COUNT($E12:$G12)<3,MAX($E12:$G12),MEDIAN($E12:$G12))))))","v":81.209999999999994},0,5,0,0,0,10,0,0,50,{"$f":"IF(H12=\"\",\"\",IF(H12=\"NP\",\"NP\",IF(H12=\"DNF\",\"DNF\",SUM(I12:Q12)+H12)))","v":146.20999999999998},{"$f":"IF(C12=\"x\",\"x\",IF(C12=\"\",\"\",IF(OR(T12=\"NP\",T12=\"DNF\"),IF(T12=\"NP\",MAX(T$12:T$309)+COUNTIF((T$12:T$309),MAX(T$12:T$309)),MAX(T$12:T$309)+COUNTIF((T$12:T$309),MAX(T$12:T$309))+COUNTIF((T$12:T$309),\"NP\")),T12)))","v":1},{"$f":"IF(A12=\"x\",\"x\",IF(C12=\"\",\"\",IF(OR(U12=\"NP\",U12=\"DNF\"),U12,RANK(U12,U$12:U$309,1))))","v":1},{"$f":"IF(A12=\"x\",\"x\",IF(C12=\"\",\"\",IF(OR(AND(R12=\"NP\",R13=\"NP\"),AND(R12=\"DNF\",R13=\"DNF\")),R12,IF(AND(R12=\"NP\",R13=\"DNF\"),R12,IF(AND(R12=\"DNF\",R13=\"NP\"),R13,MIN(R12,R13))))))","v":61.27}]
[null,null,null,"II.pokus",61.27,null,null,{"$f":"IF($C12=\"\",\"\",IF(OR($E13=\"DNF\",$F13=\"DNF\",$G13=\"DNF\"),\"DNF\",IF(OR($E13=\"NP\",$F13=\"NP\",$G13=\"NP\"),\"NP\",IF(ISERROR(MEDIAN($E13:$G13)),\"DNF\",IF(COUNT($E13:$G13)<3,MAX($E13:$G13),MEDIAN($E13:$G13))))))","v":61.27},0,0,0,0,0,0,0,0,0,61.27]
[{"$f":"IF('Start - jaro'!E7=\"\",\"\",\"x\")","v":""},2,{"$f":"IF('Start - jaro'!C7=\"\",\"\",'Start - jaro'!C7)","v":"Zhoř u Tábora (TÁ)"},"I.pokus",65.55,null,null,{"$f":"IF($C14=\"\",\"\",IF(OR($E14=\"DNF\",$F14=\"DNF\",$G14=\"DNF\"),\"DNF\",IF(OR($E14=\"NP\",$F14=\"NP\",$G14=\"NP\"),\"NP\",IF(ISERROR(MEDIAN($E14:$G14)),\"DNF\",IF(COUNT($E14:$G14)<3,MAX($E14:$G14),MEDIAN($E14:$G14))))))","v":65.55},0,0,0,0,0,0,0,0,0,65.55,{"$f":"IF(C14=\"x\",\"x\",IF(C14=\"\",\"\",IF(OR(T14=\"NP\",T14=\"DNF\"),IF(T14=\"NP\",MAX(T$12:T$309)+COUNTIF((T$12:T$309),MAX(T$12:T$309)),MAX(T$12:T$309)+COUNTIF((T$12:T$309),MAX(T$12:T$309))+COUNTIF((T$12:T$309),\"NP\")),T14)))","v":3},{"$f":"IF(A14=\"x\",\"x\",IF(C14=\"\",\"\",IF(OR(U14=\"NP\",U14=\"DNF\"),U14,RANK(U14,U$12:U$309,1))))","v":3},{"$f":"IF(A14=\"x\",\"x\",IF(C14=\"\",\"\",IF(OR(AND(R14=\"NP\",R15=\"NP\"),AND(R14=\"DNF\",R15=\"DNF\")),R14,IF(AND(R14=\"NP\",R15=\"DNF\"),R14,IF(AND(R14=\"DNF\",R15=\"NP\"),R15,MIN(R14,R15))))))","v":65.55}]
[null,null,null,"II.pokus",65.27,null,null,{"$f":"IF($C14=\"\",\"\",IF(OR($E15=\"DNF\",$F15=\"DNF\",$G15=\"DNF\"),\"DNF\",IF(OR($E15=\"NP\",$F15=\"NP\",$G15=\"NP\"),\"NP\",IF(ISERROR(MEDIAN($E15:$G15)),\"DNF\",IF(COUNT($E15:$G15)<3,MAX($E15:$G15),MEDIAN($E15:$G15))))))","v":65.27},10,0,0,0,0,0,0,0,10,85.27]
[{"$f":"IF('Start - jaro'!E8=\"\",\"\",\"x\")","v":""},3,{"$f":"IF('Start - jaro'!C8=\"\",\"\",'Start - jaro'!C8)","v":"Svatá Maří (PT)"},"I.pokus",74.19,null,null,{"$f":"IF($C16=\"\",\"\",IF(OR($E16=\"DNF\",$F16=\"DNF\",$G16=\"DNF\"),\"DNF\",IF(OR($E16=\"NP\",$F16=\"NP\",$G16=\"NP\"),\"NP\",IF(ISERROR(MEDIAN($E16:$G16)),\"DNF\",IF(COUNT($E16:$G16)<3,MAX($E16:$G16),MEDIAN($E16:$G16))))))","v":74.19},10,0,0,0,0,0,0,0,0,84.19,{"$f":"IF(C16=\"x\",\"x\",IF(C16=\"\",\"\",IF(OR(T16=\"NP\",T16=\"DNF\"),IF(T16=\"NP\",MAX(T$12:T$309)+COUNTIF((T$12:T$309),MAX(T$12:T$309)),MAX(T$12:T$309)+COUNTIF((T$12:T$309),MAX(T$12:T$309))+COUNTIF((T$12:T$309),\"NP\")),T16)))","v":2},{"$f":"IF(A16=\"x\",\"x\",IF(C16=\"\",\"\",IF(OR(U16=\"NP\",U16=\"DNF\"),U16,RANK(U16,U$12:U$309,1))))","v":2},{"$f":"IF(A16=\"x\",\"x\",IF(C16=\"\",\"\",IF(OR(AND(R16=\"NP\",R17=\"NP\"),AND(R16=\"DNF\",R17=\"DNF\")),R16,IF(AND(R16=\"NP\",R17=\"DNF\"),R16,IF(AND(R16=\"DNF\",R17=\"NP\"),R17,MIN(R16,R17))))))","v":62.08}]
[null,null,null,"II.pokus",62.08,null,null,{"$f":"IF($C16=\"\",\"\",IF(OR($E17=\"DNF\",$F17=\"DNF\",$G17=\"DNF\"),\"DNF\",IF(OR($E17=\"NP\",$F17=\"NP\",$G17=\"NP\"),\"NP\",IF(ISERROR(MEDIAN($E17:$G17)),\"DNF\",IF(COUNT($E17:$G17)<3,MAX($E17:$G17),MEDIAN($E17:$G17))))))","v":62.08},0,0,0,0,0,0,0,0,0,62.08]
[{"$f":"IF('Start - jaro'!E9=\"\",\"\",\"x\")","v":""},4,{"$f":"IF('Start - jaro'!C9=\"\",\"\",'Start - jaro'!C9)","v":"Drahonice (ST)"},"I.pokus",67.8,null,null,{"$f":"IF($C18=\"\",\"\",IF(OR($E18=\"DNF\",$F18=\"DNF\",$G18=\"DNF\"),\"DNF\",IF(OR($E18=\"NP\",$F18=\"NP\",$G18=\"NP\"),\"NP\",IF(ISERROR(MEDIAN($E18:$G18)),\"DNF\",IF(COUNT($E18:$G18)<3,MAX($E18:$G18),MEDIAN($E18:$G18))))))","v":67.8},0,0,0,0,0,0,0,0,90,157.80000000000001,{"$f":"IF(C18=\"x\",\"x\",IF(C18=\"\",\"\",IF(OR(T18=\"NP\",T18=\"DNF\"),IF(T18=\"NP\",MAX(T$12:T$309)+COUNTIF((T$12:T$309),MAX(T$12:T$309)),MAX(T$12:T$309)+COUNTIF((T$12:T$309),MAX(T$12:T$309))+COUNTIF((T$12:T$309),\"NP\")),T18)))","v":6},{"$f":"IF(A18=\"x\",\"x\",IF(C18=\"\",\"\",IF(OR(U18=\"NP\",U18=\"DNF\"),U18,RANK(U18,U$12:U$309,1))))","v":6},{"$f":"IF(A18=\"x\",\"x\",IF(C18=\"\",\"\",IF(OR(AND(R18=\"NP\",R19=\"NP\"),AND(R18=\"DNF\",R19=\"DNF\")),R18,IF(AND(R18=\"NP\",R19=\"DNF\"),R18,IF(AND(R18=\"DNF\",R19=\"NP\"),R19,MIN(R18,R19))))))","v":125.89}]
[null,null,null,"II.pokus",65.89,null,null,{"$f":"IF($C18=\"\",\"\",IF(OR($E19=\"DNF\",$F19=\"DNF\",$G19=\"DNF\"),\"DNF\",IF(OR($E19=\"NP\",$F19=\"NP\",$G19=\"NP\"),\"NP\",IF(ISERROR(MEDIAN($E19:$G19)),\"DNF\",IF(COUNT($E19:$G19)<3,MAX($E19:$G19),MEDIAN($E19:$G19))))))","v":65.89},0,0,0,0,0,0,0,0,60,125.89]
[{"$f":"IF('Start - jaro'!E10=\"\",\"\",\"x\")","v":""},5,{"$f":"IF('Start - jaro'!C10=\"\",\"\",'Start - jaro'!C10)","v":"Dobrošov (PÍ)"},"I.pokus",65.38,null,null,{"$f":"IF($C20=\"\",\"\",IF(OR($E20=\"DNF\",$F20=\"DNF\",$G20=\"DNF\"),\"DNF\",IF(OR($E20=\"NP\",$F20=\"NP\",$G20=\"NP\"),\"NP\",IF(ISERROR(MEDIAN($E20:$G20)),\"DNF\",IF(COUNT($E20:$G20)<3,MAX($E20:$G20),MEDIAN($E20:$G20))))))","v":65.38},0,5,0,0,0,0,0,0,90,160.38,{"$f":"IF(C20=\"x\",\"x\",IF(C20=\"\",\"\",IF(OR(T20=\"NP\",T20=\"DNF\"),IF(T20=\"NP\",MAX(T$12:T$309)+COUNTIF((T$12:T$309),MAX(T$12:T$309)),MAX(T$12:T$309)+COUNTIF((T$12:T$309),MAX(T$12:T$309))+COUNTIF((T$12:T$309),\"NP\")),T20)))","v":4},{"$f":"IF(A20=\"x\",\"x\",IF(C20=\"\",\"\",IF(OR(U20=\"NP\",U20=\"DNF\"),U20,RANK(U20,U$12:U$309,1))))","v":4},{"$f":"IF(A20=\"x\",\"x\",IF(C20=\"\",\"\",IF(OR(AND(R20=\"NP\",R21=\"NP\"),AND(R20=\"DNF\",R21=\"DNF\")),R20,IF(AND(R20=\"NP\",R21=\"DNF\"),R20,IF(AND(R20=\"DNF\",R21=\"NP\"),R21,MIN(R20,R21))))))","v":67.150000000000006}]
[null,null,null,"II.pokus",67.150000000000006,null,null,{"$f":"IF($C20=\"\",\"\",IF(OR($E21=\"DNF\",$F21=\"DNF\",$G21=\"DNF\"),\"DNF\",IF(OR($E21=\"NP\",$F21=\"NP\",$G21=\"NP\"),\"NP\",IF(ISERROR(MEDIAN($E21:$G21)),\"DNF\",IF(COUNT($E21:$G21)<3,MAX($E21:$G21),MEDIAN($E21:$G21))))))","v":67.150000000000006},0,0,0,0,0,0,0,0,0,67.150000000000006]
[{"$f":"IF('Start - jaro'!E11=\"\",\"\",\"x\")","v":""},6,{"$f":"IF('Start - jaro'!C11=\"\",\"\",'Start - jaro'!C11)","v":"Plešovice (ČK)"},"I.pokus",74.62,null,null,{"$f":"IF($C22=\"\",\"\",IF(OR($E22=\"DNF\",$F22=\"DNF\",$G22=\"DNF\"),\"DNF\",IF(OR($E22=\"NP\",$F22=\"NP\",$G22=\"NP\"),\"NP\",IF(ISERROR(MEDIAN($E22:$G22)),\"DNF\",IF(COUNT($E22:$G22)<3,MAX($E22:$G22),MEDIAN($E22:$G22))))))","v":74.62},0,0,0,0,0,0,0,0,20,94.62,{"$f":"IF(C22=\"x\",\"x\",IF(C22=\"\",\"\",IF(OR(T22=\"NP\",T22=\"DNF\"),IF(T22=\"NP\",MAX(T$12:T$309)+COUNTIF((T$12:T$309),MAX(T$12:T$309)),MAX(T$12:T$309)+COUNTIF((T$12:T$309),MAX(T$12:T$309))+COUNTIF((T$12:T$309),\"NP\")),T22)))","v":5},{"$f":"IF(A22=\"x\",\"x\",IF(C22=\"\",\"\",IF(OR(U22=\"NP\",U22=\"DNF\"),U22,RANK(U22,U$12:U$309,1))))","v":5},{"$f":"IF(A22=\"x\",\"x\",IF(C22=\"\",\"\",IF(OR(AND(R22=\"NP\",R23=\"NP\"),AND(R22=\"DNF\",R23=\"DNF\")),R22,IF(AND(R22=\"NP\",R23=\"DNF\"),R22,IF(AND(R22=\"DNF\",R23=\"NP\"),R23,MIN(R22,R23))))))","v":94.62}]
[null,null,null,"II.pokus",75.09,null,null,{"$f":"IF($C22=\"\",\"\",IF(OR($E23=\"DNF\",$F23=\"DNF\",$G23=\"DNF\"),\"DNF\",IF(OR($E23=\"NP\",$F23=\"NP\",$G23=\"NP\"),\"NP\",IF(ISERROR(MEDIAN($E23:$G23)),\"DNF\",IF(COUNT($E23:$G23)<3,MAX($E23:$G23),MEDIAN($E23:$G23))))))","v":75.09},0,0,0,0,0,0,0,0,20,95.09]
[{"$f":"IF('Start - jaro'!E12=\"\",\"\",\"x\")","v":""},7,{"$f":"IF('Start - jaro'!C12=\"\",\"\",'Start - jaro'!C12)","v":""},"I.pokus",null,null,null,{"$f":"IF($C24=\"\",\"\",IF(OR($E24=\"DNF\",$F24=\"DNF\",$G24=\"DNF\"),\"DNF\",IF(OR($E24=\"NP\",$F24=\"NP\",$G24=\"NP\"),\"NP\",IF(ISERROR(MEDIAN($E24:$G24)),\"DNF\",IF(COUNT($E24:$G24)<3,MAX($E24:$G24),MEDIAN($E24:$G24))))))","v":""},null,null,null,null,null,null,null,null,null,"",{"$f":"IF(C24=\"x\",\"x\",IF(C24=\"\",\"\",IF(OR(T24=\"NP\",T24=\"DNF\"),IF(T24=\"NP\",MAX(T$12:T$309)+COUNTIF((T$12:T$309),MAX(T$12:T$309)),MAX(T$12:T$309)+COUNTIF((T$12:T$309),MAX(T$12:T$309))+COUNTIF((T$12:T$309),\"NP\")),T24)))","v":""},{"$f":"IF(A24=\"x\",\"x\",IF(C24=\"\",\"\",IF(OR(U24=\"NP\",U24=\"DNF\"),U24,RANK(U24,U$12:U$309,1))))","v":""},{"$f":"IF(A24=\"x\",\"x\",IF(C24=\"\",\"\",IF(OR(AND(R24=\"NP\",R25=\"NP\"),AND(R24=\"DNF\",R25=\"DNF\")),R24,IF(AND(R24=\"NP\",R25=\"DNF\"),R24,IF(AND(R24=\"DNF\",R25=\"NP\"),R25,MIN(R24,R25))))))","v":""}]
[null,null,null,"II.pokus",null,null,null,{"$f":"IF($C24=\"\",\"\",IF(OR($E25=\"DNF\",$F25=\"DNF\",$G25=\"DNF\"),\"DNF\",IF(OR($E25=\"NP\",$F25=\"NP\",$G25=\"NP\"),\"NP\",IF(ISERROR(MEDIAN($E25:$G25)),\"DNF\",IF(COUNT($E25:$G25)<3,MAX($E25:$G25),MEDIAN($E25:$G25))))))","v":""},null,null,null,null,null,null,null,null,null,""]
[{"$f":"IF('Start - jaro'!E13=\"\",\"\",\"x\")","v":""},8,{"$f":"IF('Start - jaro'!C13=\"\",\"\",'Start - jaro'!C13)","v":""},"I.pokus",null,null,null,{"$f":"IF($C26=\"\",\"\",IF(OR($E26=\"DNF\",$F26=\"DNF\",$G26=\"DNF\"),\"DNF\",IF(OR($E26=\"NP\",$F26=\"NP\",$G26=\"NP\"),\"NP\",IF(ISERROR(MEDIAN($E26:$G26)),\"DNF\",IF(COUNT($E26:$G26)<3,MAX($E26:$G26),MEDIAN($E26:$G26))))))","v":""},null,null,null,null,null,null,null,null,null,"",{"$f":"IF(C26=\"x\",\"x\",IF(C26=\"\",\"\",IF(OR(T26=\"NP\",T26=\"DNF\"),IF(T26=\"NP\",MAX(T$12:T$309)+COUNTIF((T$12:T$309),MAX(T$12:T$309)),MAX(T$12:T$309)+COUNTIF((T$12:T$309),MAX(T$12:T$309))+COUNTIF((T$12:T$309),\"NP\")),T26)))","v":""},{"$f":"IF(A26=\"x\",\"x\",IF(C26=\"\",\"\",IF(OR(U26=\"NP\",U26=\"DNF\"),U26,RANK(U26,U$12:U$309,1))))","v":""},{"$f":"IF(A26=\"x\",\"x\",IF(C26=\"\",\"\",IF(OR(AND(R26=\"NP\",R27=\"NP\"),AND(R26=\"DNF\",R27=\"DNF\")),R26,IF(AND(R26=\"NP\",R27=\"DNF\"),R26,IF(AND(R26=\"DNF\",R27=\"NP\"),R27,MIN(R26,R27))))))","v":""}]
[null,null,null,"II.pokus",null,null,null,{"$f":"IF($C26=\"\",\"\",IF(OR($E27=\"DNF\",$F27=\"DNF\",$G27=\"DNF\"),\"DNF\",IF(OR($E27=\"NP\",$F27=\"NP\",$G27=\"NP\"),\"NP\",IF(ISERROR(MEDIAN($E27:$G27)),\"DNF\",IF(COUNT($E27:$G27)<3,MAX($E27:$G27),MEDIAN($E27:$G27))))))","v":""},null,null,null,null,null,null,null,null,null,""]
[{"$f":"IF('Start - jaro'!E14=\"\",\"\",\"x\")","v":""},9,{"$f":"IF('Start - jaro'!C14=\"\",\"\",'Start - jaro'!C14)","v":""},"I.pokus",null,null,null,{"$f":"IF($C28=\"\",\"\",IF(OR($E28=\"DNF\",$F28=\"DNF\",$G28=\"DNF\"),\"DNF\",IF(OR($E28=\"NP\",$F28=\"NP\",$G28=\"NP\"),\"NP\",IF(ISERROR(MEDIAN($E28:$G28)),\"DNF\",IF(COUNT($E28:$G28)<3,MAX($E28:$G28),MEDIAN($E28:$G28))))))","v":""},null,null,null,null,null,null,null,null,null,"",{"$f":"IF(C28=\"x\",\"x\",IF(C28=\"\",\"\",IF(OR(T28=\"NP\",T28=\"DNF\"),IF(T28=\"NP\",MAX(T$12:T$309)+COUNTIF((T$12:T$309),MAX(T$12:T$309)),MAX(T$12:T$309)+COUNTIF((T$12:T$309),MAX(T$12:T$309))+COUNTIF((T$12:T$309),\"NP\")),T28)))","v":""},{"$f":"IF(A28=\"x\",\"x\",IF(C28=\"\",\"\",IF(OR(U28=\"NP\",U28=\"DNF\"),U28,RANK(U28,U$12:U$309,1))))","v":""},{"$f":"IF(A28=\"x\",\"x\",IF(C28=\"\",\"\",IF(OR(AND(R28=\"NP\",R29=\"NP\"),AND(R28=\"DNF\",R29=\"DNF\")),R28,IF(AND(R28=\"NP\",R29=\"DNF\"),R28,IF(AND(R28=\"DNF\",R29=\"NP\"),R29,MIN(R28,R29))))))","v":""}]
[null,null,null,"II.pokus",null,null,null,{"$f":"IF($C28=\"\",\"\",IF(OR($E29=\"DNF\",$F29=\"DNF\",$G29=\"DNF\"),\"DNF\",IF(OR($E29=\"NP\",$F29=\"NP\",$G29=\"NP\"),\"NP\",IF(ISERROR(MEDIAN($E29:$G29)),\"DNF\",IF(COUNT($E29:$G29)<3,MAX($E29:$G29),MEDIAN($E29:$G29))))))","v":""},null,null,null,null,null,null,null,null,null,""]
[{"$f":"IF('Start - jaro'!E15=\"\",\"\",\"x\")","v":""},10,{"$f":"IF('Start - jaro'!C15=\"\",\"\",'Start - jaro'!C15)","v":""},"I.pokus",null,null,null,{"$f":"IF($C30=\"\",\"\",IF(OR($E30=\"DNF\",$F30=\"DNF\",$G30=\"DNF\"),\"DNF\",IF(OR($E30=\"NP\",$F30=\"NP\",$G30=\"NP\"),\"NP\",IF(ISERROR(MEDIAN($E30:$G30)),\"DNF\",IF(COUNT($E30:$G30)<3,MAX($E30:$G30),MEDIAN($E30:$G30))))))","v":""},null,null,null,null,null,null,null,null,null,"",{"$f":"IF(C30=\"x\",\"x\",IF(C30=\"\",\"\",IF(OR(T30=\"NP\",T30=\"DNF\"),IF(T30=\"NP\",MAX(T$12:T$309)+COUNTIF((T$12:T$309),MAX(T$12:T$309)),MAX(T$12:T$309)+COUNTIF((T$12:T$309),MAX(T$12:T$309))+COUNTIF((T$12:T$309),\"NP\")),T30)))","v":""},{"$f":"IF(A30=\"x\",\"x\",IF(C30=\"\",\"\",IF(OR(U30=\"NP\",U30=\"DNF\"),U30,RANK(U30,U$12:U$309,1))))","v":""},{"$f":"IF(A30=\"x\",\"x\",IF(C30=\"\",\"\",IF(OR(AND(R30=\"NP\",R31=\"NP\"),AND(R30=\"DNF\",R31=\"DNF\")),R30,IF(AND(R30=\"NP\",R31=\"DNF\"),R30,IF(AND(R30=\"DNF\",R31=\"NP\"),R31,MIN(R30,R31))))))","v":""}]
[null,null,null,"II.pokus",null,null,null,{"$f":"IF($C30=\"\",\"\",IF(OR($E31=\"DNF\",$F31=\"DNF\",$G31=\"DNF\"),\"DNF\",IF(OR($E31=\"NP\",$F31=\"NP\",$G31=\"NP\"),\"NP\",IF(ISERROR(MEDIAN($E31:$G31)),\"DNF\",IF(COUNT($E31:$G31)<3,MAX($E31:$G31),MEDIAN($E31:$G31))))))","v":""},null,null,null,null,null,null,null,null,null,""]
[null,"CELOSTÁTNÍ HRA PLAMEN"]
[]
[]
[null,"Výsledková listina č: 2"]
[null,"Požární útok CTIF",null,null,"Základem je čas naměřený od vydání signálu startéra do proběhnutí posledního člena cílem",null,null,null,"K úřednímu času se připočítávají trestné sekundy",null,null,null,null,null,null,null,null,"Výsledek soutěže"]
[null,null,null,null,null,null,null,null,"nesprávné překonání překážek\n10 tb. = sekund","za celé přetočení hadice\n(každá hadice se posuzuje samostatně)\n5 tb. = sekund","za rozpojení spojky nebo zapojení na 1 ozub\nza každý případ\n20 tb. = sekund","nesprávné rozložení hadice nebo\nnesprávné položení hadic u překářek\n10 tb. = sekund","za zapomenuté, ztracené ne špatně \nodložené nářadí\n5 tb. = sekund","za nesprávné zařazení techn. prostředku\nu stojanu\n10 tb. = sekund","za nesprávné uvázaný uzel\nza každý případ\n10 tb. = sekund","za mluvení během plnění disciplíny \nza každý případ\n10 tb. = sekund)","nesprávná práce\n10 tb. = sekund"]
[null,null,null,null,null,null,null,null,null,null,null,null,null,null,null,null,null,"součet trest. Sekund a úředního času","počet bodů za umístění"]
[null,{"$f":"\"KATEGORIE: \"&'Start - podzim'!$N$2","v":"KATEGORIE: STARŠÍ"},null,null,"I. časoměřič","II. časoměřič","III. časoměřič","úřední čas"]
[]
[null,"start. číslo","SOUTĚŽNÍ DRUŽSTVO","pokus"]
[]
[{"$f":"IF('Start - jaro'!E16=\"\",\"\",\"x\")","v":""},11,{"$f":"IF('Start - jaro'!C16=\"\",\"\",'Start - jaro'!C16)","v":""},"I.pokus",null,null,null,{"$f":"IF($C43=\"\",\"\",IF(OR($E43=\"DNF\",$F43=\"DNF\",$G43=\"DNF\"),\"DNF\",IF(OR($E43=\"NP\",$F43=\"NP\",$G43=\"NP\"),\"NP\",IF(ISERROR(MEDIAN($E43:$G43)),\"DNF\",IF(COUNT($E43:$G43)<3,MAX($E43:$G43),MEDIAN($E43:$G43))))))","v":""},null,null,null,null,null,null,null,null,null,{"$f":"IF(H43=\"\",\"\",IF(H43=\"NP\",\"NP\",IF(H43=\"DNF\",\"DNF\",SUM(I43:Q43)+H43)))","v":""},{"$f":"IF(C43=\"x\",\"x\",IF(C43=\"\",\"\",IF(OR(T43=\"NP\",T43=\"DNF\"),IF(T43=\"NP\",MAX(T$12:T$309)+COUNTIF((T$12:T$309),MAX(T$12:T$309)),MAX(T$12:T$309)+COUNTIF((T$12:T$309),MAX(T$12:T$309))+COUNTIF((T$12:T$309),\"NP\")),T43)))","v":""},{"$f":"IF(A43=\"x\",\"x\",IF(C43=\"\",\"\",IF(OR(U43=\"NP\",U43=\"DNF\"),U43,RANK(U43,U$12:U$309,1))))","v":""},{"$f":"IF(A43=\"x\",\"x\",IF(C43=\"\",\"\",IF(OR(AND(R43=\"NP\",R44=\"NP\"),AND(R43=\"DNF\",R44=\"DNF\")),R43,IF(AND(R43=\"NP\",R44=\"DNF\"),R43,IF(AND(R43=\"DNF\",R44=\"NP\"),R44,MIN(R43,R44))))))","v":""}]
[null,null,null,"II.pokus",null,null,null,{"$f":"IF($C43=\"\",\"\",IF(OR($E44=\"DNF\",$F44=\"DNF\",$G44=\"DNF\"),\"DNF\",IF(OR($E44=\"NP\",$F44=\"NP\",$G44=\"NP\"),\"NP\",IF(ISERROR(MEDIAN($E44:$G44)),\"DNF\",IF(COUNT($E44:$G44)<3,MAX($E44:$G44),MEDIAN($E44:$G44))))))","v":""},null,null,null,null,null,null,null,null,null,""]
[{"$f":"IF('Start - jaro'!E17=\"\",\"\",\"x\")","v":""},12,{"$f":"IF('Start - jaro'!C17=\"\",\"\",'Start - jaro'!C17)","v":""},"I.pokus",null,null,null,{"$f":"IF($C45=\"\",\"\",IF(OR($E45=\"DNF\",$F45=\"DNF\",$G45=\"DNF\"),\"DNF\",IF(OR($E45=\"NP\",$F45=\"NP\",$G45=\"NP\"),\"NP\",IF(ISERROR(MEDIAN($E45:$G45)),\"DNF\",IF(COUNT($E45:$G45)<3,MAX($E45:$G45),MEDIAN($E45:$G45))))))","v":""},null,null,null,null,null,null,null,null,null,"",{"$f":"IF(C45=\"x\",\"x\",IF(C45=\"\",\"\",IF(OR(T45=\"NP\",T45=\"DNF\"),IF(T45=\"NP\",MAX(T$12:T$309)+COUNTIF((T$12:T$309),MAX(T$12:T$309)),MAX(T$12:T$309)+COUNTIF((T$12:T$309),MAX(T$12:T$309))+COUNTIF((T$12:T$309),\"NP\")),T45)))","v":""},{"$f":"IF(A45=\"x\",\"x\",IF(C45=\"\",\"\",IF(OR(U45=\"NP\",U45=\"DNF\"),U45,RANK(U45,U$12:U$309,1))))","v":""},{"$f":"IF(A45=\"x\",\"x\",IF(C45=\"\",\"\",IF(OR(AND(R45=\"NP\",R46=\"NP\"),AND(R45=\"DNF\",R46=\"DNF\")),R45,IF(AND(R45=\"NP\",R46=\"DNF\"),R45,IF(AND(R45=\"DNF\",R46=\"NP\"),R46,MIN(R45,R46))))))","v":""}]
[null,null,null,"II.pokus",null,null,null,{"$f":"IF($C45=\"\",\"\",IF(OR($E46=\"DNF\",$F46=\"DNF\",$G46=\"DNF\"),\"DNF\",IF(OR($E46=\"NP\",$F46=\"NP\",$G46=\"NP\"),\"NP\",IF(ISERROR(MEDIAN($E46:$G46)),\"DNF\",IF(COUNT($E46:$G46)<3,MAX($E46:$G46),MEDIAN($E46:$G46))))))","v":""},null,null,null,null,null,null,null,null,null,""]
[{"$f":"IF('Start - jaro'!E18=\"\",\"\",\"x\")","v":""},13,{"$f":"IF('Start - jaro'!C18=\"\",\"\",'Start - jaro'!C18)","v":""},"I.pokus",null,null,null,{"$f":"IF($C47=\"\",\"\",IF(OR($E47=\"DNF\",$F47=\"DNF\",$G47=\"DNF\"),\"DNF\",IF(OR($E47=\"NP\",$F47=\"NP\",$G47=\"NP\"),\"NP\",IF(ISERROR(MEDIAN($E47:$G47)),\"DNF\",IF(COUNT($E47:$G47)<3,MAX($E47:$G47),MEDIAN($E47:$G47))))))","v":""},null,null,null,null,null,null,null,null,null,"",{"$f":"IF(C47=\"x\",\"x\",IF(C47=\"\",\"\",IF(OR(T47=\"NP\",T47=\"DNF\"),IF(T47=\"NP\",MAX(T$12:T$309)+COUNTIF((T$12:T$309),MAX(T$12:T$309)),MAX(T$12:T$309)+COUNTIF((T$12:T$309),MAX(T$12:T$309))+COUNTIF((T$12:T$309),\"NP\")),T47)))","v":""},{"$f":"IF(A47=\"x\",\"x\",IF(C47=\"\",\"\",IF(OR(U47=\"NP\",U47=\"DNF\"),U47,RANK(U47,U$12:U$309,1))))","v":""},{"$f":"IF(A47=\"x\",\"x\",IF(C47=\"\",\"\",IF(OR(AND(R47=\"NP\",R48=\"NP\"),AND(R47=\"DNF\",R48=\"DNF\")),R47,IF(AND(R47=\"NP\",R48=\"DNF\"),R47,IF(AND(R47=\"DNF\",R48=\"NP\"),R48,MIN(R47,R48))))))","v":""}]
[null,null,null,"II.pokus",null,null,null,{"$f":"IF($C47=\"\",\"\",IF(OR($E48=\"DNF\",$F48=\"DNF\",$G48=\"DNF\"),\"DNF\",IF(OR($E48=\"NP\",$F48=\"NP\",$G48=\"NP\"),\"NP\",IF(ISERROR(MEDIAN($E48:$G48)),\"DNF\",IF(COUNT($E48:$G48)<3,MAX($E48:$G48),MEDIAN($E48:$G48))))))","v":""},null,null,null,null,null,null,null,null,null,""]
[{"$f":"IF('Start - jaro'!E19=\"\",\"\",\"x\")","v":""},14,{"$f":"IF('Start - jaro'!C19=\"\",\"\",'Start - jaro'!C19)","v":""},"I.pokus",null,null,null,{"$f":"IF($C49=\"\",\"\",IF(OR($E49=\"DNF\",$F49=\"DNF\",$G49=\"DNF\"),\"DNF\",IF(OR($E49=\"NP\",$F49=\"NP\",$G49=\"NP\"),\"NP\",IF(ISERROR(MEDIAN($E49:$G49)),\"DNF\",IF(COUNT($E49:$G49)<3,MAX($E49:$G49),MEDIAN($E49:$G49))))))","v":""},null,null,null,null,null,null,null,null,null,"",{"$f":"IF(C49=\"x\",\"x\",IF(C49=\"\",\"\",IF(OR(T49=\"NP\",T49=\"DNF\"),IF(T49=\"NP\",MAX(T$12:T$309)+COUNTIF((T$12:T$309),MAX(T$12:T$309)),MAX(T$12:T$309)+COUNTIF((T$12:T$309),MAX(T$12:T$309))+COUNTIF((T$12:T$309),\"NP\")),T49)))","v":""},{"$f":"IF(A49=\"x\",\"x\",IF(C49=\"\",\"\",IF(OR(U49=\"NP\",U49=\"DNF\"),U49,RANK(U49,U$12:U$309,1))))","v":""},{"$f":"IF(A49=\"x\",\"x\",IF(C49=\"\",\"\",IF(OR(AND(R49=\"NP\",R50=\"NP\"),AND(R49=\"DNF\",R50=\"DNF\")),R49,IF(AND(R49=\"NP\",R50=\"DNF\"),R49,IF(AND(R49=\"DNF\",R50=\"NP\"),R50,MIN(R49,R50))))))","v":""}]
[null,null,null,"II.pokus",null,null,null,{"$f":"IF($C49=\"\",\"\",IF(OR($E50=\"DNF\",$F50=\"DNF\",$G50=\"DNF\"),\"DNF\",IF(OR($E50=\"NP\",$F50=\"NP\",$G50=\"NP\"),\"NP\",IF(ISERROR(MEDIAN($E50:$G50)),\"DNF\",IF(COUNT($E50:$G50)<3,MAX($E50:$G50),MEDIAN($E50:$G50))))))","v":""},null,null,null,null,null,null,null,null,null,""]
[{"$f":"IF('Start - jaro'!E20=\"\",\"\",\"x\")","v":""},15,{"$f":"IF('Start - jaro'!C20=\"\",\"\",'Start - jaro'!C20)","v":""},"I.pokus",null,null,null,{"$f":"IF($C51=\"\",\"\",IF(OR($E51=\"DNF\",$F51=\"DNF\",$G51=\"DNF\"),\"DNF\",IF(OR($E51=\"NP\",$F51=\"NP\",$G51=\"NP\"),\"NP\",IF(ISERROR(MEDIAN($E51:$G51)),\"DNF\",IF(COUNT($E51:$G51)<3,MAX($E51:$G51),MEDIAN($E51:$G51))))))","v":""},null,null,null,null,null,null,null,null,null,"",{"$f":"IF(C51=\"x\",\"x\",IF(C51=\"\",\"\",IF(OR(T51=\"NP\",T51=\"DNF\"),IF(T51=\"NP\",MAX(T$12:T$309)+COUNTIF((T$12:T$309),MAX(T$12:T$309)),MAX(T$12:T$309)+COUNTIF((T$12:T$309),MAX(T$12:T$309))+COUNTIF((T$12:T$309),\"NP\")),T51)))","v":""},{"$f":"IF(A51=\"x\",\"x\",IF(C51=\"\",\"\",IF(OR(U51=\"NP\",U51=\"DNF\"),U51,RANK(U51,U$12:U$309,1))))","v":""},{"$f":"IF(A51=\"x\",\"x\",IF(C51=\"\",\"\",IF(OR(AND(R51=\"NP\",R52=\"NP\"),AND(R51=\"DNF\",R52=\"DNF\")),R51,IF(AND(R51=\"NP\",R52=\"DNF\"),R51,IF(AND(R51=\"DNF\",R52=\"NP\"),R52,MIN(R51,R52))))))","v":""}]
[null,null,null,"II.pokus",null,null,null,{"$f":"IF($C51=\"\",\"\",IF(OR($E52=\"DNF\",$F52=\"DNF\",$G52=\"DNF\"),\"DNF\",IF(OR($E52=\"NP\",$F52=\"NP\",$G52=\"NP\"),\"NP\",IF(ISERROR(MEDIAN($E52:$G52)),\"DNF\",IF(COUNT($E52:$G52)<3,MAX($E52:$G52),MEDIAN($E52:$G52))))))","v":""},null,null,null,null,null,null,null,null,null,""]
[{"$f":"IF('Start - jaro'!E21=\"\",\"\",\"x\")","v":""},16,{"$f":"IF('Start - jaro'!C21=\"\",\"\",'Start - jaro'!C21)","v":""},"I.pokus",null,null,null,{"$f":"IF($C53=\"\",\"\",IF(OR($E53=\"DNF\",$F53=\"DNF\",$G53=\"DNF\"),\"DNF\",IF(OR($E53=\"NP\",$F53=\"NP\",$G53=\"NP\"),\"NP\",IF(ISERROR(MEDIAN($E53:$G53)),\"DNF\",IF(COUNT($E53:$G53)<3,MAX($E53:$G53),MEDIAN($E53:$G53))))))","v":""},null,null,null,null,null,null,null,null,null,"",{"$f":"IF(C53=\"x\",\"x\",IF(C53=\"\",\"\",IF(OR(T53=\"NP\",T53=\"DNF\"),IF(T53=\"NP\",MAX(T$12:T$309)+COUNTIF((T$12:T$309),MAX(T$12:T$309)),MAX(T$12:T$309)+COUNTIF((T$12:T$309),MAX(T$12:T$309))+COUNTIF((T$12:T$309),\"NP\")),T53)))","v":""},{"$f":"IF(A53=\"x\",\"x\",IF(C53=\"\",\"\",IF(OR(U53=\"NP\",U53=\"DNF\"),U53,RANK(U53,U$12:U$309,1))))","v":""},{"$f":"IF(A53=\"x\",\"x\",IF(C53=\"\",\"\",IF(OR(AND(R53=\"NP\",R54=\"NP\"),AND(R53=\"DNF\",R54=\"DNF\")),R53,IF(AND(R53=\"NP\",R54=\"DNF\"),R53,IF(AND(R53=\"DNF\",R54=\"NP\"),R54,MIN(R53,R54))))))","v":""}]
[null,null,null,"II.pokus",null,null,null,{"$f":"IF($C53=\"\",\"\",IF(OR($E54=\"DNF\",$F54=\"DNF\",$G54=\"DNF\"),\"DNF\",IF(OR($E54=\"NP\",$F54=\"NP\",$G54=\"NP\"),\"NP\",IF(ISERROR(MEDIAN($E54:$G54)),\"DNF\",IF(COUNT($E54:$G54)<3,MAX($E54:$G54),MEDIAN($E54:$G54))))))","v":""},null,null,null,null,null,null,null,null,null,""]
[{"$f":"IF('Start - jaro'!E22=\"\",\"\",\"x\")","v":""},17,{"$f":"IF('Start - jaro'!C22=\"\",\"\",'Start - jaro'!C22)","v":""},"I.pokus",null,null,null,{"$f":"IF($C55=\"\",\"\",IF(OR($E55=\"DNF\",$F55=\"DNF\",$G55=\"DNF\"),\"DNF\",IF(OR($E55=\"NP\",$F55=\"NP\",$G55=\"NP\"),\"NP\",IF(ISERROR(MEDIAN($E55:$G55)),\"DNF\",IF(COUNT($E55:$G55)<3,MAX($E55:$G55),MEDIAN($E55:$G55))))))","v":""},null,null,null,null,null,null,null,null,null,"",{"$f":"IF(C55=\"x\",\"x\",IF(C55=\"\",\"\",IF(OR(T55=\"NP\",T55=\"DNF\"),IF(T55=\"NP\",MAX(T$12:T$309)+COUNTIF((T$12:T$309),MAX(T$12:T$309)),MAX(T$12:T$309)+COUNTIF((T$12:T$309),MAX(T$12:T$309))+COUNTIF((T$12:T$309),\"NP\")),T55)))","v":""},{"$f":"IF(A55=\"x\",\"x\",IF(C55=\"\",\"\",IF(OR(U55=\"NP\",U55=\"DNF\"),U55,RANK(U55,U$12:U$309,1))))","v":""},{"$f":"IF(A55=\"x\",\"x\",IF(C55=\"\",\"\",IF(OR(AND(R55=\"NP\",R56=\"NP\"),AND(R55=\"DNF\",R56=\"DNF\")),R55,IF(AND(R55=\"NP\",R56=\"DNF\"),R55,IF(AND(R55=\"DNF\",R56=\"NP\"),R56,MIN(R55,R56))))))","v":""}]
[null,null,null,"II.pokus",null,null,null,{"$f":"IF($C55=\"\",\"\",IF(OR($E56=\"DNF\",$F56=\"DNF\",$G56=\"DNF\"),\"DNF\",IF(OR($E56=\"NP\",$F56=\"NP\",$G56=\"NP\"),\"NP\",IF(ISERROR(MEDIAN($E56:$G56)),\"DNF\",IF(COUNT($E56:$G56)<3,MAX($E56:$G56),MEDIAN($E56:$G56))))))","v":""},null,null,null,null,null,null,null,null,null,""]
[{"$f":"IF('Start - jaro'!E23=\"\",\"\",\"x\")","v":""},18,{"$f":"IF('Start - jaro'!C23=\"\",\"\",'Start - jaro'!C23)","v":""},"I.pokus",null,null,null,{"$f":"IF($C57=\"\",\"\",IF(OR($E57=\"DNF\",$F57=\"DNF\",$G57=\"DNF\"),\"DNF\",IF(OR($E57=\"NP\",$F57=\"NP\",$G57=\"NP\"),\"NP\",IF(ISERROR(MEDIAN($E57:$G57)),\"DNF\",IF(COUNT($E57:$G57)<3,MAX($E57:$G57),MEDIAN($E57:$G57))))))","v":""},null,null,null,null,null,null,null,null,null,"",{"$f":"IF(C57=\"x\",\"x\",IF(C57=\"\",\"\",IF(OR(T57=\"NP\",T57=\"DNF\"),IF(T57=\"NP\",MAX(T$12:T$309)+COUNTIF((T$12:T$309),MAX(T$12:T$309)),MAX(T$12:T$309)+COUNTIF((T$12:T$309),MAX(T$12:T$309))+COUNTIF((T$12:T$309),\"NP\")),T57)))","v":""},{"$f":"IF(A57=\"x\",\"x\",IF(C57=\"\",\"\",IF(OR(U57=\"NP\",U57=\"DNF\"),U57,RANK(U57,U$12:U$309,1))))","v":""},{"$f":"IF(A57=\"x\",\"x\",IF(C57=\"\",\"\",IF(OR(AND(R57=\"NP\",R58=\"NP\"),AND(R57=\"DNF\",R58=\"DNF\")),R57,IF(AND(R57=\"NP\",R58=\"DNF\"),R57,IF(AND(R57=\"DNF\",R58=\"NP\"),R58,MIN(R57,R58))))))","v":""}]
[null,null,null,"II.pokus",null,null,null,{"$f":"IF($C57=\"\",\"\",IF(OR($E58=\"DNF\",$F58=\"DNF\",$G58=\"DNF\"),\"DNF\",IF(OR($E58=\"NP\",$F58=\"NP\",$G58=\"NP\"),\"NP\",IF(ISERROR(MEDIAN($E58:$G58)),\"DNF\",IF(COUNT($E58:$G58)<3,MAX($E58:$G58),MEDIAN($E58:$G58))))))","v":""},null,null,null,null,null,null,null,null,null,""]
[{"$f":"IF('Start - jaro'!E24=\"\",\"\",\"x\")","v":""},19,{"$f":"IF('Start - jaro'!C24=\"\",\"\",'Start - jaro'!C24)","v":""},"I.pokus",null,null,null,{"$f":"IF($C59=\"\",\"\",IF(OR($E59=\"DNF\",$F59=\"DNF\",$G59=\"DNF\"),\"DNF\",IF(OR($E59=\"NP\",$F59=\"NP\",$G59=\"NP\"),\"NP\",IF(ISERROR(MEDIAN($E59:$G59)),\"DNF\",IF(COUNT($E59:$G59)<3,MAX($E59:$G59),MEDIAN($E59:$G59))))))","v":""},null,null,null,null,null,null,null,null,null,"",{"$f":"IF(C59=\"x\",\"x\",IF(C59=\"\",\"\",IF(OR(T59=\"NP\",T59=\"DNF\"),IF(T59=\"NP\",MAX(T$12:T$309)+COUNTIF((T$12:T$309),MAX(T$12:T$309)),MAX(T$12:T$309)+COUNTIF((T$12:T$309),MAX(T$12:T$309))+COUNTIF((T$12:T$309),\"NP\")),T59)))","v":""},{"$f":"IF(A59=\"x\",\"x\",IF(C59=\"\",\"\",IF(OR(U59=\"NP\",U59=\"DNF\"),U59,RANK(U59,U$12:U$309,1))))","v":""},{"$f":"IF(A59=\"x\",\"x\",IF(C59=\"\",\"\",IF(OR(AND(R59=\"NP\",R60=\"NP\"),AND(R59=\"DNF\",R60=\"DNF\")),R59,IF(AND(R59=\"NP\",R60=\"DNF\"),R59,IF(AND(R59=\"DNF\",R60=\"NP\"),R60,MIN(R59,R60))))))","v":""}]
[null,null,null,"II.pokus",null,null,null,{"$f":"IF($C59=\"\",\"\",IF(OR($E60=\"DNF\",$F60=\"DNF\",$G60=\"DNF\"),\"DNF\",IF(OR($E60=\"NP\",$F60=\"NP\",$G60=\"NP\"),\"NP\",IF(ISERROR(MEDIAN($E60:$G60)),\"DNF\",IF(COUNT($E60:$G60)<3,MAX($E60:$G60),MEDIAN($E60:$G60))))))","v":""},null,null,null,null,null,null,null,null,null,""]
[{"$f":"IF('Start - jaro'!E25=\"\",\"\",\"x\")","v":""},20,{"$f":"IF('Start - jaro'!C25=\"\",\"\",'Start - jaro'!C25)","v":""},"I.pokus",null,null,null,{"$f":"IF($C61=\"\",\"\",IF(OR($E61=\"DNF\",$F61=\"DNF\",$G61=\"DNF\"),\"DNF\",IF(OR($E61=\"NP\",$F61=\"NP\",$G61=\"NP\"),\"NP\",IF(ISERROR(MEDIAN($E61:$G61)),\"DNF\",IF(COUNT($E61:$G61)<3,MAX($E61:$G61),MEDIAN($E61:$G61))))))","v":""},null,null,null,null,null,null,null,null,null,"",{"$f":"IF(C61=\"x\",\"x\",IF(C61=\"\",\"\",IF(OR(T61=\"NP\",T61=\"DNF\"),IF(T61=\"NP\",MAX(T$12:T$309)+COUNTIF((T$12:T$309),MAX(T$12:T$309)),MAX(T$12:T$309)+COUNTIF((T$12:T$309),MAX(T$12:T$309))+COUNTIF((T$12:T$309),\"NP\")),T61)))","v":""},{"$f":"IF(A61=\"x\",\"x\",IF(C61=\"\",\"\",IF(OR(U61=\"NP\",U61=\"DNF\"),U61,RANK(U61,U$12:U$309,1))))","v":""},{"$f":"IF(A61=\"x\",\"x\",IF(C61=\"\",\"\",IF(OR(AND(R61=\"NP\",R62=\"NP\"),AND(R61=\"DNF\",R62=\"DNF\")),R61,IF(AND(R61=\"NP\",R62=\"DNF\"),R61,IF(AND(R61=\"DNF\",R62=\"NP\"),R62,MIN(R61,R62))))))","v":""}]
[null,null,null,"II.pokus",null,null,null,{"$f":"IF($C61=\"\",\"\",IF(OR($E62=\"DNF\",$F62=\"DNF\",$G62=\"DNF\"),\"DNF\",IF(OR($E62=\"NP\",$F62=\"NP\",$G62=\"NP\"),\"NP\",IF(ISERROR(MEDIAN($E62:$G62)),\"DNF\",IF(COUNT($E62:$G62)<3,MAX($E62:$G62),MEDIAN($E62:$G62))))))","v":""},null,null,null,null,null,null,null,null,null,""]
[null,"CELOSTÁTNÍ HRA PLAMEN"]
[]
[]
[null,"Výsledková listina č: 3"]
[null,"Požární útok CTIF",null,null,"Základem je čas naměřený od vydání signálu startéra do proběhnutí posledního člena cílem",null,null,null,"K úřednímu času se připočítávají trestné sekundy",null,null,null,null,null,null,null,null,"Výsledek soutěže"]
[null,null,null,null,null,null,null,null,"nesprávné překonání překážek\n10 tb. = sekund","za celé přetočení hadice\n(každá hadice se posuzuje samostatně)\n5 tb. = sekund","za rozpojení spojky nebo zapojení na 1 ozub\nza každý případ\n20 tb. = sekund","nesprávné rozložení hadice nebo\nnesprávné položení hadic u překářek\n10 tb. = sekund","za zapomenuté, ztracené ne špatně \nodložené nářadí\n5 tb. = sekund","za nesprávné zařazení techn. prostředku\nu stojanu\n10 tb. = sekund","za nesprávné uvázaný uzel\nza každý případ\n10 tb. = sekund","za mluvení během plnění disciplíny \nza každý případ\n10 tb. = sekund)","nesprávná práce\n10 tb. = sekund"]
[null,null,null,null,null,null,null,null,null,null,null,null,null,null,null,null,null,"součet trest. Sekund a úředního času","počet bodů za umístění"]
[null,{"$f":"\"KATEGORIE: \"&'Start - podzim'!$N$2","v":"KATEGORIE: STARŠÍ"},null,null,"I. časoměřič","II. časoměřič","III. časoměřič","úřední čas"]
[]
[null,"start. číslo","SOUTĚŽNÍ DRUŽSTVO","pokus"]
[]
[{"$f":"IF('Start - jaro'!E26=\"\",\"\",\"x\")","v":""},21,{"$f":"IF('Start - jaro'!C26=\"\",\"\",'Start - jaro'!C26)","v":""},"I.pokus",null,null,null,{"$f":"IF($C74=\"\",\"\",IF(OR($E74=\"DNF\",$F74=\"DNF\",$G74=\"DNF\"),\"DNF\",IF(OR($E74=\"NP\",$F74=\"NP\",$G74=\"NP\"),\"NP\",IF(ISERROR(MEDIAN($E74:$G74)),\"DNF\",IF(COUNT($E74:$G74)<3,MAX($E74:$G74),MEDIAN($E74:$G74))))))","v":""},null,null,null,null,null,null,null,null,null,{"$f":"IF(H74=\"\",\"\",IF(H74=\"NP\",\"NP\",IF(H74=\"DNF\",\"DNF\",SUM(I74:Q74)+H74)))","v":""},{"$f":"IF(C74=\"x\",\"x\",IF(C74=\"\",\"\",IF(OR(T74=\"NP\",T74=\"DNF\"),IF(T74=\"NP\",MAX(T$12:T$309)+COUNTIF((T$12:T$309),MAX(T$12:T$309)),MAX(T$12:T$309)+COUNTIF((T$12:T$309),MAX(T$12:T$309))+COUNTIF((T$12:T$309),\"NP\")),T74)))","v":""},{"$f":"IF(A74=\"x\",\"x\",IF(C74=\"\",\"\",IF(OR(U74=\"NP\",U74=\"DNF\"),U74,RANK(U74,U$12:U$309,1))))","v":""},{"$f":"IF(A74=\"x\",\"x\",IF(C74=\"\",\"\",IF(OR(AND(R74=\"NP\",R75=\"NP\"),AND(R74=\"DNF\",R75=\"DNF\")),R74,IF(AND(R74=\"NP\",R75=\"DNF\"),R74,IF(AND(R74=\"DNF\",R75=\"NP\"),R75,MIN(R74,R75))))))","v":""}]
[null,null,null,"II.pokus",null,null,null,{"$f":"IF($C74=\"\",\"\",IF(OR($E75=\"DNF\",$F75=\"DNF\",$G75=\"DNF\"),\"DNF\",IF(OR($E75=\"NP\",$F75=\"NP\",$G75=\"NP\"),\"NP\",IF(ISERROR(MEDIAN($E75:$G75)),\"DNF\",IF(COUNT($E75:$G75)<3,MAX($E75:$G75),MEDIAN($E75:$G75))))))","v":""},null,null,null,null,null,null,null,null,null,""]
[{"$f":"IF('Start - jaro'!E27=\"\",\"\",\"x\")","v":""},22,{"$f":"IF('Start - jaro'!C27=\"\",\"\",'Start - jaro'!C27)","v":""},"I.pokus",null,null,null,{"$f":"IF($C76=\"\",\"\",IF(OR($E76=\"DNF\",$F76=\"DNF\",$G76=\"DNF\"),\"DNF\",IF(OR($E76=\"NP\",$F76=\"NP\",$G76=\"NP\"),\"NP\",IF(ISERROR(MEDIAN($E76:$G76)),\"DNF\",IF(COUNT($E76:$G76)<3,MAX($E76:$G76),MEDIAN($E76:$G76))))))","v":""},null,null,null,null,null,null,null,null,null,"",{"$f":"IF(C76=\"x\",\"x\",IF(C76=\"\",\"\",IF(OR(T76=\"NP\",T76=\"DNF\"),IF(T76=\"NP\",MAX(T$12:T$309)+COUNTIF((T$12:T$309),MAX(T$12:T$309)),MAX(T$12:T$309)+COUNTIF((T$12:T$309),MAX(T$12:T$309))+COUNTIF((T$12:T$309),\"NP\")),T76)))","v":""},{"$f":"IF(A76=\"x\",\"x\",IF(C76=\"\",\"\",IF(OR(U76=\"NP\",U76=\"DNF\"),U76,RANK(U76,U$12:U$309,1))))","v":""},{"$f":"IF(A76=\"x\",\"x\",IF(C76=\"\",\"\",IF(OR(AND(R76=\"NP\",R77=\"NP\"),AND(R76=\"DNF\",R77=\"DNF\")),R76,IF(AND(R76=\"NP\",R77=\"DNF\"),R76,IF(AND(R76=\"DNF\",R77=\"NP\"),R77,MIN(R76,R77))))))","v":""}]
[null,null,null,"II.pokus",null,null,null,{"$f":"IF($C76=\"\",\"\",IF(OR($E77=\"DNF\",$F77=\"DNF\",$G77=\"DNF\"),\"DNF\",IF(OR($E77=\"NP\",$F77=\"NP\",$G77=\"NP\"),\"NP\",IF(ISERROR(MEDIAN($E77:$G77)),\"DNF\",IF(COUNT($E77:$G77)<3,MAX($E77:$G77),MEDIAN($E77:$G77))))))","v":""},null,null,null,null,null,null,null,null,null,""]
[{"$f":"IF('Start - jaro'!E28=\"\",\"\",\"x\")","v":""},23,{"$f":"IF('Start - jaro'!C28=\"\",\"\",'Start - jaro'!C28)","v":""},"I.pokus",null,null,null,{"$f":"IF($C78=\"\",\"\",IF(OR($E78=\"DNF\",$F78=\"DNF\",$G78=\"DNF\"),\"DNF\",IF(OR($E78=\"NP\",$F78=\"NP\",$G78=\"NP\"),\"NP\",IF(ISERROR(MEDIAN($E78:$G78)),\"DNF\",IF(COUNT($E78:$G78)<3,MAX($E78:$G78),MEDIAN($E78:$G78))))))","v":""},null,null,null,null,null,null,null,null,null,"",{"$f":"IF(C78=\"x\",\"x\",IF(C78=\"\",\"\",IF(OR(T78=\"NP\",T78=\"DNF\"),IF(T78=\"NP\",MAX(T$12:T$309)+COUNTIF((T$12:T$309),MAX(T$12:T$309)),MAX(T$12:T$309)+COUNTIF((T$12:T$309),MAX(T$12:T$309))+COUNTIF((T$12:T$309),\"NP\")),T78)))","v":""},{"$f":"IF(A78=\"x\",\"x\",IF(C78=\"\",\"\",IF(OR(U78=\"NP\",U78=\"DNF\"),U78,RANK(U78,U$12:U$309,1))))","v":""},{"$f":"IF(A78=\"x\",\"x\",IF(C78=\"\",\"\",IF(OR(AND(R78=\"NP\",R79=\"NP\"),AND(R78=\"DNF\",R79=\"DNF\")),R78,IF(AND(R78=\"NP\",R79=\"DNF\"),R78,IF(AND(R78=\"DNF\",R79=\"NP\"),R79,MIN(R78,R79))))))","v":""}]
[null,null,null,"II.pokus",null,null,null,{"$f":"IF($C78=\"\",\"\",IF(OR($E79=\"DNF\",$F79=\"DNF\",$G79=\"DNF\"),\"DNF\",IF(OR($E79=\"NP\",$F79=\"NP\",$G79=\"NP\"),\"NP\",IF(ISERROR(MEDIAN($E79:$G79)),\"DNF\",IF(COUNT($E79:$G79)<3,MAX($E79:$G79),MEDIAN($E79:$G79))))))","v":""},null,null,null,null,null,null,null,null,null,""]
[{"$f":"IF('Start - jaro'!E29=\"\",\"\",\"x\")","v":""},24,{"$f":"IF('Start - jaro'!C29=\"\",\"\",'Start - jaro'!C29)","v":""},"I.pokus",null,null,null,{"$f":"IF($C80=\"\",\"\",IF(OR($E80=\"DNF\",$F80=\"DNF\",$G80=\"DNF\"),\"DNF\",IF(OR($E80=\"NP\",$F80=\"NP\",$G80=\"NP\"),\"NP\",IF(ISERROR(MEDIAN($E80:$G80)),\"DNF\",IF(COUNT($E80:$G80)<3,MAX($E80:$G80),MEDIAN($E80:$G80))))))","v":""},null,null,null,null,null,null,null,null,null,"",{"$f":"IF(C80=\"x\",\"x\",IF(C80=\"\",\"\",IF(OR(T80=\"NP\",T80=\"DNF\"),IF(T80=\"NP\",MAX(T$12:T$309)+COUNTIF((T$12:T$309),MAX(T$12:T$309)),MAX(T$12:T$309)+COUNTIF((T$12:T$309),MAX(T$12:T$309))+COUNTIF((T$12:T$309),\"NP\")),T80)))","v":""},{"$f":"IF(A80=\"x\",\"x\",IF(C80=\"\",\"\",IF(OR(U80=\"NP\",U80=\"DNF\"),U80,RANK(U80,U$12:U$309,1))))","v":""},{"$f":"IF(A80=\"x\",\"x\",IF(C80=\"\",\"\",IF(OR(AND(R80=\"NP\",R81=\"NP\"),AND(R80=\"DNF\",R81=\"DNF\")),R80,IF(AND(R80=\"NP\",R81=\"DNF\"),R80,IF(AND(R80=\"DNF\",R81=\"NP\"),R81,MIN(R80,R81))))))","v":""}]
[null,null,null,"II.pokus",null,null,null,{"$f":"IF($C80=\"\",\"\",IF(OR($E81=\"DNF\",$F81=\"DNF\",$G81=\"DNF\"),\"DNF\",IF(OR($E81=\"NP\",$F81=\"NP\",$G81=\"NP\"),\"NP\",IF(ISERROR(MEDIAN($E81:$G81)),\"DNF\",IF(COUNT($E81:$G81)<3,MAX($E81:$G81),MEDIAN($E81:$G81))))))","v":""},null,null,null,null,null,null,null,null,null,""]
[{"$f":"IF('Start - jaro'!E30=\"\",\"\",\"x\")","v":""},25,{"$f":"IF('Start - jaro'!C30=\"\",\"\",'Start - jaro'!C30)","v":""},"I.pokus",null,null,null,{"$f":"IF($C82=\"\",\"\",IF(OR($E82=\"DNF\",$F82=\"DNF\",$G82=\"DNF\"),\"DNF\",IF(OR($E82=\"NP\",$F82=\"NP\",$G82=\"NP\"),\"NP\",IF(ISERROR(MEDIAN($E82:$G82)),\"DNF\",IF(COUNT($E82:$G82)<3,MAX($E82:$G82),MEDIAN($E82:$G82))))))","v":""},null,null,null,null,null,null,null,null,null,"",{"$f":"IF(C82=\"x\",\"x\",IF(C82=\"\",\"\",IF(OR(T82=\"NP\",T82=\"DNF\"),IF(T82=\"NP\",MAX(T$12:T$309)+COUNTIF((T$12:T$309),MAX(T$12:T$309)),MAX(T$12:T$309)+COUNTIF((T$12:T$309),MAX(T$12:T$309))+COUNTIF((T$12:T$309),\"NP\")),T82)))","v":""},{"$f":"IF(A82=\"x\",\"x\",IF(C82=\"\",\"\",IF(OR(U82=\"NP\",U82=\"DNF\"),U82,RANK(U82,U$12:U$309,1))))","v":""},{"$f":"IF(A82=\"x\",\"x\",IF(C82=\"\",\"\",IF(OR(AND(R82=\"NP\",R83=\"NP\"),AND(R82=\"DNF\",R83=\"DNF\")),R82,IF(AND(R82=\"NP\",R83=\"DNF\"),R82,IF(AND(R82=\"DNF\",R83=\"NP\"),R83,MIN(R82,R83))))))","v":""}]
[null,null,null,"II.pokus",null,null,null,{"$f":"IF($C82=\"\",\"\",IF(OR($E83=\"DNF\",$F83=\"DNF\",$G83=\"DNF\"),\"DNF\",IF(OR($E83=\"NP\",$F83=\"NP\",$G83=\"NP\"),\"NP\",IF(ISERROR(MEDIAN($E83:$G83)),\"DNF\",IF(COUNT($E83:$G83)<3,MAX($E83:$G83),MEDIAN($E83:$G83))))))","v":""},null,null,null,null,null,null,null,null,null,""]
[{"$f":"IF('Start - jaro'!I6=\"\",\"\",\"x\")","v":""},26,{"$f":"IF('Start - jaro'!G6=\"\",\"\",'Start - jaro'!G6)","v":""},"I.pokus",null,null,null,{"$f":"IF($C84=\"\",\"\",IF(OR($E84=\"DNF\",$F84=\"DNF\",$G84=\"DNF\"),\"DNF\",IF(OR($E84=\"NP\",$F84=\"NP\",$G84=\"NP\"),\"NP\",IF(ISERROR(MEDIAN($E84:$G84)),\"DNF\",IF(COUNT($E84:$G84)<3,MAX($E84:$G84),MEDIAN($E84:$G84))))))","v":""},null,null,null,null,null,null,null,null,null,"",{"$f":"IF(C84=\"x\",\"x\",IF(C84=\"\",\"\",IF(OR(T84=\"NP\",T84=\"DNF\"),IF(T84=\"NP\",MAX(T$12:T$309)+COUNTIF((T$12:T$309),MAX(T$12:T$309)),MAX(T$12:T$309)+COUNTIF((T$12:T$309),MAX(T$12:T$309))+COUNTIF((T$12:T$309),\"NP\")),T84)))","v":""},{"$f":"IF(A84=\"x\",\"x\",IF(C84=\"\",\"\",IF(OR(U84=\"NP\",U84=\"DNF\"),U84,RANK(U84,U$12:U$309,1))))","v":""},{"$f":"IF(A84=\"x\",\"x\",IF(C84=\"\",\"\",IF(OR(AND(R84=\"NP\",R85=\"NP\"),AND(R84=\"DNF\",R85=\"DNF\")),R84,IF(AND(R84=\"NP\",R85=\"DNF\"),R84,IF(AND(R84=\"DNF\",R85=\"NP\"),R85,MIN(R84,R85))))))","v":""}]
[null,null,null,"II.pokus",null,null,null,{"$f":"IF($C84=\"\",\"\",IF(OR($E85=\"DNF\",$F85=\"DNF\",$G85=\"DNF\"),\"DNF\",IF(OR($E85=\"NP\",$F85=\"NP\",$G85=\"NP\"),\"NP\",IF(ISERROR(MEDIAN($E85:$G85)),\"DNF\",IF(COUNT($E85:$G85)<3,MAX($E85:$G85),MEDIAN($E85:$G85))))))","v":""},null,null,null,null,null,null,null,null,null,""]
[{"$f":"IF('Start - jaro'!I7=\"\",\"\",\"x\")","v":""},27,{"$f":"IF('Start - jaro'!G7=\"\",\"\",'Start - jaro'!G7)","v":""},"I.pokus",null,null,null,{"$f":"IF($C86=\"\",\"\",IF(OR($E86=\"DNF\",$F86=\"DNF\",$G86=\"DNF\"),\"DNF\",IF(OR($E86=\"NP\",$F86=\"NP\",$G86=\"NP\"),\"NP\",IF(ISERROR(MEDIAN($E86:$G86)),\"DNF\",IF(COUNT($E86:$G86)<3,MAX($E86:$G86),MEDIAN($E86:$G86))))))","v":""},null,null,null,null,null,null,null,null,null,"",{"$f":"IF(C86=\"x\",\"x\",IF(C86=\"\",\"\",IF(OR(T86=\"NP\",T86=\"DNF\"),IF(T86=\"NP\",MAX(T$12:T$309)+COUNTIF((T$12:T$309),MAX(T$12:T$309)),MAX(T$12:T$309)+COUNTIF((T$12:T$309),MAX(T$12:T$309))+COUNTIF((T$12:T$309),\"NP\")),T86)))","v":""},{"$f":"IF(A86=\"x\",\"x\",IF(C86=\"\",\"\",IF(OR(U86=\"NP\",U86=\"DNF\"),U86,RANK(U86,U$12:U$309,1))))","v":""},{"$f":"IF(A86=\"x\",\"x\",IF(C86=\"\",\"\",IF(OR(AND(R86=\"NP\",R87=\"NP\"),AND(R86=\"DNF\",R87=\"DNF\")),R86,IF(AND(R86=\"NP\",R87=\"DNF\"),R86,IF(AND(R86=\"DNF\",R87=\"NP\"),R87,MIN(R86,R87))))))","v":""}]
[null,null,null,"II.pokus",null,null,null,{"$f":"IF($C86=\"\",\"\",IF(OR($E87=\"DNF\",$F87=\"DNF\",$G87=\"DNF\"),\"DNF\",IF(OR($E87=\"NP\",$F87=\"NP\",$G87=\"NP\"),\"NP\",IF(ISERROR(MEDIAN($E87:$G87)),\"DNF\",IF(COUNT($E87:$G87)<3,MAX($E87:$G87),MEDIAN($E87:$G87))))))","v":""},null,null,null,null,null,null,null,null,null,""]
[{"$f":"IF('Start - jaro'!I8=\"\",\"\",\"x\")","v":""},28,{"$f":"IF('Start - jaro'!G8=\"\",\"\",'Start - jaro'!G8)","v":""},"I.pokus",null,null,null,{"$f":"IF($C88=\"\",\"\",IF(OR($E88=\"DNF\",$F88=\"DNF\",$G88=\"DNF\"),\"DNF\",IF(OR($E88=\"NP\",$F88=\"NP\",$G88=\"NP\"),\"NP\",IF(ISERROR(MEDIAN($E88:$G88)),\"DNF\",IF(COUNT($E88:$G88)<3,MAX($E88:$G88),MEDIAN($E88:$G88))))))","v":""},null,null,null,null,null,null,null,null,null,"",{"$f":"IF(C88=\"x\",\"x\",IF(C88=\"\",\"\",IF(OR(T88=\"NP\",T88=\"DNF\"),IF(T88=\"NP\",MAX(T$12:T$309)+COUNTIF((T$12:T$309),MAX(T$12:T$309)),MAX(T$12:T$309)+COUNTIF((T$12:T$309),MAX(T$12:T$309))+COUNTIF((T$12:T$309),\"NP\")),T88)))","v":""},{"$f":"IF(A88=\"x\",\"x\",IF(C88=\"\",\"\",IF(OR(U88=\"NP\",U88=\"DNF\"),U88,RANK(U88,U$12:U$309,1))))","v":""},{"$f":"IF(A88=\"x\",\"x\",IF(C88=\"\",\"\",IF(OR(AND(R88=\"NP\",R89=\"NP\"),AND(R88=\"DNF\",R89=\"DNF\")),R88,IF(AND(R88=\"NP\",R89=\"DNF\"),R88,IF(AND(R88=\"DNF\",R89=\"NP\"),R89,MIN(R88,R89))))))","v":""}]
[null,null,null,"II.pokus",null,null,null,{"$f":"IF($C88=\"\",\"\",IF(OR($E89=\"DNF\",$F89=\"DNF\",$G89=\"DNF\"),\"DNF\",IF(OR($E89=\"NP\",$F89=\"NP\",$G89=\"NP\"),\"NP\",IF(ISERROR(MEDIAN($E89:$G89)),\"DNF\",IF(COUNT($E89:$G89)<3,MAX($E89:$G89),MEDIAN($E89:$G89))))))","v":""},null,null,null,null,null,null,null,null,null,""]
[{"$f":"IF('Start - jaro'!I9=\"\",\"\",\"x\")","v":""},29,{"$f":"IF('Start - jaro'!G9=\"\",\"\",'Start - jaro'!G9)","v":""},"I.pokus",null,null,null,{"$f":"IF($C90=\"\",\"\",IF(OR($E90=\"DNF\",$F90=\"DNF\",$G90=\"DNF\"),\"DNF\",IF(OR($E90=\"NP\",$F90=\"NP\",$G90=\"NP\"),\"NP\",IF(ISERROR(MEDIAN($E90:$G90)),\"DNF\",IF(COUNT($E90:$G90)<3,MAX($E90:$G90),MEDIAN($E90:$G90))))))","v":""},null,null,null,null,null,null,null,null,null,"",{"$f":"IF(C90=\"x\",\"x\",IF(C90=\"\",\"\",IF(OR(T90=\"NP\",T90=\"DNF\"),IF(T90=\"NP\",MAX(T$12:T$309)+COUNTIF((T$12:T$309),MAX(T$12:T$309)),MAX(T$12:T$309)+COUNTIF((T$12:T$309),MAX(T$12:T$309))+COUNTIF((T$12:T$309),\"NP\")),T90)))","v":""},{"$f":"IF(A90=\"x\",\"x\",IF(C90=\"\",\"\",IF(OR(U90=\"NP\",U90=\"DNF\"),U90,RANK(U90,U$12:U$309,1))))","v":""},{"$f":"IF(A90=\"x\",\"x\",IF(C90=\"\",\"\",IF(OR(AND(R90=\"NP\",R91=\"NP\"),AND(R90=\"DNF\",R91=\"DNF\")),R90,IF(AND(R90=\"NP\",R91=\"DNF\"),R90,IF(AND(R90=\"DNF\",R91=\"NP\"),R91,MIN(R90,R91))))))","v":""}]
[null,null,null,"II.pokus",null,null,null,{"$f":"IF($C90=\"\",\"\",IF(OR($E91=\"DNF\",$F91=\"DNF\",$G91=\"DNF\"),\"DNF\",IF(OR($E91=\"NP\",$F91=\"NP\",$G91=\"NP\"),\"NP\",IF(ISERROR(MEDIAN($E91:$G91)),\"DNF\",IF(COUNT($E91:$G91)<3,MAX($E91:$G91),MEDIAN($E91:$G91))))))","v":""},null,null,null,null,null,null,null,null,null,""]
[{"$f":"IF('Start - jaro'!I10=\"\",\"\",\"x\")","v":""},30,{"$f":"IF('Start - jaro'!G10=\"\",\"\",'Start - jaro'!G10)","v":""},"I.pokus",null,null,null,{"$f":"IF($C92=\"\",\"\",IF(OR($E92=\"DNF\",$F92=\"DNF\",$G92=\"DNF\"),\"DNF\",IF(OR($E92=\"NP\",$F92=\"NP\",$G92=\"NP\"),\"NP\",IF(ISERROR(MEDIAN($E92:$G92)),\"DNF\",IF(COUNT($E92:$G92)<3,MAX($E92:$G92),MEDIAN($E92:$G92))))))","v":""},null,null,null,null,null,null,null,null,null,"",{"$f":"IF(C92=\"x\",\"x\",IF(C92=\"\",\"\",IF(OR(T92=\"NP\",T92=\"DNF\"),IF(T92=\"NP\",MAX(T$12:T$309)+COUNTIF((T$12:T$309),MAX(T$12:T$309)),MAX(T$12:T$309)+COUNTIF((T$12:T$309),MAX(T$12:T$309))+COUNTIF((T$12:T$309),\"NP\")),T92)))","v":""},{"$f":"IF(A92=\"x\",\"x\",IF(C92=\"\",\"\",IF(OR(U92=\"NP\",U92=\"DNF\"),U92,RANK(U92,U$12:U$309,1))))","v":""},{"$f":"IF(A92=\"x\",\"x\",IF(C92=\"\",\"\",IF(OR(AND(R92=\"NP\",R93=\"NP\"),AND(R92=\"DNF\",R93=\"DNF\")),R92,IF(AND(R92=\"NP\",R93=\"DNF\"),R92,IF(AND(R92=\"DNF\",R93=\"NP\"),R93,MIN(R92,R93))))))","v":""}]
[null,null,null,"II.pokus",null,null,null,{"$f":"IF($C92=\"\",\"\",IF(OR($E93=\"DNF\",$F93=\"DNF\",$G93=\"DNF\"),\"DNF\",IF(OR($E93=\"NP\",$F93=\"NP\",$G93=\"NP\"),\"NP\",IF(ISERROR(MEDIAN($E93:$G93)),\"DNF\",IF(COUNT($E93:$G93)<3,MAX($E93:$G93),MEDIAN($E93:$G93))))))","v":""},null,null,null,null,null,null,null,null,null,""]
[null,"CELOSTÁTNÍ HRA PLAMEN"]
[]
[]
[null,"Výsledková listina č: 4"]
[null,"Požární útok CTIF",null,null,"Základem je čas naměřený od vydání signálu startéra do proběhnutí posledního člena cílem",null,null,null,"K úřednímu času se připočítávají trestné sekundy",null,null,null,null,null,null,null,null,"Výsledek soutěže"]
[null,null,null,null,null,null,null,null,"nesprávné překonání překážek\n10 tb. = sekund","za celé přetočení hadice\n(každá hadice se posuzuje samostatně)\n5 tb. = sekund","za rozpojení spojky nebo zapojení na 1 ozub\nza každý případ\n20 tb. = sekund","nesprávné rozložení hadice nebo\nnesprávné položení hadic u překářek\n10 tb. = sekund","za zapomenuté, ztracené ne špatně \nodložené nářadí\n5 tb. = sekund","za nesprávné zařazení techn. prostředku\nu stojanu\n10 tb. = sekund","za nesprávné uvázaný uzel\nza každý případ\n10 tb. = sekund","za mluvení během plnění disciplíny \nza každý případ\n10 tb. = sekund)","nesprávná práce\n10 tb. = sekund"]
[null,null,null,null,null,null,null,null,null,null,null,null,null,null,null,null,null,"součet trest. Sekund a úředního času","počet bodů za umístění"]
[null,{"$f":"\"KATEGORIE: \"&'Start - podzim'!$N$2","v":"KATEGORIE: STARŠÍ"},null,null,"I. časoměřič","II. časoměřič","III. časoměřič","úřední čas"]
[]
[null,"start. číslo","SOUTĚŽNÍ DRUŽSTVO","pokus"]
[]
[{"$f":"IF('Start - jaro'!I11=\"\",\"\",\"x\")","v":""},31,{"$f":"IF('Start - jaro'!G11=\"\",\"\",'Start - jaro'!G11)","v":""},"I.pokus",null,null,null,{"$f":"IF($C105=\"\",\"\",IF(OR($E105=\"DNF\",$F105=\"DNF\",$G105=\"DNF\"),\"DNF\",IF(OR($E105=\"NP\",$F105=\"NP\",$G105=\"NP\"),\"NP\",IF(ISERROR(MEDIAN($E105:$G105)),\"DNF\",IF(COUNT($E105:$G105)<3,MAX($E105:$G105),MEDIAN($E105:$G105))))))","v":""},null,null,null,null,null,null,null,null,null,{"$f":"IF(H105=\"\",\"\",IF(H105=\"NP\",\"NP\",IF(H105=\"DNF\",\"DNF\",SUM(I105:Q105)+H105)))","v":""},{"$f":"IF(C105=\"x\",\"x\",IF(C105=\"\",\"\",IF(OR(T105=\"NP\",T105=\"DNF\"),IF(T105=\"NP\",MAX(T$12:T$309)+COUNTIF((T$12:T$309),MAX(T$12:T$309)),MAX(T$12:T$309)+COUNTIF((T$12:T$309),MAX(T$12:T$309))+COUNTIF((T$12:T$309),\"NP\")),T105)))","v":""},{"$f":"IF(A105=\"x\",\"x\",IF(C105=\"\",\"\",IF(OR(U105=\"NP\",U105=\"DNF\"),U105,RANK(U105,U$12:U$309,1))))","v":""},{"$f":"IF(A105=\"x\",\"x\",IF(C105=\"\",\"\",IF(OR(AND(R105=\"NP\",R106=\"NP\"),AND(R105=\"DNF\",R106=\"DNF\")),R105,IF(AND(R105=\"NP\",R106=\"DNF\"),R105,IF(AND(R105=\"DNF\",R106=\"NP\"),R106,MIN(R105,R106))))))","v":""}]
[null,null,null,"II.pokus",null,null,null,{"$f":"IF($C105=\"\",\"\",IF(OR($E106=\"DNF\",$F106=\"DNF\",$G106=\"DNF\"),\"DNF\",IF(OR($E106=\"NP\",$F106=\"NP\",$G106=\"NP\"),\"NP\",IF(ISERROR(MEDIAN($E106:$G106)),\"DNF\",IF(COUNT($E106:$G106)<3,MAX($E106:$G106),MEDIAN($E106:$G106))))))","v":""},null,null,null,null,null,null,null,null,null,""]
[{"$f":"IF('Start - jaro'!I12=\"\",\"\",\"x\")","v":""},32,{"$f":"IF('Start - jaro'!G12=\"\",\"\",'Start - jaro'!G12)","v":""},"I.pokus",null,null,null,{"$f":"IF($C107=\"\",\"\",IF(OR($E107=\"DNF\",$F107=\"DNF\",$G107=\"DNF\"),\"DNF\",IF(OR($E107=\"NP\",$F107=\"NP\",$G107=\"NP\"),\"NP\",IF(ISERROR(MEDIAN($E107:$G107)),\"DNF\",IF(COUNT($E107:$G107)<3,MAX($E107:$G107),MEDIAN($E107:$G107))))))","v":""},null,null,null,null,null,null,null,null,null,"",{"$f":"IF(C107=\"x\",\"x\",IF(C107=\"\",\"\",IF(OR(T107=\"NP\",T107=\"DNF\"),IF(T107=\"NP\",MAX(T$12:T$309)+COUNTIF((T$12:T$309),MAX(T$12:T$309)),MAX(T$12:T$309)+COUNTIF((T$12:T$309),MAX(T$12:T$309))+COUNTIF((T$12:T$309),\"NP\")),T107)))","v":""},{"$f":"IF(A107=\"x\",\"x\",IF(C107=\"\",\"\",IF(OR(U107=\"NP\",U107=\"DNF\"),U107,RANK(U107,U$12:U$309,1))))","v":""},{"$f":"IF(A107=\"x\",\"x\",IF(C107=\"\",\"\",IF(OR(AND(R107=\"NP\",R108=\"NP\"),AND(R107=\"DNF\",R108=\"DNF\")),R107,IF(AND(R107=\"NP\",R108=\"DNF\"),R107,IF(AND(R107=\"DNF\",R108=\"NP\"),R108,MIN(R107,R108))))))","v":""}]
[null,null,null,"II.pokus",null,null,null,{"$f":"IF($C107=\"\",\"\",IF(OR($E108=\"DNF\",$F108=\"DNF\",$G108=\"DNF\"),\"DNF\",IF(OR($E108=\"NP\",$F108=\"NP\",$G108=\"NP\"),\"NP\",IF(ISERROR(MEDIAN($E108:$G108)),\"DNF\",IF(COUNT($E108:$G108)<3,MAX($E108:$G108),MEDIAN($E108:$G108))))))","v":""},null,null,null,null,null,null,null,null,null,""]
[{"$f":"IF('Start - jaro'!I13=\"\",\"\",\"x\")","v":""},33,{"$f":"IF('Start - jaro'!G13=\"\",\"\",'Start - jaro'!G13)","v":""},"I.pokus",null,null,null,{"$f":"IF($C109=\"\",\"\",IF(OR($E109=\"DNF\",$F109=\"DNF\",$G109=\"DNF\"),\"DNF\",IF(OR($E109=\"NP\",$F109=\"NP\",$G109=\"NP\"),\"NP\",IF(ISERROR(MEDIAN($E109:$G109)),\"DNF\",IF(COUNT($E109:$G109)<3,MAX($E109:$G109),MEDIAN($E109:$G109))))))","v":""},null,null,null,null,null,null,null,null,null,"",{"$f":"IF(C109=\"x\",\"x\",IF(C109=\"\",\"\",IF(OR(T109=\"NP\",T109=\"DNF\"),IF(T109=\"NP\",MAX(T$12:T$309)+COUNTIF((T$12:T$309),MAX(T$12:T$309)),MAX(T$12:T$309)+COUNTIF((T$12:T$309),MAX(T$12:T$309))+COUNTIF((T$12:T$309),\"NP\")),T109)))","v":""},{"$f":"IF(A109=\"x\",\"x\",IF(C109=\"\",\"\",IF(OR(U109=\"NP\",U109=\"DNF\"),U109,RANK(U109,U$12:U$309,1))))","v":""},{"$f":"IF(A109=\"x\",\"x\",IF(C109=\"\",\"\",IF(OR(AND(R109=\"NP\",R110=\"NP\"),AND(R109=\"DNF\",R110=\"DNF\")),R109,IF(AND(R109=\"NP\",R110=\"DNF\"),R109,IF(AND(R109=\"DNF\",R110=\"NP\"),R110,MIN(R109,R110))))))","v":""}]
[null,null,null,"II.pokus",null,null,null,{"$f":"IF($C109=\"\",\"\",IF(OR($E110=\"DNF\",$F110=\"DNF\",$G110=\"DNF\"),\"DNF\",IF(OR($E110=\"NP\",$F110=\"NP\",$G110=\"NP\"),\"NP\",IF(ISERROR(MEDIAN($E110:$G110)),\"DNF\",IF(COUNT($E110:$G110)<3,MAX($E110:$G110),MEDIAN($E110:$G110))))))","v":""},null,null,null,null,null,null,null,null,null,""]
[{"$f":"IF('Start - jaro'!I14=\"\",\"\",\"x\")","v":""},34,{"$f":"IF('Start - jaro'!G14=\"\",\"\",'Start - jaro'!G14)","v":""},"I.pokus",null,null,null,{"$f":"IF($C111=\"\",\"\",IF(OR($E111=\"DNF\",$F111=\"DNF\",$G111=\"DNF\"),\"DNF\",IF(OR($E111=\"NP\",$F111=\"NP\",$G111=\"NP\"),\"NP\",IF(ISERROR(MEDIAN($E111:$G111)),\"DNF\",IF(COUNT($E111:$G111)<3,MAX($E111:$G111),MEDIAN($E111:$G111))))))","v":""},null,null,null,null,null,null,null,null,null,"",{"$f":"IF(C111=\"x\",\"x\",IF(C111=\"\",\"\",IF(OR(T111=\"NP\",T111=\"DNF\"),IF(T111=\"NP\",MAX(T$12:T$309)+COUNTIF((T$12:T$309),MAX(T$12:T$309)),MAX(T$12:T$309)+COUNTIF((T$12:T$309),MAX(T$12:T$309))+COUNTIF((T$12:T$309),\"NP\")),T111)))","v":""},{"$f":"IF(A111=\"x\",\"x\",IF(C111=\"\",\"\",IF(OR(U111=\"NP\",U111=\"DNF\"),U111,RANK(U111,U$12:U$309,1))))","v":""},{"$f":"IF(A111=\"x\",\"x\",IF(C111=\"\",\"\",IF(OR(AND(R111=\"NP\",R112=\"NP\"),AND(R111=\"DNF\",R112=\"DNF\")),R111,IF(AND(R111=\"NP\",R112=\"DNF\"),R111,IF(AND(R111=\"DNF\",R112=\"NP\"),R112,MIN(R111,R112))))))","v":""}]
[null,null,null,"II.pokus",null,null,null,{"$f":"IF($C111=\"\",\"\",IF(OR($E112=\"DNF\",$F112=\"DNF\",$G112=\"DNF\"),\"DNF\",IF(OR($E112=\"NP\",$F112=\"NP\",$G112=\"NP\"),\"NP\",IF(ISERROR(MEDIAN($E112:$G112)),\"DNF\",IF(COUNT($E112:$G112)<3,MAX($E112:$G112),MEDIAN($E112:$G112))))))","v":""},null,null,null,null,null,null,null,null,null,""]
[{"$f":"IF('Start - jaro'!I15=\"\",\"\",\"x\")","v":""},35,{"$f":"IF('Start - jaro'!G15=\"\",\"\",'Start - jaro'!G15)","v":""},"I.pokus",null,null,null,{"$f":"IF($C113=\"\",\"\",IF(OR($E113=\"DNF\",$F113=\"DNF\",$G113=\"DNF\"),\"DNF\",IF(OR($E113=\"NP\",$F113=\"NP\",$G113=\"NP\"),\"NP\",IF(ISERROR(MEDIAN($E113:$G113)),\"DNF\",IF(COUNT($E113:$G113)<3,MAX($E113:$G113),MEDIAN($E113:$G113))))))","v":""},null,null,null,null,null,null,null,null,null,"",{"$f":"IF(C113=\"x\",\"x\",IF(C113=\"\",\"\",IF(OR(T113=\"NP\",T113=\"DNF\"),IF(T113=\"NP\",MAX(T$12:T$309)+COUNTIF((T$12:T$309),MAX(T$12:T$309)),MAX(T$12:T$309)+COUNTIF((T$12:T$309),MAX(T$12:T$309))+COUNTIF((T$12:T$309),\"NP\")),T113)))","v":""},{"$f":"IF(A113=\"x\",\"x\",IF(C113=\"\",\"\",IF(OR(U113=\"NP\",U113=\"DNF\"),U113,RANK(U113,U$12:U$309,1))))","v":""},{"$f":"IF(A113=\"x\",\"x\",IF(C113=\"\",\"\",IF(OR(AND(R113=\"NP\",R114=\"NP\"),AND(R113=\"DNF\",R114=\"DNF\")),R113,IF(AND(R113=\"NP\",R114=\"DNF\"),R113,IF(AND(R113=\"DNF\",R114=\"NP\"),R114,MIN(R113,R114))))))","v":""}]
[null,null,null,"II.pokus",null,null,null,{"$f":"IF($C113=\"\",\"\",IF(OR($E114=\"DNF\",$F114=\"DNF\",$G114=\"DNF\"),\"DNF\",IF(OR($E114=\"NP\",$F114=\"NP\",$G114=\"NP\"),\"NP\",IF(ISERROR(MEDIAN($E114:$G114)),\"DNF\",IF(COUNT($E114:$G114)<3,MAX($E114:$G114),MEDIAN($E114:$G114))))))","v":""},null,null,null,null,null,null,null,null,null,""]
[{"$f":"IF('Start - jaro'!I16=\"\",\"\",\"x\")","v":""},36,{"$f":"IF('Start - jaro'!G16=\"\",\"\",'Start - jaro'!G16)","v":""},"I.pokus",null,null,null,{"$f":"IF($C115=\"\",\"\",IF(OR($E115=\"DNF\",$F115=\"DNF\",$G115=\"DNF\"),\"DNF\",IF(OR($E115=\"NP\",$F115=\"NP\",$G115=\"NP\"),\"NP\",IF(ISERROR(MEDIAN($E115:$G115)),\"DNF\",IF(COUNT($E115:$G115)<3,MAX($E115:$G115),MEDIAN($E115:$G115))))))","v":""},null,null,null,null,null,null,null,null,null,"",{"$f":"IF(C115=\"x\",\"x\",IF(C115=\"\",\"\",IF(OR(T115=\"NP\",T115=\"DNF\"),IF(T115=\"NP\",MAX(T$12:T$309)+COUNTIF((T$12:T$309),MAX(T$12:T$309)),MAX(T$12:T$309)+COUNTIF((T$12:T$309),MAX(T$12:T$309))+COUNTIF((T$12:T$309),\"NP\")),T115)))","v":""},{"$f":"IF(A115=\"x\",\"x\",IF(C115=\"\",\"\",IF(OR(U115=\"NP\",U115=\"DNF\"),U115,RANK(U115,U$12:U$309,1))))","v":""},{"$f":"IF(A115=\"x\",\"x\",IF(C115=\"\",\"\",IF(OR(AND(R115=\"NP\",R116=\"NP\"),AND(R115=\"DNF\",R116=\"DNF\")),R115,IF(AND(R115=\"NP\",R116=\"DNF\"),R115,IF(AND(R115=\"DNF\",R116=\"NP\"),R116,MIN(R115,R116))))))","v":""}]
[null,null,null,"II.pokus",null,null,null,{"$f":"IF($C115=\"\",\"\",IF(OR($E116=\"DNF\",$F116=\"DNF\",$G116=\"DNF\"),\"DNF\",IF(OR($E116=\"NP\",$F116=\"NP\",$G116=\"NP\"),\"NP\",IF(ISERROR(MEDIAN($E116:$G116)),\"DNF\",IF(COUNT($E116:$G116)<3,MAX($E116:$G116),MEDIAN($E116:$G116))))))","v":""},null,null,null,null,null,null,null,null,null,""]
[{"$f":"IF('Start - jaro'!I17=\"\",\"\",\"x\")","v":""},37,{"$f":"IF('Start - jaro'!G17=\"\",\"\",'Start - jaro'!G17)","v":""},"I.pokus",null,null,null,{"$f":"IF($C117=\"\",\"\",IF(OR($E117=\"DNF\",$F117=\"DNF\",$G117=\"DNF\"),\"DNF\",IF(OR($E117=\"NP\",$F117=\"NP\",$G117=\"NP\"),\"NP\",IF(ISERROR(MEDIAN($E117:$G117)),\"DNF\",IF(COUNT($E117:$G117)<3,MAX($E117:$G117),MEDIAN($E117:$G117))))))","v":""},null,null,null,null,null,null,null,null,null,"",{"$f":"IF(C117=\"x\",\"x\",IF(C117=\"\",\"\",IF(OR(T117=\"NP\",T117=\"DNF\"),IF(T117=\"NP\",MAX(T$12:T$309)+COUNTIF((T$12:T$309),MAX(T$12:T$309)),MAX(T$12:T$309)+COUNTIF((T$12:T$309),MAX(T$12:T$309))+COUNTIF((T$12:T$309),\"NP\")),T117)))","v":""},{"$f":"IF(A117=\"x\",\"x\",IF(C117=\"\",\"\",IF(OR(U117=\"NP\",U117=\"DNF\"),U117,RANK(U117,U$12:U$309,1))))","v":""},{"$f":"IF(A117=\"x\",\"x\",IF(C117=\"\",\"\",IF(OR(AND(R117=\"NP\",R118=\"NP\"),AND(R117=\"DNF\",R118=\"DNF\")),R117,IF(AND(R117=\"NP\",R118=\"DNF\"),R117,IF(AND(R117=\"DNF\",R118=\"NP\"),R118,MIN(R117,R118))))))","v":""}]
[null,null,null,"II.pokus",null,null,null,{"$f":"IF($C117=\"\",\"\",IF(OR($E118=\"DNF\",$F118=\"DNF\",$G118=\"DNF\"),\"DNF\",IF(OR($E118=\"NP\",$F118=\"NP\",$G118=\"NP\"),\"NP\",IF(ISERROR(MEDIAN($E118:$G118)),\"DNF\",IF(COUNT($E118:$G118)<3,MAX($E118:$G118),MEDIAN($E118:$G118))))))","v":""},null,null,null,null,null,null,null,null,null,""]
[{"$f":"IF('Start - jaro'!I18=\"\",\"\",\"x\")","v":""},38,{"$f":"IF('Start - jaro'!G18=\"\",\"\",'Start - jaro'!G18)","v":""},"I.pokus",null,null,null,{"$f":"IF($C119=\"\",\"\",IF(OR($E119=\"DNF\",$F119=\"DNF\",$G119=\"DNF\"),\"DNF\",IF(OR($E119=\"NP\",$F119=\"NP\",$G119=\"NP\"),\"NP\",IF(ISERROR(MEDIAN($E119:$G119)),\"DNF\",IF(COUNT($E119:$G119)<3,MAX($E119:$G119),MEDIAN($E119:$G119))))))","v":""},null,null,null,null,null,null,null,null,null,"",{"$f":"IF(C119=\"x\",\"x\",IF(C119=\"\",\"\",IF(OR(T119=\"NP\",T119=\"DNF\"),IF(T119=\"NP\",MAX(T$12:T$309)+COUNTIF((T$12:T$309),MAX(T$12:T$309)),MAX(T$12:T$309)+COUNTIF((T$12:T$309),MAX(T$12:T$309))+COUNTIF((T$12:T$309),\"NP\")),T119)))","v":""},{"$f":"IF(A119=\"x\",\"x\",IF(C119=\"\",\"\",IF(OR(U119=\"NP\",U119=\"DNF\"),U119,RANK(U119,U$12:U$309,1))))","v":""},{"$f":"IF(A119=\"x\",\"x\",IF(C119=\"\",\"\",IF(OR(AND(R119=\"NP\",R120=\"NP\"),AND(R119=\"DNF\",R120=\"DNF\")),R119,IF(AND(R119=\"NP\",R120=\"DNF\"),R119,IF(AND(R119=\"DNF\",R120=\"NP\"),R120,MIN(R119,R120))))))","v":""}]
[null,null,null,"II.pokus",null,null,null,{"$f":"IF($C119=\"\",\"\",IF(OR($E120=\"DNF\",$F120=\"DNF\",$G120=\"DNF\"),\"DNF\",IF(OR($E120=\"NP\",$F120=\"NP\",$G120=\"NP\"),\"NP\",IF(ISERROR(MEDIAN($E120:$G120)),\"DNF\",IF(COUNT($E120:$G120)<3,MAX($E120:$G120),MEDIAN($E120:$G120))))))","v":""},null,null,null,null,null,null,null,null,null,""]
[{"$f":"IF('Start - jaro'!I19=\"\",\"\",\"x\")","v":""},39,{"$f":"IF('Start - jaro'!G19=\"\",\"\",'Start - jaro'!G19)","v":""},"I.pokus",null,null,null,{"$f":"IF($C121=\"\",\"\",IF(OR($E121=\"DNF\",$F121=\"DNF\",$G121=\"DNF\"),\"DNF\",IF(OR($E121=\"NP\",$F121=\"NP\",$G121=\"NP\"),\"NP\",IF(ISERROR(MEDIAN($E121:$G121)),\"DNF\",IF(COUNT($E121:$G121)<3,MAX($E121:$G121),MEDIAN($E121:$G121))))))","v":""},null,null,null,null,null,null,null,null,null,"",{"$f":"IF(C121=\"x\",\"x\",IF(C121=\"\",\"\",IF(OR(T121=\"NP\",T121=\"DNF\"),IF(T121=\"NP\",MAX(T$12:T$309)+COUNTIF((T$12:T$309),MAX(T$12:T$309)),MAX(T$12:T$309)+COUNTIF((T$12:T$309),MAX(T$12:T$309))+COUNTIF((T$12:T$309),\"NP\")),T121)))","v":""},{"$f":"IF(A121=\"x\",\"x\",IF(C121=\"\",\"\",IF(OR(U121=\"NP\",U121=\"DNF\"),U121,RANK(U121,U$12:U$309,1))))","v":""},{"$f":"IF(A121=\"x\",\"x\",IF(C121=\"\",\"\",IF(OR(AND(R121=\"NP\",R122=\"NP\"),AND(R121=\"DNF\",R122=\"DNF\")),R121,IF(AND(R121=\"NP\",R122=\"DNF\"),R121,IF(AND(R121=\"DNF\",R122=\"NP\"),R122,MIN(R121,R122))))))","v":""}]
[null,null,null,"II.pokus",null,null,null,{"$f":"IF($C121=\"\",\"\",IF(OR($E122=\"DNF\",$F122=\"DNF\",$G122=\"DNF\"),\"DNF\",IF(OR($E122=\"NP\",$F122=\"NP\",$G122=\"NP\"),\"NP\",IF(ISERROR(MEDIAN($E122:$G122)),\"DNF\",IF(COUNT($E122:$G122)<3,MAX($E122:$G122),MEDIAN($E122:$G122))))))","v":""},null,null,null,null,null,null,null,null,null,""]
[{"$f":"IF('Start - jaro'!I20=\"\",\"\",\"x\")","v":""},40,{"$f":"IF('Start - jaro'!G20=\"\",\"\",'Start - jaro'!G20)","v":""},"I.pokus",null,null,null,{"$f":"IF($C123=\"\",\"\",IF(OR($E123=\"DNF\",$F123=\"DNF\",$G123=\"DNF\"),\"DNF\",IF(OR($E123=\"NP\",$F123=\"NP\",$G123=\"NP\"),\"NP\",IF(ISERROR(MEDIAN($E123:$G123)),\"DNF\",IF(COUNT($E123:$G123)<3,MAX($E123:$G123),MEDIAN($E123:$G123))))))","v":""},null,null,null,null,null,null,null,null,null,"",{"$f":"IF(C123=\"x\",\"x\",IF(C123=\"\",\"\",IF(OR(T123=\"NP\",T123=\"DNF\"),IF(T123=\"NP\",MAX(T$12:T$309)+COUNTIF((T$12:T$309),MAX(T$12:T$309)),MAX(T$12:T$309)+COUNTIF((T$12:T$309),MAX(T$12:T$309))+COUNTIF((T$12:T$309),\"NP\")),T123)))","v":""},{"$f":"IF(A123=\"x\",\"x\",IF(C123=\"\",\"\",IF(OR(U123=\"NP\",U123=\"DNF\"),U123,RANK(U123,U$12:U$309,1))))","v":""},{"$f":"IF(A123=\"x\",\"x\",IF(C123=\"\",\"\",IF(OR(AND(R123=\"NP\",R124=\"NP\"),AND(R123=\"DNF\",R124=\"DNF\")),R123,IF(AND(R123=\"NP\",R124=\"DNF\"),R123,IF(AND(R123=\"DNF\",R124=\"NP\"),R124,MIN(R123,R124))))))","v":""}]
[null,null,null,"II.pokus",null,null,null,{"$f":"IF($C123=\"\",\"\",IF(OR($E124=\"DNF\",$F124=\"DNF\",$G124=\"DNF\"),\"DNF\",IF(OR($E124=\"NP\",$F124=\"NP\",$G124=\"NP\"),\"NP\",IF(ISERROR(MEDIAN($E124:$G124)),\"DNF\",IF(COUNT($E124:$G124)<3,MAX($E124:$G124),MEDIAN($E124:$G124))))))","v":""},null,null,null,null,null,null,null,null,null,""]
[null,"CELOSTÁTNÍ HRA PLAMEN"]
[]
[]
[null,"Výsledková listina č: 5"]
[null,"Požární útok CTIF",null,null,"Základem je čas naměřený od vydání signálu startéra do proběhnutí posledního člena cílem",null,null,null,"K úřednímu času se připočítávají trestné sekundy",null,null,null,null,null,null,null,null,"Výsledek soutěže"]
[null,null,null,null,null,null,null,null,"nesprávné překonání překážek\n10 tb. = sekund","za celé přetočení hadice\n(každá hadice se posuzuje samostatně)\n5 tb. = sekund","za rozpojení spojky nebo zapojení na 1 ozub\nza každý případ\n20 tb. = sekund","nesprávné rozložení hadice nebo\nnesprávné položení hadic u překářek\n10 tb. = sekund","za zapomenuté, ztracené ne špatně \nodložené nářadí\n5 tb. = sekund","za nesprávné zařazení techn. prostředku\nu stojanu\n10 tb. = sekund","za nesprávné uvázaný uzel\nza každý případ\n10 tb. = sekund","za mluvení během plnění disciplíny \nza každý případ\n10 tb. = sekund)","nesprávná práce\n10 tb. = sekund"]
[null,null,null,null,null,null,null,null,null,null,null,null,null,null,null,null,null,"součet trest. Sekund a úředního času","počet bodů za umístění"]
[null,{"$f":"\"KATEGORIE: \"&'Start - podzim'!$N$2","v":"KATEGORIE: STARŠÍ"},null,null,"I. časoměřič","II. časoměřič","III. časoměřič","úřední čas"]
[]
[null,"start. číslo","SOUTĚŽNÍ DRUŽSTVO","pokus"]
[]
[{"$f":"IF('Start - jaro'!I21=\"\",\"\",\"x\")","v":""},41,{"$f":"IF('Start - jaro'!G21=\"\",\"\",'Start - jaro'!G21)","v":""},"I.pokus",null,null,null,{"$f":"IF($C136=\"\",\"\",IF(OR($E136=\"DNF\",$F136=\"DNF\",$G136=\"DNF\"),\"DNF\",IF(OR($E136=\"NP\",$F136=\"NP\",$G136=\"NP\"),\"NP\",IF(ISERROR(MEDIAN($E136:$G136)),\"DNF\",IF(COUNT($E136:$G136)<3,MAX($E136:$G136),MEDIAN($E136:$G136))))))","v":""},null,null,null,null,null,null,null,null,null,{"$f":"IF(H136=\"\",\"\",IF(H136=\"NP\",\"NP\",IF(H136=\"DNF\",\"DNF\",SUM(I136:Q136)+H136)))","v":""},{"$f":"IF(C136=\"x\",\"x\",IF(C136=\"\",\"\",IF(OR(T136=\"NP\",T136=\"DNF\"),IF(T136=\"NP\",MAX(T$12:T$309)+COUNTIF((T$12:T$309),MAX(T$12:T$309)),MAX(T$12:T$309)+COUNTIF((T$12:T$309),MAX(T$12:T$309))+COUNTIF((T$12:T$309),\"NP\")),T136)))","v":""},{"$f":"IF(A136=\"x\",\"x\",IF(C136=\"\",\"\",IF(OR(U136=\"NP\",U136=\"DNF\"),U136,RANK(U136,U$12:U$309,1))))","v":""},{"$f":"IF(A136=\"x\",\"x\",IF(C136=\"\",\"\",IF(OR(AND(R136=\"NP\",R137=\"NP\"),AND(R136=\"DNF\",R137=\"DNF\")),R136,IF(AND(R136=\"NP\",R137=\"DNF\"),R136,IF(AND(R136=\"DNF\",R137=\"NP\"),R137,MIN(R136,R137))))))","v":""}]
[null,null,null,"II.pokus",null,null,null,{"$f":"IF($C136=\"\",\"\",IF(OR($E137=\"DNF\",$F137=\"DNF\",$G137=\"DNF\"),\"DNF\",IF(OR($E137=\"NP\",$F137=\"NP\",$G137=\"NP\"),\"NP\",IF(ISERROR(MEDIAN($E137:$G137)),\"DNF\",IF(COUNT($E137:$G137)<3,MAX($E137:$G137),MEDIAN($E137:$G137))))))","v":""},null,null,null,null,null,null,null,null,null,""]
[{"$f":"IF('Start - jaro'!I22=\"\",\"\",\"x\")","v":""},42,{"$f":"IF('Start - jaro'!G22=\"\",\"\",'Start - jaro'!G22)","v":""},"I.pokus",null,null,null,{"$f":"IF($C138=\"\",\"\",IF(OR($E138=\"DNF\",$F138=\"DNF\",$G138=\"DNF\"),\"DNF\",IF(OR($E138=\"NP\",$F138=\"NP\",$G138=\"NP\"),\"NP\",IF(ISERROR(MEDIAN($E138:$G138)),\"DNF\",IF(COUNT($E138:$G138)<3,MAX($E138:$G138),MEDIAN($E138:$G138))))))","v":""},null,null,null,null,null,null,null,null,null,"",{"$f":"IF(C138=\"x\",\"x\",IF(C138=\"\",\"\",IF(OR(T138=\"NP\",T138=\"DNF\"),IF(T138=\"NP\",MAX(T$12:T$309)+COUNTIF((T$12:T$309),MAX(T$12:T$309)),MAX(T$12:T$309)+COUNTIF((T$12:T$309),MAX(T$12:T$309))+COUNTIF((T$12:T$309),\"NP\")),T138)))","v":""},{"$f":"IF(A138=\"x\",\"x\",IF(C138=\"\",\"\",IF(OR(U138=\"NP\",U138=\"DNF\"),U138,RANK(U138,U$12:U$309,1))))","v":""},{"$f":"IF(A138=\"x\",\"x\",IF(C138=\"\",\"\",IF(OR(AND(R138=\"NP\",R139=\"NP\"),AND(R138=\"DNF\",R139=\"DNF\")),R138,IF(AND(R138=\"NP\",R139=\"DNF\"),R138,IF(AND(R138=\"DNF\",R139=\"NP\"),R139,MIN(R138,R139))))))","v":""}]
[null,null,null,"II.pokus",null,null,null,{"$f":"IF($C138=\"\",\"\",IF(OR($E139=\"DNF\",$F139=\"DNF\",$G139=\"DNF\"),\"DNF\",IF(OR($E139=\"NP\",$F139=\"NP\",$G139=\"NP\"),\"NP\",IF(ISERROR(MEDIAN($E139:$G139)),\"DNF\",IF(COUNT($E139:$G139)<3,MAX($E139:$G139),MEDIAN($E139:$G139))))))","v":""},null,null,null,null,null,null,null,null,null,""]
[{"$f":"IF('Start - jaro'!I23=\"\",\"\",\"x\")","v":""},43,{"$f":"IF('Start - jaro'!G23=\"\",\"\",'Start - jaro'!G23)","v":""},"I.pokus",null,null,null,{"$f":"IF($C140=\"\",\"\",IF(OR($E140=\"DNF\",$F140=\"DNF\",$G140=\"DNF\"),\"DNF\",IF(OR($E140=\"NP\",$F140=\"NP\",$G140=\"NP\"),\"NP\",IF(ISERROR(MEDIAN($E140:$G140)),\"DNF\",IF(COUNT($E140:$G140)<3,MAX($E140:$G140),MEDIAN($E140:$G140))))))","v":""},null,null,null,null,null,null,null,null,null,"",{"$f":"IF(C140=\"x\",\"x\",IF(C140=\"\",\"\",IF(OR(T140=\"NP\",T140=\"DNF\"),IF(T140=\"NP\",MAX(T$12:T$309)+COUNTIF((T$12:T$309),MAX(T$12:T$309)),MAX(T$12:T$309)+COUNTIF((T$12:T$309),MAX(T$12:T$309))+COUNTIF((T$12:T$309),\"NP\")),T140)))","v":""},{"$f":"IF(A140=\"x\",\"x\",IF(C140=\"\",\"\",IF(OR(U140=\"NP\",U140=\"DNF\"),U140,RANK(U140,U$12:U$309,1))))","v":""},{"$f":"IF(A140=\"x\",\"x\",IF(C140=\"\",\"\",IF(OR(AND(R140=\"NP\",R141=\"NP\"),AND(R140=\"DNF\",R141=\"DNF\")),R140,IF(AND(R140=\"NP\",R141=\"DNF\"),R140,IF(AND(R140=\"DNF\",R141=\"NP\"),R141,MIN(R140,R141))))))","v":""}]
[null,null,null,"II.pokus",null,null,null,{"$f":"IF($C140=\"\",\"\",IF(OR($E141=\"DNF\",$F141=\"DNF\",$G141=\"DNF\"),\"DNF\",IF(OR($E141=\"NP\",$F141=\"NP\",$G141=\"NP\"),\"NP\",IF(ISERROR(MEDIAN($E141:$G141)),\"DNF\",IF(COUNT($E141:$G141)<3,MAX($E141:$G141),MEDIAN($E141:$G141))))))","v":""},null,null,null,null,null,null,null,null,null,""]
[{"$f":"IF('Start - jaro'!I24=\"\",\"\",\"x\")","v":""},44,{"$f":"IF('Start - jaro'!G24=\"\",\"\",'Start - jaro'!G24)","v":""},"I.pokus",null,null,null,{"$f":"IF($C142=\"\",\"\",IF(OR($E142=\"DNF\",$F142=\"DNF\",$G142=\"DNF\"),\"DNF\",IF(OR($E142=\"NP\",$F142=\"NP\",$G142=\"NP\"),\"NP\",IF(ISERROR(MEDIAN($E142:$G142)),\"DNF\",IF(COUNT($E142:$G142)<3,MAX($E142:$G142),MEDIAN($E142:$G142))))))","v":""},null,null,null,null,null,null,null,null,null,"",{"$f":"IF(C142=\"x\",\"x\",IF(C142=\"\",\"\",IF(OR(T142=\"NP\",T142=\"DNF\"),IF(T142=\"NP\",MAX(T$12:T$309)+COUNTIF((T$12:T$309),MAX(T$12:T$309)),MAX(T$12:T$309)+COUNTIF((T$12:T$309),MAX(T$12:T$309))+COUNTIF((T$12:T$309),\"NP\")),T142)))","v":""},{"$f":"IF(A142=\"x\",\"x\",IF(C142=\"\",\"\",IF(OR(U142=\"NP\",U142=\"DNF\"),U142,RANK(U142,U$12:U$309,1))))","v":""},{"$f":"IF(A142=\"x\",\"x\",IF(C142=\"\",\"\",IF(OR(AND(R142=\"NP\",R143=\"NP\"),AND(R142=\"DNF\",R143=\"DNF\")),R142,IF(AND(R142=\"NP\",R143=\"DNF\"),R142,IF(AND(R142=\"DNF\",R143=\"NP\"),R143,MIN(R142,R143))))))","v":""}]
[null,null,null,"II.pokus",null,null,null,{"$f":"IF($C142=\"\",\"\",IF(OR($E143=\"DNF\",$F143=\"DNF\",$G143=\"DNF\"),\"DNF\",IF(OR($E143=\"NP\",$F143=\"NP\",$G143=\"NP\"),\"NP\",IF(ISERROR(MEDIAN($E143:$G143)),\"DNF\",IF(COUNT($E143:$G143)<3,MAX($E143:$G143),MEDIAN($E143:$G143))))))","v":""},null,null,null,null,null,null,null,null,null,""]
[{"$f":"IF('Start - jaro'!I25=\"\",\"\",\"x\")","v":""},45,{"$f":"IF('Start - jaro'!G25=\"\",\"\",'Start - jaro'!G25)","v":""},"I.pokus",null,null,null,{"$f":"IF($C144=\"\",\"\",IF(OR($E144=\"DNF\",$F144=\"DNF\",$G144=\"DNF\"),\"DNF\",IF(OR($E144=\"NP\",$F144=\"NP\",$G144=\"NP\"),\"NP\",IF(ISERROR(MEDIAN($E144:$G144)),\"DNF\",IF(COUNT($E144:$G144)<3,MAX($E144:$G144),MEDIAN($E144:$G144))))))","v":""},null,null,null,null,null,null,null,null,null,"",{"$f":"IF(C144=\"x\",\"x\",IF(C144=\"\",\"\",IF(OR(T144=\"NP\",T144=\"DNF\"),IF(T144=\"NP\",MAX(T$12:T$309)+COUNTIF((T$12:T$309),MAX(T$12:T$309)),MAX(T$12:T$309)+COUNTIF((T$12:T$309),MAX(T$12:T$309))+COUNTIF((T$12:T$309),\"NP\")),T144)))","v":""},{"$f":"IF(A144=\"x\",\"x\",IF(C144=\"\",\"\",IF(OR(U144=\"NP\",U144=\"DNF\"),U144,RANK(U144,U$12:U$309,1))))","v":""},{"$f":"IF(A144=\"x\",\"x\",IF(C144=\"\",\"\",IF(OR(AND(R144=\"NP\",R145=\"NP\"),AND(R144=\"DNF\",R145=\"DNF\")),R144,IF(AND(R144=\"NP\",R145=\"DNF\"),R144,IF(AND(R144=\"DNF\",R145=\"NP\"),R145,MIN(R144,R145))))))","v":""}]
[null,null,null,"II.pokus",null,null,null,{"$f":"IF($C144=\"\",\"\",IF(OR($E145=\"DNF\",$F145=\"DNF\",$G145=\"DNF\"),\"DNF\",IF(OR($E145=\"NP\",$F145=\"NP\",$G145=\"NP\"),\"NP\",IF(ISERROR(MEDIAN($E145:$G145)),\"DNF\",IF(COUNT($E145:$G145)<3,MAX($E145:$G145),MEDIAN($E145:$G145))))))","v":""},null,null,null,null,null,null,null,null,null,""]
[{"$f":"IF('Start - jaro'!I26=\"\",\"\",\"x\")","v":""},46,{"$f":"IF('Start - jaro'!G26=\"\",\"\",'Start - jaro'!G26)","v":""},"I.pokus",null,null,null,{"$f":"IF($C146=\"\",\"\",IF(OR($E146=\"DNF\",$F146=\"DNF\",$G146=\"DNF\"),\"DNF\",IF(OR($E146=\"NP\",$F146=\"NP\",$G146=\"NP\"),\"NP\",IF(ISERROR(MEDIAN($E146:$G146)),\"DNF\",IF(COUNT($E146:$G146)<3,MAX($E146:$G146),MEDIAN($E146:$G146))))))","v":""},null,null,null,null,null,null,null,null,null,"",{"$f":"IF(C146=\"x\",\"x\",IF(C146=\"\",\"\",IF(OR(T146=\"NP\",T146=\"DNF\"),IF(T146=\"NP\",MAX(T$12:T$309)+COUNTIF((T$12:T$309),MAX(T$12:T$309)),MAX(T$12:T$309)+COUNTIF((T$12:T$309),MAX(T$12:T$309))+COUNTIF((T$12:T$309),\"NP\")),T146)))","v":""},{"$f":"IF(A146=\"x\",\"x\",IF(C146=\"\",\"\",IF(OR(U146=\"NP\",U146=\"DNF\"),U146,RANK(U146,U$12:U$309,1))))","v":""},{"$f":"IF(A146=\"x\",\"x\",IF(C146=\"\",\"\",IF(OR(AND(R146=\"NP\",R147=\"NP\"),AND(R146=\"DNF\",R147=\"DNF\")),R146,IF(AND(R146=\"NP\",R147=\"DNF\"),R146,IF(AND(R146=\"DNF\",R147=\"NP\"),R147,MIN(R146,R147))))))","v":""}]
[null,null,null,"II.pokus",null,null,null,{"$f":"IF($C146=\"\",\"\",IF(OR($E147=\"DNF\",$F147=\"DNF\",$G147=\"DNF\"),\"DNF\",IF(OR($E147=\"NP\",$F147=\"NP\",$G147=\"NP\"),\"NP\",IF(ISERROR(MEDIAN($E147:$G147)),\"DNF\",IF(COUNT($E147:$G147)<3,MAX($E147:$G147),MEDIAN($E147:$G147))))))","v":""},null,null,null,null,null,null,null,null,null,""]
[{"$f":"IF('Start - jaro'!I27=\"\",\"\",\"x\")","v":""},47,{"$f":"IF('Start - jaro'!G27=\"\",\"\",'Start - jaro'!G27)","v":""},"I.pokus",null,null,null,{"$f":"IF($C148=\"\",\"\",IF(OR($E148=\"DNF\",$F148=\"DNF\",$G148=\"DNF\"),\"DNF\",IF(OR($E148=\"NP\",$F148=\"NP\",$G148=\"NP\"),\"NP\",IF(ISERROR(MEDIAN($E148:$G148)),\"DNF\",IF(COUNT($E148:$G148)<3,MAX($E148:$G148),MEDIAN($E148:$G148))))))","v":""},null,null,null,null,null,null,null,null,null,"",{"$f":"IF(C148=\"x\",\"x\",IF(C148=\"\",\"\",IF(OR(T148=\"NP\",T148=\"DNF\"),IF(T148=\"NP\",MAX(T$12:T$309)+COUNTIF((T$12:T$309),MAX(T$12:T$309)),MAX(T$12:T$309)+COUNTIF((T$12:T$309),MAX(T$12:T$309))+COUNTIF((T$12:T$309),\"NP\")),T148)))","v":""},{"$f":"IF(A148=\"x\",\"x\",IF(C148=\"\",\"\",IF(OR(U148=\"NP\",U148=\"DNF\"),U148,RANK(U148,U$12:U$309,1))))","v":""},{"$f":"IF(A148=\"x\",\"x\",IF(C148=\"\",\"\",IF(OR(AND(R148=\"NP\",R149=\"NP\"),AND(R148=\"DNF\",R149=\"DNF\")),R148,IF(AND(R148=\"NP\",R149=\"DNF\"),R148,IF(AND(R148=\"DNF\",R149=\"NP\"),R149,MIN(R148,R149))))))","v":""}]
[null,null,null,"II.pokus",null,null,null,{"$f":"IF($C148=\"\",\"\",IF(OR($E149=\"DNF\",$F149=\"DNF\",$G149=\"DNF\"),\"DNF\",IF(OR($E149=\"NP\",$F149=\"NP\",$G149=\"NP\"),\"NP\",IF(ISERROR(MEDIAN($E149:$G149)),\"DNF\",IF(COUNT($E149:$G149)<3,MAX($E149:$G149),MEDIAN($E149:$G149))))))","v":""},null,null,null,null,null,null,null,null,null,""]
[{"$f":"IF('Start - jaro'!I28=\"\",\"\",\"x\")","v":""},48,{"$f":"IF('Start - jaro'!G28=\"\",\"\",'Start - jaro'!G28)","v":""},"I.pokus",null,null,null,{"$f":"IF($C150=\"\",\"\",IF(OR($E150=\"DNF\",$F150=\"DNF\",$G150=\"DNF\"),\"DNF\",IF(OR($E150=\"NP\",$F150=\"NP\",$G150=\"NP\"),\"NP\",IF(ISERROR(MEDIAN($E150:$G150)),\"DNF\",IF(COUNT($E150:$G150)<3,MAX($E150:$G150),MEDIAN($E150:$G150))))))","v":""},null,null,null,null,null,null,null,null,null,"",{"$f":"IF(C150=\"x\",\"x\",IF(C150=\"\",\"\",IF(OR(T150=\"NP\",T150=\"DNF\"),IF(T150=\"NP\",MAX(T$12:T$309)+COUNTIF((T$12:T$309),MAX(T$12:T$309)),MAX(T$12:T$309)+COUNTIF((T$12:T$309),MAX(T$12:T$309))+COUNTIF((T$12:T$309),\"NP\")),T150)))","v":""},{"$f":"IF(A150=\"x\",\"x\",IF(C150=\"\",\"\",IF(OR(U150=\"NP\",U150=\"DNF\"),U150,RANK(U150,U$12:U$309,1))))","v":""},{"$f":"IF(A150=\"x\",\"x\",IF(C150=\"\",\"\",IF(OR(AND(R150=\"NP\",R151=\"NP\"),AND(R150=\"DNF\",R151=\"DNF\")),R150,IF(AND(R150=\"NP\",R151=\"DNF\"),R150,IF(AND(R150=\"DNF\",R151=\"NP\"),R151,MIN(R150,R151))))))","v":""}]
[null,null,null,"II.pokus",null,null,null,{"$f":"IF($C150=\"\",\"\",IF(OR($E151=\"DNF\",$F151=\"DNF\",$G151=\"DNF\"),\"DNF\",IF(OR($E151=\"NP\",$F151=\"NP\",$G151=\"NP\"),\"NP\",IF(ISERROR(MEDIAN($E151:$G151)),\"DNF\",IF(COUNT($E151:$G151)<3,MAX($E151:$G151),MEDIAN($E151:$G151))))))","v":""},null,null,null,null,null,null,null,null,null,""]
[{"$f":"IF('Start - jaro'!I29=\"\",\"\",\"x\")","v":""},49,{"$f":"IF('Start - jaro'!G29=\"\",\"\",'Start - jaro'!G29)","v":""},"I.pokus",null,null,null,{"$f":"IF($C152=\"\",\"\",IF(OR($E152=\"DNF\",$F152=\"DNF\",$G152=\"DNF\"),\"DNF\",IF(OR($E152=\"NP\",$F152=\"NP\",$G152=\"NP\"),\"NP\",IF(ISERROR(MEDIAN($E152:$G152)),\"DNF\",IF(COUNT($E152:$G152)<3,MAX($E152:$G152),MEDIAN($E152:$G152))))))","v":""},null,null,null,null,null,null,null,null,null,"",{"$f":"IF(C152=\"x\",\"x\",IF(C152=\"\",\"\",IF(OR(T152=\"NP\",T152=\"DNF\"),IF(T152=\"NP\",MAX(T$12:T$309)+COUNTIF((T$12:T$309),MAX(T$12:T$309)),MAX(T$12:T$309)+COUNTIF((T$12:T$309),MAX(T$12:T$309))+COUNTIF((T$12:T$309),\"NP\")),T152)))","v":""},{"$f":"IF(A152=\"x\",\"x\",IF(C152=\"\",\"\",IF(OR(U152=\"NP\",U152=\"DNF\"),U152,RANK(U152,U$12:U$309,1))))","v":""},{"$f":"IF(A152=\"x\",\"x\",IF(C152=\"\",\"\",IF(OR(AND(R152=\"NP\",R153=\"NP\"),AND(R152=\"DNF\",R153=\"DNF\")),R152,IF(AND(R152=\"NP\",R153=\"DNF\"),R152,IF(AND(R152=\"DNF\",R153=\"NP\"),R153,MIN(R152,R153))))))","v":""}]
[null,null,null,"II.pokus",null,null,null,{"$f":"IF($C152=\"\",\"\",IF(OR($E153=\"DNF\",$F153=\"DNF\",$G153=\"DNF\"),\"DNF\",IF(OR($E153=\"NP\",$F153=\"NP\",$G153=\"NP\"),\"NP\",IF(ISERROR(MEDIAN($E153:$G153)),\"DNF\",IF(COUNT($E153:$G153)<3,MAX($E153:$G153),MEDIAN($E153:$G153))))))","v":""},null,null,null,null,null,null,null,null,null,""]
[{"$f":"IF('Start - jaro'!I30=\"\",\"\",\"x\")","v":""},50,{"$f":"IF('Start - jaro'!G30=\"\",\"\",'Start - jaro'!G30)","v":""},"I.pokus",null,null,null,{"$f":"IF($C154=\"\",\"\",IF(OR($E154=\"DNF\",$F154=\"DNF\",$G154=\"DNF\"),\"DNF\",IF(OR($E154=\"NP\",$F154=\"NP\",$G154=\"NP\"),\"NP\",IF(ISERROR(MEDIAN($E154:$G154)),\"DNF\",IF(COUNT($E154:$G154)<3,MAX($E154:$G154),MEDIAN($E154:$G154))))))","v":""},null,null,null,null,null,null,null,null,null,"",{"$f":"IF(C154=\"x\",\"x\",IF(C154=\"\",\"\",IF(OR(T154=\"NP\",T154=\"DNF\"),IF(T154=\"NP\",MAX(T$12:T$309)+COUNTIF((T$12:T$309),MAX(T$12:T$309)),MAX(T$12:T$309)+COUNTIF((T$12:T$309),MAX(T$12:T$309))+COUNTIF((T$12:T$309),\"NP\")),T154)))","v":""},{"$f":"IF(A154=\"x\",\"x\",IF(C154=\"\",\"\",IF(OR(U154=\"NP\",U154=\"DNF\"),U154,RANK(U154,U$12:U$309,1))))","v":""},{"$f":"IF(A154=\"x\",\"x\",IF(C154=\"\",\"\",IF(OR(AND(R154=\"NP\",R155=\"NP\"),AND(R154=\"DNF\",R155=\"DNF\")),R154,IF(AND(R154=\"NP\",R155=\"DNF\"),R154,IF(AND(R154=\"DNF\",R155=\"NP\"),R155,MIN(R154,R155))))))","v":""}]
[null,null,null,"II.pokus",null,null,null,{"$f":"IF($C154=\"\",\"\",IF(OR($E155=\"DNF\",$F155=\"DNF\",$G155=\"DNF\"),\"DNF\",IF(OR($E155=\"NP\",$F155=\"NP\",$G155=\"NP\"),\"NP\",IF(ISERROR(MEDIAN($E155:$G155)),\"DNF\",IF(COUNT($E155:$G155)<3,MAX($E155:$G155),MEDIAN($E155:$G155))))))","v":""},null,null,null,null,null,null,null,null,null,""]
[null,"CELOSTÁTNÍ HRA PLAMEN"]
[]
[]
[null,"Výsledková listina č: 6"]
[null,"Požární útok CTIF",null,null,"Základem je čas naměřený od vydání signálu startéra do proběhnutí posledního člena cílem",null,null,null,"K úřednímu času se připočítávají trestné sekundy",null,null,null,null,null,null,null,null,"Výsledek soutěže"]
[null,null,null,null,null,null,null,null,"nesprávné překonání překážek\n10 tb. = sekund","za celé přetočení hadice\n(každá hadice se posuzuje samostatně)\n5 tb. = sekund","za rozpojení spojky nebo zapojení na 1 ozub\nza každý případ\n20 tb. = sekund","nesprávné rozložení hadice nebo\nnesprávné položení hadic u překářek\n10 tb. = sekund","za zapomenuté, ztracené ne špatně \nodložené nářadí\n5 tb. = sekund","za nesprávné zařazení techn. prostředku\nu stojanu\n10 tb. = sekund","za nesprávné uvázaný uzel\nza každý případ\n10 tb. = sekund","za mluvení během plnění disciplíny \nza každý případ\n10 tb. = sekund)","nesprávná práce\n10 tb. = sekund"]
[null,null,null,null,null,null,null,null,null,null,null,null,null,null,null,null,null,"součet trest. Sekund a úředního času","počet bodů za umístění"]
[null,{"$f":"\"KATEGORIE: \"&'Start - podzim'!$N$2","v":"KATEGORIE: STARŠÍ"},null,null,"I. časoměřič","II. časoměřič","III. časoměřič","úřední čas"]
[]
[null,"start. číslo","SOUTĚŽNÍ DRUŽSTVO","pokus"]
[]
[{"$f":"IF('Start - jaro'!M6=\"\",\"\",\"x\")","v":""},51,{"$f":"IF('Start - jaro'!K6=\"\",\"\",'Start - jaro'!K6)","v":""},"I.pokus",null,null,null,{"$f":"IF($C167=\"\",\"\",IF(OR($E167=\"DNF\",$F167=\"DNF\",$G167=\"DNF\"),\"DNF\",IF(OR($E167=\"NP\",$F167=\"NP\",$G167=\"NP\"),\"NP\",IF(ISERROR(MEDIAN($E167:$G167)),\"DNF\",IF(COUNT($E167:$G167)<3,MAX($E167:$G167),MEDIAN($E167:$G167))))))","v":""},null,null,null,null,null,null,null,null,null,{"$f":"IF(H167=\"\",\"\",IF(H167=\"NP\",\"NP\",IF(H167=\"DNF\",\"DNF\",SUM(I167:Q167)+H167)))","v":""},{"$f":"IF(C167=\"x\",\"x\",IF(C167=\"\",\"\",IF(OR(T167=\"NP\",T167=\"DNF\"),IF(T167=\"NP\",MAX(T$12:T$309)+COUNTIF((T$12:T$309),MAX(T$12:T$309)),MAX(T$12:T$309)+COUNTIF((T$12:T$309),MAX(T$12:T$309))+COUNTIF((T$12:T$309),\"NP\")),T167)))","v":""},{"$f":"IF(A167=\"x\",\"x\",IF(C167=\"\",\"\",IF(OR(U167=\"NP\",U167=\"DNF\"),U167,RANK(U167,U$12:U$309,1))))","v":""},{"$f":"IF(A167=\"x\",\"x\",IF(C167=\"\",\"\",IF(OR(AND(R167=\"NP\",R168=\"NP\"),AND(R167=\"DNF\",R168=\"DNF\")),R167,IF(AND(R167=\"NP\",R168=\"DNF\"),R167,IF(AND(R167=\"DNF\",R168=\"NP\"),R168,MIN(R167,R168))))))","v":""}]
[null,null,null,"II.pokus",null,null,null,{"$f":"IF($C167=\"\",\"\",IF(OR($E168=\"DNF\",$F168=\"DNF\",$G168=\"DNF\"),\"DNF\",IF(OR($E168=\"NP\",$F168=\"NP\",$G168=\"NP\"),\"NP\",IF(ISERROR(MEDIAN($E168:$G168)),\"DNF\",IF(COUNT($E168:$G168)<3,MAX($E168:$G168),MEDIAN($E168:$G168))))))","v":""},null,null,null,null,null,null,null,null,null,""]
[{"$f":"IF('Start - jaro'!M7=\"\",\"\",\"x\")","v":""},52,{"$f":"IF('Start - jaro'!K7=\"\",\"\",'Start - jaro'!K7)","v":""},"I.pokus",null,null,null,{"$f":"IF($C169=\"\",\"\",IF(OR($E169=\"DNF\",$F169=\"DNF\",$G169=\"DNF\"),\"DNF\",IF(OR($E169=\"NP\",$F169=\"NP\",$G169=\"NP\"),\"NP\",IF(ISERROR(MEDIAN($E169:$G169)),\"DNF\",IF(COUNT($E169:$G169)<3,MAX($E169:$G169),MEDIAN($E169:$G169))))))","v":""},null,null,null,null,null,null,null,null,null,"",{"$f":"IF(C169=\"x\",\"x\",IF(C169=\"\",\"\",IF(OR(T169=\"NP\",T169=\"DNF\"),IF(T169=\"NP\",MAX(T$12:T$309)+COUNTIF((T$12:T$309),MAX(T$12:T$309)),MAX(T$12:T$309)+COUNTIF((T$12:T$309),MAX(T$12:T$309))+COUNTIF((T$12:T$309),\"NP\")),T169)))","v":""},{"$f":"IF(A169=\"x\",\"x\",IF(C169=\"\",\"\",IF(OR(U169=\"NP\",U169=\"DNF\"),U169,RANK(U169,U$12:U$309,1))))","v":""},{"$f":"IF(A169=\"x\",\"x\",IF(C169=\"\",\"\",IF(OR(AND(R169=\"NP\",R170=\"NP\"),AND(R169=\"DNF\",R170=\"DNF\")),R169,IF(AND(R169=\"NP\",R170=\"DNF\"),R169,IF(AND(R169=\"DNF\",R170=\"NP\"),R170,MIN(R169,R170))))))","v":""}]
[null,null,null,"II.pokus",null,null,null,{"$f":"IF($C169=\"\",\"\",IF(OR($E170=\"DNF\",$F170=\"DNF\",$G170=\"DNF\"),\"DNF\",IF(OR($E170=\"NP\",$F170=\"NP\",$G170=\"NP\"),\"NP\",IF(ISERROR(MEDIAN($E170:$G170)),\"DNF\",IF(COUNT($E170:$G170)<3,MAX($E170:$G170),MEDIAN($E170:$G170))))))","v":""},null,null,null,null,null,null,null,null,null,""]
[{"$f":"IF('Start - jaro'!M8=\"\",\"\",\"x\")","v":""},53,{"$f":"IF('Start - jaro'!K8=\"\",\"\",'Start - jaro'!K8)","v":""},"I.pokus",null,null,null,{"$f":"IF($C171=\"\",\"\",IF(OR($E171=\"DNF\",$F171=\"DNF\",$G171=\"DNF\"),\"DNF\",IF(OR($E171=\"NP\",$F171=\"NP\",$G171=\"NP\"),\"NP\",IF(ISERROR(MEDIAN($E171:$G171)),\"DNF\",IF(COUNT($E171:$G171)<3,MAX($E171:$G171),MEDIAN($E171:$G171))))))","v":""},null,null,null,null,null,null,null,null,null,"",{"$f":"IF(C171=\"x\",\"x\",IF(C171=\"\",\"\",IF(OR(T171=\"NP\",T171=\"DNF\"),IF(T171=\"NP\",MAX(T$12:T$309)+COUNTIF((T$12:T$309),MAX(T$12:T$309)),MAX(T$12:T$309)+COUNTIF((T$12:T$309),MAX(T$12:T$309))+COUNTIF((T$12:T$309),\"NP\")),T171)))","v":""},{"$f":"IF(A171=\"x\",\"x\",IF(C171=\"\",\"\",IF(OR(U171=\"NP\",U171=\"DNF\"),U171,RANK(U171,U$12:U$309,1))))","v":""},{"$f":"IF(A171=\"x\",\"x\",IF(C171=\"\",\"\",IF(OR(AND(R171=\"NP\",R172=\"NP\"),AND(R171=\"DNF\",R172=\"DNF\")),R171,IF(AND(R171=\"NP\",R172=\"DNF\"),R171,IF(AND(R171=\"DNF\",R172=\"NP\"),R172,MIN(R171,R172))))))","v":""}]
[null,null,null,"II.pokus",null,null,null,{"$f":"IF($C171=\"\",\"\",IF(OR($E172=\"DNF\",$F172=\"DNF\",$G172=\"DNF\"),\"DNF\",IF(OR($E172=\"NP\",$F172=\"NP\",$G172=\"NP\"),\"NP\",IF(ISERROR(MEDIAN($E172:$G172)),\"DNF\",IF(COUNT($E172:$G172)<3,MAX($E172:$G172),MEDIAN($E172:$G172))))))","v":""},null,null,null,null,null,null,null,null,null,""]
[{"$f":"IF('Start - jaro'!M9=\"\",\"\",\"x\")","v":""},54,{"$f":"IF('Start - jaro'!K9=\"\",\"\",'Start - jaro'!K9)","v":""},"I.pokus",null,null,null,{"$f":"IF($C173=\"\",\"\",IF(OR($E173=\"DNF\",$F173=\"DNF\",$G173=\"DNF\"),\"DNF\",IF(OR($E173=\"NP\",$F173=\"NP\",$G173=\"NP\"),\"NP\",IF(ISERROR(MEDIAN($E173:$G173)),\"DNF\",IF(COUNT($E173:$G173)<3,MAX($E173:$G173),MEDIAN($E173:$G173))))))","v":""},null,null,null,null,null,null,null,null,null,"",{"$f":"IF(C173=\"x\",\"x\",IF(C173=\"\",\"\",IF(OR(T173=\"NP\",T173=\"DNF\"),IF(T173=\"NP\",MAX(T$12:T$309)+COUNTIF((T$12:T$309),MAX(T$12:T$309)),MAX(T$12:T$309)+COUNTIF((T$12:T$309),MAX(T$12:T$309))+COUNTIF((T$12:T$309),\"NP\")),T173)))","v":""},{"$f":"IF(A173=\"x\",\"x\",IF(C173=\"\",\"\",IF(OR(U173=\"NP\",U173=\"DNF\"),U173,RANK(U173,U$12:U$309,1))))","v":""},{"$f":"IF(A173=\"x\",\"x\",IF(C173=\"\",\"\",IF(OR(AND(R173=\"NP\",R174=\"NP\"),AND(R173=\"DNF\",R174=\"DNF\")),R173,IF(AND(R173=\"NP\",R174=\"DNF\"),R173,IF(AND(R173=\"DNF\",R174=\"NP\"),R174,MIN(R173,R174))))))","v":""}]
[null,null,null,"II.pokus",null,null,null,{"$f":"IF($C173=\"\",\"\",IF(OR($E174=\"DNF\",$F174=\"DNF\",$G174=\"DNF\"),\"DNF\",IF(OR($E174=\"NP\",$F174=\"NP\",$G174=\"NP\"),\"NP\",IF(ISERROR(MEDIAN($E174:$G174)),\"DNF\",IF(COUNT($E174:$G174)<3,MAX($E174:$G174),MEDIAN($E174:$G174))))))","v":""},null,null,null,null,null,null,null,null,null,""]
[{"$f":"IF('Start - jaro'!M10=\"\",\"\",\"x\")","v":""},55,{"$f":"IF('Start - jaro'!K10=\"\",\"\",'Start - jaro'!K10)","v":""},"I.pokus",null,null,null,{"$f":"IF($C175=\"\",\"\",IF(OR($E175=\"DNF\",$F175=\"DNF\",$G175=\"DNF\"),\"DNF\",IF(OR($E175=\"NP\",$F175=\"NP\",$G175=\"NP\"),\"NP\",IF(ISERROR(MEDIAN($E175:$G175)),\"DNF\",IF(COUNT($E175:$G175)<3,MAX($E175:$G175),MEDIAN($E175:$G175))))))","v":""},null,null,null,null,null,null,null,null,null,"",{"$f":"IF(C175=\"x\",\"x\",IF(C175=\"\",\"\",IF(OR(T175=\"NP\",T175=\"DNF\"),IF(T175=\"NP\",MAX(T$12:T$309)+COUNTIF((T$12:T$309),MAX(T$12:T$309)),MAX(T$12:T$309)+COUNTIF((T$12:T$309),MAX(T$12:T$309))+COUNTIF((T$12:T$309),\"NP\")),T175)))","v":""},{"$f":"IF(A175=\"x\",\"x\",IF(C175=\"\",\"\",IF(OR(U175=\"NP\",U175=\"DNF\"),U175,RANK(U175,U$12:U$309,1))))","v":""},{"$f":"IF(A175=\"x\",\"x\",IF(C175=\"\",\"\",IF(OR(AND(R175=\"NP\",R176=\"NP\"),AND(R175=\"DNF\",R176=\"DNF\")),R175,IF(AND(R175=\"NP\",R176=\"DNF\"),R175,IF(AND(R175=\"DNF\",R176=\"NP\"),R176,MIN(R175,R176))))))","v":""}]
[null,null,null,"II.pokus",null,null,null,{"$f":"IF($C175=\"\",\"\",IF(OR($E176=\"DNF\",$F176=\"DNF\",$G176=\"DNF\"),\"DNF\",IF(OR($E176=\"NP\",$F176=\"NP\",$G176=\"NP\"),\"NP\",IF(ISERROR(MEDIAN($E176:$G176)),\"DNF\",IF(COUNT($E176:$G176)<3,MAX($E176:$G176),MEDIAN($E176:$G176))))))","v":""},null,null,null,null,null,null,null,null,null,""]
[{"$f":"IF('Start - jaro'!M11=\"\",\"\",\"x\")","v":""},56,{"$f":"IF('Start - jaro'!K11=\"\",\"\",'Start - jaro'!K11)","v":""},"I.pokus",null,null,null,{"$f":"IF($C177=\"\",\"\",IF(OR($E177=\"DNF\",$F177=\"DNF\",$G177=\"DNF\"),\"DNF\",IF(OR($E177=\"NP\",$F177=\"NP\",$G177=\"NP\"),\"NP\",IF(ISERROR(MEDIAN($E177:$G177)),\"DNF\",IF(COUNT($E177:$G177)<3,MAX($E177:$G177),MEDIAN($E177:$G177))))))","v":""},null,null,null,null,null,null,null,null,null,"",{"$f":"IF(C177=\"x\",\"x\",IF(C177=\"\",\"\",IF(OR(T177=\"NP\",T177=\"DNF\"),IF(T177=\"NP\",MAX(T$12:T$309)+COUNTIF((T$12:T$309),MAX(T$12:T$309)),MAX(T$12:T$309)+COUNTIF((T$12:T$309),MAX(T$12:T$309))+COUNTIF((T$12:T$309),\"NP\")),T177)))","v":""},{"$f":"IF(A177=\"x\",\"x\",IF(C177=\"\",\"\",IF(OR(U177=\"NP\",U177=\"DNF\"),U177,RANK(U177,U$12:U$309,1))))","v":""},{"$f":"IF(A177=\"x\",\"x\",IF(C177=\"\",\"\",IF(OR(AND(R177=\"NP\",R178=\"NP\"),AND(R177=\"DNF\",R178=\"DNF\")),R177,IF(AND(R177=\"NP\",R178=\"DNF\"),R177,IF(AND(R177=\"DNF\",R178=\"NP\"),R178,MIN(R177,R178))))))","v":""}]
[null,null,null,"II.pokus",null,null,null,{"$f":"IF($C177=\"\",\"\",IF(OR($E178=\"DNF\",$F178=\"DNF\",$G178=\"DNF\"),\"DNF\",IF(OR($E178=\"NP\",$F178=\"NP\",$G178=\"NP\"),\"NP\",IF(ISERROR(MEDIAN($E178:$G178)),\"DNF\",IF(COUNT($E178:$G178)<3,MAX($E178:$G178),MEDIAN($E178:$G178))))))","v":""},null,null,null,null,null,null,null,null,null,""]
[{"$f":"IF('Start - jaro'!M12=\"\",\"\",\"x\")","v":""},57,{"$f":"IF('Start - jaro'!K12=\"\",\"\",'Start - jaro'!K12)","v":""},"I.pokus",null,null,null,{"$f":"IF($C179=\"\",\"\",IF(OR($E179=\"DNF\",$F179=\"DNF\",$G179=\"DNF\"),\"DNF\",IF(OR($E179=\"NP\",$F179=\"NP\",$G179=\"NP\"),\"NP\",IF(ISERROR(MEDIAN($E179:$G179)),\"DNF\",IF(COUNT($E179:$G179)<3,MAX($E179:$G179),MEDIAN($E179:$G179))))))","v":""},null,null,null,null,null,null,null,null,null,"",{"$f":"IF(C179=\"x\",\"x\",IF(C179=\"\",\"\",IF(OR(T179=\"NP\",T179=\"DNF\"),IF(T179=\"NP\",MAX(T$12:T$309)+COUNTIF((T$12:T$309),MAX(T$12:T$309)),MAX(T$12:T$309)+COUNTIF((T$12:T$309),MAX(T$12:T$309))+COUNTIF((T$12:T$309),\"NP\")),T179)))","v":""},{"$f":"IF(A179=\"x\",\"x\",IF(C179=\"\",\"\",IF(OR(U179=\"NP\",U179=\"DNF\"),U179,RANK(U179,U$12:U$309,1))))","v":""},{"$f":"IF(A179=\"x\",\"x\",IF(C179=\"\",\"\",IF(OR(AND(R179=\"NP\",R180=\"NP\"),AND(R179=\"DNF\",R180=\"DNF\")),R179,IF(AND(R179=\"NP\",R180=\"DNF\"),R179,IF(AND(R179=\"DNF\",R180=\"NP\"),R180,MIN(R179,R180))))))","v":""}]
[null,null,null,"II.pokus",null,null,null,{"$f":"IF($C179=\"\",\"\",IF(OR($E180=\"DNF\",$F180=\"DNF\",$G180=\"DNF\"),\"DNF\",IF(OR($E180=\"NP\",$F180=\"NP\",$G180=\"NP\"),\"NP\",IF(ISERROR(MEDIAN($E180:$G180)),\"DNF\",IF(COUNT($E180:$G180)<3,MAX($E180:$G180),MEDIAN($E180:$G180))))))","v":""},null,null,null,null,null,null,null,null,null,""]
[{"$f":"IF('Start - jaro'!M13=\"\",\"\",\"x\")","v":""},58,{"$f":"IF('Start - jaro'!K13=\"\",\"\",'Start - jaro'!K13)","v":""},"I.pokus",null,null,null,{"$f":"IF($C181=\"\",\"\",IF(OR($E181=\"DNF\",$F181=\"DNF\",$G181=\"DNF\"),\"DNF\",IF(OR($E181=\"NP\",$F181=\"NP\",$G181=\"NP\"),\"NP\",IF(ISERROR(MEDIAN($E181:$G181)),\"DNF\",IF(COUNT($E181:$G181)<3,MAX($E181:$G181),MEDIAN($E181:$G181))))))","v":""},null,null,null,null,null,null,null,null,null,"",{"$f":"IF(C181=\"x\",\"x\",IF(C181=\"\",\"\",IF(OR(T181=\"NP\",T181=\"DNF\"),IF(T181=\"NP\",MAX(T$12:T$309)+COUNTIF((T$12:T$309),MAX(T$12:T$309)),MAX(T$12:T$309)+COUNTIF((T$12:T$309),MAX(T$12:T$309))+COUNTIF((T$12:T$309),\"NP\")),T181)))","v":""},{"$f":"IF(A181=\"x\",\"x\",IF(C181=\"\",\"\",IF(OR(U181=\"NP\",U181=\"DNF\"),U181,RANK(U181,U$12:U$309,1))))","v":""},{"$f":"IF(A181=\"x\",\"x\",IF(C181=\"\",\"\",IF(OR(AND(R181=\"NP\",R182=\"NP\"),AND(R181=\"DNF\",R182=\"DNF\")),R181,IF(AND(R181=\"NP\",R182=\"DNF\"),R181,IF(AND(R181=\"DNF\",R182=\"NP\"),R182,MIN(R181,R182))))))","v":""}]
[null,null,null,"II.pokus",null,null,null,{"$f":"IF($C181=\"\",\"\",IF(OR($E182=\"DNF\",$F182=\"DNF\",$G182=\"DNF\"),\"DNF\",IF(OR($E182=\"NP\",$F182=\"NP\",$G182=\"NP\"),\"NP\",IF(ISERROR(MEDIAN($E182:$G182)),\"DNF\",IF(COUNT($E182:$G182)<3,MAX($E182:$G182),MEDIAN($E182:$G182))))))","v":""},null,null,null,null,null,null,null,null,null,""]
[{"$f":"IF('Start - jaro'!M14=\"\",\"\",\"x\")","v":""},59,{"$f":"IF('Start - jaro'!K14=\"\",\"\",'Start - jaro'!K14)","v":""},"I.pokus",null,null,null,{"$f":"IF($C183=\"\",\"\",IF(OR($E183=\"DNF\",$F183=\"DNF\",$G183=\"DNF\"),\"DNF\",IF(OR($E183=\"NP\",$F183=\"NP\",$G183=\"NP\"),\"NP\",IF(ISERROR(MEDIAN($E183:$G183)),\"DNF\",IF(COUNT($E183:$G183)<3,MAX($E183:$G183),MEDIAN($E183:$G183))))))","v":""},null,null,null,null,null,null,null,null,null,"",{"$f":"IF(C183=\"x\",\"x\",IF(C183=\"\",\"\",IF(OR(T183=\"NP\",T183=\"DNF\"),IF(T183=\"NP\",MAX(T$12:T$309)+COUNTIF((T$12:T$309),MAX(T$12:T$309)),MAX(T$12:T$309)+COUNTIF((T$12:T$309),MAX(T$12:T$309))+COUNTIF((T$12:T$309),\"NP\")),T183)))","v":""},{"$f":"IF(A183=\"x\",\"x\",IF(C183=\"\",\"\",IF(OR(U183=\"NP\",U183=\"DNF\"),U183,RANK(U183,U$12:U$309,1))))","v":""},{"$f":"IF(A183=\"x\",\"x\",IF(C183=\"\",\"\",IF(OR(AND(R183=\"NP\",R184=\"NP\"),AND(R183=\"DNF\",R184=\"DNF\")),R183,IF(AND(R183=\"NP\",R184=\"DNF\"),R183,IF(AND(R183=\"DNF\",R184=\"NP\"),R184,MIN(R183,R184))))))","v":""}]
[null,null,null,"II.pokus",null,null,null,{"$f":"IF($C183=\"\",\"\",IF(OR($E184=\"DNF\",$F184=\"DNF\",$G184=\"DNF\"),\"DNF\",IF(OR($E184=\"NP\",$F184=\"NP\",$G184=\"NP\"),\"NP\",IF(ISERROR(MEDIAN($E184:$G184)),\"DNF\",IF(COUNT($E184:$G184)<3,MAX($E184:$G184),MEDIAN($E184:$G184))))))","v":""},null,null,null,null,null,null,null,null,null,""]
[{"$f":"IF('Start - jaro'!M15=\"\",\"\",\"x\")","v":""},60,{"$f":"IF('Start - jaro'!K15=\"\",\"\",'Start - jaro'!K15)","v":""},"I.pokus",null,null,null,{"$f":"IF($C185=\"\",\"\",IF(OR($E185=\"DNF\",$F185=\"DNF\",$G185=\"DNF\"),\"DNF\",IF(OR($E185=\"NP\",$F185=\"NP\",$G185=\"NP\"),\"NP\",IF(ISERROR(MEDIAN($E185:$G185)),\"DNF\",IF(COUNT($E185:$G185)<3,MAX($E185:$G185),MEDIAN($E185:$G185))))))","v":""},null,null,null,null,null,null,null,null,null,"",{"$f":"IF(C185=\"x\",\"x\",IF(C185=\"\",\"\",IF(OR(T185=\"NP\",T185=\"DNF\"),IF(T185=\"NP\",MAX(T$12:T$309)+COUNTIF((T$12:T$309),MAX(T$12:T$309)),MAX(T$12:T$309)+COUNTIF((T$12:T$309),MAX(T$12:T$309))+COUNTIF((T$12:T$309),\"NP\")),T185)))","v":""},{"$f":"IF(A185=\"x\",\"x\",IF(C185=\"\",\"\",IF(OR(U185=\"NP\",U185=\"DNF\"),U185,RANK(U185,U$12:U$309,1))))","v":""},{"$f":"IF(A185=\"x\",\"x\",IF(C185=\"\",\"\",IF(OR(AND(R185=\"NP\",R186=\"NP\"),AND(R185=\"DNF\",R186=\"DNF\")),R185,IF(AND(R185=\"NP\",R186=\"DNF\"),R185,IF(AND(R185=\"DNF\",R186=\"NP\"),R186,MIN(R185,R186))))))","v":""}]
[null,null,null,"II.pokus",null,null,null,{"$f":"IF($C185=\"\",\"\",IF(OR($E186=\"DNF\",$F186=\"DNF\",$G186=\"DNF\"),\"DNF\",IF(OR($E186=\"NP\",$F186=\"NP\",$G186=\"NP\"),\"NP\",IF(ISERROR(MEDIAN($E186:$G186)),\"DNF\",IF(COUNT($E186:$G186)<3,MAX($E186:$G186),MEDIAN($E186:$G186))))))","v":""},null,null,null,null,null,null,null,null,null,""]
[null,"CELOSTÁTNÍ HRA PLAMEN"]
[]
[]
[null,"Výsledková listina č: 7"]
[null,"Požární útok CTIF",null,null,"Základem je čas naměřený od vydání signálu startéra do proběhnutí posledního člena cílem",null,null,null,"K úřednímu času se připočítávají trestné sekundy",null,null,null,null,null,null,null,null,"Výsledek soutěže"]
[null,null,null,null,null,null,null,null,"nesprávné překonání překážek\n10 tb. = sekund","za celé přetočení hadice\n(každá hadice se posuzuje samostatně)\n5 tb. = sekund","za rozpojení spojky nebo zapojení na 1 ozub\nza každý případ\n20 tb. = sekund","nesprávné rozložení hadice nebo\nnesprávné položení hadic u překářek\n10 tb. = sekund","za zapomenuté, ztracené ne špatně \nodložené nářadí\n5 tb. = sekund","za nesprávné zařazení techn. prostředku\nu stojanu\n10 tb. = sekund","za nesprávné uvázaný uzel\nza každý případ\n10 tb. = sekund","za mluvení během plnění disciplíny \nza každý případ\n10 tb. = sekund)","nesprávná práce\n10 tb. = sekund"]
[null,null,null,null,null,null,null,null,null,null,null,null,null,null,null,null,null,"součet trest. Sekund a úředního času","počet bodů za umístění"]
[null,{"$f":"\"KATEGORIE: \"&'Start - podzim'!$N$2","v":"KATEGORIE: STARŠÍ"},null,null,"I. časoměřič","II. časoměřič","III. časoměřič","úřední čas"]
[]
[null,"start. číslo","SOUTĚŽNÍ DRUŽSTVO","pokus"]
[]
[{"$f":"IF('Start - jaro'!M16=\"\",\"\",\"x\")","v":""},61,{"$f":"IF('Start - jaro'!K16=\"\",\"\",'Start - jaro'!K16)","v":""},"I.pokus",null,null,null,{"$f":"IF($C198=\"\",\"\",IF(OR($E198=\"DNF\",$F198=\"DNF\",$G198=\"DNF\"),\"DNF\",IF(OR($E198=\"NP\",$F198=\"NP\",$G198=\"NP\"),\"NP\",IF(ISERROR(MEDIAN($E198:$G198)),\"DNF\",IF(COUNT($E198:$G198)<3,MAX($E198:$G198),MEDIAN($E198:$G198))))))","v":""},null,null,null,null,null,null,null,null,null,{"$f":"IF(H198=\"\",\"\",IF(H198=\"NP\",\"NP\",IF(H198=\"DNF\",\"DNF\",SUM(I198:Q198)+H198)))","v":""},{"$f":"IF(C198=\"x\",\"x\",IF(C198=\"\",\"\",IF(OR(T198=\"NP\",T198=\"DNF\"),IF(T198=\"NP\",MAX(T$12:T$309)+COUNTIF((T$12:T$309),MAX(T$12:T$309)),MAX(T$12:T$309)+COUNTIF((T$12:T$309),MAX(T$12:T$309))+COUNTIF((T$12:T$309),\"NP\")),T198)))","v":""},{"$f":"IF(A198=\"x\",\"x\",IF(C198=\"\",\"\",IF(OR(U198=\"NP\",U198=\"DNF\"),U198,RANK(U198,U$12:U$309,1))))","v":""},{"$f":"IF(A198=\"x\",\"x\",IF(C198=\"\",\"\",IF(OR(AND(R198=\"NP\",R199=\"NP\"),AND(R198=\"DNF\",R199=\"DNF\")),R198,IF(AND(R198=\"NP\",R199=\"DNF\"),R198,IF(AND(R198=\"DNF\",R199=\"NP\"),R199,MIN(R198,R199))))))","v":""}]
[null,null,null,"II.pokus",null,null,null,{"$f":"IF($C198=\"\",\"\",IF(OR($E199=\"DNF\",$F199=\"DNF\",$G199=\"DNF\"),\"DNF\",IF(OR($E199=\"NP\",$F199=\"NP\",$G199=\"NP\"),\"NP\",IF(ISERROR(MEDIAN($E199:$G199)),\"DNF\",IF(COUNT($E199:$G199)<3,MAX($E199:$G199),MEDIAN($E199:$G199))))))","v":""},null,null,null,null,null,null,null,null,null,""]
[{"$f":"IF('Start - jaro'!M17=\"\",\"\",\"x\")","v":""},62,{"$f":"IF('Start - jaro'!K17=\"\",\"\",'Start - jaro'!K17)","v":""},"I.pokus",null,null,null,{"$f":"IF($C200=\"\",\"\",IF(OR($E200=\"DNF\",$F200=\"DNF\",$G200=\"DNF\"),\"DNF\",IF(OR($E200=\"NP\",$F200=\"NP\",$G200=\"NP\"),\"NP\",IF(ISERROR(MEDIAN($E200:$G200)),\"DNF\",IF(COUNT($E200:$G200)<3,MAX($E200:$G200),MEDIAN($E200:$G200))))))","v":""},null,null,null,null,null,null,null,null,null,"",{"$f":"IF(C200=\"x\",\"x\",IF(C200=\"\",\"\",IF(OR(T200=\"NP\",T200=\"DNF\"),IF(T200=\"NP\",MAX(T$12:T$309)+COUNTIF((T$12:T$309),MAX(T$12:T$309)),MAX(T$12:T$309)+COUNTIF((T$12:T$309),MAX(T$12:T$309))+COUNTIF((T$12:T$309),\"NP\")),T200)))","v":""},{"$f":"IF(A200=\"x\",\"x\",IF(C200=\"\",\"\",IF(OR(U200=\"NP\",U200=\"DNF\"),U200,RANK(U200,U$12:U$309,1))))","v":""},{"$f":"IF(A200=\"x\",\"x\",IF(C200=\"\",\"\",IF(OR(AND(R200=\"NP\",R201=\"NP\"),AND(R200=\"DNF\",R201=\"DNF\")),R200,IF(AND(R200=\"NP\",R201=\"DNF\"),R200,IF(AND(R200=\"DNF\",R201=\"NP\"),R201,MIN(R200,R201))))))","v":""}]
[null,null,null,"II.pokus",null,null,null,{"$f":"IF($C200=\"\",\"\",IF(OR($E201=\"DNF\",$F201=\"DNF\",$G201=\"DNF\"),\"DNF\",IF(OR($E201=\"NP\",$F201=\"NP\",$G201=\"NP\"),\"NP\",IF(ISERROR(MEDIAN($E201:$G201)),\"DNF\",IF(COUNT($E201:$G201)<3,MAX($E201:$G201),MEDIAN($E201:$G201))))))","v":""},null,null,null,null,null,null,null,null,null,""]
[{"$f":"IF('Start - jaro'!M18=\"\",\"\",\"x\")","v":""},63,{"$f":"IF('Start - jaro'!K18=\"\",\"\",'Start - jaro'!K18)","v":""},"I.pokus",null,null,null,{"$f":"IF($C202=\"\",\"\",IF(OR($E202=\"DNF\",$F202=\"DNF\",$G202=\"DNF\"),\"DNF\",IF(OR($E202=\"NP\",$F202=\"NP\",$G202=\"NP\"),\"NP\",IF(ISERROR(MEDIAN($E202:$G202)),\"DNF\",IF(COUNT($E202:$G202)<3,MAX($E202:$G202),MEDIAN($E202:$G202))))))","v":""},null,null,null,null,null,null,null,null,null,"",{"$f":"IF(C202=\"x\",\"x\",IF(C202=\"\",\"\",IF(OR(T202=\"NP\",T202=\"DNF\"),IF(T202=\"NP\",MAX(T$12:T$309)+COUNTIF((T$12:T$309),MAX(T$12:T$309)),MAX(T$12:T$309)+COUNTIF((T$12:T$309),MAX(T$12:T$309))+COUNTIF((T$12:T$309),\"NP\")),T202)))","v":""},{"$f":"IF(A202=\"x\",\"x\",IF(C202=\"\",\"\",IF(OR(U202=\"NP\",U202=\"DNF\"),U202,RANK(U202,U$12:U$309,1))))","v":""},{"$f":"IF(A202=\"x\",\"x\",IF(C202=\"\",\"\",IF(OR(AND(R202=\"NP\",R203=\"NP\"),AND(R202=\"DNF\",R203=\"DNF\")),R202,IF(AND(R202=\"NP\",R203=\"DNF\"),R202,IF(AND(R202=\"DNF\",R203=\"NP\"),R203,MIN(R202,R203))))))","v":""}]
[null,null,null,"II.pokus",null,null,null,{"$f":"IF($C202=\"\",\"\",IF(OR($E203=\"DNF\",$F203=\"DNF\",$G203=\"DNF\"),\"DNF\",IF(OR($E203=\"NP\",$F203=\"NP\",$G203=\"NP\"),\"NP\",IF(ISERROR(MEDIAN($E203:$G203)),\"DNF\",IF(COUNT($E203:$G203)<3,MAX($E203:$G203),MEDIAN($E203:$G203))))))","v":""},null,null,null,null,null,null,null,null,null,""]
[{"$f":"IF('Start - jaro'!M19=\"\",\"\",\"x\")","v":""},64,{"$f":"IF('Start - jaro'!K19=\"\",\"\",'Start - jaro'!K19)","v":""},"I.pokus",null,null,null,{"$f":"IF($C204=\"\",\"\",IF(OR($E204=\"DNF\",$F204=\"DNF\",$G204=\"DNF\"),\"DNF\",IF(OR($E204=\"NP\",$F204=\"NP\",$G204=\"NP\"),\"NP\",IF(ISERROR(MEDIAN($E204:$G204)),\"DNF\",IF(COUNT($E204:$G204)<3,MAX($E204:$G204),MEDIAN($E204:$G204))))))","v":""},null,null,null,null,null,null,null,null,null,"",{"$f":"IF(C204=\"x\",\"x\",IF(C204=\"\",\"\",IF(OR(T204=\"NP\",T204=\"DNF\"),IF(T204=\"NP\",MAX(T$12:T$309)+COUNTIF((T$12:T$309),MAX(T$12:T$309)),MAX(T$12:T$309)+COUNTIF((T$12:T$309),MAX(T$12:T$309))+COUNTIF((T$12:T$309),\"NP\")),T204)))","v":""},{"$f":"IF(A204=\"x\",\"x\",IF(C204=\"\",\"\",IF(OR(U204=\"NP\",U204=\"DNF\"),U204,RANK(U204,U$12:U$309,1))))","v":""},{"$f":"IF(A204=\"x\",\"x\",IF(C204=\"\",\"\",IF(OR(AND(R204=\"NP\",R205=\"NP\"),AND(R204=\"DNF\",R205=\"DNF\")),R204,IF(AND(R204=\"NP\",R205=\"DNF\"),R204,IF(AND(R204=\"DNF\",R205=\"NP\"),R205,MIN(R204,R205))))))","v":""}]
[null,null,null,"II.pokus",null,null,null,{"$f":"IF($C204=\"\",\"\",IF(OR($E205=\"DNF\",$F205=\"DNF\",$G205=\"DNF\"),\"DNF\",IF(OR($E205=\"NP\",$F205=\"NP\",$G205=\"NP\"),\"NP\",IF(ISERROR(MEDIAN($E205:$G205)),\"DNF\",IF(COUNT($E205:$G205)<3,MAX($E205:$G205),MEDIAN($E205:$G205))))))","v":""},null,null,null,null,null,null,null,null,null,""]
[{"$f":"IF('Start - jaro'!M20=\"\",\"\",\"x\")","v":""},65,{"$f":"IF('Start - jaro'!K20=\"\",\"\",'Start - jaro'!K20)","v":""},"I.pokus",null,null,null,{"$f":"IF($C206=\"\",\"\",IF(OR($E206=\"DNF\",$F206=\"DNF\",$G206=\"DNF\"),\"DNF\",IF(OR($E206=\"NP\",$F206=\"NP\",$G206=\"NP\"),\"NP\",IF(ISERROR(MEDIAN($E206:$G206)),\"DNF\",IF(COUNT($E206:$G206)<3,MAX($E206:$G206),MEDIAN($E206:$G206))))))","v":""},null,null,null,null,null,null,null,null,null,"",{"$f":"IF(C206=\"x\",\"x\",IF(C206=\"\",\"\",IF(OR(T206=\"NP\",T206=\"DNF\"),IF(T206=\"NP\",MAX(T$12:T$309)+COUNTIF((T$12:T$309),MAX(T$12:T$309)),MAX(T$12:T$309)+COUNTIF((T$12:T$309),MAX(T$12:T$309))+COUNTIF((T$12:T$309),\"NP\")),T206)))","v":""},{"$f":"IF(A206=\"x\",\"x\",IF(C206=\"\",\"\",IF(OR(U206=\"NP\",U206=\"DNF\"),U206,RANK(U206,U$12:U$309,1))))","v":""},{"$f":"IF(A206=\"x\",\"x\",IF(C206=\"\",\"\",IF(OR(AND(R206=\"NP\",R207=\"NP\"),AND(R206=\"DNF\",R207=\"DNF\")),R206,IF(AND(R206=\"NP\",R207=\"DNF\"),R206,IF(AND(R206=\"DNF\",R207=\"NP\"),R207,MIN(R206,R207))))))","v":""}]
[null,null,null,"II.pokus",null,null,null,{"$f":"IF($C206=\"\",\"\",IF(OR($E207=\"DNF\",$F207=\"DNF\",$G207=\"DNF\"),\"DNF\",IF(OR($E207=\"NP\",$F207=\"NP\",$G207=\"NP\"),\"NP\",IF(ISERROR(MEDIAN($E207:$G207)),\"DNF\",IF(COUNT($E207:$G207)<3,MAX($E207:$G207),MEDIAN($E207:$G207))))))","v":""},null,null,null,null,null,null,null,null,null,""]
[{"$f":"IF('Start - jaro'!M21=\"\",\"\",\"x\")","v":""},66,{"$f":"IF('Start - jaro'!K21=\"\",\"\",'Start - jaro'!K21)","v":""},"I.pokus",null,null,null,{"$f":"IF($C208=\"\",\"\",IF(OR($E208=\"DNF\",$F208=\"DNF\",$G208=\"DNF\"),\"DNF\",IF(OR($E208=\"NP\",$F208=\"NP\",$G208=\"NP\"),\"NP\",IF(ISERROR(MEDIAN($E208:$G208)),\"DNF\",IF(COUNT($E208:$G208)<3,MAX($E208:$G208),MEDIAN($E208:$G208))))))","v":""},null,null,null,null,null,null,null,null,null,"",{"$f":"IF(C208=\"x\",\"x\",IF(C208=\"\",\"\",IF(OR(T208=\"NP\",T208=\"DNF\"),IF(T208=\"NP\",MAX(T$12:T$309)+COUNTIF((T$12:T$309),MAX(T$12:T$309)),MAX(T$12:T$309)+COUNTIF((T$12:T$309),MAX(T$12:T$309))+COUNTIF((T$12:T$309),\"NP\")),T208)))","v":""},{"$f":"IF(A208=\"x\",\"x\",IF(C208=\"\",\"\",IF(OR(U208=\"NP\",U208=\"DNF\"),U208,RANK(U208,U$12:U$309,1))))","v":""},{"$f":"IF(A208=\"x\",\"x\",IF(C208=\"\",\"\",IF(OR(AND(R208=\"NP\",R209=\"NP\"),AND(R208=\"DNF\",R209=\"DNF\")),R208,IF(AND(R208=\"NP\",R209=\"DNF\"),R208,IF(AND(R208=\"DNF\",R209=\"NP\"),R209,MIN(R208,R209))))))","v":""}]
[null,null,null,"II.pokus",null,null,null,{"$f":"IF($C208=\"\",\"\",IF(OR($E209=\"DNF\",$F209=\"DNF\",$G209=\"DNF\"),\"DNF\",IF(OR($E209=\"NP\",$F209=\"NP\",$G209=\"NP\"),\"NP\",IF(ISERROR(MEDIAN($E209:$G209)),\"DNF\",IF(COUNT($E209:$G209)<3,MAX($E209:$G209),MEDIAN($E209:$G209))))))","v":""},null,null,null,null,null,null,null,null,null,""]
[{"$f":"IF('Start - jaro'!M22=\"\",\"\",\"x\")","v":""},67,{"$f":"IF('Start - jaro'!K22=\"\",\"\",'Start - jaro'!K22)","v":""},"I.pokus",null,null,null,{"$f":"IF($C210=\"\",\"\",IF(OR($E210=\"DNF\",$F210=\"DNF\",$G210=\"DNF\"),\"DNF\",IF(OR($E210=\"NP\",$F210=\"NP\",$G210=\"NP\"),\"NP\",IF(ISERROR(MEDIAN($E210:$G210)),\"DNF\",IF(COUNT($E210:$G210)<3,MAX($E210:$G210),MEDIAN($E210:$G210))))))","v":""},null,null,null,null,null,null,null,null,null,"",{"$f":"IF(C210=\"x\",\"x\",IF(C210=\"\",\"\",IF(OR(T210=\"NP\",T210=\"DNF\"),IF(T210=\"NP\",MAX(T$12:T$309)+COUNTIF((T$12:T$309),MAX(T$12:T$309)),MAX(T$12:T$309)+COUNTIF((T$12:T$309),MAX(T$12:T$309))+COUNTIF((T$12:T$309),\"NP\")),T210)))","v":""},{"$f":"IF(A210=\"x\",\"x\",IF(C210=\"\",\"\",IF(OR(U210=\"NP\",U210=\"DNF\"),U210,RANK(U210,U$12:U$309,1))))","v":""},{"$f":"IF(A210=\"x\",\"x\",IF(C210=\"\",\"\",IF(OR(AND(R210=\"NP\",R211=\"NP\"),AND(R210=\"DNF\",R211=\"DNF\")),R210,IF(AND(R210=\"NP\",R211=\"DNF\"),R210,IF(AND(R210=\"DNF\",R211=\"NP\"),R211,MIN(R210,R211))))))","v":""}]
[null,null,null,"II.pokus",null,null,null,{"$f":"IF($C210=\"\",\"\",IF(OR($E211=\"DNF\",$F211=\"DNF\",$G211=\"DNF\"),\"DNF\",IF(OR($E211=\"NP\",$F211=\"NP\",$G211=\"NP\"),\"NP\",IF(ISERROR(MEDIAN($E211:$G211)),\"DNF\",IF(COUNT($E211:$G211)<3,MAX($E211:$G211),MEDIAN($E211:$G211))))))","v":""},null,null,null,null,null,null,null,null,null,""]
[{"$f":"IF('Start - jaro'!M23=\"\",\"\",\"x\")","v":""},68,{"$f":"IF('Start - jaro'!K23=\"\",\"\",'Start - jaro'!K23)","v":""},"I.pokus",null,null,null,{"$f":"IF($C212=\"\",\"\",IF(OR($E212=\"DNF\",$F212=\"DNF\",$G212=\"DNF\"),\"DNF\",IF(OR($E212=\"NP\",$F212=\"NP\",$G212=\"NP\"),\"NP\",IF(ISERROR(MEDIAN($E212:$G212)),\"DNF\",IF(COUNT($E212:$G212)<3,MAX($E212:$G212),MEDIAN($E212:$G212))))))","v":""},null,null,null,null,null,null,null,null,null,"",{"$f":"IF(C212=\"x\",\"x\",IF(C212=\"\",\"\",IF(OR(T212=\"NP\",T212=\"DNF\"),IF(T212=\"NP\",MAX(T$12:T$309)+COUNTIF((T$12:T$309),MAX(T$12:T$309)),MAX(T$12:T$309)+COUNTIF((T$12:T$309),MAX(T$12:T$309))+COUNTIF((T$12:T$309),\"NP\")),T212)))","v":""},{"$f":"IF(A212=\"x\",\"x\",IF(C212=\"\",\"\",IF(OR(U212=\"NP\",U212=\"DNF\"),U212,RANK(U212,U$12:U$309,1))))","v":""},{"$f":"IF(A212=\"x\",\"x\",IF(C212=\"\",\"\",IF(OR(AND(R212=\"NP\",R213=\"NP\"),AND(R212=\"DNF\",R213=\"DNF\")),R212,IF(AND(R212=\"NP\",R213=\"DNF\"),R212,IF(AND(R212=\"DNF\",R213=\"NP\"),R213,MIN(R212,R213))))))","v":""}]
[null,null,null,"II.pokus",null,null,null,{"$f":"IF($C212=\"\",\"\",IF(OR($E213=\"DNF\",$F213=\"DNF\",$G213=\"DNF\"),\"DNF\",IF(OR($E213=\"NP\",$F213=\"NP\",$G213=\"NP\"),\"NP\",IF(ISERROR(MEDIAN($E213:$G213)),\"DNF\",IF(COUNT($E213:$G213)<3,MAX($E213:$G213),MEDIAN($E213:$G213))))))","v":""},null,null,null,null,null,null,null,null,null,""]
[{"$f":"IF('Start - jaro'!M24=\"\",\"\",\"x\")","v":""},69,{"$f":"IF('Start - jaro'!K24=\"\",\"\",'Start - jaro'!K24)","v":""},"I.pokus",null,null,null,{"$f":"IF($C214=\"\",\"\",IF(OR($E214=\"DNF\",$F214=\"DNF\",$G214=\"DNF\"),\"DNF\",IF(OR($E214=\"NP\",$F214=\"NP\",$G214=\"NP\"),\"NP\",IF(ISERROR(MEDIAN($E214:$G214)),\"DNF\",IF(COUNT($E214:$G214)<3,MAX($E214:$G214),MEDIAN($E214:$G214))))))","v":""},null,null,null,null,null,null,null,null,null,"",{"$f":"IF(C214=\"x\",\"x\",IF(C214=\"\",\"\",IF(OR(T214=\"NP\",T214=\"DNF\"),IF(T214=\"NP\",MAX(T$12:T$309)+COUNTIF((T$12:T$309),MAX(T$12:T$309)),MAX(T$12:T$309)+COUNTIF((T$12:T$309),MAX(T$12:T$309))+COUNTIF((T$12:T$309),\"NP\")),T214)))","v":""},{"$f":"IF(A214=\"x\",\"x\",IF(C214=\"\",\"\",IF(OR(U214=\"NP\",U214=\"DNF\"),U214,RANK(U214,U$12:U$309,1))))","v":""},{"$f":"IF(A214=\"x\",\"x\",IF(C214=\"\",\"\",IF(OR(AND(R214=\"NP\",R215=\"NP\"),AND(R214=\"DNF\",R215=\"DNF\")),R214,IF(AND(R214=\"NP\",R215=\"DNF\"),R214,IF(AND(R214=\"DNF\",R215=\"NP\"),R215,MIN(R214,R215))))))","v":""}]
[null,null,null,"II.pokus",null,null,null,{"$f":"IF($C214=\"\",\"\",IF(OR($E215=\"DNF\",$F215=\"DNF\",$G215=\"DNF\"),\"DNF\",IF(OR($E215=\"NP\",$F215=\"NP\",$G215=\"NP\"),\"NP\",IF(ISERROR(MEDIAN($E215:$G215)),\"DNF\",IF(COUNT($E215:$G215)<3,MAX($E215:$G215),MEDIAN($E215:$G215))))))","v":""},null,null,null,null,null,null,null,null,null,""]
[{"$f":"IF('Start - jaro'!M25=\"\",\"\",\"x\")","v":""},70,{"$f":"IF('Start - jaro'!K25=\"\",\"\",'Start - jaro'!K25)","v":""},"I.pokus",null,null,null,{"$f":"IF($C216=\"\",\"\",IF(OR($E216=\"DNF\",$F216=\"DNF\",$G216=\"DNF\"),\"DNF\",IF(OR($E216=\"NP\",$F216=\"NP\",$G216=\"NP\"),\"NP\",IF(ISERROR(MEDIAN($E216:$G216)),\"DNF\",IF(COUNT($E216:$G216)<3,MAX($E216:$G216),MEDIAN($E216:$G216))))))","v":""},null,null,null,null,null,null,null,null,null,"",{"$f":"IF(C216=\"x\",\"x\",IF(C216=\"\",\"\",IF(OR(T216=\"NP\",T216=\"DNF\"),IF(T216=\"NP\",MAX(T$12:T$309)+COUNTIF((T$12:T$309),MAX(T$12:T$309)),MAX(T$12:T$309)+COUNTIF((T$12:T$309),MAX(T$12:T$309))+COUNTIF((T$12:T$309),\"NP\")),T216)))","v":""},{"$f":"IF(A216=\"x\",\"x\",IF(C216=\"\",\"\",IF(OR(U216=\"NP\",U216=\"DNF\"),U216,RANK(U216,U$12:U$309,1))))","v":""},{"$f":"IF(A216=\"x\",\"x\",IF(C216=\"\",\"\",IF(OR(AND(R216=\"NP\",R217=\"NP\"),AND(R216=\"DNF\",R217=\"DNF\")),R216,IF(AND(R216=\"NP\",R217=\"DNF\"),R216,IF(AND(R216=\"DNF\",R217=\"NP\"),R217,MIN(R216,R217))))))","v":""}]
[null,null,null,"II.pokus",null,null,null,{"$f":"IF($C216=\"\",\"\",IF(OR($E217=\"DNF\",$F217=\"DNF\",$G217=\"DNF\"),\"DNF\",IF(OR($E217=\"NP\",$F217=\"NP\",$G217=\"NP\"),\"NP\",IF(ISERROR(MEDIAN($E217:$G217)),\"DNF\",IF(COUNT($E217:$G217)<3,MAX($E217:$G217),MEDIAN($E217:$G217))))))","v":""},null,null,null,null,null,null,null,null,null,""]
[null,"CELOSTÁTNÍ HRA PLAMEN"]
[]
[]
[null,"Výsledková listina č: 8"]
[null,"Požární útok CTIF",null,null,"Základem je čas naměřený od vydání signálu startéra do proběhnutí posledního člena cílem",null,null,null,"K úřednímu času se připočítávají trestné sekundy",null,null,null,null,null,null,null,null,"Výsledek soutěže"]
[null,null,null,null,null,null,null,null,"nesprávné překonání překážek\n10 tb. = sekund","za celé přetočení hadice\n(každá hadice se posuzuje samostatně)\n5 tb. = sekund","za rozpojení spojky nebo zapojení na 1 ozub\nza každý případ\n20 tb. = sekund","nesprávné rozložení hadice nebo\nnesprávné položení hadic u překářek\n10 tb. = sekund","za zapomenuté, ztracené ne špatně \nodložené nářadí\n5 tb. = sekund","za nesprávné zařazení techn. prostředku\nu stojanu\n10 tb. = sekund","za nesprávné uvázaný uzel\nza každý případ\n10 tb. = sekund","za mluvení během plnění disciplíny \nza každý případ\n10 tb. = sekund)","nesprávná práce\n10 tb. = sekund"]
[null,null,null,null,null,null,null,null,null,null,null,null,null,null,null,null,null,"součet trest. Sekund a úředního času","počet bodů za umístění"]
[null,{"$f":"\"KATEGORIE: \"&'Start - podzim'!$N$2","v":"KATEGORIE: STARŠÍ"},null,null,"I. časoměřič","II. časoměřič","III. časoměřič","úřední čas"]
[]
[null,"start. číslo","SOUTĚŽNÍ DRUŽSTVO","pokus"]
[]
[{"$f":"IF('Start - jaro'!M26=\"\",\"\",\"x\")","v":""},71,{"$f":"IF('Start - jaro'!K26=\"\",\"\",'Start - jaro'!K26)","v":""},"I.pokus",null,null,null,{"$f":"IF($C229=\"\",\"\",IF(OR($E229=\"DNF\",$F229=\"DNF\",$G229=\"DNF\"),\"DNF\",IF(OR($E229=\"NP\",$F229=\"NP\",$G229=\"NP\"),\"NP\",IF(ISERROR(MEDIAN($E229:$G229)),\"DNF\",IF(COUNT($E229:$G229)<3,MAX($E229:$G229),MEDIAN($E229:$G229))))))","v":""},null,null,null,null,null,null,null,null,null,{"$f":"IF(H229=\"\",\"\",IF(H229=\"NP\",\"NP\",IF(H229=\"DNF\",\"DNF\",SUM(I229:Q229)+H229)))","v":""},{"$f":"IF(C229=\"x\",\"x\",IF(C229=\"\",\"\",IF(OR(T229=\"NP\",T229=\"DNF\"),IF(T229=\"NP\",MAX(T$12:T$309)+COUNTIF((T$12:T$309),MAX(T$12:T$309)),MAX(T$12:T$309)+COUNTIF((T$12:T$309),MAX(T$12:T$309))+COUNTIF((T$12:T$309),\"NP\")),T229)))","v":""},{"$f":"IF(A229=\"x\",\"x\",IF(C229=\"\",\"\",IF(OR(U229=\"NP\",U229=\"DNF\"),U229,RANK(U229,U$12:U$309,1))))","v":""},{"$f":"IF(A229=\"x\",\"x\",IF(C229=\"\",\"\",IF(OR(AND(R229=\"NP\",R230=\"NP\"),AND(R229=\"DNF\",R230=\"DNF\")),R229,IF(AND(R229=\"NP\",R230=\"DNF\"),R229,IF(AND(R229=\"DNF\",R230=\"NP\"),R230,MIN(R229,R230))))))","v":""}]
[null,null,null,"II.pokus",null,null,null,{"$f":"IF($C229=\"\",\"\",IF(OR($E230=\"DNF\",$F230=\"DNF\",$G230=\"DNF\"),\"DNF\",IF(OR($E230=\"NP\",$F230=\"NP\",$G230=\"NP\"),\"NP\",IF(ISERROR(MEDIAN($E230:$G230)),\"DNF\",IF(COUNT($E230:$G230)<3,MAX($E230:$G230),MEDIAN($E230:$G230))))))","v":""},null,null,null,null,null,null,null,null,null,""]
[{"$f":"IF('Start - jaro'!M27=\"\",\"\",\"x\")","v":""},72,{"$f":"IF('Start - jaro'!K27=\"\",\"\",'Start - jaro'!K27)","v":""},"I.pokus",null,null,null,{"$f":"IF($C231=\"\",\"\",IF(OR($E231=\"DNF\",$F231=\"DNF\",$G231=\"DNF\"),\"DNF\",IF(OR($E231=\"NP\",$F231=\"NP\",$G231=\"NP\"),\"NP\",IF(ISERROR(MEDIAN($E231:$G231)),\"DNF\",IF(COUNT($E231:$G231)<3,MAX($E231:$G231),MEDIAN($E231:$G231))))))","v":""},null,null,null,null,null,null,null,null,null,"",{"$f":"IF(C231=\"x\",\"x\",IF(C231=\"\",\"\",IF(OR(T231=\"NP\",T231=\"DNF\"),IF(T231=\"NP\",MAX(T$12:T$309)+COUNTIF((T$12:T$309),MAX(T$12:T$309)),MAX(T$12:T$309)+COUNTIF((T$12:T$309),MAX(T$12:T$309))+COUNTIF((T$12:T$309),\"NP\")),T231)))","v":""},{"$f":"IF(A231=\"x\",\"x\",IF(C231=\"\",\"\",IF(OR(U231=\"NP\",U231=\"DNF\"),U231,RANK(U231,U$12:U$309,1))))","v":""},{"$f":"IF(A231=\"x\",\"x\",IF(C231=\"\",\"\",IF(OR(AND(R231=\"NP\",R232=\"NP\"),AND(R231=\"DNF\",R232=\"DNF\")),R231,IF(AND(R231=\"NP\",R232=\"DNF\"),R231,IF(AND(R231=\"DNF\",R232=\"NP\"),R232,MIN(R231,R232))))))","v":""}]
[null,null,null,"II.pokus",null,null,null,{"$f":"IF($C231=\"\",\"\",IF(OR($E232=\"DNF\",$F232=\"DNF\",$G232=\"DNF\"),\"DNF\",IF(OR($E232=\"NP\",$F232=\"NP\",$G232=\"NP\"),\"NP\",IF(ISERROR(MEDIAN($E232:$G232)),\"DNF\",IF(COUNT($E232:$G232)<3,MAX($E232:$G232),MEDIAN($E232:$G232))))))","v":""},null,null,null,null,null,null,null,null,null,""]
[{"$f":"IF('Start - jaro'!M28=\"\",\"\",\"x\")","v":""},73,{"$f":"IF('Start - jaro'!K28=\"\",\"\",'Start - jaro'!K28)","v":""},"I.pokus",null,null,null,{"$f":"IF($C233=\"\",\"\",IF(OR($E233=\"DNF\",$F233=\"DNF\",$G233=\"DNF\"),\"DNF\",IF(OR($E233=\"NP\",$F233=\"NP\",$G233=\"NP\"),\"NP\",IF(ISERROR(MEDIAN($E233:$G233)),\"DNF\",IF(COUNT($E233:$G233)<3,MAX($E233:$G233),MEDIAN($E233:$G233))))))","v":""},null,null,null,null,null,null,null,null,null,"",{"$f":"IF(C233=\"x\",\"x\",IF(C233=\"\",\"\",IF(OR(T233=\"NP\",T233=\"DNF\"),IF(T233=\"NP\",MAX(T$12:T$309)+COUNTIF((T$12:T$309),MAX(T$12:T$309)),MAX(T$12:T$309)+COUNTIF((T$12:T$309),MAX(T$12:T$309))+COUNTIF((T$12:T$309),\"NP\")),T233)))","v":""},{"$f":"IF(A233=\"x\",\"x\",IF(C233=\"\",\"\",IF(OR(U233=\"NP\",U233=\"DNF\"),U233,RANK(U233,U$12:U$309,1))))","v":""},{"$f":"IF(A233=\"x\",\"x\",IF(C233=\"\",\"\",IF(OR(AND(R233=\"NP\",R234=\"NP\"),AND(R233=\"DNF\",R234=\"DNF\")),R233,IF(AND(R233=\"NP\",R234=\"DNF\"),R233,IF(AND(R233=\"DNF\",R234=\"NP\"),R234,MIN(R233,R234))))))","v":""}]
[null,null,null,"II.pokus",null,null,null,{"$f":"IF($C233=\"\",\"\",IF(OR($E234=\"DNF\",$F234=\"DNF\",$G234=\"DNF\"),\"DNF\",IF(OR($E234=\"NP\",$F234=\"NP\",$G234=\"NP\"),\"NP\",IF(ISERROR(MEDIAN($E234:$G234)),\"DNF\",IF(COUNT($E234:$G234)<3,MAX($E234:$G234),MEDIAN($E234:$G234))))))","v":""},null,null,null,null,null,null,null,null,null,""]
[{"$f":"IF('Start - jaro'!M29=\"\",\"\",\"x\")","v":""},74,{"$f":"IF('Start - jaro'!K29=\"\",\"\",'Start - jaro'!K29)","v":""},"I.pokus",null,null,null,{"$f":"IF($C235=\"\",\"\",IF(OR($E235=\"DNF\",$F235=\"DNF\",$G235=\"DNF\"),\"DNF\",IF(OR($E235=\"NP\",$F235=\"NP\",$G235=\"NP\"),\"NP\",IF(ISERROR(MEDIAN($E235:$G235)),\"DNF\",IF(COUNT($E235:$G235)<3,MAX($E235:$G235),MEDIAN($E235:$G235))))))","v":""},null,null,null,null,null,null,null,null,null,"",{"$f":"IF(C235=\"x\",\"x\",IF(C235=\"\",\"\",IF(OR(T235=\"NP\",T235=\"DNF\"),IF(T235=\"NP\",MAX(T$12:T$309)+COUNTIF((T$12:T$309),MAX(T$12:T$309)),MAX(T$12:T$309)+COUNTIF((T$12:T$309),MAX(T$12:T$309))+COUNTIF((T$12:T$309),\"NP\")),T235)))","v":""},{"$f":"IF(A235=\"x\",\"x\",IF(C235=\"\",\"\",IF(OR(U235=\"NP\",U235=\"DNF\"),U235,RANK(U235,U$12:U$309,1))))","v":""},{"$f":"IF(A235=\"x\",\"x\",IF(C235=\"\",\"\",IF(OR(AND(R235=\"NP\",R236=\"NP\"),AND(R235=\"DNF\",R236=\"DNF\")),R235,IF(AND(R235=\"NP\",R236=\"DNF\"),R235,IF(AND(R235=\"DNF\",R236=\"NP\"),R236,MIN(R235,R236))))))","v":""}]
[null,null,null,"II.pokus",null,null,null,{"$f":"IF($C235=\"\",\"\",IF(OR($E236=\"DNF\",$F236=\"DNF\",$G236=\"DNF\"),\"DNF\",IF(OR($E236=\"NP\",$F236=\"NP\",$G236=\"NP\"),\"NP\",IF(ISERROR(MEDIAN($E236:$G236)),\"DNF\",IF(COUNT($E236:$G236)<3,MAX($E236:$G236),MEDIAN($E236:$G236))))))","v":""},null,null,null,null,null,null,null,null,null,""]
[{"$f":"IF('Start - jaro'!M30=\"\",\"\",\"x\")","v":""},75,{"$f":"IF('Start - jaro'!K30=\"\",\"\",'Start - jaro'!K30)","v":""},"I.pokus",null,null,null,{"$f":"IF($C237=\"\",\"\",IF(OR($E237=\"DNF\",$F237=\"DNF\",$G237=\"DNF\"),\"DNF\",IF(OR($E237=\"NP\",$F237=\"NP\",$G237=\"NP\"),\"NP\",IF(ISERROR(MEDIAN($E237:$G237)),\"DNF\",IF(COUNT($E237:$G237)<3,MAX($E237:$G237),MEDIAN($E237:$G237))))))","v":""},null,null,null,null,null,null,null,null,null,"",{"$f":"IF(C237=\"x\",\"x\",IF(C237=\"\",\"\",IF(OR(T237=\"NP\",T237=\"DNF\"),IF(T237=\"NP\",MAX(T$12:T$309)+COUNTIF((T$12:T$309),MAX(T$12:T$309)),MAX(T$12:T$309)+COUNTIF((T$12:T$309),MAX(T$12:T$309))+COUNTIF((T$12:T$309),\"NP\")),T237)))","v":""},{"$f":"IF(A237=\"x\",\"x\",IF(C237=\"\",\"\",IF(OR(U237=\"NP\",U237=\"DNF\"),U237,RANK(U237,U$12:U$309,1))))","v":""},{"$f":"IF(A237=\"x\",\"x\",IF(C237=\"\",\"\",IF(OR(AND(R237=\"NP\",R238=\"NP\"),AND(R237=\"DNF\",R238=\"DNF\")),R237,IF(AND(R237=\"NP\",R238=\"DNF\"),R237,IF(AND(R237=\"DNF\",R238=\"NP\"),R238,MIN(R237,R238))))))","v":""}]
[null,null,null,"II.pokus",null,null,null,{"$f":"IF($C237=\"\",\"\",IF(OR($E238=\"DNF\",$F238=\"DNF\",$G238=\"DNF\"),\"DNF\",IF(OR($E238=\"NP\",$F238=\"NP\",$G238=\"NP\"),\"NP\",IF(ISERROR(MEDIAN($E238:$G238)),\"DNF\",IF(COUNT($E238:$G238)<3,MAX($E238:$G238),MEDIAN($E238:$G238))))))","v":""},null,null,null,null,null,null,null,null,null,""]
[{"$f":"IF('Start - jaro'!Q6=\"\",\"\",\"x\")","v":""},76,{"$f":"IF('Start - jaro'!O6=\"\",\"\",'Start - jaro'!O6)","v":""},"I.pokus",null,null,null,{"$f":"IF($C239=\"\",\"\",IF(OR($E239=\"DNF\",$F239=\"DNF\",$G239=\"DNF\"),\"DNF\",IF(OR($E239=\"NP\",$F239=\"NP\",$G239=\"NP\"),\"NP\",IF(ISERROR(MEDIAN($E239:$G239)),\"DNF\",IF(COUNT($E239:$G239)<3,MAX($E239:$G239),MEDIAN($E239:$G239))))))","v":""},null,null,null,null,null,null,null,null,null,"",{"$f":"IF(C239=\"x\",\"x\",IF(C239=\"\",\"\",IF(OR(T239=\"NP\",T239=\"DNF\"),IF(T239=\"NP\",MAX(T$12:T$309)+COUNTIF((T$12:T$309),MAX(T$12:T$309)),MAX(T$12:T$309)+COUNTIF((T$12:T$309),MAX(T$12:T$309))+COUNTIF((T$12:T$309),\"NP\")),T239)))","v":""},{"$f":"IF(A239=\"x\",\"x\",IF(C239=\"\",\"\",IF(OR(U239=\"NP\",U239=\"DNF\"),U239,RANK(U239,U$12:U$309,1))))","v":""},{"$f":"IF(A239=\"x\",\"x\",IF(C239=\"\",\"\",IF(OR(AND(R239=\"NP\",R240=\"NP\"),AND(R239=\"DNF\",R240=\"DNF\")),R239,IF(AND(R239=\"NP\",R240=\"DNF\"),R239,IF(AND(R239=\"DNF\",R240=\"NP\"),R240,MIN(R239,R240))))))","v":""}]
[null,null,null,"II.pokus",null,null,null,{"$f":"IF($C239=\"\",\"\",IF(OR($E240=\"DNF\",$F240=\"DNF\",$G240=\"DNF\"),\"DNF\",IF(OR($E240=\"NP\",$F240=\"NP\",$G240=\"NP\"),\"NP\",IF(ISERROR(MEDIAN($E240:$G240)),\"DNF\",IF(COUNT($E240:$G240)<3,MAX($E240:$G240),MEDIAN($E240:$G240))))))","v":""},null,null,null,null,null,null,null,null,null,""]
[{"$f":"IF('Start - jaro'!Q7=\"\",\"\",\"x\")","v":""},77,{"$f":"IF('Start - jaro'!O7=\"\",\"\",'Start - jaro'!O7)","v":""},"I.pokus",null,null,null,{"$f":"IF($C241=\"\",\"\",IF(OR($E241=\"DNF\",$F241=\"DNF\",$G241=\"DNF\"),\"DNF\",IF(OR($E241=\"NP\",$F241=\"NP\",$G241=\"NP\"),\"NP\",IF(ISERROR(MEDIAN($E241:$G241)),\"DNF\",IF(COUNT($E241:$G241)<3,MAX($E241:$G241),MEDIAN($E241:$G241))))))","v":""},null,null,null,null,null,null,null,null,null,"",{"$f":"IF(C241=\"x\",\"x\",IF(C241=\"\",\"\",IF(OR(T241=\"NP\",T241=\"DNF\"),IF(T241=\"NP\",MAX(T$12:T$309)+COUNTIF((T$12:T$309),MAX(T$12:T$309)),MAX(T$12:T$309)+COUNTIF((T$12:T$309),MAX(T$12:T$309))+COUNTIF((T$12:T$309),\"NP\")),T241)))","v":""},{"$f":"IF(A241=\"x\",\"x\",IF(C241=\"\",\"\",IF(OR(U241=\"NP\",U241=\"DNF\"),U241,RANK(U241,U$12:U$309,1))))","v":""},{"$f":"IF(A241=\"x\",\"x\",IF(C241=\"\",\"\",IF(OR(AND(R241=\"NP\",R242=\"NP\"),AND(R241=\"DNF\",R242=\"DNF\")),R241,IF(AND(R241=\"NP\",R242=\"DNF\"),R241,IF(AND(R241=\"DNF\",R242=\"NP\"),R242,MIN(R241,R242))))))","v":""}]
[null,null,null,"II.pokus",null,null,null,{"$f":"IF($C241=\"\",\"\",IF(OR($E242=\"DNF\",$F242=\"DNF\",$G242=\"DNF\"),\"DNF\",IF(OR($E242=\"NP\",$F242=\"NP\",$G242=\"NP\"),\"NP\",IF(ISERROR(MEDIAN($E242:$G242)),\"DNF\",IF(COUNT($E242:$G242)<3,MAX($E242:$G242),MEDIAN($E242:$G242))))))","v":""},null,null,null,null,null,null,null,null,null,""]
[{"$f":"IF('Start - jaro'!Q8=\"\",\"\",\"x\")","v":""},78,{"$f":"IF('Start - jaro'!O8=\"\",\"\",'Start - jaro'!O8)","v":""},"I.pokus",null,null,null,{"$f":"IF($C243=\"\",\"\",IF(OR($E243=\"DNF\",$F243=\"DNF\",$G243=\"DNF\"),\"DNF\",IF(OR($E243=\"NP\",$F243=\"NP\",$G243=\"NP\"),\"NP\",IF(ISERROR(MEDIAN($E243:$G243)),\"DNF\",IF(COUNT($E243:$G243)<3,MAX($E243:$G243),MEDIAN($E243:$G243))))))","v":""},null,null,null,null,null,null,null,null,null,"",{"$f":"IF(C243=\"x\",\"x\",IF(C243=\"\",\"\",IF(OR(T243=\"NP\",T243=\"DNF\"),IF(T243=\"NP\",MAX(T$12:T$309)+COUNTIF((T$12:T$309),MAX(T$12:T$309)),MAX(T$12:T$309)+COUNTIF((T$12:T$309),MAX(T$12:T$309))+COUNTIF((T$12:T$309),\"NP\")),T243)))","v":""},{"$f":"IF(A243=\"x\",\"x\",IF(C243=\"\",\"\",IF(OR(U243=\"NP\",U243=\"DNF\"),U243,RANK(U243,U$12:U$309,1))))","v":""},{"$f":"IF(A243=\"x\",\"x\",IF(C243=\"\",\"\",IF(OR(AND(R243=\"NP\",R244=\"NP\"),AND(R243=\"DNF\",R244=\"DNF\")),R243,IF(AND(R243=\"NP\",R244=\"DNF\"),R243,IF(AND(R243=\"DNF\",R244=\"NP\"),R244,MIN(R243,R244))))))","v":""}]
[null,null,null,"II.pokus",null,null,null,{"$f":"IF($C243=\"\",\"\",IF(OR($E244=\"DNF\",$F244=\"DNF\",$G244=\"DNF\"),\"DNF\",IF(OR($E244=\"NP\",$F244=\"NP\",$G244=\"NP\"),\"NP\",IF(ISERROR(MEDIAN($E244:$G244)),\"DNF\",IF(COUNT($E244:$G244)<3,MAX($E244:$G244),MEDIAN($E244:$G244))))))","v":""},null,null,null,null,null,null,null,null,null,""]
[{"$f":"IF('Start - jaro'!Q9=\"\",\"\",\"x\")","v":""},79,{"$f":"IF('Start - jaro'!O9=\"\",\"\",'Start - jaro'!O9)","v":""},"I.pokus",null,null,null,{"$f":"IF($C245=\"\",\"\",IF(OR($E245=\"DNF\",$F245=\"DNF\",$G245=\"DNF\"),\"DNF\",IF(OR($E245=\"NP\",$F245=\"NP\",$G245=\"NP\"),\"NP\",IF(ISERROR(MEDIAN($E245:$G245)),\"DNF\",IF(COUNT($E245:$G245)<3,MAX($E245:$G245),MEDIAN($E245:$G245))))))","v":""},null,null,null,null,null,null,null,null,null,"",{"$f":"IF(C245=\"x\",\"x\",IF(C245=\"\",\"\",IF(OR(T245=\"NP\",T245=\"DNF\"),IF(T245=\"NP\",MAX(T$12:T$309)+COUNTIF((T$12:T$309),MAX(T$12:T$309)),MAX(T$12:T$309)+COUNTIF((T$12:T$309),MAX(T$12:T$309))+COUNTIF((T$12:T$309),\"NP\")),T245)))","v":""},{"$f":"IF(A245=\"x\",\"x\",IF(C245=\"\",\"\",IF(OR(U245=\"NP\",U245=\"DNF\"),U245,RANK(U245,U$12:U$309,1))))","v":""},{"$f":"IF(A245=\"x\",\"x\",IF(C245=\"\",\"\",IF(OR(AND(R245=\"NP\",R246=\"NP\"),AND(R245=\"DNF\",R246=\"DNF\")),R245,IF(AND(R245=\"NP\",R246=\"DNF\"),R245,IF(AND(R245=\"DNF\",R246=\"NP\"),R246,MIN(R245,R246))))))","v":""}]
[null,null,null,"II.pokus",null,null,null,{"$f":"IF($C245=\"\",\"\",IF(OR($E246=\"DNF\",$F246=\"DNF\",$G246=\"DNF\"),\"DNF\",IF(OR($E246=\"NP\",$F246=\"NP\",$G246=\"NP\"),\"NP\",IF(ISERROR(MEDIAN($E246:$G246)),\"DNF\",IF(COUNT($E246:$G246)<3,MAX($E246:$G246),MEDIAN($E246:$G246))))))","v":""},null,null,null,null,null,null,null,null,null,""]
[{"$f":"IF('Start - jaro'!Q10=\"\",\"\",\"x\")","v":""},80,{"$f":"IF('Start - jaro'!O10=\"\",\"\",'Start - jaro'!O10)","v":""},"I.pokus",null,null,null,{"$f":"IF($C247=\"\",\"\",IF(OR($E247=\"DNF\",$F247=\"DNF\",$G247=\"DNF\"),\"DNF\",IF(OR($E247=\"NP\",$F247=\"NP\",$G247=\"NP\"),\"NP\",IF(ISERROR(MEDIAN($E247:$G247)),\"DNF\",IF(COUNT($E247:$G247)<3,MAX($E247:$G247),MEDIAN($E247:$G247))))))","v":""},null,null,null,null,null,null,null,null,null,"",{"$f":"IF(C247=\"x\",\"x\",IF(C247=\"\",\"\",IF(OR(T247=\"NP\",T247=\"DNF\"),IF(T247=\"NP\",MAX(T$12:T$309)+COUNTIF((T$12:T$309),MAX(T$12:T$309)),MAX(T$12:T$309)+COUNTIF((T$12:T$309),MAX(T$12:T$309))+COUNTIF((T$12:T$309),\"NP\")),T247)))","v":""},{"$f":"IF(A247=\"x\",\"x\",IF(C247=\"\",\"\",IF(OR(U247=\"NP\",U247=\"DNF\"),U247,RANK(U247,U$12:U$309,1))))","v":""},{"$f":"IF(A247=\"x\",\"x\",IF(C247=\"\",\"\",IF(OR(AND(R247=\"NP\",R248=\"NP\"),AND(R247=\"DNF\",R248=\"DNF\")),R247,IF(AND(R247=\"NP\",R248=\"DNF\"),R247,IF(AND(R247=\"DNF\",R248=\"NP\"),R248,MIN(R247,R248))))))","v":""}]
[null,null,null,"II.pokus",null,null,null,{"$f":"IF($C247=\"\",\"\",IF(OR($E248=\"DNF\",$F248=\"DNF\",$G248=\"DNF\"),\"DNF\",IF(OR($E248=\"NP\",$F248=\"NP\",$G248=\"NP\"),\"NP\",IF(ISERROR(MEDIAN($E248:$G248)),\"DNF\",IF(COUNT($E248:$G248)<3,MAX($E248:$G248),MEDIAN($E248:$G248))))))","v":""},null,null,null,null,null,null,null,null,null,""]
[null,"CELOSTÁTNÍ HRA PLAMEN"]
[]
[]
[null,"Výsledková listina č: 9"]
[null,"Požární útok CTIF",null,null,"Základem je čas naměřený od vydání signálu startéra do proběhnutí posledního člena cílem",null,null,null,"K úřednímu času se připočítávají trestné sekundy",null,null,null,null,null,null,null,null,"Výsledek soutěže"]
[null,null,null,null,null,null,null,null,"nesprávné překonání překážek\n10 tb. = sekund","za celé přetočení hadice\n(každá hadice se posuzuje samostatně)\n5 tb. = sekund","za rozpojení spojky nebo zapojení na 1 ozub\nza každý případ\n20 tb. = sekund","nesprávné rozložení hadice nebo\nnesprávné položení hadic u překářek\n10 tb. = sekund","za zapomenuté, ztracené ne špatně \nodložené nářadí\n5 tb. = sekund","za nesprávné zařazení techn. prostředku\nu stojanu\n10 tb. = sekund","za nesprávné uvázaný uzel\nza každý případ\n10 tb. = sekund","za mluvení během plnění disciplíny \nza každý případ\n10 tb. = sekund)","nesprávná práce\n10 tb. = sekund"]
[null,null,null,null,null,null,null,null,null,null,null,null,null,null,null,null,null,"součet trest. Sekund a úředního času","počet bodů za umístění"]
[null,{"$f":"\"KATEGORIE: \"&'Start - podzim'!$N$2","v":"KATEGORIE: STARŠÍ"},null,null,"I. časoměřič","II. časoměřič","III. časoměřič","úřední čas"]
[]
[null,"start. číslo","SOUTĚŽNÍ DRUŽSTVO","pokus"]
[]
[{"$f":"IF('Start - jaro'!Q11=\"\",\"\",\"x\")","v":""},81,{"$f":"IF('Start - jaro'!O11=\"\",\"\",'Start - jaro'!O11)","v":""},"I.pokus",null,null,null,{"$f":"IF($C260=\"\",\"\",IF(OR($E260=\"DNF\",$F260=\"DNF\",$G260=\"DNF\"),\"DNF\",IF(OR($E260=\"NP\",$F260=\"NP\",$G260=\"NP\"),\"NP\",IF(ISERROR(MEDIAN($E260:$G260)),\"DNF\",IF(COUNT($E260:$G260)<3,MAX($E260:$G260),MEDIAN($E260:$G260))))))","v":""},null,null,null,null,null,null,null,null,null,{"$f":"IF(H260=\"\",\"\",IF(H260=\"NP\",\"NP\",IF(H260=\"DNF\",\"DNF\",SUM(I260:Q260)+H260)))","v":""},{"$f":"IF(C260=\"x\",\"x\",IF(C260=\"\",\"\",IF(OR(T260=\"NP\",T260=\"DNF\"),IF(T260=\"NP\",MAX(T$12:T$309)+COUNTIF((T$12:T$309),MAX(T$12:T$309)),MAX(T$12:T$309)+COUNTIF((T$12:T$309),MAX(T$12:T$309))+COUNTIF((T$12:T$309),\"NP\")),T260)))","v":""},{"$f":"IF(A260=\"x\",\"x\",IF(C260=\"\",\"\",IF(OR(U260=\"NP\",U260=\"DNF\"),U260,RANK(U260,U$12:U$309,1))))","v":""},{"$f":"IF(A260=\"x\",\"x\",IF(C260=\"\",\"\",IF(OR(AND(R260=\"NP\",R261=\"NP\"),AND(R260=\"DNF\",R261=\"DNF\")),R260,IF(AND(R260=\"NP\",R261=\"DNF\"),R260,IF(AND(R260=\"DNF\",R261=\"NP\"),R261,MIN(R260,R261))))))","v":""}]
[null,null,null,"II.pokus",null,null,null,{"$f":"IF($C260=\"\",\"\",IF(OR($E261=\"DNF\",$F261=\"DNF\",$G261=\"DNF\"),\"DNF\",IF(OR($E261=\"NP\",$F261=\"NP\",$G261=\"NP\"),\"NP\",IF(ISERROR(MEDIAN($E261:$G261)),\"DNF\",IF(COUNT($E261:$G261)<3,MAX($E261:$G261),MEDIAN($E261:$G261))))))","v":""},null,null,null,null,null,null,null,null,null,""]
[{"$f":"IF('Start - jaro'!Q12=\"\",\"\",\"x\")","v":""},82,{"$f":"IF('Start - jaro'!O12=\"\",\"\",'Start - jaro'!O12)","v":""},"I.pokus",null,null,null,{"$f":"IF($C262=\"\",\"\",IF(OR($E262=\"DNF\",$F262=\"DNF\",$G262=\"DNF\"),\"DNF\",IF(OR($E262=\"NP\",$F262=\"NP\",$G262=\"NP\"),\"NP\",IF(ISERROR(MEDIAN($E262:$G262)),\"DNF\",IF(COUNT($E262:$G262)<3,MAX($E262:$G262),MEDIAN($E262:$G262))))))","v":""},null,null,null,null,null,null,null,null,null,"",{"$f":"IF(C262=\"x\",\"x\",IF(C262=\"\",\"\",IF(OR(T262=\"NP\",T262=\"DNF\"),IF(T262=\"NP\",MAX(T$12:T$309)+COUNTIF((T$12:T$309),MAX(T$12:T$309)),MAX(T$12:T$309)+COUNTIF((T$12:T$309),MAX(T$12:T$309))+COUNTIF((T$12:T$309),\"NP\")),T262)))","v":""},{"$f":"IF(A262=\"x\",\"x\",IF(C262=\"\",\"\",IF(OR(U262=\"NP\",U262=\"DNF\"),U262,RANK(U262,U$12:U$309,1))))","v":""},{"$f":"IF(A262=\"x\",\"x\",IF(C262=\"\",\"\",IF(OR(AND(R262=\"NP\",R263=\"NP\"),AND(R262=\"DNF\",R263=\"DNF\")),R262,IF(AND(R262=\"NP\",R263=\"DNF\"),R262,IF(AND(R262=\"DNF\",R263=\"NP\"),R263,MIN(R262,R263))))))","v":""}]
[null,null,null,"II.pokus",null,null,null,{"$f":"IF($C262=\"\",\"\",IF(OR($E263=\"DNF\",$F263=\"DNF\",$G263=\"DNF\"),\"DNF\",IF(OR($E263=\"NP\",$F263=\"NP\",$G263=\"NP\"),\"NP\",IF(ISERROR(MEDIAN($E263:$G263)),\"DNF\",IF(COUNT($E263:$G263)<3,MAX($E263:$G263),MEDIAN($E263:$G263))))))","v":""},null,null,null,null,null,null,null,null,null,""]
[{"$f":"IF('Start - jaro'!Q13=\"\",\"\",\"x\")","v":""},83,{"$f":"IF('Start - jaro'!O13=\"\",\"\",'Start - jaro'!O13)","v":""},"I.pokus",null,null,null,{"$f":"IF($C264=\"\",\"\",IF(OR($E264=\"DNF\",$F264=\"DNF\",$G264=\"DNF\"),\"DNF\",IF(OR($E264=\"NP\",$F264=\"NP\",$G264=\"NP\"),\"NP\",IF(ISERROR(MEDIAN($E264:$G264)),\"DNF\",IF(COUNT($E264:$G264)<3,MAX($E264:$G264),MEDIAN($E264:$G264))))))","v":""},null,null,null,null,null,null,null,null,null,"",{"$f":"IF(C264=\"x\",\"x\",IF(C264=\"\",\"\",IF(OR(T264=\"NP\",T264=\"DNF\"),IF(T264=\"NP\",MAX(T$12:T$309)+COUNTIF((T$12:T$309),MAX(T$12:T$309)),MAX(T$12:T$309)+COUNTIF((T$12:T$309),MAX(T$12:T$309))+COUNTIF((T$12:T$309),\"NP\")),T264)))","v":""},{"$f":"IF(A264=\"x\",\"x\",IF(C264=\"\",\"\",IF(OR(U264=\"NP\",U264=\"DNF\"),U264,RANK(U264,U$12:U$309,1))))","v":""},{"$f":"IF(A264=\"x\",\"x\",IF(C264=\"\",\"\",IF(OR(AND(R264=\"NP\",R265=\"NP\"),AND(R264=\"DNF\",R265=\"DNF\")),R264,IF(AND(R264=\"NP\",R265=\"DNF\"),R264,IF(AND(R264=\"DNF\",R265=\"NP\"),R265,MIN(R264,R265))))))","v":""}]
[null,null,null,"II.pokus",null,null,null,{"$f":"IF($C264=\"\",\"\",IF(OR($E265=\"DNF\",$F265=\"DNF\",$G265=\"DNF\"),\"DNF\",IF(OR($E265=\"NP\",$F265=\"NP\",$G265=\"NP\"),\"NP\",IF(ISERROR(MEDIAN($E265:$G265)),\"DNF\",IF(COUNT($E265:$G265)<3,MAX($E265:$G265),MEDIAN($E265:$G265))))))","v":""},null,null,null,null,null,null,null,null,null,""]
[{"$f":"IF('Start - jaro'!Q14=\"\",\"\",\"x\")","v":""},84,{"$f":"IF('Start - jaro'!O14=\"\",\"\",'Start - jaro'!O14)","v":""},"I.pokus",null,null,null,{"$f":"IF($C266=\"\",\"\",IF(OR($E266=\"DNF\",$F266=\"DNF\",$G266=\"DNF\"),\"DNF\",IF(OR($E266=\"NP\",$F266=\"NP\",$G266=\"NP\"),\"NP\",IF(ISERROR(MEDIAN($E266:$G266)),\"DNF\",IF(COUNT($E266:$G266)<3,MAX($E266:$G266),MEDIAN($E266:$G266))))))","v":""},null,null,null,null,null,null,null,null,null,"",{"$f":"IF(C266=\"x\",\"x\",IF(C266=\"\",\"\",IF(OR(T266=\"NP\",T266=\"DNF\"),IF(T266=\"NP\",MAX(T$12:T$309)+COUNTIF((T$12:T$309),MAX(T$12:T$309)),MAX(T$12:T$309)+COUNTIF((T$12:T$309),MAX(T$12:T$309))+COUNTIF((T$12:T$309),\"NP\")),T266)))","v":""},{"$f":"IF(A266=\"x\",\"x\",IF(C266=\"\",\"\",IF(OR(U266=\"NP\",U266=\"DNF\"),U266,RANK(U266,U$12:U$309,1))))","v":""},{"$f":"IF(A266=\"x\",\"x\",IF(C266=\"\",\"\",IF(OR(AND(R266=\"NP\",R267=\"NP\"),AND(R266=\"DNF\",R267=\"DNF\")),R266,IF(AND(R266=\"NP\",R267=\"DNF\"),R266,IF(AND(R266=\"DNF\",R267=\"NP\"),R267,MIN(R266,R267))))))","v":""}]
[null,null,null,"II.pokus",null,null,null,{"$f":"IF($C266=\"\",\"\",IF(OR($E267=\"DNF\",$F267=\"DNF\",$G267=\"DNF\"),\"DNF\",IF(OR($E267=\"NP\",$F267=\"NP\",$G267=\"NP\"),\"NP\",IF(ISERROR(MEDIAN($E267:$G267)),\"DNF\",IF(COUNT($E267:$G267)<3,MAX($E267:$G267),MEDIAN($E267:$G267))))))","v":""},null,null,null,null,null,null,null,null,null,""]
[{"$f":"IF('Start - jaro'!Q15=\"\",\"\",\"x\")","v":""},85,{"$f":"IF('Start - jaro'!O15=\"\",\"\",'Start - jaro'!O15)","v":""},"I.pokus",null,null,null,{"$f":"IF($C268=\"\",\"\",IF(OR($E268=\"DNF\",$F268=\"DNF\",$G268=\"DNF\"),\"DNF\",IF(OR($E268=\"NP\",$F268=\"NP\",$G268=\"NP\"),\"NP\",IF(ISERROR(MEDIAN($E268:$G268)),\"DNF\",IF(COUNT($E268:$G268)<3,MAX($E268:$G268),MEDIAN($E268:$G268))))))","v":""},null,null,null,null,null,null,null,null,null,"",{"$f":"IF(C268=\"x\",\"x\",IF(C268=\"\",\"\",IF(OR(T268=\"NP\",T268=\"DNF\"),IF(T268=\"NP\",MAX(T$12:T$309)+COUNTIF((T$12:T$309),MAX(T$12:T$309)),MAX(T$12:T$309)+COUNTIF((T$12:T$309),MAX(T$12:T$309))+COUNTIF((T$12:T$309),\"NP\")),T268)))","v":""},{"$f":"IF(A268=\"x\",\"x\",IF(C268=\"\",\"\",IF(OR(U268=\"NP\",U268=\"DNF\"),U268,RANK(U268,U$12:U$309,1))))","v":""},{"$f":"IF(A268=\"x\",\"x\",IF(C268=\"\",\"\",IF(OR(AND(R268=\"NP\",R269=\"NP\"),AND(R268=\"DNF\",R269=\"DNF\")),R268,IF(AND(R268=\"NP\",R269=\"DNF\"),R268,IF(AND(R268=\"DNF\",R269=\"NP\"),R269,MIN(R268,R269))))))","v":""}]
[null,null,null,"II.pokus",null,null,null,{"$f":"IF($C268=\"\",\"\",IF(OR($E269=\"DNF\",$F269=\"DNF\",$G269=\"DNF\"),\"DNF\",IF(OR($E269=\"NP\",$F269=\"NP\",$G269=\"NP\"),\"NP\",IF(ISERROR(MEDIAN($E269:$G269)),\"DNF\",IF(COUNT($E269:$G269)<3,MAX($E269:$G269),MEDIAN($E269:$G269))))))","v":""},null,null,null,null,null,null,null,null,null,""]
[{"$f":"IF('Start - jaro'!Q16=\"\",\"\",\"x\")","v":""},86,{"$f":"IF('Start - jaro'!O16=\"\",\"\",'Start - jaro'!O16)","v":""},"I.pokus",null,null,null,{"$f":"IF($C270=\"\",\"\",IF(OR($E270=\"DNF\",$F270=\"DNF\",$G270=\"DNF\"),\"DNF\",IF(OR($E270=\"NP\",$F270=\"NP\",$G270=\"NP\"),\"NP\",IF(ISERROR(MEDIAN($E270:$G270)),\"DNF\",IF(COUNT($E270:$G270)<3,MAX($E270:$G270),MEDIAN($E270:$G270))))))","v":""},null,null,null,null,null,null,null,null,null,"",{"$f":"IF(C270=\"x\",\"x\",IF(C270=\"\",\"\",IF(OR(T270=\"NP\",T270=\"DNF\"),IF(T270=\"NP\",MAX(T$12:T$309)+COUNTIF((T$12:T$309),MAX(T$12:T$309)),MAX(T$12:T$309)+COUNTIF((T$12:T$309),MAX(T$12:T$309))+COUNTIF((T$12:T$309),\"NP\")),T270)))","v":""},{"$f":"IF(A270=\"x\",\"x\",IF(C270=\"\",\"\",IF(OR(U270=\"NP\",U270=\"DNF\"),U270,RANK(U270,U$12:U$309,1))))","v":""},{"$f":"IF(A270=\"x\",\"x\",IF(C270=\"\",\"\",IF(OR(AND(R270=\"NP\",R271=\"NP\"),AND(R270=\"DNF\",R271=\"DNF\")),R270,IF(AND(R270=\"NP\",R271=\"DNF\"),R270,IF(AND(R270=\"DNF\",R271=\"NP\"),R271,MIN(R270,R271))))))","v":""}]
[null,null,null,"II.pokus",null,null,null,{"$f":"IF($C270=\"\",\"\",IF(OR($E271=\"DNF\",$F271=\"DNF\",$G271=\"DNF\"),\"DNF\",IF(OR($E271=\"NP\",$F271=\"NP\",$G271=\"NP\"),\"NP\",IF(ISERROR(MEDIAN($E271:$G271)),\"DNF\",IF(COUNT($E271:$G271)<3,MAX($E271:$G271),MEDIAN($E271:$G271))))))","v":""},null,null,null,null,null,null,null,null,null,""]
[{"$f":"IF('Start - jaro'!Q17=\"\",\"\",\"x\")","v":""},87,{"$f":"IF('Start - jaro'!O17=\"\",\"\",'Start - jaro'!O17)","v":""},"I.pokus",null,null,null,{"$f":"IF($C272=\"\",\"\",IF(OR($E272=\"DNF\",$F272=\"DNF\",$G272=\"DNF\"),\"DNF\",IF(OR($E272=\"NP\",$F272=\"NP\",$G272=\"NP\"),\"NP\",IF(ISERROR(MEDIAN($E272:$G272)),\"DNF\",IF(COUNT($E272:$G272)<3,MAX($E272:$G272),MEDIAN($E272:$G272))))))","v":""},null,null,null,null,null,null,null,null,null,"",{"$f":"IF(C272=\"x\",\"x\",IF(C272=\"\",\"\",IF(OR(T272=\"NP\",T272=\"DNF\"),IF(T272=\"NP\",MAX(T$12:T$309)+COUNTIF((T$12:T$309),MAX(T$12:T$309)),MAX(T$12:T$309)+COUNTIF((T$12:T$309),MAX(T$12:T$309))+COUNTIF((T$12:T$309),\"NP\")),T272)))","v":""},{"$f":"IF(A272=\"x\",\"x\",IF(C272=\"\",\"\",IF(OR(U272=\"NP\",U272=\"DNF\"),U272,RANK(U272,U$12:U$309,1))))","v":""},{"$f":"IF(A272=\"x\",\"x\",IF(C272=\"\",\"\",IF(OR(AND(R272=\"NP\",R273=\"NP\"),AND(R272=\"DNF\",R273=\"DNF\")),R272,IF(AND(R272=\"NP\",R273=\"DNF\"),R272,IF(AND(R272=\"DNF\",R273=\"NP\"),R273,MIN(R272,R273))))))","v":""}]
[null,null,null,"II.pokus",null,null,null,{"$f":"IF($C272=\"\",\"\",IF(OR($E273=\"DNF\",$F273=\"DNF\",$G273=\"DNF\"),\"DNF\",IF(OR($E273=\"NP\",$F273=\"NP\",$G273=\"NP\"),\"NP\",IF(ISERROR(MEDIAN($E273:$G273)),\"DNF\",IF(COUNT($E273:$G273)<3,MAX($E273:$G273),MEDIAN($E273:$G273))))))","v":""},null,null,null,null,null,null,null,null,null,""]
[{"$f":"IF('Start - jaro'!Q18=\"\",\"\",\"x\")","v":""},88,{"$f":"IF('Start - jaro'!O18=\"\",\"\",'Start - jaro'!O18)","v":""},"I.pokus",null,null,null,{"$f":"IF($C274=\"\",\"\",IF(OR($E274=\"DNF\",$F274=\"DNF\",$G274=\"DNF\"),\"DNF\",IF(OR($E274=\"NP\",$F274=\"NP\",$G274=\"NP\"),\"NP\",IF(ISERROR(MEDIAN($E274:$G274)),\"DNF\",IF(COUNT($E274:$G274)<3,MAX($E274:$G274),MEDIAN($E274:$G274))))))","v":""},null,null,null,null,null,null,null,null,null,"",{"$f":"IF(C274=\"x\",\"x\",IF(C274=\"\",\"\",IF(OR(T274=\"NP\",T274=\"DNF\"),IF(T274=\"NP\",MAX(T$12:T$309)+COUNTIF((T$12:T$309),MAX(T$12:T$309)),MAX(T$12:T$309)+COUNTIF((T$12:T$309),MAX(T$12:T$309))+COUNTIF((T$12:T$309),\"NP\")),T274)))","v":""},{"$f":"IF(A274=\"x\",\"x\",IF(C274=\"\",\"\",IF(OR(U274=\"NP\",U274=\"DNF\"),U274,RANK(U274,U$12:U$309,1))))","v":""},{"$f":"IF(A274=\"x\",\"x\",IF(C274=\"\",\"\",IF(OR(AND(R274=\"NP\",R275=\"NP\"),AND(R274=\"DNF\",R275=\"DNF\")),R274,IF(AND(R274=\"NP\",R275=\"DNF\"),R274,IF(AND(R274=\"DNF\",R275=\"NP\"),R275,MIN(R274,R275))))))","v":""}]
[null,null,null,"II.pokus",null,null,null,{"$f":"IF($C274=\"\",\"\",IF(OR($E275=\"DNF\",$F275=\"DNF\",$G275=\"DNF\"),\"DNF\",IF(OR($E275=\"NP\",$F275=\"NP\",$G275=\"NP\"),\"NP\",IF(ISERROR(MEDIAN($E275:$G275)),\"DNF\",IF(COUNT($E275:$G275)<3,MAX($E275:$G275),MEDIAN($E275:$G275))))))","v":""},null,null,null,null,null,null,null,null,null,""]
[{"$f":"IF('Start - jaro'!Q19=\"\",\"\",\"x\")","v":""},89,{"$f":"IF('Start - jaro'!O19=\"\",\"\",'Start - jaro'!O19)","v":""},"I.pokus",null,null,null,{"$f":"IF($C276=\"\",\"\",IF(OR($E276=\"DNF\",$F276=\"DNF\",$G276=\"DNF\"),\"DNF\",IF(OR($E276=\"NP\",$F276=\"NP\",$G276=\"NP\"),\"NP\",IF(ISERROR(MEDIAN($E276:$G276)),\"DNF\",IF(COUNT($E276:$G276)<3,MAX($E276:$G276),MEDIAN($E276:$G276))))))","v":""},null,null,null,null,null,null,null,null,null,"",{"$f":"IF(C276=\"x\",\"x\",IF(C276=\"\",\"\",IF(OR(T276=\"NP\",T276=\"DNF\"),IF(T276=\"NP\",MAX(T$12:T$309)+COUNTIF((T$12:T$309),MAX(T$12:T$309)),MAX(T$12:T$309)+COUNTIF((T$12:T$309),MAX(T$12:T$309))+COUNTIF((T$12:T$309),\"NP\")),T276)))","v":""},{"$f":"IF(A276=\"x\",\"x\",IF(C276=\"\",\"\",IF(OR(U276=\"NP\",U276=\"DNF\"),U276,RANK(U276,U$12:U$309,1))))","v":""},{"$f":"IF(A276=\"x\",\"x\",IF(C276=\"\",\"\",IF(OR(AND(R276=\"NP\",R277=\"NP\"),AND(R276=\"DNF\",R277=\"DNF\")),R276,IF(AND(R276=\"NP\",R277=\"DNF\"),R276,IF(AND(R276=\"DNF\",R277=\"NP\"),R277,MIN(R276,R277))))))","v":""}]
[null,null,null,"II.pokus",null,null,null,{"$f":"IF($C276=\"\",\"\",IF(OR($E277=\"DNF\",$F277=\"DNF\",$G277=\"DNF\"),\"DNF\",IF(OR($E277=\"NP\",$F277=\"NP\",$G277=\"NP\"),\"NP\",IF(ISERROR(MEDIAN($E277:$G277)),\"DNF\",IF(COUNT($E277:$G277)<3,MAX($E277:$G277),MEDIAN($E277:$G277))))))","v":""},null,null,null,null,null,null,null,null,null,""]
[{"$f":"IF('Start - jaro'!Q20=\"\",\"\",\"x\")","v":""},90,{"$f":"IF('Start - jaro'!O20=\"\",\"\",'Start - jaro'!O20)","v":""},"I.pokus",null,null,null,{"$f":"IF($C278=\"\",\"\",IF(OR($E278=\"DNF\",$F278=\"DNF\",$G278=\"DNF\"),\"DNF\",IF(OR($E278=\"NP\",$F278=\"NP\",$G278=\"NP\"),\"NP\",IF(ISERROR(MEDIAN($E278:$G278)),\"DNF\",IF(COUNT($E278:$G278)<3,MAX($E278:$G278),MEDIAN($E278:$G278))))))","v":""},null,null,null,null,null,null,null,null,null,"",{"$f":"IF(C278=\"x\",\"x\",IF(C278=\"\",\"\",IF(OR(T278=\"NP\",T278=\"DNF\"),IF(T278=\"NP\",MAX(T$12:T$309)+COUNTIF((T$12:T$309),MAX(T$12:T$309)),MAX(T$12:T$309)+COUNTIF((T$12:T$309),MAX(T$12:T$309))+COUNTIF((T$12:T$309),\"NP\")),T278)))","v":""},{"$f":"IF(A278=\"x\",\"x\",IF(C278=\"\",\"\",IF(OR(U278=\"NP\",U278=\"DNF\"),U278,RANK(U278,U$12:U$309,1))))","v":""},{"$f":"IF(A278=\"x\",\"x\",IF(C278=\"\",\"\",IF(OR(AND(R278=\"NP\",R279=\"NP\"),AND(R278=\"DNF\",R279=\"DNF\")),R278,IF(AND(R278=\"NP\",R279=\"DNF\"),R278,IF(AND(R278=\"DNF\",R279=\"NP\"),R279,MIN(R278,R279))))))","v":""}]
[null,null,null,"II.pokus",null,null,null,{"$f":"IF($C278=\"\",\"\",IF(OR($E279=\"DNF\",$F279=\"DNF\",$G279=\"DNF\"),\"DNF\",IF(OR($E279=\"NP\",$F279=\"NP\",$G279=\"NP\"),\"NP\",IF(ISERROR(MEDIAN($E279:$G279)),\"DNF\",IF(COUNT($E279:$G279)<3,MAX($E279:$G279),MEDIAN($E279:$G279))))))","v":""},null,null,null,null,null,null,null,null,null,""]
[null,"CELOSTÁTNÍ HRA PLAMEN"]
[]
[]
[null,"Výsledková listina č: 10"]
[null,"Požární útok CTIF",null,null,"Základem je čas naměřený od vydání signálu startéra do proběhnutí posledního člena cílem",null,null,null,"K úřednímu času se připočítávají trestné sekundy",null,null,null,null,null,null,null,null,"Výsledek soutěže"]
[null,null,null,null,null,null,null,null,"nesprávné překonání překážek\n10 tb. = sekund","za celé přetočení hadice\n(každá hadice se posuzuje samostatně)\n5 tb. = sekund","za rozpojení spojky nebo zapojení na 1 ozub\nza každý případ\n20 tb. = sekund","nesprávné rozložení hadice nebo\nnesprávné položení hadic u překářek\n10 tb. = sekund","za zapomenuté, ztracené ne špatně \nodložené nářadí\n5 tb. = sekund","za nesprávné zařazení techn. prostředku\nu stojanu\n10 tb. = sekund","za nesprávné uvázaný uzel\nza každý případ\n10 tb. = sekund","za mluvení během plnění disciplíny \nza každý případ\n10 tb. = sekund)","nesprávná práce\n10 tb. = sekund"]
[null,null,null,null,null,null,null,null,null,null,null,null,null,null,null,null,null,"součet trest. Sekund a úředního času","počet bodů za umístění"]
[null,{"$f":"\"KATEGORIE: \"&'Start - podzim'!$N$2","v":"KATEGORIE: STARŠÍ"},null,null,"I. časoměřič","II. časoměřič","III. časoměřič","úřední čas"]
[]
[null,"start. číslo","SOUTĚŽNÍ DRUŽSTVO","pokus"]
[]
[{"$f":"IF('Start - jaro'!Q21=\"\",\"\",\"x\")","v":""},91,{"$f":"IF('Start - jaro'!O21=\"\",\"\",'Start - jaro'!O21)","v":""},"I.pokus",null,null,null,{"$f":"IF($C291=\"\",\"\",IF(OR($E291=\"DNF\",$F291=\"DNF\",$G291=\"DNF\"),\"DNF\",IF(OR($E291=\"NP\",$F291=\"NP\",$G291=\"NP\"),\"NP\",IF(ISERROR(MEDIAN($E291:$G291)),\"DNF\",IF(COUNT($E291:$G291)<3,MAX($E291:$G291),MEDIAN($E291:$G291))))))","v":""},null,null,null,null,null,null,null,null,null,{"$f":"IF(H291=\"\",\"\",IF(H291=\"NP\",\"NP\",IF(H291=\"DNF\",\"DNF\",SUM(I291:Q291)+H291)))","v":""},{"$f":"IF(C291=\"x\",\"x\",IF(C291=\"\",\"\",IF(OR(T291=\"NP\",T291=\"DNF\"),IF(T291=\"NP\",MAX(T$12:T$309)+COUNTIF((T$12:T$309),MAX(T$12:T$309)),MAX(T$12:T$309)+COUNTIF((T$12:T$309),MAX(T$12:T$309))+COUNTIF((T$12:T$309),\"NP\")),T291)))","v":""},{"$f":"IF(A291=\"x\",\"x\",IF(C291=\"\",\"\",IF(OR(U291=\"NP\",U291=\"DNF\"),U291,RANK(U291,U$12:U$309,1))))","v":""},{"$f":"IF(A291=\"x\",\"x\",IF(C291=\"\",\"\",IF(OR(AND(R291=\"NP\",R292=\"NP\"),AND(R291=\"DNF\",R292=\"DNF\")),R291,IF(AND(R291=\"NP\",R292=\"DNF\"),R291,IF(AND(R291=\"DNF\",R292=\"NP\"),R292,MIN(R291,R292))))))","v":""}]
[null,null,null,"II.pokus",null,null,null,{"$f":"IF($C291=\"\",\"\",IF(OR($E292=\"DNF\",$F292=\"DNF\",$G292=\"DNF\"),\"DNF\",IF(OR($E292=\"NP\",$F292=\"NP\",$G292=\"NP\"),\"NP\",IF(ISERROR(MEDIAN($E292:$G292)),\"DNF\",IF(COUNT($E292:$G292)<3,MAX($E292:$G292),MEDIAN($E292:$G292))))))","v":""},null,null,null,null,null,null,null,null,null,""]
[{"$f":"IF('Start - jaro'!Q22=\"\",\"\",\"x\")","v":""},92,{"$f":"IF('Start - jaro'!O22=\"\",\"\",'Start - jaro'!O22)","v":""},"I.pokus",null,null,null,{"$f":"IF($C293=\"\",\"\",IF(OR($E293=\"DNF\",$F293=\"DNF\",$G293=\"DNF\"),\"DNF\",IF(OR($E293=\"NP\",$F293=\"NP\",$G293=\"NP\"),\"NP\",IF(ISERROR(MEDIAN($E293:$G293)),\"DNF\",IF(COUNT($E293:$G293)<3,MAX($E293:$G293),MEDIAN($E293:$G293))))))","v":""},null,null,null,null,null,null,null,null,null,"",{"$f":"IF(C293=\"x\",\"x\",IF(C293=\"\",\"\",IF(OR(T293=\"NP\",T293=\"DNF\"),IF(T293=\"NP\",MAX(T$12:T$309)+COUNTIF((T$12:T$309),MAX(T$12:T$309)),MAX(T$12:T$309)+COUNTIF((T$12:T$309),MAX(T$12:T$309))+COUNTIF((T$12:T$309),\"NP\")),T293)))","v":""},{"$f":"IF(A293=\"x\",\"x\",IF(C293=\"\",\"\",IF(OR(U293=\"NP\",U293=\"DNF\"),U293,RANK(U293,U$12:U$309,1))))","v":""},{"$f":"IF(A293=\"x\",\"x\",IF(C293=\"\",\"\",IF(OR(AND(R293=\"NP\",R294=\"NP\"),AND(R293=\"DNF\",R294=\"DNF\")),R293,IF(AND(R293=\"NP\",R294=\"DNF\"),R293,IF(AND(R293=\"DNF\",R294=\"NP\"),R294,MIN(R293,R294))))))","v":""}]
[null,null,null,"II.pokus",null,null,null,{"$f":"IF($C293=\"\",\"\",IF(OR($E294=\"DNF\",$F294=\"DNF\",$G294=\"DNF\"),\"DNF\",IF(OR($E294=\"NP\",$F294=\"NP\",$G294=\"NP\"),\"NP\",IF(ISERROR(MEDIAN($E294:$G294)),\"DNF\",IF(COUNT($E294:$G294)<3,MAX($E294:$G294),MEDIAN($E294:$G294))))))","v":""},null,null,null,null,null,null,null,null,null,""]
[{"$f":"IF('Start - jaro'!Q23=\"\",\"\",\"x\")","v":""},93,{"$f":"IF('Start - jaro'!O23=\"\",\"\",'Start - jaro'!O23)","v":""},"I.pokus",null,null,null,{"$f":"IF($C295=\"\",\"\",IF(OR($E295=\"DNF\",$F295=\"DNF\",$G295=\"DNF\"),\"DNF\",IF(OR($E295=\"NP\",$F295=\"NP\",$G295=\"NP\"),\"NP\",IF(ISERROR(MEDIAN($E295:$G295)),\"DNF\",IF(COUNT($E295:$G295)<3,MAX($E295:$G295),MEDIAN($E295:$G295))))))","v":""},null,null,null,null,null,null,null,null,null,"",{"$f":"IF(C295=\"x\",\"x\",IF(C295=\"\",\"\",IF(OR(T295=\"NP\",T295=\"DNF\"),IF(T295=\"NP\",MAX(T$12:T$309)+COUNTIF((T$12:T$309),MAX(T$12:T$309)),MAX(T$12:T$309)+COUNTIF((T$12:T$309),MAX(T$12:T$309))+COUNTIF((T$12:T$309),\"NP\")),T295)))","v":""},{"$f":"IF(A295=\"x\",\"x\",IF(C295=\"\",\"\",IF(OR(U295=\"NP\",U295=\"DNF\"),U295,RANK(U295,U$12:U$309,1))))","v":""},{"$f":"IF(A295=\"x\",\"x\",IF(C295=\"\",\"\",IF(OR(AND(R295=\"NP\",R296=\"NP\"),AND(R295=\"DNF\",R296=\"DNF\")),R295,IF(AND(R295=\"NP\",R296=\"DNF\"),R295,IF(AND(R295=\"DNF\",R296=\"NP\"),R296,MIN(R295,R296))))))","v":""}]
[null,null,null,"II.pokus",null,null,null,{"$f":"IF($C295=\"\",\"\",IF(OR($E296=\"DNF\",$F296=\"DNF\",$G296=\"DNF\"),\"DNF\",IF(OR($E296=\"NP\",$F296=\"NP\",$G296=\"NP\"),\"NP\",IF(ISERROR(MEDIAN($E296:$G296)),\"DNF\",IF(COUNT($E296:$G296)<3,MAX($E296:$G296),MEDIAN($E296:$G296))))))","v":""},null,null,null,null,null,null,null,null,null,""]
[{"$f":"IF('Start - jaro'!Q24=\"\",\"\",\"x\")","v":""},94,{"$f":"IF('Start - jaro'!O24=\"\",\"\",'Start - jaro'!O24)","v":""},"I.pokus",null,null,null,{"$f":"IF($C297=\"\",\"\",IF(OR($E297=\"DNF\",$F297=\"DNF\",$G297=\"DNF\"),\"DNF\",IF(OR($E297=\"NP\",$F297=\"NP\",$G297=\"NP\"),\"NP\",IF(ISERROR(MEDIAN($E297:$G297)),\"DNF\",IF(COUNT($E297:$G297)<3,MAX($E297:$G297),MEDIAN($E297:$G297))))))","v":""},null,null,null,null,null,null,null,null,null,"",{"$f":"IF(C297=\"x\",\"x\",IF(C297=\"\",\"\",IF(OR(T297=\"NP\",T297=\"DNF\"),IF(T297=\"NP\",MAX(T$12:T$309)+COUNTIF((T$12:T$309),MAX(T$12:T$309)),MAX(T$12:T$309)+COUNTIF((T$12:T$309),MAX(T$12:T$309))+COUNTIF((T$12:T$309),\"NP\")),T297)))","v":""},{"$f":"IF(A297=\"x\",\"x\",IF(C297=\"\",\"\",IF(OR(U297=\"NP\",U297=\"DNF\"),U297,RANK(U297,U$12:U$309,1))))","v":""},{"$f":"IF(A297=\"x\",\"x\",IF(C297=\"\",\"\",IF(OR(AND(R297=\"NP\",R298=\"NP\"),AND(R297=\"DNF\",R298=\"DNF\")),R297,IF(AND(R297=\"NP\",R298=\"DNF\"),R297,IF(AND(R297=\"DNF\",R298=\"NP\"),R298,MIN(R297,R298))))))","v":""}]
[null,null,null,"II.pokus",null,null,null,{"$f":"IF($C297=\"\",\"\",IF(OR($E298=\"DNF\",$F298=\"DNF\",$G298=\"DNF\"),\"DNF\",IF(OR($E298=\"NP\",$F298=\"NP\",$G298=\"NP\"),\"NP\",IF(ISERROR(MEDIAN($E298:$G298)),\"DNF\",IF(COUNT($E298:$G298)<3,MAX($E298:$G298),MEDIAN($E298:$G298))))))","v":""},null,null,null,null,null,null,null,null,null,""]
[{"$f":"IF('Start - jaro'!Q25=\"\",\"\",\"x\")","v":""},95,{"$f":"IF('Start - jaro'!O25=\"\",\"\",'Start - jaro'!O25)","v":""},"I.pokus",null,null,null,{"$f":"IF($C299=\"\",\"\",IF(OR($E299=\"DNF\",$F299=\"DNF\",$G299=\"DNF\"),\"DNF\",IF(OR($E299=\"NP\",$F299=\"NP\",$G299=\"NP\"),\"NP\",IF(ISERROR(MEDIAN($E299:$G299)),\"DNF\",IF(COUNT($E299:$G299)<3,MAX($E299:$G299),MEDIAN($E299:$G299))))))","v":""},null,null,null,null,null,null,null,null,null,"",{"$f":"IF(C299=\"x\",\"x\",IF(C299=\"\",\"\",IF(OR(T299=\"NP\",T299=\"DNF\"),IF(T299=\"NP\",MAX(T$12:T$309)+COUNTIF((T$12:T$309),MAX(T$12:T$309)),MAX(T$12:T$309)+COUNTIF((T$12:T$309),MAX(T$12:T$309))+COUNTIF((T$12:T$309),\"NP\")),T299)))","v":""},{"$f":"IF(A299=\"x\",\"x\",IF(C299=\"\",\"\",IF(OR(U299=\"NP\",U299=\"DNF\"),U299,RANK(U299,U$12:U$309,1))))","v":""},{"$f":"IF(A299=\"x\",\"x\",IF(C299=\"\",\"\",IF(OR(AND(R299=\"NP\",R300=\"NP\"),AND(R299=\"DNF\",R300=\"DNF\")),R299,IF(AND(R299=\"NP\",R300=\"DNF\"),R299,IF(AND(R299=\"DNF\",R300=\"NP\"),R300,MIN(R299,R300))))))","v":""}]
[null,null,null,"II.pokus",null,null,null,{"$f":"IF($C299=\"\",\"\",IF(OR($E300=\"DNF\",$F300=\"DNF\",$G300=\"DNF\"),\"DNF\",IF(OR($E300=\"NP\",$F300=\"NP\",$G300=\"NP\"),\"NP\",IF(ISERROR(MEDIAN($E300:$G300)),\"DNF\",IF(COUNT($E300:$G300)<3,MAX($E300:$G300),MEDIAN($E300:$G300))))))","v":""},null,null,null,null,null,null,null,null,null,""]
[{"$f":"IF('Start - jaro'!Q26=\"\",\"\",\"x\")","v":""},96,{"$f":"IF('Start - jaro'!O26=\"\",\"\",'Start - jaro'!O26)","v":""},"I.pokus",null,null,null,{"$f":"IF($C301=\"\",\"\",IF(OR($E301=\"DNF\",$F301=\"DNF\",$G301=\"DNF\"),\"DNF\",IF(OR($E301=\"NP\",$F301=\"NP\",$G301=\"NP\"),\"NP\",IF(ISERROR(MEDIAN($E301:$G301)),\"DNF\",IF(COUNT($E301:$G301)<3,MAX($E301:$G301),MEDIAN($E301:$G301))))))","v":""},null,null,null,null,null,null,null,null,null,"",{"$f":"IF(C301=\"x\",\"x\",IF(C301=\"\",\"\",IF(OR(T301=\"NP\",T301=\"DNF\"),IF(T301=\"NP\",MAX(T$12:T$309)+COUNTIF((T$12:T$309),MAX(T$12:T$309)),MAX(T$12:T$309)+COUNTIF((T$12:T$309),MAX(T$12:T$309))+COUNTIF((T$12:T$309),\"NP\")),T301)))","v":""},{"$f":"IF(A301=\"x\",\"x\",IF(C301=\"\",\"\",IF(OR(U301=\"NP\",U301=\"DNF\"),U301,RANK(U301,U$12:U$309,1))))","v":""},{"$f":"IF(A301=\"x\",\"x\",IF(C301=\"\",\"\",IF(OR(AND(R301=\"NP\",R302=\"NP\"),AND(R301=\"DNF\",R302=\"DNF\")),R301,IF(AND(R301=\"NP\",R302=\"DNF\"),R301,IF(AND(R301=\"DNF\",R302=\"NP\"),R302,MIN(R301,R302))))))","v":""}]
[null,null,null,"II.pokus",null,null,null,{"$f":"IF($C301=\"\",\"\",IF(OR($E302=\"DNF\",$F302=\"DNF\",$G302=\"DNF\"),\"DNF\",IF(OR($E302=\"NP\",$F302=\"NP\",$G302=\"NP\"),\"NP\",IF(ISERROR(MEDIAN($E302:$G302)),\"DNF\",IF(COUNT($E302:$G302)<3,MAX($E302:$G302),MEDIAN($E302:$G302))))))","v":""},null,null,null,null,null,null,null,null,null,""]
[{"$f":"IF('Start - jaro'!Q27=\"\",\"\",\"x\")","v":""},97,{"$f":"IF('Start - jaro'!O27=\"\",\"\",'Start - jaro'!O27)","v":""},"I.pokus",null,null,null,{"$f":"IF($C303=\"\",\"\",IF(OR($E303=\"DNF\",$F303=\"DNF\",$G303=\"DNF\"),\"DNF\",IF(OR($E303=\"NP\",$F303=\"NP\",$G303=\"NP\"),\"NP\",IF(ISERROR(MEDIAN($E303:$G303)),\"DNF\",IF(COUNT($E303:$G303)<3,MAX($E303:$G303),MEDIAN($E303:$G303))))))","v":""},null,null,null,null,null,null,null,null,null,"",{"$f":"IF(C303=\"x\",\"x\",IF(C303=\"\",\"\",IF(OR(T303=\"NP\",T303=\"DNF\"),IF(T303=\"NP\",MAX(T$12:T$309)+COUNTIF((T$12:T$309),MAX(T$12:T$309)),MAX(T$12:T$309)+COUNTIF((T$12:T$309),MAX(T$12:T$309))+COUNTIF((T$12:T$309),\"NP\")),T303)))","v":""},{"$f":"IF(A303=\"x\",\"x\",IF(C303=\"\",\"\",IF(OR(U303=\"NP\",U303=\"DNF\"),U303,RANK(U303,U$12:U$309,1))))","v":""},{"$f":"IF(A303=\"x\",\"x\",IF(C303=\"\",\"\",IF(OR(AND(R303=\"NP\",R304=\"NP\"),AND(R303=\"DNF\",R304=\"DNF\")),R303,IF(AND(R303=\"NP\",R304=\"DNF\"),R303,IF(AND(R303=\"DNF\",R304=\"NP\"),R304,MIN(R303,R304))))))","v":""}]
[null,null,null,"II.pokus",null,null,null,{"$f":"IF($C303=\"\",\"\",IF(OR($E304=\"DNF\",$F304=\"DNF\",$G304=\"DNF\"),\"DNF\",IF(OR($E304=\"NP\",$F304=\"NP\",$G304=\"NP\"),\"NP\",IF(ISERROR(MEDIAN($E304:$G304)),\"DNF\",IF(COUNT($E304:$G304)<3,MAX($E304:$G304),MEDIAN($E304:$G304))))))","v":""},null,null,null,null,null,null,null,null,null,""]
[{"$f":"IF('Start - jaro'!Q28=\"\",\"\",\"x\")","v":""},98,{"$f":"IF('Start - jaro'!O28=\"\",\"\",'Start - jaro'!O28)","v":""},"I.pokus",null,null,null,{"$f":"IF($C305=\"\",\"\",IF(OR($E305=\"DNF\",$F305=\"DNF\",$G305=\"DNF\"),\"DNF\",IF(OR($E305=\"NP\",$F305=\"NP\",$G305=\"NP\"),\"NP\",IF(ISERROR(MEDIAN($E305:$G305)),\"DNF\",IF(COUNT($E305:$G305)<3,MAX($E305:$G305),MEDIAN($E305:$G305))))))","v":""},null,null,null,null,null,null,null,null,null,"",{"$f":"IF(C305=\"x\",\"x\",IF(C305=\"\",\"\",IF(OR(T305=\"NP\",T305=\"DNF\"),IF(T305=\"NP\",MAX(T$12:T$309)+COUNTIF((T$12:T$309),MAX(T$12:T$309)),MAX(T$12:T$309)+COUNTIF((T$12:T$309),MAX(T$12:T$309))+COUNTIF((T$12:T$309),\"NP\")),T305)))","v":""},{"$f":"IF(A305=\"x\",\"x\",IF(C305=\"\",\"\",IF(OR(U305=\"NP\",U305=\"DNF\"),U305,RANK(U305,U$12:U$309,1))))","v":""},{"$f":"IF(A305=\"x\",\"x\",IF(C305=\"\",\"\",IF(OR(AND(R305=\"NP\",R306=\"NP\"),AND(R305=\"DNF\",R306=\"DNF\")),R305,IF(AND(R305=\"NP\",R306=\"DNF\"),R305,IF(AND(R305=\"DNF\",R306=\"NP\"),R306,MIN(R305,R306))))))","v":""}]
[null,null,null,"II.pokus",null,null,null,{"$f":"IF($C305=\"\",\"\",IF(OR($E306=\"DNF\",$F306=\"DNF\",$G306=\"DNF\"),\"DNF\",IF(OR($E306=\"NP\",$F306=\"NP\",$G306=\"NP\"),\"NP\",IF(ISERROR(MEDIAN($E306:$G306)),\"DNF\",IF(COUNT($E306:$G306)<3,MAX($E306:$G306),MEDIAN($E306:$G306))))))","v":""},null,null,null,null,null,null,null,null,null,""]
[{"$f":"IF('Start - jaro'!Q29=\"\",\"\",\"x\")","v":""},99,{"$f":"IF('Start - jaro'!O29=\"\",\"\",'Start - jaro'!O29)","v":""},"I.pokus",null,null,null,{"$f":"IF($C307=\"\",\"\",IF(OR($E307=\"DNF\",$F307=\"DNF\",$G307=\"DNF\"),\"DNF\",IF(OR($E307=\"NP\",$F307=\"NP\",$G307=\"NP\"),\"NP\",IF(ISERROR(MEDIAN($E307:$G307)),\"DNF\",IF(COUNT($E307:$G307)<3,MAX($E307:$G307),MEDIAN($E307:$G307))))))","v":""},null,null,null,null,null,null,null,null,null,"",{"$f":"IF(C307=\"x\",\"x\",IF(C307=\"\",\"\",IF(OR(T307=\"NP\",T307=\"DNF\"),IF(T307=\"NP\",MAX(T$12:T$309)+COUNTIF((T$12:T$309),MAX(T$12:T$309)),MAX(T$12:T$309)+COUNTIF((T$12:T$309),MAX(T$12:T$309))+COUNTIF((T$12:T$309),\"NP\")),T307)))","v":""},{"$f":"IF(A307=\"x\",\"x\",IF(C307=\"\",\"\",IF(OR(U307=\"NP\",U307=\"DNF\"),U307,RANK(U307,U$12:U$309,1))))","v":""},{"$f":"IF(A307=\"x\",\"x\",IF(C307=\"\",\"\",IF(OR(AND(R307=\"NP\",R308=\"NP\"),AND(R307=\"DNF\",R308=\"DNF\")),R307,IF(AND(R307=\"NP\",R308=\"DNF\"),R307,IF(AND(R307=\"DNF\",R308=\"NP\"),R308,MIN(R307,R308))))))","v":""}]
[null,null,null,"II.pokus",null,null,null,{"$f":"IF($C307=\"\",\"\",IF(OR($E308=\"DNF\",$F308=\"DNF\",$G308=\"DNF\"),\"DNF\",IF(OR($E308=\"NP\",$F308=\"NP\",$G308=\"NP\"),\"NP\",IF(ISERROR(MEDIAN($E308:$G308)),\"DNF\",IF(COUNT($E308:$G308)<3,MAX($E308:$G308),MEDIAN($E308:$G308))))))","v":""},null,null,null,null,null,null,null,null,null,""]
[{"$f":"IF('Start - jaro'!Q30=\"\",\"\",\"x\")","v":""},100,{"$f":"IF('Start - jaro'!O30=\"\",\"\",'Start - jaro'!O30)","v":""},"I.pokus",null,null,null,{"$f":"IF($C309=\"\",\"\",IF(OR($E309=\"DNF\",$F309=\"DNF\",$G309=\"DNF\"),\"DNF\",IF(OR($E309=\"NP\",$F309=\"NP\",$G309=\"NP\"),\"NP\",IF(ISERROR(MEDIAN($E309:$G309)),\"DNF\",IF(COUNT($E309:$G309)<3,MAX($E309:$G309),MEDIAN($E309:$G309))))))","v":""},null,null,null,null,null,null,null,null,null,"",{"$f":"IF(C309=\"x\",\"x\",IF(C309=\"\",\"\",IF(OR(T309=\"NP\",T309=\"DNF\"),IF(T309=\"NP\",MAX(T$12:T$309)+COUNTIF((T$12:T$309),MAX(T$12:T$309)),MAX(T$12:T$309)+COUNTIF((T$12:T$309),MAX(T$12:T$309))+COUNTIF((T$12:T$309),\"NP\")),T309)))","v":""},{"$f":"IF(A309=\"x\",\"x\",IF(C309=\"\",\"\",IF(OR(U309=\"NP\",U309=\"DNF\"),U309,RANK(U309,U$12:U$309,1))))","v":""},{"$f":"IF(A309=\"x\",\"x\",IF(C309=\"\",\"\",IF(OR(AND(R309=\"NP\",R310=\"NP\"),AND(R309=\"DNF\",R310=\"DNF\")),R309,IF(AND(R309=\"NP\",R310=\"DNF\"),R309,IF(AND(R309=\"DNF\",R310=\"NP\"),R310,MIN(R309,R310))))))","v":""}]
[null,null,null,"II.pokus",null,null,null,{"$f":"IF($C309=\"\",\"\",IF(OR($E310=\"DNF\",$F310=\"DNF\",$G310=\"DNF\"),\"DNF\",IF(OR($E310=\"NP\",$F310=\"NP\",$G310=\"NP\"),\"NP\",IF(ISERROR(MEDIAN($E310:$G310)),\"DNF\",IF(COUNT($E310:$G310)<3,MAX($E310:$G310),MEDIAN($E310:$G310))))))","v":""},null,null,null,null,null,null,null,null,null,""]

{"sheet":"Kronika","index":12,"n_rows":93,"n_cols":16,"rows_kept":93,"cut":false,"hidden":false,"merged":[[69,9,70,10],[69,11,72,11],[71,9,72,9],[71,10,72,10],[66,1,68,2],[66,3,68,7],[66,9,68,10],[66,11,68,15],[69,1,70,2],[69,3,72,3],[69,4,72,4],[69,5,72,5],[71,1,72,1],[71,2,72,2],[69,12,72,12],[69,13,72,13],[69,14,72,14],[69,15,72,15],[69,6,72,6],[69,7,72,7],[62,1,64,9],[62,10,65,15],[65,1,65,9],[38,6,41,6],[38,7,41,7],[38,9,39,10],[38,11,41,11],[40,9,41,9],[40,10,41,10],[38,1,39,2],[38,3,41,3],[38,4,41,4],[38,5,41,5],[40,1,41,1],[40,2,41,2],[31,1,33,9],[31,10,34,15],[34,1,34,9],[35,1,37,2],[35,3,37,7],[35,9,37,10],[35,11,37,15],[38,12,41,12],[38,13,41,13],[38,14,41,14],[38,15,41,15],[7,15,10,15],[9,1,10,1],[9,2,10,2],[9,9,10,9],[9,10,10,10],[7,11,10,11],[7,12,10,12],[7,13,10,13],[7,14,10,14],[7,6,10,6],[7,7,10,7],[7,9,8,10],[7,1,8,2],[7,3,10,3],[7,4,10,4],[7,5,10,5],[0,1,2,9],[0,10,3,15],[3,1,3,9],[4,1,6,2],[4,3,6,7],[4,9,6,10],[4,11,6,15]]}
[null," CELOSTÁTNÍ HRA PLAMEN"]
[]
[]
[null," Výsledková listina č: 1"]
[null,"Celoroční činnost",null,"Trestné body za nesplnění jednotlivých okruhů",null,null,null,null,null,"Celoroční činnost",null,"Trestné body za nesplnění jednotlivých okruhů"]
[]
[]
[null,{"$f":"\"KATEGORIE: \"&'Start - podzim'!$N$2","v":"KATEGORIE: STARŠÍ"},null," I. Okruh"," II. Okruh"," III. Okruh"," IV. Okruh"," Celkem tr.b.",null,{"$f":"\"KATEGORIE: \"&'Start - podzim'!$N$2","v":"KATEGORIE: STARŠÍ"},null," I. Okruh"," II. Okruh"," III. Okruh"," IV. Okruh"," Celkem tr.b."]
[]
[null,"start. číslo","SOUTĚŽNÍ DRUŽSTVO",null,null,null,null,null,null,"start. číslo","SOUTĚŽNÍ DRUŽSTVO"]
[]
[{"$f":"IF('Start - jaro'!E6=\"\",\"\",\"x\")","v":""},1,{"$f":"IF('Start - jaro'!C6=\"\",\"\",'Start - jaro'!C6)","v":"Srubec (ČB)"},null,null,null,null,{"$f":"IF($A12=\"x\",\"x\",IF($C12=\"\",\"\",SUM(D12:G12)))","v":0},{"$f":"IF('Start - jaro'!E26=\"\",\"\",\"x\")","v":""},21,{"$f":"IF('Start - jaro'!C26=\"\",\"\",'Start - jaro'!C26)","v":""},null,null,null,null,{"$f":"IF($I12=\"x\",\"x\",IF($K12=\"\",\"\",SUM(L12:O12)))","v":""}]
[{"$f":"IF('Start - jaro'!E7=\"\",\"\",\"x\")","v":""},2,{"$f":"IF('Start - jaro'!C7=\"\",\"\",'Start - jaro'!C7)","v":"Zhoř u Tábora (TÁ)"},null,null,null,null,{"$f":"IF($A13=\"x\",\"x\",IF($C13=\"\",\"\",SUM(D13:G13)))","v":0},{"$f":"IF('Start - jaro'!E27=\"\",\"\",\"x\")","v":""},22,{"$f":"IF('Start - jaro'!C27=\"\",\"\",'Start - jaro'!C27)","v":""},null,null,null,null,{"$f":"IF($I13=\"x\",\"x\",IF($K13=\"\",\"\",SUM(L13:O13)))","v":""}]
[{"$f":"IF('Start - jaro'!E8=\"\",\"\",\"x\")","v":""},3,{"$f":"IF('Start - jaro'!C8=\"\",\"\",'Start - jaro'!C8)","v":"Svatá Maří (PT)"},null,null,null,null,0,{"$f":"IF('Start - jaro'!E28=\"\",\"\",\"x\")","v":""},23,{"$f":"IF('Start - jaro'!C28=\"\",\"\",'Start - jaro'!C28)","v":""},null,null,null,null,""]
[{"$f":"IF('Start - jaro'!E9=\"\",\"\",\"x\")","v":""},4,{"$f":"IF('Start - jaro'!C9=\"\",\"\",'Start - jaro'!C9)","v":"Drahonice (ST)"},null,null,null,null,0,{"$f":"IF('Start - jaro'!E29=\"\",\"\",\"x\")","v":""},24,{"$f":"IF('Start - jaro'!C29=\"\",\"\",'Start - jaro'!C29)","v":""},null,null,null,null,""]
[{"$f":"IF('Start - jaro'!E10=\"\",\"\",\"x\")","v":""},5,{"$f":"IF('Start - jaro'!C10=\"\",\"\",'Start - jaro'!C10)","v":"Dobrošov (PÍ)"},null,null,null,null,0,{"$f":"IF('Start - jaro'!E30=\"\",\"\",\"x\")","v":""},25,{"$f":"IF('Start - jaro'!C30=\"\",\"\",'Start - jaro'!C30)","v":""},null,null,null,null,""]
[{"$f":"IF('Start - jaro'!E11=\"\",\"\",\"x\")","v":""},6,{"$f":"IF('Start - jaro'!C11=\"\",\"\",'Start - jaro'!C11)","v":"Plešovice (ČK)"},null,null,null,null,0,{"$f":"IF('Start - jaro'!I6=\"\",\"\",\"x\")","v":""},26,{"$f":"IF('Start - jaro'!G6=\"\",\"\",'Start - jaro'!G6)","v":""},null,null,null,null,""]
[{"$f":"IF('Start - jaro'!E12=\"\",\"\",\"x\")","v":""},7,{"$f":"IF('Start - jaro'!C12=\"\",\"\",'Start - jaro'!C12)","v":""},null,null,null,null,"",{"$f":"IF('Start - jaro'!I7=\"\",\"\",\"x\")","v":""},27,{"$f":"IF('Start - jaro'!G7=\"\",\"\",'Start - jaro'!G7)","v":""},null,null,null,null,""]
[{"$f":"IF('Start - jaro'!E13=\"\",\"\",\"x\")","v":""},8,{"$f":"IF('Start - jaro'!C13=\"\",\"\",'Start - jaro'!C13)","v":""},null,null,null,null,"",{"$f":"IF('Start - jaro'!I8=\"\",\"\",\"x\")","v":""},28,{"$f":"IF('Start - jaro'!G8=\"\",\"\",'Start - jaro'!G8)","v":""},null,null,null,null,""]
[{"$f":"IF('Start - jaro'!E14=\"\",\"\",\"x\")","v":""},9,{"$f":"IF('Start - jaro'!C14=\"\",\"\",'Start - jaro'!C14)","v":""},null,null,null,null,"",{"$f":"IF('Start - jaro'!I9=\"\",\"\",\"x\")","v":""},29,{"$f":"IF('Start - jaro'!G9=\"\",\"\",'Start - jaro'!G9)","v":""},null,null,null,null,""]
[{"$f":"IF('Start - jaro'!E15=\"\",\"\",\"x\")","v":""},10,{"$f":"IF('Start - jaro'!C15=\"\",\"\",'Start - jaro'!C15)","v":""},null,null,null,null,"",{"$f":"IF('Start - jaro'!I10=\"\",\"\",\"x\")","v":""},30,{"$f":"IF('Start - jaro'!G10=\"\",\"\",'Start - jaro'!G10)","v":""},null,null,null,null,""]
[{"$f":"IF('Start - jaro'!E16=\"\",\"\",\"x\")","v":""},11,{"$f":"IF('Start - jaro'!C16=\"\",\"\",'Start - jaro'!C16)","v":""},null,null,null,null,"",{"$f":"IF('Start - jaro'!I11=\"\",\"\",\"x\")","v":""},31,{"$f":"IF('Start - jaro'!G11=\"\",\"\",'Start - jaro'!G11)","v":""},null,null,null,null,""]
[{"$f":"IF('Start - jaro'!E17=\"\",\"\",\"x\")","v":""},12,{"$f":"IF('Start - jaro'!C17=\"\",\"\",'Start - jaro'!C17)","v":""},null,null,null,null,"",{"$f":"IF('Start - jaro'!I12=\"\",\"\",\"x\")","v":""},32,{"$f":"IF('Start - jaro'!G12=\"\",\"\",'Start - jaro'!G12)","v":""},null,null,null,null,""]
[{"$f":"IF('Start - jaro'!E18=\"\",\"\",\"x\")","v":""},13,{"$f":"IF('Start - jaro'!C18=\"\",\"\",'Start - jaro'!C18)","v":""},null,null,null,null,"",{"$f":"IF('Start - jaro'!I13=\"\",\"\",\"x\")","v":""},33,{"$f":"IF('Start - jaro'!G13=\"\",\"\",'Start - jaro'!G13)","v":""},null,null,null,null,""]
[{"$f":"IF('Start - jaro'!E19=\"\",\"\",\"x\")","v":""},14,{"$f":"IF('Start - jaro'!C19=\"\",\"\",'Start - jaro'!C19)","v":""},null,null,null,null,"",{"$f":"IF('Start - jaro'!I14=\"\",\"\",\"x\")","v":""},34,{"$f":"IF('Start - jaro'!G14=\"\",\"\",'Start - jaro'!G14)","v":""},null,null,null,null,""]
[{"$f":"IF('Start - jaro'!E20=\"\",\"\",\"x\")","v":""},15,{"$f":"IF('Start - jaro'!C20=\"\",\"\",'Start - jaro'!C20)","v":""},null,null,null,null,"",{"$f":"IF('Start - jaro'!I15=\"\",\"\",\"x\")","v":""},35,{"$f":"IF('Start - jaro'!G15=\"\",\"\",'Start - jaro'!G15)","v":""},null,null,null,null,""]
[{"$f":"IF('Start - jaro'!E21=\"\",\"\",\"x\")","v":""},16,{"$f":"IF('Start - jaro'!C21=\"\",\"\",'Start - jaro'!C21)","v":""},null,null,null,null,"",{"$f":"IF('Start - jaro'!I16=\"\",\"\",\"x\")","v":""},36,{"$f":"IF('Start - jaro'!G16=\"\",\"\",'Start - jaro'!G16)","v":""},null,null,null,null,""]
[{"$f":"IF('Start - jaro'!E22=\"\",\"\",\"x\")","v":""},17,{"$f":"IF('Start - jaro'!C22=\"\",\"\",'Start - jaro'!C22)","v":""},null,null,null,null,"",{"$f":"IF('Start - jaro'!I17=\"\",\"\",\"x\")","v":""},37,{"$f":"IF('Start - jaro'!G17=\"\",\"\",'Start - jaro'!G17)","v":""},null,null,null,null,""]
[{"$f":"IF('Start - jaro'!E23=\"\",\"\",\"x\")","v":""},18,{"$f":"IF('Start - jaro'!C23=\"\",\"\",'Start - jaro'!C23)","v":""},null,null,null,null,"",{"$f":"IF('Start - jaro'!I18=\"\",\"\",\"x\")","v":""},38,{"$f":"IF('Start - jaro'!G18=\"\",\"\",'Start - jaro'!G18)","v":""},null,null,null,null,""]
[{"$f":"IF('Start - jaro'!E24=\"\",\"\",\"x\")","v":""},19,{"$f":"IF('Start - jaro'!C24=\"\",\"\",'Start - jaro'!C24)","v":""},null,null,null,null,"",{"$f":"IF('Start - jaro'!I19=\"\",\"\",\"x\")","v":""},39,{"$f":"IF('Start - jaro'!G19=\"\",\"\",'Start - jaro'!G19)","v":""},null,null,null,null,""]
[{"$f":"IF('Start - jaro'!E25=\"\",\"\",\"x\")","v":""},20,{"$f":"IF('Start - jaro'!C25=\"\",\"\",'Start - jaro'!C25)","v":""},null,null,null,null,"",{"$f":"IF('Start - jaro'!I20=\"\",\"\",\"x\")","v":""},40,{"$f":"IF('Start - jaro'!G20=\"\",\"\",'Start - jaro'!G20)","v":""},null,null,null,null,""]
[null," CELOSTÁTNÍ HRA PLAMEN"]
[]
[]
[null," Výsledková listina č: 1"]
[null,"Celoroční činnost",null,"Trestné body za nesplnění jednotlivých okruhů",null,null,null,null,null,"Celoroční činnost",null,"Trestné body za nesplnění jednotlivých okruhů"]
[]
[]
[null,{"$f":"\"KATEGORIE: \"&'Start - podzim'!$N$2","v":"KATEGORIE: STARŠÍ"},null," I. Okruh"," II. Okruh"," III. Okruh"," IV. Okruh"," Celkem tr.b.",null,{"$f":"\"KATEGORIE: \"&'Start - podzim'!$N$2","v":"KATEGORIE: STARŠÍ"},null," I. Okruh"," II. Okruh"," III. Okruh"," IV. Okruh"," Celkem tr.b."]
[]
[null,"start. číslo","SOUTĚŽNÍ DRUŽSTVO",null,null,null,null,null,null,"start. číslo","SOUTĚŽNÍ DRUŽSTVO"]
[]
[{"$f":"IF('Start - jaro'!I21=\"\",\"\",\"x\")","v":""},41,{"$f":"IF('Start - jaro'!G21=\"\",\"\",'Start - jaro'!G21)","v":""},null,null,null,null,{"$f":"IF($A43=\"x\",\"x\",IF($C43=\"\",\"\",SUM(D43:G43)))","v":""},{"$f":"IF('Start - jaro'!M16=\"\",\"\",\"x\")","v":""},61,{"$f":"IF('Start - jaro'!K16=\"\",\"\",'Start - jaro'!K16)","v":""},null,null,null,null,{"$f":"IF($I43=\"x\",\"x\",IF($K43=\"\",\"\",SUM(L43:O43)))","v":""}]
[{"$f":"IF('Start - jaro'!I22=\"\",\"\",\"x\")","v":""},42,{"$f":"IF('Start - jaro'!G22=\"\",\"\",'Start - jaro'!G22)","v":""},null,null,null,null,{"$f":"IF($A44=\"x\",\"x\",IF($C44=\"\",\"\",SUM(D44:G44)))","v":""},{"$f":"IF('Start - jaro'!M17=\"\",\"\",\"x\")","v":""},62,{"$f":"IF('Start - jaro'!K17=\"\",\"\",'Start - jaro'!K17)","v":""},null,null,null,null,{"$f":"IF($I44=\"x\",\"x\",IF($K44=\"\",\"\",SUM(L44:O44)))","v":""}]
[{"$f":"IF('Start - jaro'!I23=\"\",\"\",\"x\")","v":""},43,{"$f":"IF('Start - jaro'!G23=\"\",\"\",'Start - jaro'!G23)","v":""},null,null,null,null,"",{"$f":"IF('Start - jaro'!M18=\"\",\"\",\"x\")","v":""},63,{"$f":"IF('Start - jaro'!K18=\"\",\"\",'Start - jaro'!K18)","v":""},null,null,null,null,""]
[{"$f":"IF('Start - jaro'!I24=\"\",\"\",\"x\")","v":""},44,{"$f":"IF('Start - jaro'!G24=\"\",\"\",'Start - jaro'!G24)","v":""},null,null,null,null,"",{"$f":"IF('Start - jaro'!M19=\"\",\"\",\"x\")","v":""},64,{"$f":"IF('Start - jaro'!K19=\"\",\"\",'Start - jaro'!K19)","v":""},null,null,null,null,""]
[{"$f":"IF('Start - jaro'!I25=\"\",\"\",\"x\")","v":""},45,{"$f":"IF('Start - jaro'!G25=\"\",\"\",'Start - jaro'!G25)","v":""},null,null,null,null,"",{"$f":"IF('Start - jaro'!M20=\"\",\"\",\"x\")","v":""},65,{"$f":"IF('Start - jaro'!K20=\"\",\"\",'Start - jaro'!K20)","v":""},null,null,null,null,""]
[{"$f":"IF('Start - jaro'!I26=\"\",\"\",\"x\")","v":""},46,{"$f":"IF('Start - jaro'!G26=\"\",\"\",'Start - jaro'!G26)","v":""},null,null,null,null,"",{"$f":"IF('Start - jaro'!M21=\"\",\"\",\"x\")","v":""},66,{"$f":"IF('Start - jaro'!K21=\"\",\"\",'Start - jaro'!K21)","v":""},null,null,null,null,""]
[{"$f":"IF('Start - jaro'!I27=\"\",\"\",\"x\")","v":""},47,{"$f":"IF('Start - jaro'!G27=\"\",\"\",'Start - jaro'!G27)","v":""},null,null,null,null,"",{"$f":"IF('Start - jaro'!M22=\"\",\"\",\"x\")","v":""},67,{"$f":"IF('Start - jaro'!K22=\"\",\"\",'Start - jaro'!K22)","v":""},null,null,null,null,""]
[{"$f":"IF('Start - jaro'!I28=\"\",\"\",\"x\")","v":""},48,{"$f":"IF('Start - jaro'!G28=\"\",\"\",'Start - jaro'!G28)","v":""},null,null,null,null,"",{"$f":"IF('Start - jaro'!M23=\"\",\"\",\"x\")","v":""},68,{"$f":"IF('Start - jaro'!K23=\"\",\"\",'Start - jaro'!K23)","v":""},null,null,null,null,""]
[{"$f":"IF('Start - jaro'!I29=\"\",\"\",\"x\")","v":""},49,{"$f":"IF('Start - jaro'!G29=\"\",\"\",'Start - jaro'!G29)","v":""},null,null,null,null,"",{"$f":"IF('Start - jaro'!M24=\"\",\"\",\"x\")","v":""},69,{"$f":"IF('Start - jaro'!K24=\"\",\"\",'Start - jaro'!K24)","v":""},null,null,null,null,""]
[{"$f":"IF('Start - jaro'!I30=\"\",\"\",\"x\")","v":""},50,{"$f":"IF('Start - jaro'!G30=\"\",\"\",'Start - jaro'!G30)","v":""},null,null,null,null,"",{"$f":"IF('Start - jaro'!M25=\"\",\"\",\"x\")","v":""},70,{"$f":"IF('Start - jaro'!K25=\"\",\"\",'Start - jaro'!K25)","v":""},null,null,null,null,""]
[{"$f":"IF('Start - jaro'!M6=\"\",\"\",\"x\")","v":""},51,{"$f":"IF('Start - jaro'!K6=\"\",\"\",'Start - jaro'!K6)","v":""},null,null,null,null,"",{"$f":"IF('Start - jaro'!M26=\"\",\"\",\"x\")","v":""},71,{"$f":"IF('Start - jaro'!K26=\"\",\"\",'Start - jaro'!K26)","v":""},null,null,null,null,""]
[{"$f":"IF('Start - jaro'!M7=\"\",\"\",\"x\")","v":""},52,{"$f":"IF('Start - jaro'!K7=\"\",\"\",'Start - jaro'!K7)","v":""},null,null,null,null,"",{"$f":"IF('Start - jaro'!M27=\"\",\"\",\"x\")","v":""},72,{"$f":"IF('Start - jaro'!K27=\"\",\"\",'Start - jaro'!K27)","v":""},null,null,null,null,""]
[{"$f":"IF('Start - jaro'!M8=\"\",\"\",\"x\")","v":""},53,{"$f":"IF('Start - jaro'!K8=\"\",\"\",'Start - jaro'!K8)","v":""},null,null,null,null,"",{"$f":"IF('Start - jaro'!M28=\"\",\"\",\"x\")","v":""},73,{"$f":"IF('Start - jaro'!K28=\"\",\"\",'Start - jaro'!K28)","v":""},null,null,null,null,""]
[{"$f":"IF('Start - jaro'!M9=\"\",\"\",\"x\")","v":""},54,{"$f":"IF('Start - jaro'!K9=\"\",\"\",'Start - jaro'!K9)","v":""},null,null,null,null,"",{"$f":"IF('Start - jaro'!M29=\"\",\"\",\"x\")","v":""},74,{"$f":"IF('Start - jaro'!K29=\"\",\"\",'Start - jaro'!K29)","v":""},null,null,null,null,""]
[{"$f":"IF('Start - jaro'!M10=\"\",\"\",\"x\")","v":""},55,{"$f":"IF('Start - jaro'!K10=\"\",\"\",'Start - jaro'!K10)","v":""},null,null,null,null,"",{"$f":"IF('Start - jaro'!M30=\"\",\"\",\"x\")","v":""},75,{"$f":"IF('Start - jaro'!K30=\"\",\"\",'Start - jaro'!K30)","v":""},null,null,null,null,""]
[{"$f":"IF('Start - jaro'!M11=\"\",\"\",\"x\")","v":""},56,{"$f":"IF('Start - jaro'!K11=\"\",\"\",'Start - jaro'!K11)","v":""},null,null,null,null,"",{"$f":"IF('Start - jaro'!Q6=\"\",\"\",\"x\")","v":""},76,{"$f":"IF('Start - jaro'!O6=\"\",\"\",'Start - jaro'!O6)","v":""},null,null,null,null,""]
[{"$f":"IF('Start - jaro'!M12=\"\",\"\",\"x\")","v":""},57,{"$f":"IF('Start - jaro'!K12=\"\",\"\",'Start - jaro'!K12)","v":""},null,null,null,null,"",{"$f":"IF('Start - jaro'!Q7=\"\",\"\",\"x\")","v":""},77,{"$f":"IF('Start - jaro'!O7=\"\",\"\",'Start - jaro'!O7)","v":""},null,null,null,null,""]
[{"$f":"IF('Start - jaro'!M13=\"\",\"\",\"x\")","v":""},58,{"$f":"IF('Start - jaro'!K13=\"\",\"\",'Start - jaro'!K13)","v":""},null,null,null,null,"",{"$f":"IF('Start - jaro'!Q8=\"\",\"\",\"x\")","v":""},78,{"$f":"IF('Start - jaro'!O8=\"\",\"\",'Start - jaro'!O8)","v":""},null,null,null,null,""]
[{"$f":"IF('Start - jaro'!M14=\"\",\"\",\"x\")","v":""},59,{"$f":"IF('Start - jaro'!K14=\"\",\"\",'Start - jaro'!K14)","v":""},null,null,null,null,"",{"$f":"IF('Start - jaro'!Q9=\"\",\"\",\"x\")","v":""},79,{"$f":"IF('Start - jaro'!O9=\"\",\"\",'Start - jaro'!O9)","v":""},null,null,null,null,""]
[{"$f":"IF('Start - jaro'!M15=\"\",\"\",\"x\")","v":""},60,{"$f":"IF('Start - jaro'!K15=\"\",\"\",'Start - jaro'!K15)","v":""},null,null,null,null,"",{"$f":"IF('Start - jaro'!Q10=\"\",\"\",\"x\")","v":""},80,{"$f":"IF('Start - jaro'!O10=\"\",\"\",'Start - jaro'!O10)","v":""},null,null,null,null,""]
[null," CELOSTÁTNÍ HRA PLAMEN"]
[]
[]
[null," Výsledková listina č: 1"]
[null,"Celoroční činnost",null,"Trestné body za nesplnění jednotlivých okruhů",null,null,null,null,null,"Celoroční činnost",null,"Trestné body za nesplnění jednotlivých okruhů"]
[]
[]
[null,{"$f":"\"KATEGORIE: \"&'Start - podzim'!$N$2","v":"KATEGORIE: STARŠÍ"},null," I. Okruh"," II. Okruh"," III. Okruh"," IV. Okruh"," Celkem tr.b.",null,{"$f":"\"KATEGORIE: \"&'Start - podzim'!$N$2","v":"KATEGORIE: STARŠÍ"},null," I. Okruh"," II. Okruh"," III. Okruh"," IV. Okruh"," Celkem tr.b."]
[]
[null,"start. číslo","SOUTĚŽNÍ DRUŽSTVO",null,null,null,null,null,null,"start. číslo","SOUTĚŽNÍ DRUŽSTVO"]
[]
[{"$f":"IF('Start - jaro'!Q11=\"\",\"\",\"x\")","v":""},81,{"$f":"IF('Start - jaro'!O11=\"\",\"\",'Start - jaro'!O11)","v":""},null,null,null,null,{"$f":"IF($A74=\"x\",\"x\",IF($C74=\"\",\"\",SUM(D74:G74)))","v":""}]
[{"$f":"IF('Start - jaro'!Q12=\"\",\"\",\"x\")","v":""},82,{"$f":"IF('Start - jaro'!O12=\"\",\"\",'Start - jaro'!O12)","v":""},null,null,null,null,{"$f":"IF($A75=\"x\",\"x\",IF($C75=\"\",\"\",SUM(D75:G75)))","v":""}]
[{"$f":"IF('Start - jaro'!Q13=\"\",\"\",\"x\")","v":""},83,{"$f":"IF('Start - jaro'!O13=\"\",\"\",'Start - jaro'!O13)","v":""},null,null,null,null,""]
[{"$f":"IF('Start - jaro'!Q14=\"\",\"\",\"x\")","v":""},84,{"$f":"IF('Start - jaro'!O14=\"\",\"\",'Start - jaro'!O14)","v":""},null,null,null,null,""]
[{"$f":"IF('Start - jaro'!Q15=\"\",\"\",\"x\")","v":""},85,{"$f":"IF('Start - jaro'!O15=\"\",\"\",'Start - jaro'!O15)","v":""},null,null,null,null,""]
[{"$f":"IF('Start - jaro'!Q16=\"\",\"\",\"x\")","v":""},86,{"$f":"IF('Start - jaro'!O16=\"\",\"\",'Start - jaro'!O16)","v":""},null,null,null,null,""]
[{"$f":"IF('Start - jaro'!Q17=\"\",\"\",\"x\")","v":""},87,{"$f":"IF('Start - jaro'!O17=\"\",\"\",'Start - jaro'!O17)","v":""},null,null,null,null,""]
[{"$f":"IF('Start - jaro'!Q18=\"\",\"\",\"x\")","v":""},88,{"$f":"IF('Start - jaro'!O18=\"\",\"\",'Start - jaro'!O18)","v":""},null,null,null,null,""]
[{"$f":"IF('Start - jaro'!Q19=\"\",\"\",\"x\")","v":""},89,{"$f":"IF('Start - jaro'!O19=\"\",\"\",'Start - jaro'!O19)","v":""},null,null,null,null,""]
[{"$f":"IF('Start - jaro'!Q20=\"\",\"\",\"x\")","v":""},90,{"$f":"IF('Start - jaro'!O20=\"\",\"\",'Start - jaro'!O20)","v":""},null,null,null,null,""]
[{"$f":"IF('Start - jaro'!Q21=\"\",\"\",\"x\")","v":""},91,{"$f":"IF('Start - jaro'!O21=\"\",\"\",'Start - jaro'!O21)","v":""},null,null,null,null,""]
[{"$f":"IF('Start - jaro'!Q22=\"\",\"\",\"x\")","v":""},92,{"$f":"IF('Start - jaro'!O22=\"\",\"\",'Start - jaro'!O22)","v":""},null,null,null,null,""]
[{"$f":"IF('Start - jaro'!Q23=\"\",\"\",\"x\")","v":""},93,{"$f":"IF('Start - jaro'!O23=\"\",\"\",'Start - jaro'!O23)","v":""},null,null,null,null,""]
[{"$f":"IF('Start - jaro'!Q24=\"\",\"\",\"x\")","v":""},94,{"$f":"IF('Start - jaro'!O24=\"\",\"\",'Start - jaro'!O24)","v":""},null,null,null,null,""]
[{"$f":"IF('Start - jaro'!Q25=\"\",\"\",\"x\")","v":""},95,{"$f":"IF('Start - jaro'!O25=\"\",\"\",'Start - jaro'!O25)","v":""},null,null,null,null,""]
[{"$f":"IF('Start - jaro'!Q26=\"\",\"\",\"x\")","v":""},96,{"$f":"IF('Start - jaro'!O26=\"\",\"\",'Start - jaro'!O26)","v":""},null,null,null,null,""]
[{"$f":"IF('Start - jaro'!Q27=\"\",\"\",\"x\")","v":""},97,{"$f":"IF('Start - jaro'!O27=\"\",\"\",'Start - jaro'!O27)","v":""},null,null,null,null,""]
[{"$f":"IF('Start - jaro'!Q28=\"\",\"\",\"x\")","v":""},98,{"$f":"IF('Start - jaro'!O28=\"\",\"\",'Start - jaro'!O28)","v":""},null,null,null,null,""]
[{"$f":"IF('Start - jaro'!Q29=\"\",\"\",\"x\")","v":""},99,{"$f":"IF('Start - jaro'!O29=\"\",\"\",'Start - jaro'!O29)","v":""},null,null,null,null,""]
[{"$f":"IF('Start - jaro'!Q30=\"\",\"\",\"x\")","v":""},100,{"$f":"IF('Start - jaro'!O30=\"\",\"\",'Start - jaro'!O30)","v":""},null,null,null,null,""]

{"sheet":"Beh60mS","index":13,"n_rows":118,"n_cols":23,"rows_kept":118,"cut":false,"hidden":false,"merged":[[42,2,42,5],[42,6,42,15],[84,4,84,7],[84,10,84,13],[44,4,44,7],[44,10,44,13],[80,1,80,16],[82,2,82,5],[82,6,82,15],[40,1,40,16],[0,1,0,16],[4,4,4,7],[4,10,4,13],[2,2,2,5],[2,6,2,15]]}
[null,"Běh na 60m s překážkami - startovní listina"]
[]
[null,null,{"$f":"'Start - jaro'!$B$2","v":"Krajská soutěž HRY PLAMEN"},null,null,null,{"$f":"'Start - jaro'!$F$3&\", \"&'Start - jaro'!$N$3","v":"2020/2021, České Budějovice"}]
[]
[null,null,{"$f":"'Start - podzim'!$N$2","v":"STARŠÍ"},null,"I. pokus",null,null,null,null,null,"II. pokus"]
[null,"St.č.","Jméno","kolektiv",1,2,3,"Čas","dr.",null,1,2,3,"Čas","dr.",null,"Čas",null,"P.",null,"B.",null,"X."]
[null,1,null,null,null,null,null,{"$f":"IF($C7=\"\",\"\",IF(OR($E7=\"DNF\",$F7=\"DNF\",$G7=\"DNF\",AND($E7=\"\",$F7=\"\",$G7=\"\")),\"DNF\",IF(OR($E7=\"NP\",$F7=\"NP\",$G7=\"NP\"),\"NP\",IF(ISERROR(MEDIAN($E7:$G7)),\"DNF\",IF(OR($E7=\"X\",$F7=\"X\",$G7=\"X\",$E7=\"\",$F7=\"\",$G7=\"\",$E7=\"x\",$F7=\"x\",$G7=\"x\"),MAX($E7:$G7),MEDIAN($E7:$G7))))))","v":""},1,null,null,null,null,{"$f":"IF($C7=\"\",\"\",IF(OR($K7=\"DNF\",$L7=\"DNF\",$M7=\"DNF\",AND($K7=\"\",$L7=\"\",$M7=\"\")),\"DNF\",IF(OR($K7=\"NP\",$L7=\"NP\",$M7=\"NP\"),\"NP\",IF(ISERROR(MEDIAN($K7:$M7)),\"DNF\",IF(OR($K7=\"X\",$L7=\"X\",$M7=\"X\",$K7=\"\",$L7=\"\",$M7=\"\",$K7=\"x\",$L7=\"x\",$M7=\"x\"),MAX($K7:$M7),MEDIAN($K7:$M7))))))","v":""},2,null,{"$f":"IF(C7=\"\",\"\",IF(OR(AND(H7=\"NP\",N7=\"NP\"),AND(H7=\"DNF\",N7=\"DNF\")),H7,IF(AND(H7=\"NP\",N7=\"DNF\"),H7,IF(AND(H7=\"DNF\",N7=\"NP\"),N7,MIN(H7,N7)))))","v":""},null,{"$f":"IF(C7=\"\",\"\",IF(OR(Q7=\"NP\",Q7=\"DNF\"),Q7,RANK(Q7,Q$7:Q$118,1)))","v":""},null,{"$f":"IF(C7=\"\",\"\",IF(Q7=\"NP\",MAX(S$7:S$118)+1,IF(Q7=\"DNF\",MAX(S$7:S$118)+COUNTIF(S$7:S$118,\"NP\")+1,RANK(Q7,Q$7:Q$118,1))))","v":""},null,{"$f":"IF($C7=\"\",9000,MAX(H7,N7)+(COUNTIF($H7:$H7,\"NP\")*600)+(COUNTIF($N7:$N7,\"NP\")*600)+(COUNTIF($H7:$H7,\"DNF\")*3600)+(COUNTIF($N7:$N7,\"DNF\")*3600))","v":9000}]
[null,2,null,null,null,null,null,{"$f":"IF($C8=\"\",\"\",IF(OR($E8=\"DNF\",$F8=\"DNF\",$G8=\"DNF\",AND($E8=\"\",$F8=\"\",$G8=\"\")),\"DNF\",IF(OR($E8=\"NP\",$F8=\"NP\",$G8=\"NP\"),\"NP\",IF(ISERROR(MEDIAN($E8:$G8)),\"DNF\",IF(OR($E8=\"X\",$F8=\"X\",$G8=\"X\",$E8=\"\",$F8=\"\",$G8=\"\",$E8=\"x\",$F8=\"x\",$G8=\"x\"),MAX($E8:$G8),MEDIAN($E8:$G8))))))","v":""},2,null,null,null,null,{"$f":"IF($C8=\"\",\"\",IF(OR($K8=\"DNF\",$L8=\"DNF\",$M8=\"DNF\",AND($K8=\"\",$L8=\"\",$M8=\"\")),\"DNF\",IF(OR($K8=\"NP\",$L8=\"NP\",$M8=\"NP\"),\"NP\",IF(ISERROR(MEDIAN($K8:$M8)),\"DNF\",IF(OR($K8=\"X\",$L8=\"X\",$M8=\"X\",$K8=\"\",$L8=\"\",$M8=\"\",$K8=\"x\",$L8=\"x\",$M8=\"x\"),MAX($K8:$M8),MEDIAN($K8:$M8))))))","v":""},1,null,"",null,"",null,"",null,{"$f":"IF($C8=\"\",9000,MAX(H8,N8)+(COUNTIF($H8:$H8,\"NP\")*600)+(COUNTIF($N8:$N8,\"NP\")*600)+(COUNTIF($H8:$H8,\"DNF\")*3600)+(COUNTIF($N8:$N8,\"DNF\")*3600))","v":9000}]
[null,3,null,null,null,null,null,"",1,null,null,null,null,"",2,null,"",null,"",null,"",null,9000]
[null,4,null,null,null,null,null,"",2,null,null,null,null,"",1,null,"",null,"",null,"",null,9000]
[null,5,null,null,null,null,null,"",1,null,null,null,null,"",2,null,"",null,"",null,"",null,9000]
[null,6,null,null,null,null,null,"",2,null,null,null,null,"",1,null,"",null,"",null,"",null,9000]
[null,7,null,null,null,null,null,"",1,null,null,null,null,"",2,null,"",null,"",null,"",null,9000]
[null,8,null,null,null,null,null,"",2,null,null,null,null,"",1,null,"",null,"",null,"",null,9000]
[null,9,null,null,null,null,null,"",1,null,null,null,null,"",2,null,"",null,"",null,"",null,9000]
[null,10,null,null,null,null,null,"",2,null,null,null,null,"",1,null,"",null,"",null,"",null,9000]
[null,11,null,null,null,null,null,"",1,null,null,null,null,"",2,null,"",null,"",null,"",null,9000]
[null,12,null,null,null,null,null,"",2,null,null,null,null,"",1,null,"",null,"",null,"",null,9000]
[null,13,null,null,null,null,null,"",1,21.28,null,null,null,"",2,null,"",null,"",null,"",null,9000]
[null,14,null,null,null,null,null,"",2,null,null,null,null,"",1,null,"",null,"",null,"",null,9000]
[null,15,null,null,null,null,null,"",1,null,null,null,null,"",2,null,"",null,"",null,"",null,9000]
[null,16,null,null,null,null,null,"",2,null,null,null,null,"",1,null,"",null,"",null,"",null,9000]
[null,17,null,null,null,null,null,"",1,null,null,null,null,"",2,null,"",null,"",null,"",null,9000]
[null,18,null,null,null,null,null,"",2,null,null,null,null,"",1,null,"",null,"",null,"",null,9000]
[null,19,null,null,null,null,null,"",1,null,null,null,null,"",2,null,"",null,"",null,"",null,9000]
[null,20,null,null,null,null,null,"",2,null,null,null,null,"",1,null,"",null,"",null,"",null,9000]
[null,21,null,null,null,null,null,"",1,null,null,null,null,"",2,null,"",null,"",null,"",null,9000]
[null,22,null,null,null,null,null,"",2,null,null,null,null,"",1,null,"",null,"",null,"",null,9000]
[null,23,null,null,null,null,null,"",1,null,null,null,null,"",2,null,"",null,"",null,"",null,9000]
[null,24,null,null,null,null,null,"",2,null,null,null,null,"",1,null,"",null,"",null,"",null,9000]
[null,25,null,null,null,null,null,"",1,null,null,null,null,"",2,null,"",null,"",null,"",null,9000]
[null,26,null,null,null,null,null,"",2,null,null,null,null,"",1,null,"",null,"",null,"",null,9000]
[null,27,null,null,null,null,null,"",1,null,null,null,null,"",2,null,"",null,"",null,"",null,9000]
[null,28,null,null,null,null,null,"",2,null,null,null,null,"",1,null,"",null,"",null,"",null,9000]
[null,29,null,null,null,null,null,"",1,null,null,null,null,"",2,null,"",null,"",null,"",null,9000]
[null,30,null,null,null,null,null,"",2,null,null,null,null,"",1,null,"",null,"",null,"",null,9000]
[null,31,null,null,null,null,null,"",1,null,null,null,null,"",2,null,"",null,"",null,"",null,9000]
[null,32,null,null,null,null,null,"",2,null,null,null,null,"",1,null,"",null,"",null,"",null,9000]
[null,33,null,null,null,null,null,"",1,null,null,null,null,"",2,null,"",null,"",null,"",null,9000]
[null,34,null,null,null,null,null,"",2,null,null,null,null,"",1,null,"",null,"",null,"",null,9000]
[null,{"$f":"$B$1","v":"Běh na 60m s překážkami - startovní listina"}]
[]
[null,null,{"$f":"$C$3","v":"Krajská soutěž HRY PLAMEN"},null,null,null,{"$f":"$G$3","v":"2020/2021, České Budějovice"}]
[]
[null,null,{"$f":"'Start - podzim'!$N$2","v":"STARŠÍ"},null,"I. pokus",null,null,null,null,null,"II. pokus"]
[null,"St.č.","Jméno","kolektiv",1,2,3,"Čas","dr.",null,1,2,3,"Čas","dr.",null,"Čas",null,"P.",null,"B.",null,"X."]
[null,35,null,null,null,null,null,null,1,null,null,null,null,"",2,null,"",null,{"$f":"IF(C47=\"\",\"\",IF(OR(Q47=\"NP\",Q47=\"DNF\"),Q47,RANK(Q47,Q$7:Q$118,1)))","v":""},null,{"$f":"IF(C47=\"\",\"\",IF(Q47=\"NP\",MAX(S$7:S$118)+1,IF(Q47=\"DNF\",MAX(S$7:S$118)+COUNTIF(S$7:S$118,\"NP\")+1,RANK(Q47,Q$7:Q$118,1))))","v":""},null,9000]
[null,36,null,null,null,null,null,null,2,null,null,null,null,"",1,null,"",null,"",null,"",null,9000]
[null,37,null,null,null,null,null,null,1,null,null,null,null,"",2,null,"",null,"",null,"",null,9000]
[null,38,null,null,null,null,null,null,2,null,null,null,null,"",1,null,"",null,"",null,"",null,9000]
[null,39,null,null,null,null,null,"",1,null,null,null,null,"",2,null,"",null,"",null,"",null,9000]
[null,40,null,null,null,null,null,"",2,null,null,null,null,"",1,null,"",null,"",null,"",null,9000]
[null,41,null,null,null,null,null,"",1,null,null,null,null,"",2,null,"",null,"",null,"",null,9000]
[null,42,null,null,null,null,null,"",2,null,null,null,null,"",1,null,"",null,"",null,"",null,9000]
[null,43,null,null,null,null,null,"",1,null,null,null,null,"",2,null,"",null,"",null,"",null,9000]
[null,44,null,null,null,null,null,"",2,null,null,null,null,"",1,null,"",null,"",null,"",null,9000]
[null,45,null,null,null,null,null,"",1,null,null,null,null,"",2,null,"",null,"",null,"",null,9000]
[null,46,null,null,null,null,null,"",2,null,null,null,null,"",1,null,"",null,"",null,"",null,9000]
[null,47,null,null,null,null,null,"",1,null,null,null,null,"",2,null,"",null,"",null,"",null,9000]
[null,48,null,null,null,null,null,"",2,null,null,null,null,"",1,null,"",null,"",null,"",null,9000]
[null,49,null,null,null,null,null,"",1,null,null,null,null,"",2,null,"",null,"",null,"",null,9000]
[null,50,null,null,null,null,null,"",2,null,null,null,null,"",1,null,"",null,"",null,"",null,9000]
[null,51,null,null,null,null,null,"",1,null,null,null,null,"",2,null,"",null,"",null,"",null,9000]
[null,52,null,null,null,null,null,"",2,null,null,null,null,"",1,null,"",null,"",null,"",null,9000]
[null,53,null,null,null,null,null,"",1,null,null,null,null,"",2,null,"",null,"",null,"",null,9000]
[null,54,null,null,null,null,null,"",2,null,null,null,null,"",1,null,"",null,"",null,"",null,9000]
[null,55,null,null,null,null,null,"",1,null,null,null,null,"",2,null,"",null,"",null,"",null,9000]
[null,56,null,null,null,null,null,"",2,null,null,null,null,"",1,null,"",null,"",null,"",null,9000]
[null,57,null,null,null,null,null,"",1,null,null,null,null,"",2,null,"",null,"",null,"",null,9000]
[null,58,null,null,null,null,null,"",2,null,null,null,null,"",1,null,"",null,"",null,"",null,9000]
[null,59,null,null,null,null,null,"",1,null,null,null,null,"",2,null,"",null,"",null,"",null,9000]
[null,60,null,null,null,null,null,"",2,null,null,null,null,"",1,null,"",null,"",null,"",null,9000]
[null,61,null,null,null,null,null,"",1,null,null,null,null,"",2,null,"",null,"",null,"",null,9000]
[null,62,null,null,null,null,null,"",2,null,null,null,null,"",1,null,"",null,"",null,"",null,9000]
[null,63,null,null,null,null,null,"",1,null,null,null,null,"",2,null,"",null,"",null,"",null,9000]
[null,64,null,null,null,null,null,"",2,null,null,null,null,"",1,null,"",null,"",null,"",null,9000]
[null,65,null,null,null,null,null,"",1,null,null,null,null,"",2,null,{"$f":"IF(C77=\"\",\"\",IF(OR(AND(H77=\"NP\",N77=\"NP\"),AND(H77=\"DNF\",N77=\"DNF\")),H77,IF(AND(H77=\"NP\",N77=\"DNF\"),H77,IF(AND(H77=\"DNF\",N77=\"NP\"),N77,MIN(H77,N77)))))","v":""},null,"",null,"",null,9000]
[null,66,null,null,null,null,null,{"$f":"IF($C78=\"\",\"\",IF(OR($E78=\"DNF\",$F78=\"DNF\",$G78=\"DNF\",AND($E78=\"\",$F78=\"\",$G78=\"\")),\"DNF\",IF(OR($E78=\"NP\",$F78=\"NP\",$G78=\"NP\"),\"NP\",IF(ISERROR(MEDIAN($E78:$G78)),\"DNF\",IF(OR($E78=\"X\",$F78=\"X\",$G78=\"X\",$E78=\"\",$F78=\"\",$G78=\"\",$E78=\"x\",$F78=\"x\",$G78=\"x\"),MAX($E78:$G78),MEDIAN($E78:$G78))))))","v":""},2,null,null,null,null,{"$f":"IF($C78=\"\",\"\",IF(OR($K78=\"DNF\",$L78=\"DNF\",$M78=\"DNF\",AND($K78=\"\",$L78=\"\",$M78=\"\")),\"DNF\",IF(OR($K78=\"NP\",$L78=\"NP\",$M78=\"NP\"),\"NP\",IF(ISERROR(MEDIAN($K78:$M78)),\"DNF\",IF(OR($K78=\"X\",$L78=\"X\",$M78=\"X\",$K78=\"\",$L78=\"\",$M78=\"\",$K78=\"x\",$L78=\"x\",$M78=\"x\"),MAX($K78:$M78),MEDIAN($K78:$M78))))))","v":""},1,null,{"$f":"IF(C78=\"\",\"\",IF(OR(AND(H78=\"NP\",N78=\"NP\"),AND(H78=\"DNF\",N78=\"DNF\")),H78,IF(AND(H78=\"NP\",N78=\"DNF\"),H78,IF(AND(H78=\"DNF\",N78=\"NP\"),N78,MIN(H78,N78)))))","v":""},null,"",null,"",null,{"$f":"IF($C78=\"\",9000,MAX(H78,N78)+(COUNTIF($H78:$H78,\"NP\")*600)+(COUNTIF($N78:$N78,\"NP\")*600)+(COUNTIF($H78:$H78,\"DNF\")*3600)+(COUNTIF($N78:$N78,\"DNF\")*3600))","v":9000}]
[null,67,null,null,null,null,null,"",1,null,null,null,null,{"$f":"IF($C79=\"\",\"\",IF(OR($K79=\"DNF\",$L79=\"DNF\",$M79=\"DNF\",AND($K79=\"\",$L79=\"\",$M79=\"\")),\"DNF\",IF(OR($K79=\"NP\",$L79=\"NP\",$M79=\"NP\"),\"NP\",IF(ISERROR(MEDIAN($K79:$M79)),\"DNF\",IF(OR($K79=\"X\",$L79=\"X\",$M79=\"X\",$K79=\"\",$L79=\"\",$M79=\"\",$K79=\"x\",$L79=\"x\",$M79=\"x\"),MAX($K79:$M79),MEDIAN($K79:$M79))))))","v":""},2,null,{"$f":"IF(C79=\"\",\"\",IF(OR(AND(H79=\"NP\",N79=\"NP\"),AND(H79=\"DNF\",N79=\"DNF\")),H79,IF(AND(H79=\"NP\",N79=\"DNF\"),H79,IF(AND(H79=\"DNF\",N79=\"NP\"),N79,MIN(H79,N79)))))","v":""},null,"",null,"",null,{"$f":"IF($C79=\"\",9000,MAX(H79,N79)+(COUNTIF($H79:$H79,\"NP\")*600)+(COUNTIF($N79:$N79,\"NP\")*600)+(COUNTIF($H79:$H79,\"DNF\")*3600)+(COUNTIF($N79:$N79,\"DNF\")*3600))","v":9000}]
[null,68,null,null,null,null,null,"",2,null,null,null,null,{"$f":"IF($C80=\"\",\"\",IF(OR($K80=\"DNF\",$L80=\"DNF\",$M80=\"DNF\",AND($K80=\"\",$L80=\"\",$M80=\"\")),\"DNF\",IF(OR($K80=\"NP\",$L80=\"NP\",$M80=\"NP\"),\"NP\",IF(ISERROR(MEDIAN($K80:$M80)),\"DNF\",IF(OR($K80=\"X\",$L80=\"X\",$M80=\"X\",$K80=\"\",$L80=\"\",$M80=\"\",$K80=\"x\",$L80=\"x\",$M80=\"x\"),MAX($K80:$M80),MEDIAN($K80:$M80))))))","v":""},1,null,{"$f":"IF(C80=\"\",\"\",IF(OR(AND(H80=\"NP\",N80=\"NP\"),AND(H80=\"DNF\",N80=\"DNF\")),H80,IF(AND(H80=\"NP\",N80=\"DNF\"),H80,IF(AND(H80=\"DNF\",N80=\"NP\"),N80,MIN(H80,N80)))))","v":""},null,"",null,"",null,{"$f":"IF($C80=\"\",9000,MAX(H80,N80)+(COUNTIF($H80:$H80,\"NP\")*600)+(COUNTIF($N80:$N80,\"NP\")*600)+(COUNTIF($H80:$H80,\"DNF\")*3600)+(COUNTIF($N80:$N80,\"DNF\")*3600))","v":9000}]
[null,{"$f":"$B$1","v":"Běh na 60m s překážkami - startovní listina"}]
[]
[null,null,{"$f":"$C$3","v":"Krajská soutěž HRY PLAMEN"},null,null,null,{"$f":"$G$3","v":"2020/2021, České Budějovice"}]
[]
[null,null,{"$f":"'Start - podzim'!$N$2","v":"STARŠÍ"},null,"I. pokus",null,null,null,null,null,"II. pokus"]
[null,"St.č.","Jméno","kolektiv",1,2,3,"Čas","dr.",null,1,2,3,"Čas","dr.",null,"Čas",null,"P.",null,"B.",null,"X."]
[null,69,null,null,null,null,null,"",1,null,null,null,null,{"$f":"IF($C87=\"\",\"\",IF(OR($K87=\"DNF\",$L87=\"DNF\",$M87=\"DNF\",AND($K87=\"\",$L87=\"\",$M87=\"\")),\"DNF\",IF(OR($K87=\"NP\",$L87=\"NP\",$M87=\"NP\"),\"NP\",IF(ISERROR(MEDIAN($K87:$M87)),\"DNF\",IF(OR($K87=\"X\",$L87=\"X\",$M87=\"X\",$K87=\"\",$L87=\"\",$M87=\"\",$K87=\"x\",$L87=\"x\",$M87=\"x\"),MAX($K87:$M87),MEDIAN($K87:$M87))))))","v":""},2,null,{"$f":"IF(C87=\"\",\"\",IF(OR(AND(H87=\"NP\",N87=\"NP\"),AND(H87=\"DNF\",N87=\"DNF\")),H87,IF(AND(H87=\"NP\",N87=\"DNF\"),H87,IF(AND(H87=\"DNF\",N87=\"NP\"),N87,MIN(H87,N87)))))","v":""},null,{"$f":"IF(C87=\"\",\"\",IF(OR(Q87=\"NP\",Q87=\"DNF\"),Q87,RANK(Q87,Q$7:Q$118,1)))","v":""},null,{"$f":"IF(C87=\"\",\"\",IF(Q87=\"NP\",MAX(S$7:S$118)+1,IF(Q87=\"DNF\",MAX(S$7:S$118)+COUNTIF(S$7:S$118,\"NP\")+1,RANK(Q87,Q$7:Q$118,1))))","v":""},null,{"$f":"IF($C87=\"\",9000,MAX(H87,N87)+(COUNTIF($H87:$H87,\"NP\")*600)+(COUNTIF($N87:$N87,\"NP\")*600)+(COUNTIF($H87:$H87,\"DNF\")*3600)+(COUNTIF($N87:$N87,\"DNF\")*3600))","v":9000}]
[null,70,null,null,null,null,null,"",2,null,null,null,null,"",1,null,"",null,"",null,"",null,9000]
[null,71,null,null,null,null,null,"",1,null,null,null,null,"",2,null,"",null,"",null,"",null,9000]
[null,72,null,null,null,null,null,"",2,null,null,null,null,"",1,null,"",null,"",null,"",null,9000]
[null,73,null,null,null,null,null,"",1,null,null,null,null,"",2,null,"",null,"",null,"",null,9000]
[null,74,null,null,null,null,null,"",2,null,null,null,null,"",1,null,"",null,"",null,"",null,9000]
[null,75,null,null,null,null,null,"",1,null,null,null,null,"",2,null,"",null,"",null,"",null,9000]
[null,76,null,null,null,null,null,"",2,null,null,null,null,"",1,null,"",null,"",null,"",null,9000]
[null,77,null,null,null,null,null,"",1,null,null,null,null,"",2,null,"",null,"",null,"",null,9000]
[null,78,null,null,null,null,null,"",2,null,null,null,null,"",1,null,"",null,"",null,"",null,9000]
[null,79,null,null,null,null,null,"",1,null,null,null,null,"",2,null,"",null,"",null,"",null,9000]
[null,80,null,null,null,null,null,"",2,null,null,null,null,"",1,null,"",null,"",null,"",null,9000]
[null,81,null,null,null,null,null,"",1,null,null,null,null,"",2,null,"",null,"",null,"",null,9000]
[null,82,null,null,null,null,null,"",2,null,null,null,null,"",1,null,"",null,"",null,"",null,9000]
[null,83,null,null,null,null,null,"",1,null,null,null,null,"",2,null,"",null,"",null,"",null,9000]
[null,84,null,null,null,null,null,"",2,null,null,null,null,"",1,null,"",null,"",null,"",null,9000]
[null,85,null,null,null,null,null,"",1,null,null,null,null,"",2,null,"",null,"",null,"",null,9000]
[null,86,null,null,null,null,null,"",2,null,null,null,null,"",1,null,"",null,"",null,"",null,9000]
[null,87,null,null,null,null,null,"",1,null,null,null,null,"",2,null,"",null,"",null,"",null,9000]
[null,88,null,null,null,null,null,"",2,null,null,null,null,"",1,null,"",null,"",null,"",null,9000]
[null,89,null,null,null,null,null,"",1,null,null,null,null,"",2,null,"",null,"",null,"",null,9000]
[null,90,null,null,null,null,null,"",2,null,null,null,null,"",1,null,"",null,"",null,"",null,9000]
[null,91,null,null,null,null,null,"",1,null,null,null,null,"",2,null,"",null,"",null,"",null,9000]
[null,92,null,null,null,null,null,"",2,null,null,null,null,"",1,null,"",null,"",null,"",null,9000]
[null,93,null,null,null,null,null,"",1,null,null,null,null,"",2,null,"",null,"",null,"",null,9000]
[null,94,null,null,null,null,null,"",2,null,null,null,null,"",1,null,"",null,"",null,"",null,9000]
[null,95,null,null,null,null,null,"",1,null,null,null,null,"",2,null,"",null,"",null,"",null,9000]
[null,96,null,null,null,null,null,"",2,null,null,null,null,"",1,null,"",null,"",null,"",null,9000]
[null,97,null,null,null,null,null,"",1,null,null,null,null,"",2,null,"",null,"",null,"",null,9000]
[null,98,null,null,null,null,null,"",2,null,null,null,null,"",1,null,"",null,"",null,"",null,9000]
[null,99,null,null,null,null,null,"",1,null,null,null,null,"",2,null,"",null,"",null,"",null,9000]
[null,100,null,null,null,null,null,"",2,null,null,null,null,"",1,null,"",null,"",null,"",null,9000]

{"sheet":"Beh60mV","index":14,"n_rows":123,"n_cols":9,"rows_kept":123,"cut":false,"hidden":false,"merged":[[82,1,82,8],[46,5,47,5],[46,6,47,6],[46,3,47,3],[41,1,41,8],[43,1,43,3],[87,1,88,1],[87,2,88,2],[87,3,88,3],[43,4,43,8],[84,1,84,3],[84,4,84,8],[46,4,47,4],[46,8,47,8],[45,1,45,2],[46,1,47,1],[46,2,47,2],[87,4,88,4],[87,5,88,5],[87,6,88,6],[87,8,88,8],[86,1,86,2],[0,1,0,8],[5,5,6,5],[5,6,6,6],[5,8,6,8],[5,4,6,4],[4,1,4,2],[5,3,6,3],[5,2,6,2],[5,1,6,1],[2,1,2,3],[2,4,2,8]]}
[null,"Běh na 60m - výsledková listina"]
[]
[null,{"$f":"'Start - jaro'!$B$2","v":"Krajská soutěž HRY PLAMEN"},null,null,{"$f":"'Start - jaro'!$F$3&\", \"&'Start - jaro'!$N$3","v":"2020/2021, České Budějovice"}]
[]
[null,{"$f":"'Start - podzim'!$N$2","v":"STARŠÍ"}]
[null,"Pořadí","Start. číslo","Jméno","kolektiv","čas           I. pokusu","čas          II. pokusu",null,"Výsledný čas"]
[]
[null,{"$f":"IF(Beh60mP!$C1=\"\",\"\",Beh60mP!$X1)","v":""},{"$f":"IF(Beh60mP!$C1=\"\",\"\",Beh60mP!$B1)","v":""},{"$f":"IF(Beh60mP!$C1=\"\",\"\",Beh60mP!$C1)","v":""},{"$f":"IF(Beh60mP!$C1=\"\",\"\",IF(Beh60mP!D1=\"\",\"\",Beh60mP!$D1))","v":""},{"$f":"IF(Beh60mP!$C1=\"\",\"\",Beh60mP!$H1)","v":""},{"$f":"IF(Beh60mP!$C1=\"\",\"\",Beh60mP!$N1)","v":""},null,{"$f":"IF(Beh60mP!$C1=\"\",\"\",Beh60mP!$Q1)","v":""}]
[null,{"$f":"IF(Beh60mP!$C2=\"\",\"\",Beh60mP!$X2)","v":""},{"$f":"IF(Beh60mP!$C2=\"\",\"\",Beh60mP!$B2)","v":""},{"$f":"IF(Beh60mP!$C2=\"\",\"\",Beh60mP!$C2)","v":""},{"$f":"IF(Beh60mP!$C2=\"\",\"\",IF(Beh60mP!D2=\"\",\"\",Beh60mP!$D2))","v":""},{"$f":"IF(Beh60mP!$C2=\"\",\"\",Beh60mP!$H2)","v":""},{"$f":"IF(Beh60mP!$C2=\"\",\"\",Beh60mP!$N2)","v":""},null,{"$f":"IF(Beh60mP!$C2=\"\",\"\",Beh60mP!$Q2)","v":""}]
[null,{"$f":"IF(Beh60mP!$C3=\"\",\"\",Beh60mP!$X3)","v":""},{"$f":"IF(Beh60mP!$C3=\"\",\"\",Beh60mP!$B3)","v":""},{"$f":"IF(Beh60mP!$C3=\"\",\"\",Beh60mP!$C3)","v":""},{"$f":"IF(Beh60mP!$C3=\"\",\"\",IF(Beh60mP!D3=\"\",\"\",Beh60mP!$D3))","v":""},{"$f":"IF(Beh60mP!$C3=\"\",\"\",Beh60mP!$H3)","v":""},{"$f":"IF(Beh60mP!$C3=\"\",\"\",Beh60mP!$N3)","v":""},null,{"$f":"IF(Beh60mP!$C3=\"\",\"\",Beh60mP!$Q3)","v":""}]
[null,{"$f":"IF(Beh60mP!$C4=\"\",\"\",Beh60mP!$X4)","v":""},{"$f":"IF(Beh60mP!$C4=\"\",\"\",Beh60mP!$B4)","v":""},{"$f":"IF(Beh60mP!$C4=\"\",\"\",Beh60mP!$C4)","v":""},{"$f":"IF(Beh60mP!$C4=\"\",\"\",IF(Beh60mP!D4=\"\",\"\",Beh60mP!$D4))","v":""},{"$f":"IF(Beh60mP!$C4=\"\",\"\",Beh60mP!$H4)","v":""},{"$f":"IF(Beh60mP!$C4=\"\",\"\",Beh60mP!$N4)","v":""},null,{"$f":"IF(Beh60mP!$C4=\"\",\"\",Beh60mP!$Q4)","v":""}]
[null,{"$f":"IF(Beh60mP!$C5=\"\",\"\",Beh60mP!$X5)","v":""},{"$f":"IF(Beh60mP!$C5=\"\",\"\",Beh60mP!$B5)","v":""},{"$f":"IF(Beh60mP!$C5=\"\",\"\",Beh60mP!$C5)","v":""},{"$f":"IF(Beh60mP!$C5=\"\",\"\",IF(Beh60mP!D5=\"\",\"\",Beh60mP!$D5))","v":""},{"$f":"IF(Beh60mP!$C5=\"\",\"\",Beh60mP!$H5)","v":""},{"$f":"IF(Beh60mP!$C5=\"\",\"\",Beh60mP!$N5)","v":""},null,{"$f":"IF(Beh60mP!$C5=\"\",\"\",Beh60mP!$Q5)","v":""}]
[null,{"$f":"IF(Beh60mP!$C6=\"\",\"\",Beh60mP!$X6)","v":""},{"$f":"IF(Beh60mP!$C6=\"\",\"\",Beh60mP!$B6)","v":""},{"$f":"IF(Beh60mP!$C6=\"\",\"\",Beh60mP!$C6)","v":""},{"$f":"IF(Beh60mP!$C6=\"\",\"\",IF(Beh60mP!D6=\"\",\"\",Beh60mP!$D6))","v":""},{"$f":"IF(Beh60mP!$C6=\"\",\"\",Beh60mP!$H6)","v":""},{"$f":"IF(Beh60mP!$C6=\"\",\"\",Beh60mP!$N6)","v":""},null,{"$f":"IF(Beh60mP!$C6=\"\",\"\",Beh60mP!$Q6)","v":""}]
[null,{"$f":"IF(Beh60mP!$C7=\"\",\"\",Beh60mP!$X7)","v":""},{"$f":"IF(Beh60mP!$C7=\"\",\"\",Beh60mP!$B7)","v":""},{"$f":"IF(Beh60mP!$C7=\"\",\"\",Beh60mP!$C7)","v":""},{"$f":"IF(Beh60mP!$C7=\"\",\"\",IF(Beh60mP!D7=\"\",\"\",Beh60mP!$D7))","v":""},{"$f":"IF(Beh60mP!$C7=\"\",\"\",Beh60mP!$H7)","v":""},{"$f":"IF(Beh60mP!$C7=\"\",\"\",Beh60mP!$N7)","v":""},null,{"$f":"IF(Beh60mP!$C7=\"\",\"\",Beh60mP!$Q7)","v":""}]
[null,{"$f":"IF(Beh60mP!$C8=\"\",\"\",Beh60mP!$X8)","v":""},{"$f":"IF(Beh60mP!$C8=\"\",\"\",Beh60mP!$B8)","v":""},{"$f":"IF(Beh60mP!$C8=\"\",\"\",Beh60mP!$C8)","v":""},{"$f":"IF(Beh60mP!$C8=\"\",\"\",IF(Beh60mP!D8=\"\",\"\",Beh60mP!$D8))","v":""},{"$f":"IF(Beh60mP!$C8=\"\",\"\",Beh60mP!$H8)","v":""},{"$f":"IF(Beh60mP!$C8=\"\",\"\",Beh60mP!$N8)","v":""},null,{"$f":"IF(Beh60mP!$C8=\"\",\"\",Beh60mP!$Q8)","v":""}]
[null,{"$f":"IF(Beh60mP!$C9=\"\",\"\",Beh60mP!$X9)","v":""},{"$f":"IF(Beh60mP!$C9=\"\",\"\",Beh60mP!$B9)","v":""},{"$f":"IF(Beh60mP!$C9=\"\",\"\",Beh60mP!$C9)","v":""},{"$f":"IF(Beh60mP!$C9=\"\",\"\",IF(Beh60mP!D9=\"\",\"\",Beh60mP!$D9))","v":""},{"$f":"IF(Beh60mP!$C9=\"\",\"\",Beh60mP!$H9)","v":""},{"$f":"IF(Beh60mP!$C9=\"\",\"\",Beh60mP!$N9)","v":""},null,{"$f":"IF(Beh60mP!$C9=\"\",\"\",Beh60mP!$Q9)","v":""}]
[null,{"$f":"IF(Beh60mP!$C10=\"\",\"\",Beh60mP!$X10)","v":""},{"$f":"IF(Beh60mP!$C10=\"\",\"\",Beh60mP!$B10)","v":""},{"$f":"IF(Beh60mP!$C10=\"\",\"\",Beh60mP!$C10)","v":""},{"$f":"IF(Beh60mP!$C10=\"\",\"\",IF(Beh60mP!D10=\"\",\"\",Beh60mP!$D10))","v":""},{"$f":"IF(Beh60mP!$C10=\"\",\"\",Beh60mP!$H10)","v":""},{"$f":"IF(Beh60mP!$C10=\"\",\"\",Beh60mP!$N10)","v":""},null,{"$f":"IF(Beh60mP!$C10=\"\",\"\",Beh60mP!$Q10)","v":""}]
[null,{"$f":"IF(Beh60mP!$C11=\"\",\"\",Beh60mP!$X11)","v":""},{"$f":"IF(Beh60mP!$C11=\"\",\"\",Beh60mP!$B11)","v":""},{"$f":"IF(Beh60mP!$C11=\"\",\"\",Beh60mP!$C11)","v":""},{"$f":"IF(Beh60mP!$C11=\"\",\"\",IF(Beh60mP!D11=\"\",\"\",Beh60mP!$D11))","v":""},{"$f":"IF(Beh60mP!$C11=\"\",\"\",Beh60mP!$H11)","v":""},{"$f":"IF(Beh60mP!$C11=\"\",\"\",Beh60mP!$N11)","v":""},null,{"$f":"IF(Beh60mP!$C11=\"\",\"\",Beh60mP!$Q11)","v":""}]
[null,{"$f":"IF(Beh60mP!$C12=\"\",\"\",Beh60mP!$X12)","v":""},{"$f":"IF(Beh60mP!$C12=\"\",\"\",Beh60mP!$B12)","v":""},{"$f":"IF(Beh60mP!$C12=\"\",\"\",Beh60mP!$C12)","v":""},{"$f":"IF(Beh60mP!$C12=\"\",\"\",IF(Beh60mP!D12=\"\",\"\",Beh60mP!$D12))","v":""},{"$f":"IF(Beh60mP!$C12=\"\",\"\",Beh60mP!$H12)","v":""},{"$f":"IF(Beh60mP!$C12=\"\",\"\",Beh60mP!$N12)","v":""},null,{"$f":"IF(Beh60mP!$C12=\"\",\"\",Beh60mP!$Q12)","v":""}]
[null,{"$f":"IF(Beh60mP!$C13=\"\",\"\",Beh60mP!$X13)","v":""},{"$f":"IF(Beh60mP!$C13=\"\",\"\",Beh60mP!$B13)","v":""},{"$f":"IF(Beh60mP!$C13=\"\",\"\",Beh60mP!$C13)","v":""},{"$f":"IF(Beh60mP!$C13=\"\",\"\",IF(Beh60mP!D13=\"\",\"\",Beh60mP!$D13))","v":""},{"$f":"IF(Beh60mP!$C13=\"\",\"\",Beh60mP!$H13)","v":""},{"$f":"IF(Beh60mP!$C13=\"\",\"\",Beh60mP!$N13)","v":""},null,{"$f":"IF(Beh60mP!$C13=\"\",\"\",Beh60mP!$Q13)","v":""}]
[null,{"$f":"IF(Beh60mP!$C14=\"\",\"\",Beh60mP!$X14)","v":""},{"$f":"IF(Beh60mP!$C14=\"\",\"\",Beh60mP!$B14)","v":""},{"$f":"IF(Beh60mP!$C14=\"\",\"\",Beh60mP!$C14)","v":""},{"$f":"IF(Beh60mP!$C14=\"\",\"\",IF(Beh60mP!D14=\"\",\"\",Beh60mP!$D14))","v":""},{"$f":"IF(Beh60mP!$C14=\"\",\"\",Beh60mP!$H14)","v":""},{"$f":"IF(Beh60mP!$C14=\"\",\"\",Beh60mP!$N14)","v":""},null,{"$f":"IF(Beh60mP!$C14=\"\",\"\",Beh60mP!$Q14)","v":""}]
[null,{"$f":"IF(Beh60mP!$C15=\"\",\"\",Beh60mP!$X15)","v":""},{"$f":"IF(Beh60mP!$C15=\"\",\"\",Beh60mP!$B15)","v":""},{"$f":"IF(Beh60mP!$C15=\"\",\"\",Beh60mP!$C15)","v":""},{"$f":"IF(Beh60mP!$C15=\"\",\"\",IF(Beh60mP!D15=\"\",\"\",Beh60mP!$D15))","v":""},{"$f":"IF(Beh60mP!$C15=\"\",\"\",Beh60mP!$H15)","v":""},{"$f":"IF(Beh60mP!$C15=\"\",\"\",Beh60mP!$N15)","v":""},null,{"$f":"IF(Beh60mP!$C15=\"\",\"\",Beh60mP!$Q15)","v":""}]
[null,{"$f":"IF(Beh60mP!$C16=\"\",\"\",Beh60mP!$X16)","v":""},{"$f":"IF(Beh60mP!$C16=\"\",\"\",Beh60mP!$B16)","v":""},{"$f":"IF(Beh60mP!$C16=\"\",\"\",Beh60mP!$C16)","v":""},{"$f":"IF(Beh60mP!$C16=\"\",\"\",IF(Beh60mP!D16=\"\",\"\",Beh60mP!$D16))","v":""},{"$f":"IF(Beh60mP!$C16=\"\",\"\",Beh60mP!$H16)","v":""},{"$f":"IF(Beh60mP!$C16=\"\",\"\",Beh60mP!$N16)","v":""},null,{"$f":"IF(Beh60mP!$C16=\"\",\"\",Beh60mP!$Q16)","v":""}]
[null,{"$f":"IF(Beh60mP!$C17=\"\",\"\",Beh60mP!$X17)","v":""},{"$f":"IF(Beh60mP!$C17=\"\",\"\",Beh60mP!$B17)","v":""},{"$f":"IF(Beh60mP!$C17=\"\",\"\",Beh60mP!$C17)","v":""},{"$f":"IF(Beh60mP!$C17=\"\",\"\",IF(Beh60mP!D17=\"\",\"\",Beh60mP!$D17))","v":""},{"$f":"IF(Beh60mP!$C17=\"\",\"\",Beh60mP!$H17)","v":""},{"$f":"IF(Beh60mP!$C17=\"\",\"\",Beh60mP!$N17)","v":""},null,{"$f":"IF(Beh60mP!$C17=\"\",\"\",Beh60mP!$Q17)","v":""}]
[null,{"$f":"IF(Beh60mP!$C18=\"\",\"\",Beh60mP!$X18)","v":""},{"$f":"IF(Beh60mP!$C18=\"\",\"\",Beh60mP!$B18)","v":""},{"$f":"IF(Beh60mP!$C18=\"\",\"\",Beh60mP!$C18)","v":""},{"$f":"IF(Beh60mP!$C18=\"\",\"\",IF(Beh60mP!D18=\"\",\"\",Beh60mP!$D18))","v":""},{"$f":"IF(Beh60mP!$C18=\"\",\"\",Beh60mP!$H18)","v":""},{"$f":"IF(Beh60mP!$C18=\"\",\"\",Beh60mP!$N18)","v":""},null,{"$f":"IF(Beh60mP!$C18=\"\",\"\",Beh60mP!$Q18)","v":""}]
[null,{"$f":"IF(Beh60mP!$C19=\"\",\"\",Beh60mP!$X19)","v":""},{"$f":"IF(Beh60mP!$C19=\"\",\"\",Beh60mP!$B19)","v":""},{"$f":"IF(Beh60mP!$C19=\"\",\"\",Beh60mP!$C19)","v":""},{"$f":"IF(Beh60mP!$C19=\"\",\"\",IF(Beh60mP!D19=\"\",\"\",Beh60mP!$D19))","v":""},{"$f":"IF(Beh60mP!$C19=\"\",\"\",Beh60mP!$H19)","v":""},{"$f":"IF(Beh60mP!$C19=\"\",\"\",Beh60mP!$N19)","v":""},null,{"$f":"IF(Beh60mP!$C19=\"\",\"\",Beh60mP!$Q19)","v":""}]
[null,{"$f":"IF(Beh60mP!$C20=\"\",\"\",Beh60mP!$X20)","v":""},{"$f":"IF(Beh60mP!$C20=\"\",\"\",Beh60mP!$B20)","v":""},{"$f":"IF(Beh60mP!$C20=\"\",\"\",Beh60mP!$C20)","v":""},{"$f":"IF(Beh60mP!$C20=\"\",\"\",IF(Beh60mP!D20=\"\",\"\",Beh60mP!$D20))","v":""},{"$f":"IF(Beh60mP!$C20=\"\",\"\",Beh60mP!$H20)","v":""},{"$f":"IF(Beh60mP!$C20=\"\",\"\",Beh60mP!$N20)","v":""},null,{"$f":"IF(Beh60mP!$C20=\"\",\"\",Beh60mP!$Q20)","v":""}]
[null,{"$f":"IF(Beh60mP!$C21=\"\",\"\",Beh60mP!$X21)","v":""},{"$f":"IF(Beh60mP!$C21=\"\",\"\",Beh60mP!$B21)","v":""},{"$f":"IF(Beh60mP!$C21=\"\",\"\",Beh60mP!$C21)","v":""},{"$f":"IF(Beh60mP!$C21=\"\",\"\",IF(Beh60mP!D21=\"\",\"\",Beh60mP!$D21))","v":""},{"$f":"IF(Beh60mP!$C21=\"\",\"\",Beh60mP!$H21)","v":""},{"$f":"IF(Beh60mP!$C21=\"\",\"\",Beh60mP!$N21)","v":""},null,{"$f":"IF(Beh60mP!$C21=\"\",\"\",Beh60mP!$Q21)","v":""}]
[null,{"$f":"IF(Beh60mP!$C22=\"\",\"\",Beh60mP!$X22)","v":""},{"$f":"IF(Beh60mP!$C22=\"\",\"\",Beh60mP!$B22)","v":""},{"$f":"IF(Beh60mP!$C22=\"\",\"\",Beh60mP!$C22)","v":""},{"$f":"IF(Beh60mP!$C22=\"\",\"\",IF(Beh60mP!D22=\"\",\"\",Beh60mP!$D22))","v":""},{"$f":"IF(Beh60mP!$C22=\"\",\"\",Beh60mP!$H22)","v":""},{"$f":"IF(Beh60mP!$C22=\"\",\"\",Beh60mP!$N22)","v":""},null,{"$f":"IF(Beh60mP!$C22=\"\",\"\",Beh60mP!$Q22)","v":""}]
[null,{"$f":"IF(Beh60mP!$C23=\"\",\"\",Beh60mP!$X23)","v":""},{"$f":"IF(Beh60mP!$C23=\"\",\"\",Beh60mP!$B23)","v":""},{"$f":"IF(Beh60mP!$C23=\"\",\"\",Beh60mP!$C23)","v":""},{"$f":"IF(Beh60mP!$C23=\"\",\"\",IF(Beh60mP!D23=\"\",\"\",Beh60mP!$D23))","v":""},{"$f":"IF(Beh60mP!$C23=\"\",\"\",Beh60mP!$H23)","v":""},{"$f":"IF(Beh60mP!$C23=\"\",\"\",Beh60mP!$N23)","v":""},null,{"$f":"IF(Beh60mP!$C23=\"\",\"\",Beh60mP!$Q23)","v":""}]
[null,{"$f":"IF(Beh60mP!$C24=\"\",\"\",Beh60mP!$X24)","v":""},{"$f":"IF(Beh60mP!$C24=\"\",\"\",Beh60mP!$B24)","v":""},{"$f":"IF(Beh60mP!$C24=\"\",\"\",Beh60mP!$C24)","v":""},{"$f":"IF(Beh60mP!$C24=\"\",\"\",IF(Beh60mP!D24=\"\",\"\",Beh60mP!$D24))","v":""},{"$f":"IF(Beh60mP!$C24=\"\",\"\",Beh60mP!$H24)","v":""},{"$f":"IF(Beh60mP!$C24=\"\",\"\",Beh60mP!$N24)","v":""},null,{"$f":"IF(Beh60mP!$C24=\"\",\"\",Beh60mP!$Q24)","v":""}]
[null,{"$f":"IF(Beh60mP!$C25=\"\",\"\",Beh60mP!$X25)","v":""},{"$f":"IF(Beh60mP!$C25=\"\",\"\",Beh60mP!$B25)","v":""},{"$f":"IF(Beh60mP!$C25=\"\",\"\",Beh60mP!$C25)","v":""},{"$f":"IF(Beh60mP!$C25=\"\",\"\",IF(Beh60mP!D25=\"\",\"\",Beh60mP!$D25))","v":""},{"$f":"IF(Beh60mP!$C25=\"\",\"\",Beh60mP!$H25)","v":""},{"$f":"IF(Beh60mP!$C25=\"\",\"\",Beh60mP!$N25)","v":""},null,{"$f":"IF(Beh60mP!$C25=\"\",\"\",Beh60mP!$Q25)","v":""}]
[null,{"$f":"IF(Beh60mP!$C26=\"\",\"\",Beh60mP!$X26)","v":""},{"$f":"IF(Beh60mP!$C26=\"\",\"\",Beh60mP!$B26)","v":""},{"$f":"IF(Beh60mP!$C26=\"\",\"\",Beh60mP!$C26)","v":""},{"$f":"IF(Beh60mP!$C26=\"\",\"\",IF(Beh60mP!D26=\"\",\"\",Beh60mP!$D26))","v":""},{"$f":"IF(Beh60mP!$C26=\"\",\"\",Beh60mP!$H26)","v":""},{"$f":"IF(Beh60mP!$C26=\"\",\"\",Beh60mP!$N26)","v":""},null,{"$f":"IF(Beh60mP!$C26=\"\",\"\",Beh60mP!$Q26)","v":""}]
[null,{"$f":"IF(Beh60mP!$C27=\"\",\"\",Beh60mP!$X27)","v":""},{"$f":"IF(Beh60mP!$C27=\"\",\"\",Beh60mP!$B27)","v":""},{"$f":"IF(Beh60mP!$C27=\"\",\"\",Beh60mP!$C27)","v":""},{"$f":"IF(Beh60mP!$C27=\"\",\"\",IF(Beh60mP!D27=\"\",\"\",Beh60mP!$D27))","v":""},{"$f":"IF(Beh60mP!$C27=\"\",\"\",Beh60mP!$H27)","v":""},{"$f":"IF(Beh60mP!$C27=\"\",\"\",Beh60mP!$N27)","v":""},null,{"$f":"IF(Beh60mP!$C27=\"\",\"\",Beh60mP!$Q27)","v":""}]
[null,{"$f":"IF(Beh60mP!$C28=\"\",\"\",Beh60mP!$X28)","v":""},{"$f":"IF(Beh60mP!$C28=\"\",\"\",Beh60mP!$B28)","v":""},{"$f":"IF(Beh60mP!$C28=\"\",\"\",Beh60mP!$C28)","v":""},{"$f":"IF(Beh60mP!$C28=\"\",\"\",IF(Beh60mP!D28=\"\",\"\",Beh60mP!$D28))","v":""},{"$f":"IF(Beh60mP!$C28=\"\",\"\",Beh60mP!$H28)","v":""},{"$f":"IF(Beh60mP!$C28=\"\",\"\",Beh60mP!$N28)","v":""},null,{"$f":"IF(Beh60mP!$C28=\"\",\"\",Beh60mP!$Q28)","v":""}]
[null,{"$f":"IF(Beh60mP!$C29=\"\",\"\",Beh60mP!$X29)","v":""},{"$f":"IF(Beh60mP!$C29=\"\",\"\",Beh60mP!$B29)","v":""},{"$f":"IF(Beh60mP!$C29=\"\",\"\",Beh60mP!$C29)","v":""},{"$f":"IF(Beh60mP!$C29=\"\",\"\",IF(Beh60mP!D29=\"\",\"\",Beh60mP!$D29))","v":""},{"$f":"IF(Beh60mP!$C29=\"\",\"\",Beh60mP!$H29)","v":""},{"$f":"IF(Beh60mP!$C29=\"\",\"\",Beh60mP!$N29)","v":""},null,{"$f":"IF(Beh60mP!$C29=\"\",\"\",Beh60mP!$Q29)","v":""}]
[null,{"$f":"IF(Beh60mP!$C30=\"\",\"\",Beh60mP!$X30)","v":""},{"$f":"IF(Beh60mP!$C30=\"\",\"\",Beh60mP!$B30)","v":""},{"$f":"IF(Beh60mP!$C30=\"\",\"\",Beh60mP!$C30)","v":""},{"$f":"IF(Beh60mP!$C30=\"\",\"\",IF(Beh60mP!D30=\"\",\"\",Beh60mP!$D30))","v":""},{"$f":"IF(Beh60mP!$C30=\"\",\"\",Beh60mP!$H30)","v":""},{"$f":"IF(Beh60mP!$C30=\"\",\"\",Beh60mP!$N30)","v":""},null,{"$f":"IF(Beh60mP!$C30=\"\",\"\",Beh60mP!$Q30)","v":""}]
[null,{"$f":"IF(Beh60mP!$C31=\"\",\"\",Beh60mP!$X31)","v":""},{"$f":"IF(Beh60mP!$C31=\"\",\"\",Beh60mP!$B31)","v":""},{"$f":"IF(Beh60mP!$C31=\"\",\"\",Beh60mP!$C31)","v":""},{"$f":"IF(Beh60mP!$C31=\"\",\"\",IF(Beh60mP!D31=\"\",\"\",Beh60mP!$D31))","v":""},{"$f":"IF(Beh60mP!$C31=\"\",\"\",Beh60mP!$H31)","v":""},{"$f":"IF(Beh60mP!$C31=\"\",\"\",Beh60mP!$N31)","v":""},null,{"$f":"IF(Beh60mP!$C31=\"\",\"\",Beh60mP!$Q31)","v":""}]
[null,{"$f":"IF(Beh60mP!$C32=\"\",\"\",Beh60mP!$X32)","v":""},{"$f":"IF(Beh60mP!$C32=\"\",\"\",Beh60mP!$B32)","v":""},{"$f":"IF(Beh60mP!$C32=\"\",\"\",Beh60mP!$C32)","v":""},{"$f":"IF(Beh60mP!$C32=\"\",\"\",IF(Beh60mP!D32=\"\",\"\",Beh60mP!$D32))","v":""},{"$f":"IF(Beh60mP!$C32=\"\",\"\",Beh60mP!$H32)","v":""},{"$f":"IF(Beh60mP!$C32=\"\",\"\",Beh60mP!$N32)","v":""},null,{"$f":"IF(Beh60mP!$C32=\"\",\"\",Beh60mP!$Q32)","v":""}]
[null,{"$f":"IF(Beh60mP!$C33=\"\",\"\",Beh60mP!$X33)","v":""},{"$f":"IF(Beh60mP!$C33=\"\",\"\",Beh60mP!$B33)","v":""},{"$f":"IF(Beh60mP!$C33=\"\",\"\",Beh60mP!$C33)","v":""},{"$f":"IF(Beh60mP!$C33=\"\",\"\",IF(Beh60mP!D33=\"\",\"\",Beh60mP!$D33))","v":""},{"$f":"IF(Beh60mP!$C33=\"\",\"\",Beh60mP!$H33)","v":""},{"$f":"IF(Beh60mP!$C33=\"\",\"\",Beh60mP!$N33)","v":""},null,{"$f":"IF(Beh60mP!$C33=\"\",\"\",Beh60mP!$Q33)","v":""}]
[null,{"$f":"IF(Beh60mP!$C34=\"\",\"\",Beh60mP!$X34)","v":""},{"$f":"IF(Beh60mP!$C34=\"\",\"\",Beh60mP!$B34)","v":""},{"$f":"IF(Beh60mP!$C34=\"\",\"\",Beh60mP!$C34)","v":""},{"$f":"IF(Beh60mP!$C34=\"\",\"\",IF(Beh60mP!D34=\"\",\"\",Beh60mP!$D34))","v":""},{"$f":"IF(Beh60mP!$C34=\"\",\"\",Beh60mP!$H34)","v":""},{"$f":"IF(Beh60mP!$C34=\"\",\"\",Beh60mP!$N34)","v":""},null,{"$f":"IF(Beh60mP!$C34=\"\",\"\",Beh60mP!$Q34)","v":""}]
[null,{"$f":"B1","v":"Běh na 60m - výsledková listina"}]
[]
[null,{"$f":"$B$3","v":"Krajská soutěž HRY PLAMEN"},null,null,{"$f":"$E$3","v":"2020/2021, České Budějovice"}]
[]
[null,{"$f":"'Start - podzim'!$N$2","v":"STARŠÍ"}]
[null,"Pořadí","Start. číslo","Jméno","kolektiv","čas           I. pokusu","čas          II. pokusu",null,"Výsledný čas"]
[]
[null,{"$f":"IF(Beh60mP!$C35=\"\",\"\",Beh60mP!$X35)","v":""},{"$f":"IF(Beh60mP!$C35=\"\",\"\",Beh60mP!$B35)","v":""},{"$f":"IF(Beh60mP!$C35=\"\",\"\",Beh60mP!$C35)","v":""},{"$f":"IF(Beh60mP!$C35=\"\",\"\",IF(Beh60mP!D35=\"\",\"\",Beh60mP!$D35))","v":""},{"$f":"IF(Beh60mP!$C35=\"\",\"\",Beh60mP!$H35)","v":""},{"$f":"IF(Beh60mP!$C35=\"\",\"\",Beh60mP!$N35)","v":""},null,{"$f":"IF(Beh60mP!$C35=\"\",\"\",Beh60mP!$Q35)","v":""}]
[null,{"$f":"IF(Beh60mP!$C36=\"\",\"\",Beh60mP!$X36)","v":""},{"$f":"IF(Beh60mP!$C36=\"\",\"\",Beh60mP!$B36)","v":""},{"$f":"IF(Beh60mP!$C36=\"\",\"\",Beh60mP!$C36)","v":""},{"$f":"IF(Beh60mP!$C36=\"\",\"\",IF(Beh60mP!D36=\"\",\"\",Beh60mP!$D36))","v":""},{"$f":"IF(Beh60mP!$C36=\"\",\"\",Beh60mP!$H36)","v":""},{"$f":"IF(Beh60mP!$C36=\"\",\"\",Beh60mP!$N36)","v":""},null,{"$f":"IF(Beh60mP!$C36=\"\",\"\",Beh60mP!$Q36)","v":""}]
[null,{"$f":"IF(Beh60mP!$C37=\"\",\"\",Beh60mP!$X37)","v":""},{"$f":"IF(Beh60mP!$C37=\"\",\"\",Beh60mP!$B37)","v":""},{"$f":"IF(Beh60mP!$C37=\"\",\"\",Beh60mP!$C37)","v":""},{"$f":"IF(Beh60mP!$C37=\"\",\"\",IF(Beh60mP!D37=\"\",\"\",Beh60mP!$D37))","v":""},{"$f":"IF(Beh60mP!$C37=\"\",\"\",Beh60mP!$H37)","v":""},{"$f":"IF(Beh60mP!$C37=\"\",\"\",Beh60mP!$N37)","v":""},null,{"$f":"IF(Beh60mP!$C37=\"\",\"\",Beh60mP!$Q37)","v":""}]
[null,{"$f":"IF(Beh60mP!$C38=\"\",\"\",Beh60mP!$X38)","v":""},{"$f":"IF(Beh60mP!$C38=\"\",\"\",Beh60mP!$B38)","v":""},{"$f":"IF(Beh60mP!$C38=\"\",\"\",Beh60mP!$C38)","v":""},{"$f":"IF(Beh60mP!$C38=\"\",\"\",IF(Beh60mP!D38=\"\",\"\",Beh60mP!$D38))","v":""},{"$f":"IF(Beh60mP!$C38=\"\",\"\",Beh60mP!$H38)","v":""},{"$f":"IF(Beh60mP!$C38=\"\",\"\",Beh60mP!$N38)","v":""},null,{"$f":"IF(Beh60mP!$C38=\"\",\"\",Beh60mP!$Q38)","v":""}]
[null,{"$f":"IF(Beh60mP!$C39=\"\",\"\",Beh60mP!$X39)","v":""},{"$f":"IF(Beh60mP!$C39=\"\",\"\",Beh60mP!$B39)","v":""},{"$f":"IF(Beh60mP!$C39=\"\",\"\",Beh60mP!$C39)","v":""},{"$f":"IF(Beh60mP!$C39=\"\",\"\",IF(Beh60mP!D39=\"\",\"\",Beh60mP!$D39))","v":""},{"$f":"IF(Beh60mP!$C39=\"\",\"\",Beh60mP!$H39)","v":""},{"$f":"IF(Beh60mP!$C39=\"\",\"\",Beh60mP!$N39)","v":""},null,{"$f":"IF(Beh60mP!$C39=\"\",\"\",Beh60mP!$Q39)","v":""}]
[null,{"$f":"IF(Beh60mP!$C40=\"\",\"\",Beh60mP!$X40)","v":""},{"$f":"IF(Beh60mP!$C40=\"\",\"\",Beh60mP!$B40)","v":""},{"$f":"IF(Beh60mP!$C40=\"\",\"\",Beh60mP!$C40)","v":""},{"$f":"IF(Beh60mP!$C40=\"\",\"\",IF(Beh60mP!D40=\"\",\"\",Beh60mP!$D40))","v":""},{"$f":"IF(Beh60mP!$C40=\"\",\"\",Beh60mP!$H40)","v":""},{"$f":"IF(Beh60mP!$C40=\"\",\"\",Beh60mP!$N40)","v":""},null,{"$f":"IF(Beh60mP!$C40=\"\",\"\",Beh60mP!$Q40)","v":""}]
[null,{"$f":"IF(Beh60mP!$C41=\"\",\"\",Beh60mP!$X41)","v":""},{"$f":"IF(Beh60mP!$C41=\"\",\"\",Beh60mP!$B41)","v":""},{"$f":"IF(Beh60mP!$C41=\"\",\"\",Beh60mP!$C41)","v":""},{"$f":"IF(Beh60mP!$C41=\"\",\"\",IF(Beh60mP!D41=\"\",\"\",Beh60mP!$D41))","v":""},{"$f":"IF(Beh60mP!$C41=\"\",\"\",Beh60mP!$H41)","v":""},{"$f":"IF(Beh60mP!$C41=\"\",\"\",Beh60mP!$N41)","v":""},null,{"$f":"IF(Beh60mP!$C41=\"\",\"\",Beh60mP!$Q41)","v":""}]
[null,{"$f":"IF(Beh60mP!$C42=\"\",\"\",Beh60mP!$X42)","v":""},{"$f":"IF(Beh60mP!$C42=\"\",\"\",Beh60mP!$B42)","v":""},{"$f":"IF(Beh60mP!$C42=\"\",\"\",Beh60mP!$C42)","v":""},{"$f":"IF(Beh60mP!$C42=\"\",\"\",IF(Beh60mP!D42=\"\",\"\",Beh60mP!$D42))","v":""},{"$f":"IF(Beh60mP!$C42=\"\",\"\",Beh60mP!$H42)","v":""},{"$f":"IF(Beh60mP!$C42=\"\",\"\",Beh60mP!$N42)","v":""},null,{"$f":"IF(Beh60mP!$C42=\"\",\"\",Beh60mP!$Q42)","v":""}]
[null,{"$f":"IF(Beh60mP!$C43=\"\",\"\",Beh60mP!$X43)","v":""},{"$f":"IF(Beh60mP!$C43=\"\",\"\",Beh60mP!$B43)","v":""},{"$f":"IF(Beh60mP!$C43=\"\",\"\",Beh60mP!$C43)","v":""},{"$f":"IF(Beh60mP!$C43=\"\",\"\",IF(Beh60mP!D43=\"\",\"\",Beh60mP!$D43))","v":""},{"$f":"IF(Beh60mP!$C43=\"\",\"\",Beh60mP!$H43)","v":""},{"$f":"IF(Beh60mP!$C43=\"\",\"\",Beh60mP!$N43)","v":""},null,{"$f":"IF(Beh60mP!$C43=\"\",\"\",Beh60mP!$Q43)","v":""}]
[null,{"$f":"IF(Beh60mP!$C44=\"\",\"\",Beh60mP!$X44)","v":""},{"$f":"IF(Beh60mP!$C44=\"\",\"\",Beh60mP!$B44)","v":""},{"$f":"IF(Beh60mP!$C44=\"\",\"\",Beh60mP!$C44)","v":""},{"$f":"IF(Beh60mP!$C44=\"\",\"\",IF(Beh60mP!D44=\"\",\"\",Beh60mP!$D44))","v":""},{"$f":"IF(Beh60mP!$C44=\"\",\"\",Beh60mP!$H44)","v":""},{"$f":"IF(Beh60mP!$C44=\"\",\"\",Beh60mP!$N44)","v":""},null,{"$f":"IF(Beh60mP!$C44=\"\",\"\",Beh60mP!$Q44)","v":""}]
[null,{"$f":"IF(Beh60mP!$C45=\"\",\"\",Beh60mP!$X45)","v":""},{"$f":"IF(Beh60mP!$C45=\"\",\"\",Beh60mP!$B45)","v":""},{"$f":"IF(Beh60mP!$C45=\"\",\"\",Beh60mP!$C45)","v":""},{"$f":"IF(Beh60mP!$C45=\"\",\"\",IF(Beh60mP!D45=\"\",\"\",Beh60mP!$D45))","v":""},{"$f":"IF(Beh60mP!$C45=\"\",\"\",Beh60mP!$H45)","v":""},{"$f":"IF(Beh60mP!$C45=\"\",\"\",Beh60mP!$N45)","v":""},null,{"$f":"IF(Beh60mP!$C45=\"\",\"\",Beh60mP!$Q45)","v":""}]
[null,{"$f":"IF(Beh60mP!$C46=\"\",\"\",Beh60mP!$X46)","v":""},{"$f":"IF(Beh60mP!$C46=\"\",\"\",Beh60mP!$B46)","v":""},{"$f":"IF(Beh60mP!$C46=\"\",\"\",Beh60mP!$C46)","v":""},{"$f":"IF(Beh60mP!$C46=\"\",\"\",IF(Beh60mP!D46=\"\",\"\",Beh60mP!$D46))","v":""},{"$f":"IF(Beh60mP!$C46=\"\",\"\",Beh60mP!$H46)","v":""},{"$f":"IF(Beh60mP!$C46=\"\",\"\",Beh60mP!$N46)","v":""},null,{"$f":"IF(Beh60mP!$C46=\"\",\"\",Beh60mP!$Q46)","v":""}]
[null,{"$f":"IF(Beh60mP!$C47=\"\",\"\",Beh60mP!$X47)","v":""},{"$f":"IF(Beh60mP!$C47=\"\",\"\",Beh60mP!$B47)","v":""},{"$f":"IF(Beh60mP!$C47=\"\",\"\",Beh60mP!$C47)","v":""},{"$f":"IF(Beh60mP!$C47=\"\",\"\",IF(Beh60mP!D47=\"\",\"\",Beh60mP!$D47))","v":""},{"$f":"IF(Beh60mP!$C47=\"\",\"\",Beh60mP!$H47)","v":""},{"$f":"IF(Beh60mP!$C47=\"\",\"\",Beh60mP!$N47)","v":""},null,{"$f":"IF(Beh60mP!$C47=\"\",\"\",Beh60mP!$Q47)","v":""}]
[null,{"$f":"IF(Beh60mP!$C48=\"\",\"\",Beh60mP!$X48)","v":""},{"$f":"IF(Beh60mP!$C48=\"\",\"\",Beh60mP!$B48)","v":""},{"$f":"IF(Beh60mP!$C48=\"\",\"\",Beh60mP!$C48)","v":""},{"$f":"IF(Beh60mP!$C48=\"\",\"\",IF(Beh60mP!D48=\"\",\"\",Beh60mP!$D48))","v":""},{"$f":"IF(Beh60mP!$C48=\"\",\"\",Beh60mP!$H48)","v":""},{"$f":"IF(Beh60mP!$C48=\"\",\"\",Beh60mP!$N48)","v":""},null,{"$f":"IF(Beh60mP!$C48=\"\",\"\",Beh60mP!$Q48)","v":""}]
[null,{"$f":"IF(Beh60mP!$C49=\"\",\"\",Beh60mP!$X49)","v":""},{"$f":"IF(Beh60mP!$C49=\"\",\"\",Beh60mP!$B49)","v":""},{"$f":"IF(Beh60mP!$C49=\"\",\"\",Beh60mP!$C49)","v":""},{"$f":"IF(Beh60mP!$C49=\"\",\"\",IF(Beh60mP!D49=\"\",\"\",Beh60mP!$D49))","v":""},{"$f":"IF(Beh60mP!$C49=\"\",\"\",Beh60mP!$H49)","v":""},{"$f":"IF(Beh60mP!$C49=\"\",\"\",Beh60mP!$N49)","v":""},null,{"$f":"IF(Beh60mP!$C49=\"\",\"\",Beh60mP!$Q49)","v":""}]
[null,{"$f":"IF(Beh60mP!$C50=\"\",\"\",Beh60mP!$X50)","v":""},{"$f":"IF(Beh60mP!$C50=\"\",\"\",Beh60mP!$B50)","v":""},{"$f":"IF(Beh60mP!$C50=\"\",\"\",Beh60mP!$C50)","v":""},{"$f":"IF(Beh60mP!$C50=\"\",\"\",IF(Beh60mP!D50=\"\",\"\",Beh60mP!$D50))","v":""},{"$f":"IF(Beh60mP!$C50=\"\",\"\",Beh60mP!$H50)","v":""},{"$f":"IF(Beh60mP!$C50=\"\",\"\",Beh60mP!$N50)","v":""},null,{"$f":"IF(Beh60mP!$C50=\"\",\"\",Beh60mP!$Q50)","v":""}]
[null,{"$f":"IF(Beh60mP!$C51=\"\",\"\",Beh60mP!$X51)","v":""},{"$f":"IF(Beh60mP!$C51=\"\",\"\",Beh60mP!$B51)","v":""},{"$f":"IF(Beh60mP!$C51=\"\",\"\",Beh60mP!$C51)","v":""},{"$f":"IF(Beh60mP!$C51=\"\",\"\",IF(Beh60mP!D51=\"\",\"\",Beh60mP!$D51))","v":""},{"$f":"IF(Beh60mP!$C51=\"\",\"\",Beh60mP!$H51)","v":""},{"$f":"IF(Beh60mP!$C51=\"\",\"\",Beh60mP!$N51)","v":""},null,{"$f":"IF(Beh60mP!$C51=\"\",\"\",Beh60mP!$Q51)","v":""}]
[null,{"$f":"IF(Beh60mP!$C52=\"\",\"\",Beh60mP!$X52)","v":""},{"$f":"IF(Beh60mP!$C52=\"\",\"\",Beh60mP!$B52)","v":""},{"$f":"IF(Beh60mP!$C52=\"\",\"\",Beh60mP!$C52)","v":""},{"$f":"IF(Beh60mP!$C52=\"\",\"\",IF(Beh60mP!D52=\"\",\"\",Beh60mP!$D52))","v":""},{"$f":"IF(Beh60mP!$C52=\"\",\"\",Beh60mP!$H52)","v":""},{"$f":"IF(Beh60mP!$C52=\"\",\"\",Beh60mP!$N52)","v":""},null,{"$f":"IF(Beh60mP!$C52=\"\",\"\",Beh60mP!$Q52)","v":""}]
[null,{"$f":"IF(Beh60mP!$C53=\"\",\"\",Beh60mP!$X53)","v":""},{"$f":"IF(Beh60mP!$C53=\"\",\"\",Beh60mP!$B53)","v":""},{"$f":"IF(Beh60mP!$C53=\"\",\"\",Beh60mP!$C53)","v":""},{"$f":"IF(Beh60mP!$C53=\"\",\"\",IF(Beh60mP!D53=\"\",\"\",Beh60mP!$D53))","v":""},{"$f":"IF(Beh60mP!$C53=\"\",\"\",Beh60mP!$H53)","v":""},{"$f":"IF(Beh60mP!$C53=\"\",\"\",Beh60mP!$N53)","v":""},null,{"$f":"IF(Beh60mP!$C53=\"\",\"\",Beh60mP!$Q53)","v":""}]
[null,{"$f":"IF(Beh60mP!$C54=\"\",\"\",Beh60mP!$X54)","v":""},{"$f":"IF(Beh60mP!$C54=\"\",\"\",Beh60mP!$B54)","v":""},{"$f":"IF(Beh60mP!$C54=\"\",\"\",Beh60mP!$C54)","v":""},{"$f":"IF(Beh60mP!$C54=\"\",\"\",IF(Beh60mP!D54=\"\",\"\",Beh60mP!$D54))","v":""},{"$f":"IF(Beh60mP!$C54=\"\",\"\",Beh60mP!$H54)","v":""},{"$f":"IF(Beh60mP!$C54=\"\",\"\",Beh60mP!$N54)","v":""},null,{"$f":"IF(Beh60mP!$C54=\"\",\"\",Beh60mP!$Q54)","v":""}]
[null,{"$f":"IF(Beh60mP!$C55=\"\",\"\",Beh60mP!$X55)","v":""},{"$f":"IF(Beh60mP!$C55=\"\",\"\",Beh60mP!$B55)","v":""},{"$f":"IF(Beh60mP!$C55=\"\",\"\",Beh60mP!$C55)","v":""},{"$f":"IF(Beh60mP!$C55=\"\",\"\",IF(Beh60mP!D55=\"\",\"\",Beh60mP!$D55))","v":""},{"$f":"IF(Beh60mP!$C55=\"\",\"\",Beh60mP!$H55)","v":""},{"$f":"IF(Beh60mP!$C55=\"\",\"\",Beh60mP!$N55)","v":""},null,{"$f":"IF(Beh60mP!$C55=\"\",\"\",Beh60mP!$Q55)","v":""}]
[null,{"$f":"IF(Beh60mP!$C56=\"\",\"\",Beh60mP!$X56)","v":""},{"$f":"IF(Beh60mP!$C56=\"\",\"\",Beh60mP!$B56)","v":""},{"$f":"IF(Beh60mP!$C56=\"\",\"\",Beh60mP!$C56)","v":""},{"$f":"IF(Beh60mP!$C56=\"\",\"\",IF(Beh60mP!D56=\"\",\"\",Beh60mP!$D56))","v":""},{"$f":"IF(Beh60mP!$C56=\"\",\"\",Beh60mP!$H56)","v":""},{"$f":"IF(Beh60mP!$C56=\"\",\"\",Beh60mP!$N56)","v":""},null,{"$f":"IF(Beh60mP!$C56=\"\",\"\",Beh60mP!$Q56)","v":""}]
[null,{"$f":"IF(Beh60mP!$C57=\"\",\"\",Beh60mP!$X57)","v":""},{"$f":"IF(Beh60mP!$C57=\"\",\"\",Beh60mP!$B57)","v":""},{"$f":"IF(Beh60mP!$C57=\"\",\"\",Beh60mP!$C57)","v":""},{"$f":"IF(Beh60mP!$C57=\"\",\"\",IF(Beh60mP!D57=\"\",\"\",Beh60mP!$D57))","v":""},{"$f":"IF(Beh60mP!$C57=\"\",\"\",Beh60mP!$H57)","v":""},{"$f":"IF(Beh60mP!$C57=\"\",\"\",Beh60mP!$N57)","v":""},null,{"$f":"IF(Beh60mP!$C57=\"\",\"\",Beh60mP!$Q57)","v":""}]
[null,{"$f":"IF(Beh60mP!$C58=\"\",\"\",Beh60mP!$X58)","v":""},{"$f":"IF(Beh60mP!$C58=\"\",\"\",Beh60mP!$B58)","v":""},{"$f":"IF(Beh60mP!$C58=\"\",\"\",Beh60mP!$C58)","v":""},{"$f":"IF(Beh60mP!$C58=\"\",\"\",IF(Beh60mP!D58=\"\",\"\",Beh60mP!$D58))","v":""},{"$f":"IF(Beh60mP!$C58=\"\",\"\",Beh60mP!$H58)","v":""},{"$f":"IF(Beh60mP!$C58=\"\",\"\",Beh60mP!$N58)","v":""},null,{"$f":"IF(Beh60mP!$C58=\"\",\"\",Beh60mP!$Q58)","v":""}]
[null,{"$f":"IF(Beh60mP!$C59=\"\",\"\",Beh60mP!$X59)","v":""},{"$f":"IF(Beh60mP!$C59=\"\",\"\",Beh60mP!$B59)","v":""},{"$f":"IF(Beh60mP!$C59=\"\",\"\",Beh60mP!$C59)","v":""},{"$f":"IF(Beh60mP!$C59=\"\",\"\",IF(Beh60mP!D59=\"\",\"\",Beh60mP!$D59))","v":""},{"$f":"IF(Beh60mP!$C59=\"\",\"\",Beh60mP!$H59)","v":""},{"$f":"IF(Beh60mP!$C59=\"\",\"\",Beh60mP!$N59)","v":""},null,{"$f":"IF(Beh60mP!$C59=\"\",\"\",Beh60mP!$Q59)","v":""}]
[null,{"$f":"IF(Beh60mP!$C60=\"\",\"\",Beh60mP!$X60)","v":""},{"$f":"IF(Beh60mP!$C60=\"\",\"\",Beh60mP!$B60)","v":""},{"$f":"IF(Beh60mP!$C60=\"\",\"\",Beh60mP!$C60)","v":""},{"$f":"IF(Beh60mP!$C60=\"\",\"\",IF(Beh60mP!D60=\"\",\"\",Beh60mP!$D60))","v":""},{"$f":"IF(Beh60mP!$C60=\"\",\"\",Beh60mP!$H60)","v":""},{"$f":"IF(Beh60mP!$C60=\"\",\"\",Beh60mP!$N60)","v":""},null,{"$f":"IF(Beh60mP!$C60=\"\",\"\",Beh60mP!$Q60)","v":""}]
[null,{"$f":"IF(Beh60mP!$C61=\"\",\"\",Beh60mP!$X61)","v":""},{"$f":"IF(Beh60mP!$C61=\"\",\"\",Beh60mP!$B61)","v":""},{"$f":"IF(Beh60mP!$C61=\"\",\"\",Beh60mP!$C61)","v":""},{"$f":"IF(Beh60mP!$C61=\"\",\"\",IF(Beh60mP!D61=\"\",\"\",Beh60mP!$D61))","v":""},{"$f":"IF(Beh60mP!$C61=\"\",\"\",Beh60mP!$H61)","v":""},{"$f":"IF(Beh60mP!$C61=\"\",\"\",Beh60mP!$N61)","v":""},null,{"$f":"IF(Beh60mP!$C61=\"\",\"\",Beh60mP!$Q61)","v":""}]
[null,{"$f":"IF(Beh60mP!$C62=\"\",\"\",Beh60mP!$X62)","v":""},{"$f":"IF(Beh60mP!$C62=\"\",\"\",Beh60mP!$B62)","v":""},{"$f":"IF(Beh60mP!$C62=\"\",\"\",Beh60mP!$C62)","v":""},{"$f":"IF(Beh60mP!$C62=\"\",\"\",IF(Beh60mP!D62=\"\",\"\",Beh60mP!$D62))","v":""},{"$f":"IF(Beh60mP!$C62=\"\",\"\",Beh60mP!$H62)","v":""},{"$f":"IF(Beh60mP!$C62=\"\",\"\",Beh60mP!$N62)","v":""},null,{"$f":"IF(Beh60mP!$C62=\"\",\"\",Beh60mP!$Q62)","v":""}]
[null,{"$f":"IF(Beh60mP!$C63=\"\",\"\",Beh60mP!$X63)","v":""},{"$f":"IF(Beh60mP!$C63=\"\",\"\",Beh60mP!$B63)","v":""},{"$f":"IF(Beh60mP!$C63=\"\",\"\",Beh60mP!$C63)","v":""},{"$f":"IF(Beh60mP!$C63=\"\",\"\",IF(Beh60mP!D63=\"\",\"\",Beh60mP!$D63))","v":""},{"$f":"IF(Beh60mP!$C63=\"\",\"\",Beh60mP!$H63)","v":""},{"$f":"IF(Beh60mP!$C63=\"\",\"\",Beh60mP!$N63)","v":""},null,{"$f":"IF(Beh60mP!$C63=\"\",\"\",Beh60mP!$Q63)","v":""}]
[null,{"$f":"IF(Beh60mP!$C64=\"\",\"\",Beh60mP!$X64)","v":""},{"$f":"IF(Beh60mP!$C64=\"\",\"\",Beh60mP!$B64)","v":""},{"$f":"IF(Beh60mP!$C64=\"\",\"\",Beh60mP!$C64)","v":""},{"$f":"IF(Beh60mP!$C64=\"\",\"\",IF(Beh60mP!D64=\"\",\"\",Beh60mP!$D64))","v":""},{"$f":"IF(Beh60mP!$C64=\"\",\"\",Beh60mP!$H64)","v":""},{"$f":"IF(Beh60mP!$C64=\"\",\"\",Beh60mP!$N64)","v":""},null,{"$f":"IF(Beh60mP!$C64=\"\",\"\",Beh60mP!$Q64)","v":""}]
[null,{"$f":"IF(Beh60mP!$C65=\"\",\"\",Beh60mP!$X65)","v":""},{"$f":"IF(Beh60mP!$C65=\"\",\"\",Beh60mP!$B65)","v":""},{"$f":"IF(Beh60mP!$C65=\"\",\"\",Beh60mP!$C65)","v":""},{"$f":"IF(Beh60mP!$C65=\"\",\"\",IF(Beh60mP!D65=\"\",\"\",Beh60mP!$D65))","v":""},{"$f":"IF(Beh60mP!$C65=\"\",\"\",Beh60mP!$H65)","v":""},{"$f":"IF(Beh60mP!$C65=\"\",\"\",Beh60mP!$N65)","v":""},null,{"$f":"IF(Beh60mP!$C65=\"\",\"\",Beh60mP!$Q65)","v":""}]
[null,{"$f":"IF(Beh60mP!$C66=\"\",\"\",Beh60mP!$X66)","v":""},{"$f":"IF(Beh60mP!$C66=\"\",\"\",Beh60mP!$B66)","v":""},{"$f":"IF(Beh60mP!$C66=\"\",\"\",Beh60mP!$C66)","v":""},{"$f":"IF(Beh60mP!$C66=\"\",\"\",IF(Beh60mP!D66=\"\",\"\",Beh60mP!$D66))","v":""},{"$f":"IF(Beh60mP!$C66=\"\",\"\",Beh60mP!$H66)","v":""},{"$f":"IF(Beh60mP!$C66=\"\",\"\",Beh60mP!$N66)","v":""},null,{"$f":"IF(Beh60mP!$C66=\"\",\"\",Beh60mP!$Q66)","v":""}]
[null,{"$f":"IF(Beh60mP!$C67=\"\",\"\",Beh60mP!$X67)","v":""},{"$f":"IF(Beh60mP!$C67=\"\",\"\",Beh60mP!$B67)","v":""},{"$f":"IF(Beh60mP!$C67=\"\",\"\",Beh60mP!$C67)","v":""},{"$f":"IF(Beh60mP!$C67=\"\",\"\",IF(Beh60mP!D67=\"\",\"\",Beh60mP!$D67))","v":""},{"$f":"IF(Beh60mP!$C67=\"\",\"\",Beh60mP!$H67)","v":""},{"$f":"IF(Beh60mP!$C67=\"\",\"\",Beh60mP!$N67)","v":""},null,{"$f":"IF(Beh60mP!$C67=\"\",\"\",Beh60mP!$Q67)","v":""}]
[null,{"$f":"IF(Beh60mP!$C68=\"\",\"\",Beh60mP!$X68)","v":""},{"$f":"IF(Beh60mP!$C68=\"\",\"\",Beh60mP!$B68)","v":""},{"$f":"IF(Beh60mP!$C68=\"\",\"\",Beh60mP!$C68)","v":""},{"$f":"IF(Beh60mP!$C68=\"\",\"\",IF(Beh60mP!D68=\"\",\"\",Beh60mP!$D68))","v":""},{"$f":"IF(Beh60mP!$C68=\"\",\"\",Beh60mP!$H68)","v":""},{"$f":"IF(Beh60mP!$C68=\"\",\"\",Beh60mP!$N68)","v":""},null,{"$f":"IF(Beh60mP!$C68=\"\",\"\",Beh60mP!$Q68)","v":""}]
[null,{"$f":"B42","v":"Běh na 60m - výsledková listina"}]
[]
[null,{"$f":"$B$3","v":"Krajská soutěž HRY PLAMEN"},null,null,{"$f":"$E$3","v":"2020/2021, České Budějovice"}]
[]
[null,{"$f":"'Start - podzim'!$N$2","v":"STARŠÍ"}]
[null,"Pořadí","Start. číslo","Jméno","kolektiv","čas           I. pokusu","čas          II. pokusu",null,"Výsledný čas"]
[]
[null,{"$f":"IF(Beh60mP!$C69=\"\",\"\",Beh60mP!$X69)","v":""},{"$f":"IF(Beh60mP!$C69=\"\",\"\",Beh60mP!$B69)","v":""},{"$f":"IF(Beh60mP!$C69=\"\",\"\",Beh60mP!$C69)","v":""},{"$f":"IF(Beh60mP!$C69=\"\",\"\",IF(Beh60mP!D69=\"\",\"\",Beh60mP!$D69))","v":""},{"$f":"IF(Beh60mP!$C69=\"\",\"\",Beh60mP!$H69)","v":""},{"$f":"IF(Beh60mP!$C69=\"\",\"\",Beh60mP!$N69)","v":""},null,{"$f":"IF(Beh60mP!$C69=\"\",\"\",Beh60mP!$Q69)","v":""}]
[null,{"$f":"IF(Beh60mP!$C70=\"\",\"\",Beh60mP!$X70)","v":""},{"$f":"IF(Beh60mP!$C70=\"\",\"\",Beh60mP!$B70)","v":""},{"$f":"IF(Beh60mP!$C70=\"\",\"\",Beh60mP!$C70)","v":""},{"$f":"IF(Beh60mP!$C70=\"\",\"\",IF(Beh60mP!D70=\"\",\"\",Beh60mP!$D70))","v":""},{"$f":"IF(Beh60mP!$C70=\"\",\"\",Beh60mP!$H70)","v":""},{"$f":"IF(Beh60mP!$C70=\"\",\"\",Beh60mP!$N70)","v":""},null,{"$f":"IF(Beh60mP!$C70=\"\",\"\",Beh60mP!$Q70)","v":""}]
[null,{"$f":"IF(Beh60mP!$C71=\"\",\"\",Beh60mP!$X71)","v":""},{"$f":"IF(Beh60mP!$C71=\"\",\"\",Beh60mP!$B71)","v":""},{"$f":"IF(Beh60mP!$C71=\"\",\"\",Beh60mP!$C71)","v":""},{"$f":"IF(Beh60mP!$C71=\"\",\"\",IF(Beh60mP!D71=\"\",\"\",Beh60mP!$D71))","v":""},{"$f":"IF(Beh60mP!$C71=\"\",\"\",Beh60mP!$H71)","v":""},{"$f":"IF(Beh60mP!$C71=\"\",\"\",Beh60mP!$N71)","v":""},null,{"$f":"IF(Beh60mP!$C71=\"\",\"\",Beh60mP!$Q71)","v":""}]
[null,{"$f":"IF(Beh60mP!$C72=\"\",\"\",Beh60mP!$X72)","v":""},{"$f":"IF(Beh60mP!$C72=\"\",\"\",Beh60mP!$B72)","v":""},{"$f":"IF(Beh60mP!$C72=\"\",\"\",Beh60mP!$C72)","v":""},{"$f":"IF(Beh60mP!$C72=\"\",\"\",IF(Beh60mP!D72=\"\",\"\",Beh60mP!$D72))","v":""},{"$f":"IF(Beh60mP!$C72=\"\",\"\",Beh60mP!$H72)","v":""},{"$f":"IF(Beh60mP!$C72=\"\",\"\",Beh60mP!$N72)","v":""},null,{"$f":"IF(Beh60mP!$C72=\"\",\"\",Beh60mP!$Q72)","v":""}]
[null,{"$f":"IF(Beh60mP!$C73=\"\",\"\",Beh60mP!$X73)","v":""},{"$f":"IF(Beh60mP!$C73=\"\",\"\",Beh60mP!$B73)","v":""},{"$f":"IF(Beh60mP!$C73=\"\",\"\",Beh60mP!$C73)","v":""},{"$f":"IF(Beh60mP!$C73=\"\",\"\",IF(Beh60mP!D73=\"\",\"\",Beh60mP!$D73))","v":""},{"$f":"IF(Beh60mP!$C73=\"\",\"\",Beh60mP!$H73)","v":""},{"$f":"IF(Beh60mP!$C73=\"\",\"\",Beh60mP!$N73)","v":""},null,{"$f":"IF(Beh60mP!$C73=\"\",\"\",Beh60mP!$Q73)","v":""}]
[null,{"$f":"IF(Beh60mP!$C74=\"\",\"\",Beh60mP!$X74)","v":""},{"$f":"IF(Beh60mP!$C74=\"\",\"\",Beh60mP!$B74)","v":""},{"$f":"IF(Beh60mP!$C74=\"\",\"\",Beh60mP!$C74)","v":""},{"$f":"IF(Beh60mP!$C74=\"\",\"\",IF(Beh60mP!D74=\"\",\"\",Beh60mP!$D74))","v":""},{"$f":"IF(Beh60mP!$C74=\"\",\"\",Beh60mP!$H74)","v":""},{"$f":"IF(Beh60mP!$C74=\"\",\"\",Beh60mP!$N74)","v":""},null,{"$f":"IF(Beh60mP!$C74=\"\",\"\",Beh60mP!$Q74)","v":""}]
[null,{"$f":"IF(Beh60mP!$C75=\"\",\"\",Beh60mP!$X75)","v":""},{"$f":"IF(Beh60mP!$C75=\"\",\"\",Beh60mP!$B75)","v":""},{"$f":"IF(Beh60mP!$C75=\"\",\"\",Beh60mP!$C75)","v":""},{"$f":"IF(Beh60mP!$C75=\"\",\"\",IF(Beh60mP!D75=\"\",\"\",Beh60mP!$D75))","v":""},{"$f":"IF(Beh60mP!$C75=\"\",\"\",Beh60mP!$H75)","v":""},{"$f":"IF(Beh60mP!$C75=\"\",\"\",Beh60mP!$N75)","v":""},null,{"$f":"IF(Beh60mP!$C75=\"\",\"\",Beh60mP!$Q75)","v":""}]
[null,{"$f":"IF(Beh60mP!$C76=\"\",\"\",Beh60mP!$X76)","v":""},{"$f":"IF(Beh60mP!$C76=\"\",\"\",Beh60mP!$B76)","v":""},{"$f":"IF(Beh60mP!$C76=\"\",\"\",Beh60mP!$C76)","v":""},{"$f":"IF(Beh60mP!$C76=\"\",\"\",IF(Beh60mP!D76=\"\",\"\",Beh60mP!$D76))","v":""},{"$f":"IF(Beh60mP!$C76=\"\",\"\",Beh60mP!$H76)","v":""},{"$f":"IF(Beh60mP!$C76=\"\",\"\",Beh60mP!$N76)","v":""},null,{"$f":"IF(Beh60mP!$C76=\"\",\"\",Beh60mP!$Q76)","v":""}]
[null,{"$f":"IF(Beh60mP!$C77=\"\",\"\",Beh60mP!$X77)","v":""},{"$f":"IF(Beh60mP!$C77=\"\",\"\",Beh60mP!$B77)","v":""},{"$f":"IF(Beh60mP!$C77=\"\",\"\",Beh60mP!$C77)","v":""},{"$f":"IF(Beh60mP!$C77=\"\",\"\",IF(Beh60mP!D77=\"\",\"\",Beh60mP!$D77))","v":""},{"$f":"IF(Beh60mP!$C77=\"\",\"\",Beh60mP!$H77)","v":""},{"$f":"IF(Beh60mP!$C77=\"\",\"\",Beh60mP!$N77)","v":""},null,{"$f":"IF(Beh60mP!$C77=\"\",\"\",Beh60mP!$Q77)","v":""}]
[null,{"$f":"IF(Beh60mP!$C78=\"\",\"\",Beh60mP!$X78)","v":""},{"$f":"IF(Beh60mP!$C78=\"\",\"\",Beh60mP!$B78)","v":""},{"$f":"IF(Beh60mP!$C78=\"\",\"\",Beh60mP!$C78)","v":""},{"$f":"IF(Beh60mP!$C78=\"\",\"\",IF(Beh60mP!D78=\"\",\"\",Beh60mP!$D78))","v":""},{"$f":"IF(Beh60mP!$C78=\"\",\"\",Beh60mP!$H78)","v":""},{"$f":"IF(Beh60mP!$C78=\"\",\"\",Beh60mP!$N78)","v":""},null,{"$f":"IF(Beh60mP!$C78=\"\",\"\",Beh60mP!$Q78)","v":""}]
[null,{"$f":"IF(Beh60mP!$C79=\"\",\"\",Beh60mP!$X79)","v":""},{"$f":"IF(Beh60mP!$C79=\"\",\"\",Beh60mP!$B79)","v":""},{"$f":"IF(Beh60mP!$C79=\"\",\"\",Beh60mP!$C79)","v":""},{"$f":"IF(Beh60mP!$C79=\"\",\"\",IF(Beh60mP!D79=\"\",\"\",Beh60mP!$D79))","v":""},{"$f":"IF(Beh60mP!$C79=\"\",\"\",Beh60mP!$H79)","v":""},{"$f":"IF(Beh60mP!$C79=\"\",\"\",Beh60mP!$N79)","v":""},null,{"$f":"IF(Beh60mP!$C79=\"\",\"\",Beh60mP!$Q79)","v":""}]
[null,{"$f":"IF(Beh60mP!$C80=\"\",\"\",Beh60mP!$X80)","v":""},{"$f":"IF(Beh60mP!$C80=\"\",\"\",Beh60mP!$B80)","v":""},{"$f":"IF(Beh60mP!$C80=\"\",\"\",Beh60mP!$C80)","v":""},{"$f":"IF(Beh60mP!$C80=\"\",\"\",IF(Beh60mP!D80=\"\",\"\",Beh60mP!$D80))","v":""},{"$f":"IF(Beh60mP!$C80=\"\",\"\",Beh60mP!$H80)","v":""},{"$f":"IF(Beh60mP!$C80=\"\",\"\",Beh60mP!$N80)","v":""},null,{"$f":"IF(Beh60mP!$C80=\"\",\"\",Beh60mP!$Q80)","v":""}]
[null,{"$f":"IF(Beh60mP!$C81=\"\",\"\",Beh60mP!$X81)","v":""},{"$f":"IF(Beh60mP!$C81=\"\",\"\",Beh60mP!$B81)","v":""},{"$f":"IF(Beh60mP!$C81=\"\",\"\",Beh60mP!$C81)","v":""},{"$f":"IF(Beh60mP!$C81=\"\",\"\",IF(Beh60mP!D81=\"\",\"\",Beh60mP!$D81))","v":""},{"$f":"IF(Beh60mP!$C81=\"\",\"\",Beh60mP!$H81)","v":""},{"$f":"IF(Beh60mP!$C81=\"\",\"\",Beh60mP!$N81)","v":""},null,{"$f":"IF(Beh60mP!$C81=\"\",\"\",Beh60mP!$Q81)","v":""}]
[null,{"$f":"IF(Beh60mP!$C82=\"\",\"\",Beh60mP!$X82)","v":""},{"$f":"IF(Beh60mP!$C82=\"\",\"\",Beh60mP!$B82)","v":""},{"$f":"IF(Beh60mP!$C82=\"\",\"\",Beh60mP!$C82)","v":""},{"$f":"IF(Beh60mP!$C82=\"\",\"\",IF(Beh60mP!D82=\"\",\"\",Beh60mP!$D82))","v":""},{"$f":"IF(Beh60mP!$C82=\"\",\"\",Beh60mP!$H82)","v":""},{"$f":"IF(Beh60mP!$C82=\"\",\"\",Beh60mP!$N82)","v":""},null,{"$f":"IF(Beh60mP!$C82=\"\",\"\",Beh60mP!$Q82)","v":""}]
[null,{"$f":"IF(Beh60mP!$C83=\"\",\"\",Beh60mP!$X83)","v":""},{"$f":"IF(Beh60mP!$C83=\"\",\"\",Beh60mP!$B83)","v":""},{"$f":"IF(Beh60mP!$C83=\"\",\"\",Beh60mP!$C83)","v":""},{"$f":"IF(Beh60mP!$C83=\"\",\"\",IF(Beh60mP!D83=\"\",\"\",Beh60mP!$D83))","v":""},{"$f":"IF(Beh60mP!$C83=\"\",\"\",Beh60mP!$H83)","v":""},{"$f":"IF(Beh60mP!$C83=\"\",\"\",Beh60mP!$N83)","v":""},null,{"$f":"IF(Beh60mP!$C83=\"\",\"\",Beh60mP!$Q83)","v":""}]
[null,{"$f":"IF(Beh60mP!$C84=\"\",\"\",Beh60mP!$X84)","v":""},{"$f":"IF(Beh60mP!$C84=\"\",\"\",Beh60mP!$B84)","v":""},{"$f":"IF(Beh60mP!$C84=\"\",\"\",Beh60mP!$C84)","v":""},{"$f":"IF(Beh60mP!$C84=\"\",\"\",IF(Beh60mP!D84=\"\",\"\",Beh60mP!$D84))","v":""},{"$f":"IF(Beh60mP!$C84=\"\",\"\",Beh60mP!$H84)","v":""},{"$f":"IF(Beh60mP!$C84=\"\",\"\",Beh60mP!$N84)","v":""},null,{"$f":"IF(Beh60mP!$C84=\"\",\"\",Beh60mP!$Q84)","v":""}]
[null,{"$f":"IF(Beh60mP!$C85=\"\",\"\",Beh60mP!$X85)","v":""},{"$f":"IF(Beh60mP!$C85=\"\",\"\",Beh60mP!$B85)","v":""},{"$f":"IF(Beh60mP!$C85=\"\",\"\",Beh60mP!$C85)","v":""},{"$f":"IF(Beh60mP!$C85=\"\",\"\",IF(Beh60mP!D85=\"\",\"\",Beh60mP!$D85))","v":""},{"$f":"IF(Beh60mP!$C85=\"\",\"\",Beh60mP!$H85)","v":""},{"$f":"IF(Beh60mP!$C85=\"\",\"\",Beh60mP!$N85)","v":""},null,{"$f":"IF(Beh60mP!$C85=\"\",\"\",Beh60mP!$Q85)","v":""}]
[null,{"$f":"IF(Beh60mP!$C86=\"\",\"\",Beh60mP!$X86)","v":""},{"$f":"IF(Beh60mP!$C86=\"\",\"\",Beh60mP!$B86)","v":""},{"$f":"IF(Beh60mP!$C86=\"\",\"\",Beh60mP!$C86)","v":""},{"$f":"IF(Beh60mP!$C86=\"\",\"\",IF(Beh60mP!D86=\"\",\"\",Beh60mP!$D86))","v":""},{"$f":"IF(Beh60mP!$C86=\"\",\"\",Beh60mP!$H86)","v":""},{"$f":"IF(Beh60mP!$C86=\"\",\"\",Beh60mP!$N86)","v":""},null,{"$f":"IF(Beh60mP!$C86=\"\",\"\",Beh60mP!$Q86)","v":""}]
[null,{"$f":"IF(Beh60mP!$C87=\"\",\"\",Beh60mP!$X87)","v":""},{"$f":"IF(Beh60mP!$C87=\"\",\"\",Beh60mP!$B87)","v":""},{"$f":"IF(Beh60mP!$C87=\"\",\"\",Beh60mP!$C87)","v":""},{"$f":"IF(Beh60mP!$C87=\"\",\"\",IF(Beh60mP!D87=\"\",\"\",Beh60mP!$D87))","v":""},{"$f":"IF(Beh60mP!$C87=\"\",\"\",Beh60mP!$H87)","v":""},{"$f":"IF(Beh60mP!$C87=\"\",\"\",Beh60mP!$N87)","v":""},null,{"$f":"IF(Beh60mP!$C87=\"\",\"\",Beh60mP!$Q87)","v":""}]
[null,{"$f":"IF(Beh60mP!$C88=\"\",\"\",Beh60mP!$X88)","v":""},{"$f":"IF(Beh60mP!$C88=\"\",\"\",Beh60mP!$B88)","v":""},{"$f":"IF(Beh60mP!$C88=\"\",\"\",Beh60mP!$C88)","v":""},{"$f":"IF(Beh60mP!$C88=\"\",\"\",IF(Beh60mP!D88=\"\",\"\",Beh60mP!$D88))","v":""},{"$f":"IF(Beh60mP!$C88=\"\",\"\",Beh60mP!$H88)","v":""},{"$f":"IF(Beh60mP!$C88=\"\",\"\",Beh60mP!$N88)","v":""},null,{"$f":"IF(Beh60mP!$C88=\"\",\"\",Beh60mP!$Q88)","v":""}]
[null,{"$f":"IF(Beh60mP!$C89=\"\",\"\",Beh60mP!$X89)","v":""},{"$f":"IF(Beh60mP!$C89=\"\",\"\",Beh60mP!$B89)","v":""},{"$f":"IF(Beh60mP!$C89=\"\",\"\",Beh60mP!$C89)","v":""},{"$f":"IF(Beh60mP!$C89=\"\",\"\",IF(Beh60mP!D89=\"\",\"\",Beh60mP!$D89))","v":""},{"$f":"IF(Beh60mP!$C89=\"\",\"\",Beh60mP!$H89)","v":""},{"$f":"IF(Beh60mP!$C89=\"\",\"\",Beh60mP!$N89)","v":""},null,{"$f":"IF(Beh60mP!$C89=\"\",\"\",Beh60mP!$Q89)","v":""}]
[null,{"$f":"IF(Beh60mP!$C90=\"\",\"\",Beh60mP!$X90)","v":""},{"$f":"IF(Beh60mP!$C90=\"\",\"\",Beh60mP!$B90)","v":""},{"$f":"IF(Beh60mP!$C90=\"\",\"\",Beh60mP!$C90)","v":""},{"$f":"IF(Beh60mP!$C90=\"\",\"\",IF(Beh60mP!D90=\"\",\"\",Beh60mP!$D90))","v":""},{"$f":"IF(Beh60mP!$C90=\"\",\"\",Beh60mP!$H90)","v":""},{"$f":"IF(Beh60mP!$C90=\"\",\"\",Beh60mP!$N90)","v":""},null,{"$f":"IF(Beh60mP!$C90=\"\",\"\",Beh60mP!$Q90)","v":""}]
[null,{"$f":"IF(Beh60mP!$C91=\"\",\"\",Beh60mP!$X91)","v":""},{"$f":"IF(Beh60mP!$C91=\"\",\"\",Beh60mP!$B91)","v":""},{"$f":"IF(Beh60mP!$C91=\"\",\"\",Beh60mP!$C91)","v":""},{"$f":"IF(Beh60mP!$C91=\"\",\"\",IF(Beh60mP!D91=\"\",\"\",Beh60mP!$D91))","v":""},{"$f":"IF(Beh60mP!$C91=\"\",\"\",Beh60mP!$H91)","v":""},{"$f":"IF(Beh60mP!$C91=\"\",\"\",Beh60mP!$N91)","v":""},null,{"$f":"IF(Beh60mP!$C91=\"\",\"\",Beh60mP!$Q91)","v":""}]
[null,{"$f":"IF(Beh60mP!$C92=\"\",\"\",Beh60mP!$X92)","v":""},{"$f":"IF(Beh60mP!$C92=\"\",\"\",Beh60mP!$B92)","v":""},{"$f":"IF(Beh60mP!$C92=\"\",\"\",Beh60mP!$C92)","v":""},{"$f":"IF(Beh60mP!$C92=\"\",\"\",IF(Beh60mP!D92=\"\",\"\",Beh60mP!$D92))","v":""},{"$f":"IF(Beh60mP!$C92=\"\",\"\",Beh60mP!$H92)","v":""},{"$f":"IF(Beh60mP!$C92=\"\",\"\",Beh60mP!$N92)","v":""},null,{"$f":"IF(Beh60mP!$C92=\"\",\"\",Beh60mP!$Q92)","v":""}]
[null,{"$f":"IF(Beh60mP!$C93=\"\",\"\",Beh60mP!$X93)","v":""},{"$f":"IF(Beh60mP!$C93=\"\",\"\",Beh60mP!$B93)","v":""},{"$f":"IF(Beh60mP!$C93=\"\",\"\",Beh60mP!$C93)","v":""},{"$f":"IF(Beh60mP!$C93=\"\",\"\",IF(Beh60mP!D93=\"\",\"\",Beh60mP!$D93))","v":""},{"$f":"IF(Beh60mP!$C93=\"\",\"\",Beh60mP!$H93)","v":""},{"$f":"IF(Beh60mP!$C93=\"\",\"\",Beh60mP!$N93)","v":""},null,{"$f":"IF(Beh60mP!$C93=\"\",\"\",Beh60mP!$Q93)","v":""}]
[null,{"$f":"IF(Beh60mP!$C94=\"\",\"\",Beh60mP!$X94)","v":""},{"$f":"IF(Beh60mP!$C94=\"\",\"\",Beh60mP!$B94)","v":""},{"$f":"IF(Beh60mP!$C94=\"\",\"\",Beh60mP!$C94)","v":""},{"$f":"IF(Beh60mP!$C94=\"\",\"\",IF(Beh60mP!D94=\"\",\"\",Beh60mP!$D94))","v":""},{"$f":"IF(Beh60mP!$C94=\"\",\"\",Beh60mP!$H94)","v":""},{"$f":"IF(Beh60mP!$C94=\"\",\"\",Beh60mP!$N94)","v":""},null,{"$f":"IF(Beh60mP!$C94=\"\",\"\",Beh60mP!$Q94)","v":""}]
[null,{"$f":"IF(Beh60mP!$C95=\"\",\"\",Beh60mP!$X95)","v":""},{"$f":"IF(Beh60mP!$C95=\"\",\"\",Beh60mP!$B95)","v":""},{"$f":"IF(Beh60mP!$C95=\"\",\"\",Beh60mP!$C95)","v":""},{"$f":"IF(Beh60mP!$C95=\"\",\"\",IF(Beh60mP!D95=\"\",\"\",Beh60mP!$D95))","v":""},{"$f":"IF(Beh60mP!$C95=\"\",\"\",Beh60mP!$H95)","v":""},{"$f":"IF(Beh60mP!$C95=\"\",\"\",Beh60mP!$N95)","v":""},null,{"$f":"IF(Beh60mP!$C95=\"\",\"\",Beh60mP!$Q95)","v":""}]
[null,{"$f":"IF(Beh60mP!$C96=\"\",\"\",Beh60mP!$X96)","v":""},{"$f":"IF(Beh60mP!$C96=\"\",\"\",Beh60mP!$B96)","v":""},{"$f":"IF(Beh60mP!$C96=\"\",\"\",Beh60mP!$C96)","v":""},{"$f":"IF(Beh60mP!$C96=\"\",\"\",IF(Beh60mP!D96=\"\",\"\",Beh60mP!$D96))","v":""},{"$f":"IF(Beh60mP!$C96=\"\",\"\",Beh60mP!$H96)","v":""},{"$f":"IF(Beh60mP!$C96=\"\",\"\",Beh60mP!$N96)","v":""},null,{"$f":"IF(Beh60mP!$C96=\"\",\"\",Beh60mP!$Q96)","v":""}]
[null,{"$f":"IF(Beh60mP!$C97=\"\",\"\",Beh60mP!$X97)","v":""},{"$f":"IF(Beh60mP!$C97=\"\",\"\",Beh60mP!$B97)","v":""},{"$f":"IF(Beh60mP!$C97=\"\",\"\",Beh60mP!$C97)","v":""},{"$f":"IF(Beh60mP!$C97=\"\",\"\",IF(Beh60mP!D97=\"\",\"\",Beh60mP!$D97))","v":""},{"$f":"IF(Beh60mP!$C97=\"\",\"\",Beh60mP!$H97)","v":""},{"$f":"IF(Beh60mP!$C97=\"\",\"\",Beh60mP!$N97)","v":""},null,{"$f":"IF(Beh60mP!$C97=\"\",\"\",Beh60mP!$Q97)","v":""}]
[null,{"$f":"IF(Beh60mP!$C98=\"\",\"\",Beh60mP!$X98)","v":""},{"$f":"IF(Beh60mP!$C98=\"\",\"\",Beh60mP!$B98)","v":""},{"$f":"IF(Beh60mP!$C98=\"\",\"\",Beh60mP!$C98)","v":""},{"$f":"IF(Beh60mP!$C98=\"\",\"\",IF(Beh60mP!D98=\"\",\"\",Beh60mP!$D98))","v":""},{"$f":"IF(Beh60mP!$C98=\"\",\"\",Beh60mP!$H98)","v":""},{"$f":"IF(Beh60mP!$C98=\"\",\"\",Beh60mP!$N98)","v":""},null,{"$f":"IF(Beh60mP!$C98=\"\",\"\",Beh60mP!$Q98)","v":""}]
[null,{"$f":"IF(Beh60mP!$C99=\"\",\"\",Beh60mP!$X99)","v":""},{"$f":"IF(Beh60mP!$C99=\"\",\"\",Beh60mP!$B99)","v":""},{"$f":"IF(Beh60mP!$C99=\"\",\"\",Beh60mP!$C99)","v":""},{"$f":"IF(Beh60mP!$C99=\"\",\"\",IF(Beh60mP!D99=\"\",\"\",Beh60mP!$D99))","v":""},{"$f":"IF(Beh60mP!$C99=\"\",\"\",Beh60mP!$H99)","v":""},{"$f":"IF(Beh60mP!$C99=\"\",\"\",Beh60mP!$N99)","v":""},null,{"$f":"IF(Beh60mP!$C99=\"\",\"\",Beh60mP!$Q99)","v":""}]
[null,{"$f":"IF(Beh60mP!$C100=\"\",\"\",Beh60mP!$X100)","v":""},{"$f":"IF(Beh60mP!$C100=\"\",\"\",Beh60mP!$B100)","v":""},{"$f":"IF(Beh60mP!$C100=\"\",\"\",Beh60mP!$C100)","v":""},{"$f":"IF(Beh60mP!$C100=\"\",\"\",IF(Beh60mP!D100=\"\",\"\",Beh60mP!$D100))","v":""},{"$f":"IF(Beh60mP!$C100=\"\",\"\",Beh60mP!$H100)","v":""},{"$f":"IF(Beh60mP!$C100=\"\",\"\",Beh60mP!$N100)","v":""},null,{"$f":"IF(Beh60mP!$C100=\"\",\"\",Beh60mP!$Q100)","v":""}]
[null,{"$f":"IF(Beh60mP!$C101=\"\",\"\",Beh60mP!$X101)","v":""},{"$f":"IF(Beh60mP!$C101=\"\",\"\",Beh60mP!$B101)","v":""},{"$f":"IF(Beh60mP!$C101=\"\",\"\",Beh60mP!$C101)","v":""},{"$f":"IF(Beh60mP!$C101=\"\",\"\",IF(Beh60mP!D101=\"\",\"\",Beh60mP!$D101))","v":""},{"$f":"IF(Beh60mP!$C101=\"\",\"\",Beh60mP!$H101)","v":""},{"$f":"IF(Beh60mP!$C101=\"\",\"\",Beh60mP!$N101)","v":""},null,{"$f":"IF(Beh60mP!$C101=\"\",\"\",Beh60mP!$Q101)","v":""}]
[null,{"$f":"IF(Beh60mP!$C102=\"\",\"\",Beh60mP!$X102)","v":""},{"$f":"IF(Beh60mP!$C102=\"\",\"\",Beh60mP!$B102)","v":""},{"$f":"IF(Beh60mP!$C102=\"\",\"\",Beh60mP!$C102)","v":""},{"$f":"IF(Beh60mP!$C102=\"\",\"\",IF(Beh60mP!D102=\"\",\"\",Beh60mP!$D102))","v":""},{"$f":"IF(Beh60mP!$C102=\"\",\"\",Beh60mP!$H102)","v":""},{"$f":"IF(Beh60mP!$C102=\"\",\"\",Beh60mP!$N102)","v":""},null,{"$f":"IF(Beh60mP!$C102=\"\",\"\",Beh60mP!$Q102)","v":""}]

{"sheet":"Beh60mP","index":15,"n_rows":100,"n_cols":24,"rows_kept":100,"cut":false,"hidden":false,"merged":[]}
[null,1,null,null,null,null,null,"",1,null,null,null,null,"",2,null,"",null,"",null,"",null,9000,1]
[null,2,null,null,null,null,null,"",2,null,null,null,null,"",1,null,"",null,"",null,"",null,9000,1]
[null,3,null,null,null,null,null,"",1,null,null,null,null,"",2,null,"",null,"",null,"",null,9000,1]
[null,4,null,null,null,null,null,"",2,null,null,null,null,"",1,null,"",null,"",null,"",null,9000,1]
[null,5,null,null,null,null,null,"",1,null,null,null,null,"",2,null,"",null,"",null,"",null,9000,1]
[null,6,null,null,null,null,null,"",2,null,null,null,null,"",1,null,"",null,"",null,"",null,9000,1]
[null,7,null,null,null,null,null,"",1,null,null,null,null,"",2,null,"",null,"",null,"",null,9000,1]
[null,8,null,null,null,null,null,"",2,null,null,null,null,"",1,null,"",null,"",null,"",null,9000,1]
[null,9,null,null,null,null,null,"",1,null,null,null,null,"",2,null,"",null,"",null,"",null,9000,1]
[null,10,null,null,null,null,null,"",2,null,null,null,null,"",1,null,"",null,"",null,"",null,9000,1]
[null,11,null,null,null,null,null,"",1,null,null,null,null,"",2,null,"",null,"",null,"",null,9000,1]
[null,12,null,null,null,null,null,"",2,null,null,null,null,"",1,null,"",null,"",null,"",null,9000,1]
[null,13,null,null,null,null,null,"",1,21.28,null,null,null,"",2,null,"",null,"",null,"",null,9000,1]
[null,14,null,null,null,null,null,"",2,null,null,null,null,"",1,null,"",null,"",null,"",null,9000,1]
[null,15,null,null,null,null,null,"",1,null,null,null,null,"",2,null,"",null,"",null,"",null,9000,1]
[null,16,null,null,null,null,null,"",2,null,null,null,null,"",1,null,"",null,"",null,"",null,9000,1]
[null,17,null,null,null,null,null,"",1,null,null,null,null,"",2,null,"",null,"",null,"",null,9000,1]
[null,18,null,null,null,null,null,"",2,null,null,null,null,"",1,null,"",null,"",null,"",null,9000,1]
[null,19,null,null,null,null,null,"",1,null,null,null,null,"",2,null,"",null,"",null,"",null,9000,1]
[null,20,null,null,null,null,null,"",2,null,null,null,null,"",1,null,"",null,"",null,"",null,9000,1]
[null,21,null,null,null,null,null,"",1,null,null,null,null,"",2,null,"",null,"",null,"",null,9000,1]
[null,22,null,null,null,null,null,"",2,null,null,null,null,"",1,null,"",null,"",null,"",null,9000,1]
[null,23,null,null,null,null,null,"",1,null,null,null,null,"",2,null,"",null,"",null,"",null,9000,1]
[null,24,null,null,null,null,null,"",2,null,null,null,null,"",1,null,"",null,"",null,"",null,9000,1]
[null,25,null,null,null,null,null,"",1,null,null,null,null,"",2,null,"",null,"",null,"",null,9000,1]
[null,26,null,null,null,null,null,"",2,null,null,null,null,"",1,null,"",null,"",null,"",null,9000,1]
[null,27,null,null,null,null,null,"",1,null,null,null,null,"",2,null,"",null,"",null,"",null,9000,1]
[null,28,null,null,null,null,null,"",2,null,null,null,null,"",1,null,"",null,"",null,"",null,9000,1]
[null,29,null,null,null,null,null,"",1,null,null,null,null,"",2,null,"",null,"",null,"",null,9000,1]
[null,30,null,null,null,null,null,"",2,null,null,null,null,"",1,null,"",null,"",null,"",null,9000,1]
[null,31,null,null,null,null,null,"",1,null,null,null,null,"",2,null,"",null,"",null,"",null,9000,1]
[null,32,null,null,null,null,null,"",2,null,null,null,null,"",1,null,"",null,"",null,"",null,9000,1]
[null,33,null,null,null,null,null,"",1,null,null,null,null,"",2,null,"",null,"",null,"",null,9000,1]
[null,34,null,null,null,null,null,"",2,null,null,null,null,"",1,null,"",null,"",null,"",null,9000,1]
[null,35,null,null,null,null,null,null,1,null,null,null,null,"",2,null,"",null,"",null,"",null,9000,1]
[null,36,null,null,null,null,null,null,2,null,null,null,null,"",1,null,"",null,"",null,"",null,9000,1]
[null,37,null,null,null,null,null,null,1,null,null,null,null,"",2,null,"",null,"",null,"",null,9000,1]
[null,38,null,null,null,null,null,null,2,null,null,null,null,"",1,null,"",null,"",null,"",null,9000,1]
[null,39,null,null,null,null,null,"",1,null,null,null,null,"",2,null,"",null,"",null,"",null,9000,1]
[null,40,null,null,null,null,null,"",2,null,null,null,null,"",1,null,"",null,"",null,"",null,9000,1]
[null,41,null,null,null,null,null,"",1,null,null,null,null,"",2,null,"",null,"",null,"",null,9000,1]
[null,42,null,null,null,null,null,"",2,null,null,null,null,"",1,null,"",null,"",null,"",null,9000,1]
[null,43,null,null,null,null,null,"",1,null,null,null,null,"",2,null,"",null,"",null,"",null,9000,1]
[null,44,null,null,null,null,null,"",2,null,null,null,null,"",1,null,"",null,"",null,"",null,9000,1]
[null,45,null,null,null,null,null,"",1,null,null,null,null,"",2,null,"",null,"",null,"",null,9000,1]
[null,46,null,null,null,null,null,"",2,null,null,null,null,"",1,null,"",null,"",null,"",null,9000,1]
[null,47,null,null,null,null,null,"",1,null,null,null,null,"",2,null,"",null,"",null,"",null,9000,1]
[null,48,null,null,null,null,null,"",2,null,null,null,null,"",1,null,"",null,"",null,"",null,9000,1]
[null,49,null,null,null,null,null,"",1,null,null,null,null,"",2,null,"",null,"",null,"",null,9000,1]
[null,50,null,null,null,null,null,"",2,null,null,null,null,"",1,null,"",null,"",null,"",null,9000,1]
[null,51,null,null,null,null,null,"",1,null,null,null,null,"",2,null,"",null,"",null,"",null,9000,1]
[null,52,null,null,null,null,null,"",2,null,null,null,null,"",1,null,"",null,"",null,"",null,9000,1]
[null,53,null,null,null,null,null,"",1,null,null,null,null,"",2,null,"",null,"",null,"",null,9000,1]
[null,54,null,null,null,null,null,"",2,null,null,null,null,"",1,null,"",null,"",null,"",null,9000,1]
[null,55,null,null,null,null,null,"",1,null,null,null,null,"",2,null,"",null,"",null,"",null,9000,1]
[null,56,null,null,null,null,null,"",2,null,null,null,null,"",1,null,"",null,"",null,"",null,9000,1]
[null,57,null,null,null,null,null,"",1,null,null,null,null,"",2,null,"",null,"",null,"",null,9000,1]
[null,58,null,null,null,null,null,"",2,null,null,null,null,"",1,null,"",null,"",null,"",null,9000,1]
[null,59,null,null,null,null,null,"",1,null,null,null,null,"",2,null,"",null,"",null,"",null,9000,1]
[null,60,null,null,null,null,null,"",2,null,null,null,null,"",1,null,"",null,"",null,"",null,9000,1]
[null,61,null,null,null,null,null,"",1,null,null,null,null,"",2,null,"",null,"",null,"",null,9000,1]
[null,62,null,null,null,null,null,"",2,null,null,null,null,"",1,null,"",null,"",null,"",null,9000,1]
[null,63,null,null,null,null,null,"",1,null,null,null,null,"",2,null,"",null,"",null,"",null,9000,1]
[null,64,null,null,null,null,null,"",2,null,null,null,null,"",1,null,"",null,"",null,"",null,9000,1]
[null,65,null,null,null,null,null,"",1,null,null,null,null,"",2,null,"",null,"",null,"",null,9000,1]
[null,66,null,null,null,null,null,"",2,null,null,null,null,"",1,null,"",null,"",null,"",null,9000,1]
[null,67,null,null,null,null,null,"",1,null,null,null,null,"",2,null,"",null,"",null,"",null,9000,1]
[null,68,null,null,null,null,null,"",2,null,null,null,null,"",1,null,"",null,"",null,"",null,9000,1]
[null,69,null,null,null,null,null,"",1,null,null,null,null,"",2,null,"",null,"",null,"",null,9000,1]
[null,70,null,null,null,null,null,"",2,null,null,null,null,"",1,null,"",null,"",null,"",null,9000,1]
[null,71,null,null,null,null,null,"",1,null,null,null,null,"",2,null,"",null,"",null,"",null,9000,1]
[null,72,null,null,null,null,null,"",2,null,null,null,null,"",1,null,"",null,"",null,"",null,9000,1]
[null,73,null,null,null,null,null,"",1,null,null,null,null,"",2,null,"",null,"",null,"",null,9000,1]
[null,74,null,null,null,null,null,"",2,null,null,null,null,"",1,null,"",null,"",null,"",null,9000,1]
[null,75,null,null,null,null,null,"",1,null,null,null,null,"",2,null,"",null,"",null,"",null,9000,1]
[null,76,null,null,null,null,null,"",2,null,null,null,null,"",1,null,"",null,"",null,"",null,9000,1]
[null,77,null,null,null,null,null,"",1,null,null,null,null,"",2,null,"",null,"",null,"",null,9000,1]
[null,78,null,null,null,null,null,"",2,null,null,null,null,"",1,null,"",null,"",null,"",null,9000,1]
[null,79,null,null,null,null,null,"",1,null,null,null,null,"",2,null,"",null,"",null,"",null,9000,1]
[null,80,null,null,null,null,null,"",2,null,null,null,null,"",1,null,"",null,"",null,"",null,9000,1]
[null,81,null,null,null,null,null,"",1,null,null,null,null,"",2,null,"",null,"",null,"",null,9000,1]
[null,82,null,null,null,null,null,"",2,null,null,null,null,"",1,null,"",null,"",null,"",null,9000,1]
[null,83,null,null,null,null,null,"",1,null,null,null,null,"",2,null,"",null,"",null,"",null,9000,1]
[null,84,null,null,null,null,null,"",2,null,null,null,null,"",1,null,"",null,"",null,"",null,9000,1]
[null,85,null,null,null,null,null,"",1,null,null,null,null,"",2,null,"",null,"",null,"",null,9000,1]
[null,86,null,null,null,null,null,"",2,null,null,null,null,"",1,null,"",null,"",null,"",null,9000,1]
[null,87,null,null,null,null,null,"",1,null,null,null,null,"",2,null,"",null,"",null,"",null,9000,1]
[null,88,null,null,null,null,null,"",2,null,null,null,null,"",1,null,"",null,"",null,"",null,9000,1]
[null,89,null,null,null,null,null,"",1,null,null,null,null,"",2,null,"",null,"",null,"",null,9000,1]
[null,90,null,null,null,null,null,"",2,null,null,null,null,"",1,null,"",null,"",null,"",null,9000,1]
[null,91,null,null,null,null,null,"",1,null,null,null,null,"",2,null,"",null,"",null,"",null,9000,1]
[null,92,null,null,null,null,null,"",2,null,null,null,null,"",1,null,"",null,"",null,"",null,9000,1]
[null,93,null,null,null,null,null,"",1,null,null,null,null,"",2,null,"",null,"",null,"",null,9000,1]
[null,94,null,null,null,null,null,"",2,null,null,null,null,"",1,null,"",null,"",null,"",null,9000,1]
[null,95,null,null,null,null,null,"",1,null,null,null,null,"",2,null,"",null,"",null,"",null,9000,1]
[null,96,null,null,null,null,null,"",2,null,null,null,null,"",1,null,"",null,"",null,"",null,9000,1]
[null,97,null,null,null,null,null,"",1,null,null,null,null,"",2,null,"",null,"",null,"",null,9000,1]
[null,98,null,null,null,null,null,"",2,null,null,null,null,"",1,null,"",null,"",null,"",null,9000,1]
[null,99,null,null,null,null,null,"",1,null,null,null,null,"",2,null,"",null,"",null,"",null,9000,1]
[null,100,null,null,null,null,null,"",2,null,null,null,null,"",1,null,"",null,"",null,"",null,9000,1]

{"sheet":"Výsledky","index":16,"n_rows":106,"n_cols":22,"rows_kept":106,"cut":false,"hidden":false,"merged":[[0,1,0,21],[2,2,2,10],[2,12,2,20]]}
[null,"Celkové výsledky"]
[]
[null,null,{"$f":"'Start - jaro'!$B$2","v":"Krajská soutěž HRY PLAMEN"},null,null,null,null,null,null,null,null,null,{"$f":"'Start - jaro'!$F$3&\", \"&'Start - jaro'!$N$3","v":"2020/2021, České Budějovice"}]
[null,null,null,null,null,null,null,null,null,null,null,null,null,"","","","","","","","",""]
[null,null,{"$f":"'Start - podzim'!$N$2","v":"STARŠÍ"}]
[null," startovní číslo"," SDH"," ZPV"," PÚ"," Štafeta 4x60m"," Štafeta dvojic"," 400 m štafeta CTIF"," PÚ - CTIF"," Celoroční činost"," Celkový součet",null," Celkové výsledky"," SDH"," ZPV"," PÚ"," Štafeta 4x60m"," Štafeta dvojic"," 400 m štafeta CTIF"," PÚ - CTIF"," Celoroční činost"," Celkový součet"]
[{"$f":"IF('Start - jaro'!E6=\"\",\"\",\"x\")","v":""},1,{"$f":"IF('Start - jaro'!C6=\"\",\"\",'Start - jaro'!C6)","v":"Srubec (ČB)"},{"$f":"IF($A7=\"x\",\"x\",IF($C7=\"\",\"\",IF(V.l.ZPV!$B$6=\"\",\"0\",IF(ISNA(MATCH($C7,ZPVOblN,0)),COUNTIF(ZPVOblT,\".\")+1,LOOKUP($C7,ZPVOblN,ZPVOblD)))))","v":"0"},{"$f":"IF($C7=\"\",\"\",PÚ!$I$12)","v":4},{"$f":"IF($C7=\"\",\"\",Št.4x60m!$I$12)","v":3},{"$f":"IF($C7=\"\",\"\",Št.dvojic!$V$12)","v":2},{"$f":"IF($C7=\"\",\"\",Št.400mCTIF!$V$12)","v":1},{"$f":"IF($C7=\"\",\"\",'PÚ CTIF'!$S$12)","v":1},{"$f":"IF($C7=\"\",\"\",Kronika!$H$12)","v":0},{"$f":"IF(A7=\"x\",300,IF(C7=\"\",\"\",SUM(D7:J7)))","v":11},null,1,"Srubec (ČB)","0",4,3,2,1,1,0,11]
[{"$f":"IF('Start - jaro'!E7=\"\",\"\",\"x\")","v":""},2,{"$f":"IF('Start - jaro'!C7=\"\",\"\",'Start - jaro'!C7)","v":"Zhoř u Tábora (TÁ)"},{"$f":"IF($A8=\"x\",\"x\",IF($C8=\"\",\"\",IF(V.l.ZPV!$B$6=\"\",\"0\",IF(ISNA(MATCH($C8,ZPVOblN,0)),COUNTIF(ZPVOblT,\".\")+1,LOOKUP($C8,ZPVOblN,ZPVOblD)))))","v":"0"},{"$f":"IF($C8=\"\",\"\",PÚ!$I$14)","v":1},{"$f":"IF($C8=\"\",\"\",Št.4x60m!$I$14)","v":4},{"$f":"IF($C8=\"\",\"\",Št.dvojic!$V$14)","v":6},{"$f":"IF($C8=\"\",\"\",Št.400mCTIF!$V$14)","v":4},{"$f":"IF($C8=\"\",\"\",'PÚ CTIF'!$S$14)","v":3},{"$f":"IF($C8=\"\",\"\",Kronika!$H$13)","v":0},{"$f":"IF(A8=\"x\",300,IF(C8=\"\",\"\",SUM(D8:J8)))","v":18},null,2,"Svatá Maří (PT)","0",6,1,1,2,2,0,12]
[{"$f":"IF('Start - jaro'!E8=\"\",\"\",\"x\")","v":""},3,{"$f":"IF('Start - jaro'!C8=\"\",\"\",'Start - jaro'!C8)","v":"Svatá Maří (PT)"},{"$f":"IF($A9=\"x\",\"x\",IF($C9=\"\",\"\",IF(V.l.ZPV!$B$6=\"\",\"0\",IF(ISNA(MATCH($C9,ZPVOblN,0)),COUNTIF(ZPVOblT,\".\")+1,LOOKUP($C9,ZPVOblN,ZPVOblD)))))","v":"0"},{"$f":"IF($C9=\"\",\"\",PÚ!$I$16)","v":6},{"$f":"IF($C9=\"\",\"\",Št.4x60m!$I$16)","v":1},{"$f":"IF($C9=\"\",\"\",Št.dvojic!$V$16)","v":1},{"$f":"IF($C9=\"\",\"\",Št.400mCTIF!$V$16)","v":2},{"$f":"IF($C9=\"\",\"\",'PÚ CTIF'!$S$16)","v":2},{"$f":"IF($C9=\"\",\"\",Kronika!$H$14)","v":0},12,null,3,"Zhoř u Tábora (TÁ)","0",1,4,6,4,3,0,18]
[{"$f":"IF('Start - jaro'!E9=\"\",\"\",\"x\")","v":""},4,{"$f":"IF('Start - jaro'!C9=\"\",\"\",'Start - jaro'!C9)","v":"Drahonice (ST)"},{"$f":"IF($A10=\"x\",\"x\",IF($C10=\"\",\"\",IF(V.l.ZPV!$B$6=\"\",\"0\",IF(ISNA(MATCH($C10,ZPVOblN,0)),COUNTIF(ZPVOblT,\".\")+1,LOOKUP($C10,ZPVOblN,ZPVOblD)))))","v":"0"},{"$f":"IF($C10=\"\",\"\",PÚ!$I$18)","v":5},{"$f":"IF($C10=\"\",\"\",Št.4x60m!$I$18)","v":2},{"$f":"IF($C10=\"\",\"\",Št.dvojic!$V$18)","v":4},{"$f":"IF($C10=\"\",\"\",Št.400mCTIF!$V$18)","v":5},{"$f":"IF($C10=\"\",\"\",'PÚ CTIF'!$S$18)","v":6},{"$f":"IF($C10=\"\",\"\",Kronika!$H$15)","v":0},22,null,4,"Dobrošov (PÍ)","0",2,6,3,3,4,0,18]
[{"$f":"IF('Start - jaro'!E10=\"\",\"\",\"x\")","v":""},5,{"$f":"IF('Start - jaro'!C10=\"\",\"\",'Start - jaro'!C10)","v":"Dobrošov (PÍ)"},{"$f":"IF($A11=\"x\",\"x\",IF($C11=\"\",\"\",IF(V.l.ZPV!$B$6=\"\",\"0\",IF(ISNA(MATCH($C11,ZPVOblN,0)),COUNTIF(ZPVOblT,\".\")+1,LOOKUP($C11,ZPVOblN,ZPVOblD)))))","v":"0"},{"$f":"IF($C11=\"\",\"\",PÚ!$I$20)","v":2},{"$f":"IF($C11=\"\",\"\",Št.4x60m!$I$20)","v":6},{"$f":"IF($C11=\"\",\"\",Št.dvojic!$V$20)","v":3},{"$f":"IF($C11=\"\",\"\",Št.400mCTIF!$V$20)","v":3},{"$f":"IF($C11=\"\",\"\",'PÚ CTIF'!$S$20)","v":4},{"$f":"IF($C11=\"\",\"\",Kronika!$H$16)","v":0},18,null,5,"Drahonice (ST)","0",5,2,4,5,6,0,22]
[{"$f":"IF('Start - jaro'!E11=\"\",\"\",\"x\")","v":""},6,{"$f":"IF('Start - jaro'!C11=\"\",\"\",'Start - jaro'!C11)","v":"Plešovice (ČK)"},{"$f":"IF($A12=\"x\",\"x\",IF($C12=\"\",\"\",IF(V.l.ZPV!$B$6=\"\",\"0\",IF(ISNA(MATCH($C12,ZPVOblN,0)),COUNTIF(ZPVOblT,\".\")+1,LOOKUP($C12,ZPVOblN,ZPVOblD)))))","v":"0"},{"$f":"IF($C12=\"\",\"\",PÚ!$I$22)","v":3},{"$f":"IF($C12=\"\",\"\",Št.4x60m!$I$22)","v":5},{"$f":"IF($C12=\"\",\"\",Št.dvojic!$V$22)","v":5},{"$f":"IF($C12=\"\",\"\",Št.400mCTIF!$V$22)","v":6},{"$f":"IF($C12=\"\",\"\",'PÚ CTIF'!$S$22)","v":5},{"$f":"IF($C12=\"\",\"\",Kronika!$H$17)","v":0},24,null,6,"Plešovice (ČK)","0",3,5,5,6,5,0,24]
[{"$f":"IF('Start - jaro'!E12=\"\",\"\",\"x\")","v":""},7,{"$f":"IF('Start - jaro'!C12=\"\",\"\",'Start - jaro'!C12)","v":""},{"$f":"IF($A13=\"x\",\"x\",IF($C13=\"\",\"\",IF(V.l.ZPV!$B$6=\"\",\"0\",IF(ISNA(MATCH($C13,ZPVOblN,0)),COUNTIF(ZPVOblT,\".\")+1,LOOKUP($C13,ZPVOblN,ZPVOblD)))))","v":""},{"$f":"IF($C13=\"\",\"\",PÚ!$I$24)","v":""},{"$f":"IF($C13=\"\",\"\",Št.4x60m!$I$24)","v":""},{"$f":"IF($C13=\"\",\"\",Št.dvojic!$V$24)","v":""},{"$f":"IF($C13=\"\",\"\",Št.400mCTIF!$V$24)","v":""},{"$f":"IF($C13=\"\",\"\",'PÚ CTIF'!$S$24)","v":""},{"$f":"IF($C13=\"\",\"\",Kronika!$H$18)","v":""},"",null,7,"","","","","","","","",""]
[{"$f":"IF('Start - jaro'!E13=\"\",\"\",\"x\")","v":""},8,{"$f":"IF('Start - jaro'!C13=\"\",\"\",'Start - jaro'!C13)","v":""},{"$f":"IF($A14=\"x\",\"x\",IF($C14=\"\",\"\",IF(V.l.ZPV!$B$6=\"\",\"0\",IF(ISNA(MATCH($C14,ZPVOblN,0)),COUNTIF(ZPVOblT,\".\")+1,LOOKUP($C14,ZPVOblN,ZPVOblD)))))","v":""},{"$f":"IF($C14=\"\",\"\",PÚ!$I$26)","v":""},{"$f":"IF($C14=\"\",\"\",Št.4x60m!$I$26)","v":""},{"$f":"IF($C14=\"\",\"\",Št.dvojic!$V$26)","v":""},{"$f":"IF($C14=\"\",\"\",Št.400mCTIF!$V$26)","v":""},{"$f":"IF($C14=\"\",\"\",'PÚ CTIF'!$S$26)","v":""},{"$f":"IF($C14=\"\",\"\",Kronika!$H$19)","v":""},"",null,8,"","","","","","","","",""]
[{"$f":"IF('Start - jaro'!E14=\"\",\"\",\"x\")","v":""},9,{"$f":"IF('Start - jaro'!C14=\"\",\"\",'Start - jaro'!C14)","v":""},{"$f":"IF($A15=\"x\",\"x\",IF($C15=\"\",\"\",IF(V.l.ZPV!$B$6=\"\",\"0\",IF(ISNA(MATCH($C15,ZPVOblN,0)),COUNTIF(ZPVOblT,\".\")+1,LOOKUP($C15,ZPVOblN,ZPVOblD)))))","v":""},{"$f":"IF($C15=\"\",\"\",PÚ!$I$28)","v":""},{"$f":"IF($C15=\"\",\"\",Št.4x60m!$I$28)","v":""},{"$f":"IF($C15=\"\",\"\",Št.dvojic!$V$28)","v":""},{"$f":"IF($C15=\"\",\"\",Št.400mCTIF!$V$28)","v":""},{"$f":"IF($C15=\"\",\"\",'PÚ CTIF'!$S$28)","v":""},{"$f":"IF($C15=\"\",\"\",Kronika!$H$20)","v":""},"",null,9,"","","","","","","","",""]
[{"$f":"IF('Start - jaro'!E15=\"\",\"\",\"x\")","v":""},10,{"$f":"IF('Start - jaro'!C15=\"\",\"\",'Start - jaro'!C15)","v":""},{"$f":"IF($A16=\"x\",\"x\",IF($C16=\"\",\"\",IF(V.l.ZPV!$B$6=\"\",\"0\",IF(ISNA(MATCH($C16,ZPVOblN,0)),COUNTIF(ZPVOblT,\".\")+1,LOOKUP($C16,ZPVOblN,ZPVOblD)))))","v":""},{"$f":"IF($C16=\"\",\"\",PÚ!$I$30)","v":""},{"$f":"IF($C16=\"\",\"\",Št.4x60m!$I$30)","v":""},{"$f":"IF($C16=\"\",\"\",Št.dvojic!$V$30)","v":""},{"$f":"IF($C16=\"\",\"\",Št.400mCTIF!$V$30)","v":""},{"$f":"IF($C16=\"\",\"\",'PÚ CTIF'!$S$30)","v":""},{"$f":"IF($C16=\"\",\"\",Kronika!$H$21)","v":""},"",null,10,"","","","","","","","",""]
[{"$f":"IF('Start - jaro'!E16=\"\",\"\",\"x\")","v":""},11,{"$f":"IF('Start - jaro'!C16=\"\",\"\",'Start - jaro'!C16)","v":""},{"$f":"IF($A17=\"x\",\"x\",IF($C17=\"\",\"\",IF(V.l.ZPV!$B$6=\"\",\"0\",IF(ISNA(MATCH($C17,ZPVOblN,0)),COUNTIF(ZPVOblT,\".\")+1,LOOKUP($C17,ZPVOblN,ZPVOblD)))))","v":""},{"$f":"IF($C17=\"\",\"\",PÚ!$T$12)","v":""},{"$f":"IF($C17=\"\",\"\",Št.4x60m!$T$12)","v":""},{"$f":"IF($C17=\"\",\"\",Št.dvojic!$V$43)","v":""},{"$f":"IF($C17=\"\",\"\",Št.400mCTIF!$V$43)","v":""},{"$f":"IF($C17=\"\",\"\",'PÚ CTIF'!$S$43)","v":""},{"$f":"IF($C17=\"\",\"\",Kronika!$H$22)","v":""},"",null,11,"","","","","","","","",""]
[{"$f":"IF('Start - jaro'!E17=\"\",\"\",\"x\")","v":""},12,{"$f":"IF('Start - jaro'!C17=\"\",\"\",'Start - jaro'!C17)","v":""},{"$f":"IF($A18=\"x\",\"x\",IF($C18=\"\",\"\",IF(V.l.ZPV!$B$6=\"\",\"0\",IF(ISNA(MATCH($C18,ZPVOblN,0)),COUNTIF(ZPVOblT,\".\")+1,LOOKUP($C18,ZPVOblN,ZPVOblD)))))","v":""},{"$f":"IF($C18=\"\",\"\",PÚ!$T$14)","v":""},{"$f":"IF($C18=\"\",\"\",Št.4x60m!$T$14)","v":""},{"$f":"IF($C18=\"\",\"\",Št.dvojic!$V$45)","v":""},{"$f":"IF($C18=\"\",\"\",Št.400mCTIF!$V$45)","v":""},{"$f":"IF($C18=\"\",\"\",'PÚ CTIF'!$S$45)","v":""},{"$f":"IF($C18=\"\",\"\",Kronika!$H$23)","v":""},"",null,12,"","","","","","","","",""]
[{"$f":"IF('Start - jaro'!E18=\"\",\"\",\"x\")","v":""},13,{"$f":"IF('Start - jaro'!C18=\"\",\"\",'Start - jaro'!C18)","v":""},{"$f":"IF($A19=\"x\",\"x\",IF($C19=\"\",\"\",IF(V.l.ZPV!$B$6=\"\",\"0\",IF(ISNA(MATCH($C19,ZPVOblN,0)),COUNTIF(ZPVOblT,\".\")+1,LOOKUP($C19,ZPVOblN,ZPVOblD)))))","v":""},{"$f":"IF($C19=\"\",\"\",PÚ!$T$16)","v":""},{"$f":"IF($C19=\"\",\"\",Št.4x60m!$T$16)","v":""},{"$f":"IF($C19=\"\",\"\",Št.dvojic!$V$47)","v":""},{"$f":"IF($C19=\"\",\"\",Št.400mCTIF!$V$47)","v":""},{"$f":"IF($C19=\"\",\"\",'PÚ CTIF'!$S$47)","v":""},{"$f":"IF($C19=\"\",\"\",Kronika!$H$24)","v":""},"",null,13,"","","","","","","","",""]
[{"$f":"IF('Start - jaro'!E19=\"\",\"\",\"x\")","v":""},14,{"$f":"IF('Start - jaro'!C19=\"\",\"\",'Start - jaro'!C19)","v":""},{"$f":"IF($A20=\"x\",\"x\",IF($C20=\"\",\"\",IF(V.l.ZPV!$B$6=\"\",\"0\",IF(ISNA(MATCH($C20,ZPVOblN,0)),COUNTIF(ZPVOblT,\".\")+1,LOOKUP($C20,ZPVOblN,ZPVOblD)))))","v":""},{"$f":"IF($C20=\"\",\"\",PÚ!$T$18)","v":""},{"$f":"IF($C20=\"\",\"\",Št.4x60m!$T$18)","v":""},{"$f":"IF($C20=\"\",\"\",Št.dvojic!$V$49)","v":""},{"$f":"IF($C20=\"\",\"\",Št.400mCTIF!$V$49)","v":""},{"$f":"IF($C20=\"\",\"\",'PÚ CTIF'!$S$49)","v":""},{"$f":"IF($C20=\"\",\"\",Kronika!$H$25)","v":""},"",null,14,"","","","","","","","",""]
[{"$f":"IF('Start - jaro'!E20=\"\",\"\",\"x\")","v":""},15,{"$f":"IF('Start - jaro'!C20=\"\",\"\",'Start - jaro'!C20)","v":""},{"$f":"IF($A21=\"x\",\"x\",IF($C21=\"\",\"\",IF(V.l.ZPV!$B$6=\"\",\"0\",IF(ISNA(MATCH($C21,ZPVOblN,0)),COUNTIF(ZPVOblT,\".\")+1,LOOKUP($C21,ZPVOblN,ZPVOblD)))))","v":""},{"$f":"IF($C21=\"\",\"\",PÚ!$T$20)","v":""},{"$f":"IF($C21=\"\",\"\",Št.4x60m!$T$20)","v":""},{"$f":"IF($C21=\"\",\"\",Št.dvojic!$V$51)","v":""},{"$f":"IF($C21=\"\",\"\",Št.400mCTIF!$V$51)","v":""},{"$f":"IF($C21=\"\",\"\",'PÚ CTIF'!$S$51)","v":""},{"$f":"IF($C21=\"\",\"\",Kronika!$H$26)","v":""},"",null,15,"","","","","","","","",""]
[{"$f":"IF('Start - jaro'!E21=\"\",\"\",\"x\")","v":""},16,{"$f":"IF('Start - jaro'!C21=\"\",\"\",'Start - jaro'!C21)","v":""},{"$f":"IF($A22=\"x\",\"x\",IF($C22=\"\",\"\",IF(V.l.ZPV!$B$6=\"\",\"0\",IF(ISNA(MATCH($C22,ZPVOblN,0)),COUNTIF(ZPVOblT,\".\")+1,LOOKUP($C22,ZPVOblN,ZPVOblD)))))","v":""},{"$f":"IF($C22=\"\",\"\",PÚ!$T$22)","v":""},{"$f":"IF($C22=\"\",\"\",Št.4x60m!$T$22)","v":""},{"$f":"IF($C22=\"\",\"\",Št.dvojic!$V$53)","v":""},{"$f":"IF($C22=\"\",\"\",Št.400mCTIF!$V$53)","v":""},{"$f":"IF($C22=\"\",\"\",'PÚ CTIF'!$S$53)","v":""},{"$f":"IF($C22=\"\",\"\",Kronika!$H$27)","v":""},"",null,16,"","","","","","","","",""]
[{"$f":"IF('Start - jaro'!E22=\"\",\"\",\"x\")","v":""},17,{"$f":"IF('Start - jaro'!C22=\"\",\"\",'Start - jaro'!C22)","v":""},{"$f":"IF($A23=\"x\",\"x\",IF($C23=\"\",\"\",IF(V.l.ZPV!$B$6=\"\",\"0\",IF(ISNA(MATCH($C23,ZPVOblN,0)),COUNTIF(ZPVOblT,\".\")+1,LOOKUP($C23,ZPVOblN,ZPVOblD)))))","v":""},{"$f":"IF($C23=\"\",\"\",PÚ!$T$24)","v":""},{"$f":"IF($C23=\"\",\"\",Št.4x60m!$T$24)","v":""},{"$f":"IF($C23=\"\",\"\",Št.dvojic!$V$55)","v":""},{"$f":"IF($C23=\"\",\"\",Št.400mCTIF!$V$55)","v":""},{"$f":"IF($C23=\"\",\"\",'PÚ CTIF'!$S$55)","v":""},{"$f":"IF($C23=\"\",\"\",Kronika!$H$28)","v":""},"",null,17,"","","","","","","","",""]
[{"$f":"IF('Start - jaro'!E23=\"\",\"\",\"x\")","v":""},18,{"$f":"IF('Start - jaro'!C23=\"\",\"\",'Start - jaro'!C23)","v":""},{"$f":"IF($A24=\"x\",\"x\",IF($C24=\"\",\"\",IF(V.l.ZPV!$B$6=\"\",\"0\",IF(ISNA(MATCH($C24,ZPVOblN,0)),COUNTIF(ZPVOblT,\".\")+1,LOOKUP($C24,ZPVOblN,ZPVOblD)))))","v":""},{"$f":"IF($C24=\"\",\"\",PÚ!$T$26)","v":""},{"$f":"IF($C24=\"\",\"\",Št.4x60m!$T$26)","v":""},{"$f":"IF($C24=\"\",\"\",Št.dvojic!$V$57)","v":""},{"$f":"IF($C24=\"\",\"\",Št.400mCTIF!$V$57)","v":""},{"$f":"IF($C24=\"\",\"\",'PÚ CTIF'!$S$57)","v":""},{"$f":"IF($C24=\"\",\"\",Kronika!$H$29)","v":""},"",null,18,"","","","","","","","",""]
[{"$f":"IF('Start - jaro'!E24=\"\",\"\",\"x\")","v":""},19,{"$f":"IF('Start - jaro'!C24=\"\",\"\",'Start - jaro'!C24)","v":""},{"$f":"IF($A25=\"x\",\"x\",IF($C25=\"\",\"\",IF(V.l.ZPV!$B$6=\"\",\"0\",IF(ISNA(MATCH($C25,ZPVOblN,0)),COUNTIF(ZPVOblT,\".\")+1,LOOKUP($C25,ZPVOblN,ZPVOblD)))))","v":""},{"$f":"IF($C25=\"\",\"\",PÚ!$T$28)","v":""},{"$f":"IF($C25=\"\",\"\",Št.4x60m!$T$28)","v":""},{"$f":"IF($C25=\"\",\"\",Št.dvojic!$V$59)","v":""},{"$f":"IF($C25=\"\",\"\",Št.400mCTIF!$V$59)","v":""},{"$f":"IF($C25=\"\",\"\",'PÚ CTIF'!$S$59)","v":""},{"$f":"IF($C25=\"\",\"\",Kronika!$H$30)","v":""},"",null,19,"","","","","","","","",""]
[{"$f":"IF('Start - jaro'!E25=\"\",\"\",\"x\")","v":""},20,{"$f":"IF('Start - jaro'!C25=\"\",\"\",'Start - jaro'!C25)","v":""},{"$f":"IF($A26=\"x\",\"x\",IF($C26=\"\",\"\",IF(V.l.ZPV!$B$6=\"\",\"0\",IF(ISNA(MATCH($C26,ZPVOblN,0)),COUNTIF(ZPVOblT,\".\")+1,LOOKUP($C26,ZPVOblN,ZPVOblD)))))","v":""},{"$f":"IF($C26=\"\",\"\",PÚ!$T$30)","v":""},{"$f":"IF($C26=\"\",\"\",Št.4x60m!$T$30)","v":""},{"$f":"IF($C26=\"\",\"\",Št.dvojic!$V$61)","v":""},{"$f":"IF($C26=\"\",\"\",Št.400mCTIF!$V$61)","v":""},{"$f":"IF($C26=\"\",\"\",'PÚ CTIF'!$S$61)","v":""},{"$f":"IF($C26=\"\",\"\",Kronika!$H$31)","v":""},"",null,20,"","","","","","","","",""]
[{"$f":"IF('Start - jaro'!E26=\"\",\"\",\"x\")","v":""},21,{"$f":"IF('Start - jaro'!C26=\"\",\"\",'Start - jaro'!C26)","v":""},{"$f":"IF($A27=\"x\",\"x\",IF($C27=\"\",\"\",IF(V.l.ZPV!$B$6=\"\",\"0\",IF(ISNA(MATCH($C27,ZPVOblN,0)),COUNTIF(ZPVOblT,\".\")+1,LOOKUP($C27,ZPVOblN,ZPVOblD)))))","v":""},{"$f":"IF($C27=\"\",\"\",PÚ!$I$43)","v":""},{"$f":"IF($C27=\"\",\"\",Št.4x60m!$I$43)","v":""},{"$f":"IF($C27=\"\",\"\",Št.dvojic!$V$74)","v":""},{"$f":"IF($C27=\"\",\"\",Št.400mCTIF!$V$74)","v":""},{"$f":"IF($C27=\"\",\"\",'PÚ CTIF'!$S$74)","v":""},{"$f":"IF($C27=\"\",\"\",Kronika!$P$12)","v":""},"",null,21,"","","","","","","","",""]
[{"$f":"IF('Start - jaro'!E27=\"\",\"\",\"x\")","v":""},22,{"$f":"IF('Start - jaro'!C27=\"\",\"\",'Start - jaro'!C27)","v":""},{"$f":"IF($A28=\"x\",\"x\",IF($C28=\"\",\"\",IF(V.l.ZPV!$B$6=\"\",\"0\",IF(ISNA(MATCH($C28,ZPVOblN,0)),COUNTIF(ZPVOblT,\".\")+1,LOOKUP($C28,ZPVOblN,ZPVOblD)))))","v":""},{"$f":"IF($C28=\"\",\"\",PÚ!$I$45)","v":""},{"$f":"IF($C28=\"\",\"\",Št.4x60m!$I$45)","v":""},{"$f":"IF($C28=\"\",\"\",Št.dvojic!$V$76)","v":""},{"$f":"IF($C28=\"\",\"\",Št.400mCTIF!$V$76)","v":""},{"$f":"IF($C28=\"\",\"\",'PÚ CTIF'!$S$76)","v":""},{"$f":"IF($C28=\"\",\"\",Kronika!$P$13)","v":""},"",null,22,"","","","","","","","",""]
[{"$f":"IF('Start - jaro'!E28=\"\",\"\",\"x\")","v":""},23,{"$f":"IF('Start - jaro'!C28=\"\",\"\",'Start - jaro'!C28)","v":""},{"$f":"IF($A29=\"x\",\"x\",IF($C29=\"\",\"\",IF(V.l.ZPV!$B$6=\"\",\"0\",IF(ISNA(MATCH($C29,ZPVOblN,0)),COUNTIF(ZPVOblT,\".\")+1,LOOKUP($C29,ZPVOblN,ZPVOblD)))))","v":""},{"$f":"IF($C29=\"\",\"\",PÚ!$I$47)","v":""},{"$f":"IF($C29=\"\",\"\",Št.4x60m!$I$47)","v":""},{"$f":"IF($C29=\"\",\"\",Št.dvojic!$V$78)","v":""},{"$f":"IF($C29=\"\",\"\",Št.400mCTIF!$V$78)","v":""},{"$f":"IF($C29=\"\",\"\",'PÚ CTIF'!$S$78)","v":""},{"$f":"IF($C29=\"\",\"\",Kronika!$P$14)","v":""},"",null,23,"","","","","","","","",""]
[{"$f":"IF('Start - jaro'!E29=\"\",\"\",\"x\")","v":""},24,{"$f":"IF('Start - jaro'!C29=\"\",\"\",'Start - jaro'!C29)","v":""},{"$f":"IF($A30=\"x\",\"x\",IF($C30=\"\",\"\",IF(V.l.ZPV!$B$6=\"\",\"0\",IF(ISNA(MATCH($C30,ZPVOblN,0)),COUNTIF(ZPVOblT,\".\")+1,LOOKUP($C30,ZPVOblN,ZPVOblD)))))","v":""},{"$f":"IF($C30=\"\",\"\",PÚ!$I$49)","v":""},{"$f":"IF($C30=\"\",\"\",Št.4x60m!$I$49)","v":""},{"$f":"IF($C30=\"\",\"\",Št.dvojic!$V$80)","v":""},{"$f":"IF($C30=\"\",\"\",Št.400mCTIF!$V$80)","v":""},{"$f":"IF($C30=\"\",\"\",'PÚ CTIF'!$S$80)","v":""},{"$f":"IF($C30=\"\",\"\",Kronika!$P$15)","v":""},"",null,24,"","","","","","","","",""]
[{"$f":"IF('Start - jaro'!E30=\"\",\"\",\"x\")","v":""},25,{"$f":"IF('Start - jaro'!C30=\"\",\"\",'Start - jaro'!C30)","v":""},{"$f":"IF($A31=\"x\",\"x\",IF($C31=\"\",\"\",IF(V.l.ZPV!$B$6=\"\",\"0\",IF(ISNA(MATCH($C31,ZPVOblN,0)),COUNTIF(ZPVOblT,\".\")+1,LOOKUP($C31,ZPVOblN,ZPVOblD)))))","v":""},{"$f":"IF($C31=\"\",\"\",PÚ!$I$51)","v":""},{"$f":"IF($C31=\"\",\"\",Št.4x60m!$I$51)","v":""},{"$f":"IF($C31=\"\",\"\",Št.dvojic!$V$82)","v":""},{"$f":"IF($C31=\"\",\"\",Št.400mCTIF!$V$82)","v":""},{"$f":"IF($C31=\"\",\"\",'PÚ CTIF'!$S$82)","v":""},{"$f":"IF($C31=\"\",\"\",Kronika!$P$16)","v":""},"",null,25,"","","","","","","","",""]
[{"$f":"IF('Start - jaro'!I6=\"\",\"\",\"x\")","v":""},26,{"$f":"IF('Start - jaro'!G6=\"\",\"\",'Start - jaro'!G6)","v":""},{"$f":"IF($A32=\"x\",\"x\",IF($C32=\"\",\"\",IF(V.l.ZPV!$B$6=\"\",\"0\",IF(ISNA(MATCH($C32,ZPVOblN,0)),COUNTIF(ZPVOblT,\".\")+1,LOOKUP($C32,ZPVOblN,ZPVOblD)))))","v":""},{"$f":"IF($C32=\"\",\"\",PÚ!$I$53)","v":""},{"$f":"IF($C32=\"\",\"\",Št.4x60m!$I$53)","v":""},{"$f":"IF($C32=\"\",\"\",Št.dvojic!$V$84)","v":""},{"$f":"IF($C32=\"\",\"\",Št.400mCTIF!$V$84)","v":""},{"$f":"IF($C32=\"\",\"\",'PÚ CTIF'!$S$84)","v":""},{"$f":"IF($C32=\"\",\"\",Kronika!$P$17)","v":""},"",null,26,"","","","","","","","",""]
[{"$f":"IF('Start - jaro'!I7=\"\",\"\",\"x\")","v":""},27,{"$f":"IF('Start - jaro'!G7=\"\",\"\",'Start - jaro'!G7)","v":""},{"$f":"IF($A33=\"x\",\"x\",IF($C33=\"\",\"\",IF(V.l.ZPV!$B$6=\"\",\"0\",IF(ISNA(MATCH($C33,ZPVOblN,0)),COUNTIF(ZPVOblT,\".\")+1,LOOKUP($C33,ZPVOblN,ZPVOblD)))))","v":""},{"$f":"IF($C33=\"\",\"\",PÚ!$I$55)","v":""},{"$f":"IF($C33=\"\",\"\",Št.4x60m!$I$55)","v":""},{"$f":"IF($C33=\"\",\"\",Št.dvojic!$V$86)","v":""},{"$f":"IF($C33=\"\",\"\",Št.400mCTIF!$V$86)","v":""},{"$f":"IF($C33=\"\",\"\",'PÚ CTIF'!$S$86)","v":""},{"$f":"IF($C33=\"\",\"\",Kronika!$P$18)","v":""},"",null,27,"","","","","","","","",""]
[{"$f":"IF('Start - jaro'!I8=\"\",\"\",\"x\")","v":""},28,{"$f":"IF('Start - jaro'!G8=\"\",\"\",'Start - jaro'!G8)","v":""},{"$f":"IF($A34=\"x\",\"x\",IF($C34=\"\",\"\",IF(V.l.ZPV!$B$6=\"\",\"0\",IF(ISNA(MATCH($C34,ZPVOblN,0)),COUNTIF(ZPVOblT,\".\")+1,LOOKUP($C34,ZPVOblN,ZPVOblD)))))","v":""},{"$f":"IF($C34=\"\",\"\",PÚ!$I$57)","v":""},{"$f":"IF($C34=\"\",\"\",Št.4x60m!$I$57)","v":""},{"$f":"IF($C34=\"\",\"\",Št.dvojic!$V$88)","v":""},{"$f":"IF($C34=\"\",\"\",Št.400mCTIF!$V$88)","v":""},{"$f":"IF($C34=\"\",\"\",'PÚ CTIF'!$S$88)","v":""},{"$f":"IF($C34=\"\",\"\",Kronika!$P$19)","v":""},"",null,28,"","","","","","","","",""]
[{"$f":"IF('Start - jaro'!I9=\"\",\"\",\"x\")","v":""},29,{"$f":"IF('Start - jaro'!G9=\"\",\"\",'Start - jaro'!G9)","v":""},{"$f":"IF($A35=\"x\",\"x\",IF($C35=\"\",\"\",IF(V.l.ZPV!$B$6=\"\",\"0\",IF(ISNA(MATCH($C35,ZPVOblN,0)),COUNTIF(ZPVOblT,\".\")+1,LOOKUP($C35,ZPVOblN,ZPVOblD)))))","v":""},{"$f":"IF($C35=\"\",\"\",PÚ!$I$59)","v":""},{"$f":"IF($C35=\"\",\"\",Št.4x60m!$I$59)","v":""},{"$f":"IF($C35=\"\",\"\",Št.dvojic!$V$90)","v":""},{"$f":"IF($C35=\"\",\"\",Št.400mCTIF!$V$90)","v":""},{"$f":"IF($C35=\"\",\"\",'PÚ CTIF'!$S$90)","v":""},{"$f":"IF($C35=\"\",\"\",Kronika!$P$20)","v":""},"",null,29,"","","","","","","","",""]
[{"$f":"IF('Start - jaro'!I10=\"\",\"\",\"x\")","v":""},30,{"$f":"IF('Start - jaro'!G10=\"\",\"\",'Start - jaro'!G10)","v":""},{"$f":"IF($A36=\"x\",\"x\",IF($C36=\"\",\"\",IF(V.l.ZPV!$B$6=\"\",\"0\",IF(ISNA(MATCH($C36,ZPVOblN,0)),COUNTIF(ZPVOblT,\".\")+1,LOOKUP($C36,ZPVOblN,ZPVOblD)))))","v":""},{"$f":"IF($C36=\"\",\"\",PÚ!$I$61)","v":""},{"$f":"IF($C36=\"\",\"\",Št.4x60m!$I$61)","v":""},{"$f":"IF($C36=\"\",\"\",Št.dvojic!$V$92)","v":""},{"$f":"IF($C36=\"\",\"\",Št.400mCTIF!$V$92)","v":""},{"$f":"IF($C36=\"\",\"\",'PÚ CTIF'!$S$92)","v":""},{"$f":"IF($C36=\"\",\"\",Kronika!$P$21)","v":""},"",null,30,"","","","","","","","",""]
[{"$f":"IF('Start - jaro'!I11=\"\",\"\",\"x\")","v":""},31,{"$f":"IF('Start - jaro'!G11=\"\",\"\",'Start - jaro'!G11)","v":""},{"$f":"IF($A37=\"x\",\"x\",IF($C37=\"\",\"\",IF(V.l.ZPV!$B$6=\"\",\"0\",IF(ISNA(MATCH($C37,ZPVOblN,0)),COUNTIF(ZPVOblT,\".\")+1,LOOKUP($C37,ZPVOblN,ZPVOblD)))))","v":""},{"$f":"IF($C37=\"\",\"\",PÚ!$T$43)","v":""},{"$f":"IF($C37=\"\",\"\",Št.4x60m!$T$43)","v":""},{"$f":"IF($C37=\"\",\"\",Št.dvojic!$V$105)","v":""},{"$f":"IF($C37=\"\",\"\",Št.400mCTIF!$V$105)","v":""},{"$f":"IF($C37=\"\",\"\",'PÚ CTIF'!$S$105)","v":""},{"$f":"IF($C37=\"\",\"\",Kronika!$P$22)","v":""},"",null,31,"","","","","","","","",""]
[{"$f":"IF('Start - jaro'!I12=\"\",\"\",\"x\")","v":""},32,{"$f":"IF('Start - jaro'!G12=\"\",\"\",'Start - jaro'!G12)","v":""},{"$f":"IF($A38=\"x\",\"x\",IF($C38=\"\",\"\",IF(V.l.ZPV!$B$6=\"\",\"0\",IF(ISNA(MATCH($C38,ZPVOblN,0)),COUNTIF(ZPVOblT,\".\")+1,LOOKUP($C38,ZPVOblN,ZPVOblD)))))","v":""},{"$f":"IF($C38=\"\",\"\",PÚ!$T$45)","v":""},{"$f":"IF($C38=\"\",\"\",Št.4x60m!$T$45)","v":""},{"$f":"IF($C38=\"\",\"\",Št.dvojic!$V$107)","v":""},{"$f":"IF($C38=\"\",\"\",Št.400mCTIF!$V$107)","v":""},{"$f":"IF($C38=\"\",\"\",'PÚ CTIF'!$S$107)","v":""},{"$f":"IF($C38=\"\",\"\",Kronika!$P$23)","v":""},"",null,32,"","","","","","","","",""]
[{"$f":"IF('Start - jaro'!I13=\"\",\"\",\"x\")","v":""},33,{"$f":"IF('Start - jaro'!G13=\"\",\"\",'Start - jaro'!G13)","v":""},{"$f":"IF($A39=\"x\",\"x\",IF($C39=\"\",\"\",IF(V.l.ZPV!$B$6=\"\",\"0\",IF(ISNA(MATCH($C39,ZPVOblN,0)),COUNTIF(ZPVOblT,\".\")+1,LOOKUP($C39,ZPVOblN,ZPVOblD)))))","v":""},{"$f":"IF($C39=\"\",\"\",PÚ!$T$47)","v":""},{"$f":"IF($C39=\"\",\"\",Št.4x60m!$T$47)","v":""},{"$f":"IF($C39=\"\",\"\",Št.dvojic!$V$109)","v":""},{"$f":"IF($C39=\"\",\"\",Št.400mCTIF!$V$109)","v":""},{"$f":"IF($C39=\"\",\"\",'PÚ CTIF'!$S$109)","v":""},{"$f":"IF($C39=\"\",\"\",Kronika!$P$24)","v":""},"",null,33,"","","","","","","","",""]
[{"$f":"IF('Start - jaro'!I14=\"\",\"\",\"x\")","v":""},34,{"$f":"IF('Start - jaro'!G14=\"\",\"\",'Start - jaro'!G14)","v":""},{"$f":"IF($A40=\"x\",\"x\",IF($C40=\"\",\"\",IF(V.l.ZPV!$B$6=\"\",\"0\",IF(ISNA(MATCH($C40,ZPVOblN,0)),COUNTIF(ZPVOblT,\".\")+1,LOOKUP($C40,ZPVOblN,ZPVOblD)))))","v":""},{"$f":"IF($C40=\"\",\"\",PÚ!$T$49)","v":""},{"$f":"IF($C40=\"\",\"\",Št.4x60m!$T$49)","v":""},{"$f":"IF($C40=\"\",\"\",Št.dvojic!$V$111)","v":""},{"$f":"IF($C40=\"\",\"\",Št.400mCTIF!$V$111)","v":""},{"$f":"IF($C40=\"\",\"\",'PÚ CTIF'!$S$111)","v":""},{"$f":"IF($C40=\"\",\"\",Kronika!$P$25)","v":""},"",null,34,"","","","","","","","",""]
[{"$f":"IF('Start - jaro'!I15=\"\",\"\",\"x\")","v":""},35,{"$f":"IF('Start - jaro'!G15=\"\",\"\",'Start - jaro'!G15)","v":""},{"$f":"IF($A41=\"x\",\"x\",IF($C41=\"\",\"\",IF(V.l.ZPV!$B$6=\"\",\"0\",IF(ISNA(MATCH($C41,ZPVOblN,0)),COUNTIF(ZPVOblT,\".\")+1,LOOKUP($C41,ZPVOblN,ZPVOblD)))))","v":""},{"$f":"IF($C41=\"\",\"\",PÚ!$T$51)","v":""},{"$f":"IF($C41=\"\",\"\",Št.4x60m!$T$51)","v":""},{"$f":"IF($C41=\"\",\"\",Št.dvojic!$V$113)","v":""},{"$f":"IF($C41=\"\",\"\",Št.400mCTIF!$V$113)","v":""},{"$f":"IF($C41=\"\",\"\",'PÚ CTIF'!$S$113)","v":""},{"$f":"IF($C41=\"\",\"\",Kronika!$P$26)","v":""},"",null,35,"","","","","","","","",""]
[{"$f":"IF('Start - jaro'!I16=\"\",\"\",\"x\")","v":""},36,{"$f":"IF('Start - jaro'!G16=\"\",\"\",'Start - jaro'!G16)","v":""},{"$f":"IF($A42=\"x\",\"x\",IF($C42=\"\",\"\",IF(V.l.ZPV!$B$6=\"\",\"0\",IF(ISNA(MATCH($C42,ZPVOblN,0)),COUNTIF(ZPVOblT,\".\")+1,LOOKUP($C42,ZPVOblN,ZPVOblD)))))","v":""},{"$f":"IF($C42=\"\",\"\",PÚ!$T$53)","v":""},{"$f":"IF($C42=\"\",\"\",Št.4x60m!$T$53)","v":""},{"$f":"IF($C42=\"\",\"\",Št.dvojic!$V$115)","v":""},{"$f":"IF($C42=\"\",\"\",Št.400mCTIF!$V$115)","v":""},{"$f":"IF($C42=\"\",\"\",'PÚ CTIF'!$S$115)","v":""},{"$f":"IF($C42=\"\",\"\",Kronika!$P$27)","v":""},"",null,36,"","","","","","","","",""]
[{"$f":"IF('Start - jaro'!I17=\"\",\"\",\"x\")","v":""},37,{"$f":"IF('Start - jaro'!G17=\"\",\"\",'Start - jaro'!G17)","v":""},{"$f":"IF($A43=\"x\",\"x\",IF($C43=\"\",\"\",IF(V.l.ZPV!$B$6=\"\",\"0\",IF(ISNA(MATCH($C43,ZPVOblN,0)),COUNTIF(ZPVOblT,\".\")+1,LOOKUP($C43,ZPVOblN,ZPVOblD)))))","v":""},{"$f":"IF($C43=\"\",\"\",PÚ!$T$55)","v":""},{"$f":"IF($C43=\"\",\"\",Št.4x60m!$T$55)","v":""},{"$f":"IF($C43=\"\",\"\",Št.dvojic!$V$117)","v":""},{"$f":"IF($C43=\"\",\"\",Št.400mCTIF!$V$117)","v":""},{"$f":"IF($C43=\"\",\"\",'PÚ CTIF'!$S$117)","v":""},{"$f":"IF($C43=\"\",\"\",Kronika!$P$28)","v":""},"",null,37,"","","","","","","","",""]
[{"$f":"IF('Start - jaro'!I18=\"\",\"\",\"x\")","v":""},38,{"$f":"IF('Start - jaro'!G18=\"\",\"\",'Start - jaro'!G18)","v":""},{"$f":"IF($A44=\"x\",\"x\",IF($C44=\"\",\"\",IF(V.l.ZPV!$B$6=\"\",\"0\",IF(ISNA(MATCH($C44,ZPVOblN,0)),COUNTIF(ZPVOblT,\".\")+1,LOOKUP($C44,ZPVOblN,ZPVOblD)))))","v":""},{"$f":"IF($C44=\"\",\"\",PÚ!$T$57)","v":""},{"$f":"IF($C44=\"\",\"\",Št.4x60m!$T$57)","v":""},{"$f":"IF($C44=\"\",\"\",Št.dvojic!$V$119)","v":""},{"$f":"IF($C44=\"\",\"\",Št.400mCTIF!$V$119)","v":""},{"$f":"IF($C44=\"\",\"\",'PÚ CTIF'!$S$119)","v":""},{"$f":"IF($C44=\"\",\"\",Kronika!$P$29)","v":""},"",null,38,"","","","","","","","",""]
[{"$f":"IF('Start - jaro'!I19=\"\",\"\",\"x\")","v":""},39,{"$f":"IF('Start - jaro'!G19=\"\",\"\",'Start - jaro'!G19)","v":""},{"$f":"IF($A45=\"x\",\"x\",IF($C45=\"\",\"\",IF(V.l.ZPV!$B$6=\"\",\"0\",IF(ISNA(MATCH($C45,ZPVOblN,0)),COUNTIF(ZPVOblT,\".\")+1,LOOKUP($C45,ZPVOblN,ZPVOblD)))))","v":""},{"$f":"IF($C45=\"\",\"\",PÚ!$T$59)","v":""},{"$f":"IF($C45=\"\",\"\",Št.4x60m!$T$59)","v":""},{"$f":"IF($C45=\"\",\"\",Št.dvojic!$V$121)","v":""},{"$f":"IF($C45=\"\",\"\",Št.400mCTIF!$V$121)","v":""},{"$f":"IF($C45=\"\",\"\",'PÚ CTIF'!$S$121)","v":""},{"$f":"IF($C45=\"\",\"\",Kronika!$P$30)","v":""},"",null,39,"","","","","","","","",""]
[{"$f":"IF('Start - jaro'!I20=\"\",\"\",\"x\")","v":""},40,{"$f":"IF('Start - jaro'!G20=\"\",\"\",'Start - jaro'!G20)","v":""},{"$f":"IF($A46=\"x\",\"x\",IF($C46=\"\",\"\",IF(V.l.ZPV!$B$6=\"\",\"0\",IF(ISNA(MATCH($C46,ZPVOblN,0)),COUNTIF(ZPVOblT,\".\")+1,LOOKUP($C46,ZPVOblN,ZPVOblD)))))","v":""},{"$f":"IF($C46=\"\",\"\",PÚ!$T$61)","v":""},{"$f":"IF($C46=\"\",\"\",Št.4x60m!$T$61)","v":""},{"$f":"IF($C46=\"\",\"\",Št.dvojic!$V$123)","v":""},{"$f":"IF($C46=\"\",\"\",Št.400mCTIF!$V$123)","v":""},{"$f":"IF($C46=\"\",\"\",'PÚ CTIF'!$S$123)","v":""},{"$f":"IF($C46=\"\",\"\",Kronika!$P$31)","v":""},"",null,40,"","","","","","","","",""]
[{"$f":"IF('Start - jaro'!I21=\"\",\"\",\"x\")","v":""},41,{"$f":"IF('Start - jaro'!G21=\"\",\"\",'Start - jaro'!G21)","v":""},{"$f":"IF($A47=\"x\",\"x\",IF($C47=\"\",\"\",IF(V.l.ZPV!$B$6=\"\",\"0\",IF(ISNA(MATCH($C47,ZPVOblN,0)),COUNTIF(ZPVOblT,\".\")+1,LOOKUP($C47,ZPVOblN,ZPVOblD)))))","v":""},{"$f":"IF($C47=\"\",\"\",PÚ!$I$74)","v":""},{"$f":"IF($C47=\"\",\"\",Št.4x60m!$I$74)","v":""},{"$f":"IF($C47=\"\",\"\",Št.dvojic!$V$136)","v":""},{"$f":"IF($C47=\"\",\"\",Št.400mCTIF!$V$136)","v":""},{"$f":"IF($C47=\"\",\"\",'PÚ CTIF'!$S$136)","v":""},{"$f":"IF($C47=\"\",\"\",Kronika!$H$43)","v":""},"",null,41,"","","","","","","","",""]
[{"$f":"IF('Start - jaro'!I22=\"\",\"\",\"x\")","v":""},42,{"$f":"IF('Start - jaro'!G22=\"\",\"\",'Start - jaro'!G22)","v":""},{"$f":"IF($A48=\"x\",\"x\",IF($C48=\"\",\"\",IF(V.l.ZPV!$B$6=\"\",\"0\",IF(ISNA(MATCH($C48,ZPVOblN,0)),COUNTIF(ZPVOblT,\".\")+1,LOOKUP($C48,ZPVOblN,ZPVOblD)))))","v":""},{"$f":"IF($C48=\"\",\"\",PÚ!$I$76)","v":""},{"$f":"IF($C48=\"\",\"\",Št.4x60m!$I$76)","v":""},{"$f":"IF($C48=\"\",\"\",Št.dvojic!$V$138)","v":""},{"$f":"IF($C48=\"\",\"\",Št.400mCTIF!$V$138)","v":""},{"$f":"IF($C48=\"\",\"\",'PÚ CTIF'!$S$138)","v":""},{"$f":"IF($C48=\"\",\"\",Kronika!$H$44)","v":""},"",null,42,"","","","","","","","",""]
[{"$f":"IF('Start - jaro'!I23=\"\",\"\",\"x\")","v":""},43,{"$f":"IF('Start - jaro'!G23=\"\",\"\",'Start - jaro'!G23)","v":""},{"$f":"IF($A49=\"x\",\"x\",IF($C49=\"\",\"\",IF(V.l.ZPV!$B$6=\"\",\"0\",IF(ISNA(MATCH($C49,ZPVOblN,0)),COUNTIF(ZPVOblT,\".\")+1,LOOKUP($C49,ZPVOblN,ZPVOblD)))))","v":""},{"$f":"IF($C49=\"\",\"\",PÚ!$I$78)","v":""},{"$f":"IF($C49=\"\",\"\",Št.4x60m!$I$78)","v":""},{"$f":"IF($C49=\"\",\"\",Št.dvojic!$V$140)","v":""},{"$f":"IF($C49=\"\",\"\",Št.400mCTIF!$V$140)","v":""},{"$f":"IF($C49=\"\",\"\",'PÚ CTIF'!$S$140)","v":""},{"$f":"IF($C49=\"\",\"\",Kronika!$H$45)","v":""},"",null,43,"","","","","","","","",""]
[{"$f":"IF('Start - jaro'!I24=\"\",\"\",\"x\")","v":""},44,{"$f":"IF('Start - jaro'!G24=\"\",\"\",'Start - jaro'!G24)","v":""},{"$f":"IF($A50=\"x\",\"x\",IF($C50=\"\",\"\",IF(V.l.ZPV!$B$6=\"\",\"0\",IF(ISNA(MATCH($C50,ZPVOblN,0)),COUNTIF(ZPVOblT,\".\")+1,LOOKUP($C50,ZPVOblN,ZPVOblD)))))","v":""},{"$f":"IF($C50=\"\",\"\",PÚ!$I$80)","v":""},{"$f":"IF($C50=\"\",\"\",Št.4x60m!$I$80)","v":""},{"$f":"IF($C50=\"\",\"\",Št.dvojic!$V$142)","v":""},{"$f":"IF($C50=\"\",\"\",Št.400mCTIF!$V$142)","v":""},{"$f":"IF($C50=\"\",\"\",'PÚ CTIF'!$S$142)","v":""},{"$f":"IF($C50=\"\",\"\",Kronika!$H$46)","v":""},"",null,44,"","","","","","","","",""]
[{"$f":"IF('Start - jaro'!I25=\"\",\"\",\"x\")","v":""},45,{"$f":"IF('Start - jaro'!G25=\"\",\"\",'Start - jaro'!G25)","v":""},{"$f":"IF($A51=\"x\",\"x\",IF($C51=\"\",\"\",IF(V.l.ZPV!$B$6=\"\",\"0\",IF(ISNA(MATCH($C51,ZPVOblN,0)),COUNTIF(ZPVOblT,\".\")+1,LOOKUP($C51,ZPVOblN,ZPVOblD)))))","v":""},{"$f":"IF($C51=\"\",\"\",PÚ!$I$82)","v":""},{"$f":"IF($C51=\"\",\"\",Št.4x60m!$I$82)","v":""},{"$f":"IF($C51=\"\",\"\",Št.dvojic!$V$144)","v":""},{"$f":"IF($C51=\"\",\"\",Št.400mCTIF!$V$144)","v":""},{"$f":"IF($C51=\"\",\"\",'PÚ CTIF'!$S$144)","v":""},{"$f":"IF($C51=\"\",\"\",Kronika!$H$47)","v":""},"",null,45,"","","","","","","","",""]
[{"$f":"IF('Start - jaro'!I26=\"\",\"\",\"x\")","v":""},46,{"$f":"IF('Start - jaro'!G26=\"\",\"\",'Start - jaro'!G26)","v":""},{"$f":"IF($A52=\"x\",\"x\",IF($C52=\"\",\"\",IF(V.l.ZPV!$B$6=\"\",\"0\",IF(ISNA(MATCH($C52,ZPVOblN,0)),COUNTIF(ZPVOblT,\".\")+1,LOOKUP($C52,ZPVOblN,ZPVOblD)))))","v":""},{"$f":"IF($C52=\"\",\"\",PÚ!$I$84)","v":""},{"$f":"IF($C52=\"\",\"\",Št.4x60m!$I$84)","v":""},{"$f":"IF($C52=\"\",\"\",Št.dvojic!$V$146)","v":""},{"$f":"IF($C52=\"\",\"\",Št.400mCTIF!$V$146)","v":""},{"$f":"IF($C52=\"\",\"\",'PÚ CTIF'!$S$146)","v":""},{"$f":"IF($C52=\"\",\"\",Kronika!$H$48)","v":""},"",null,46,"","","","","","","","",""]
[{"$f":"IF('Start - jaro'!I27=\"\",\"\",\"x\")","v":""},47,{"$f":"IF('Start - jaro'!G27=\"\",\"\",'Start - jaro'!G27)","v":""},{"$f":"IF($A53=\"x\",\"x\",IF($C53=\"\",\"\",IF(V.l.ZPV!$B$6=\"\",\"0\",IF(ISNA(MATCH($C53,ZPVOblN,0)),COUNTIF(ZPVOblT,\".\")+1,LOOKUP($C53,ZPVOblN,ZPVOblD)))))","v":""},{"$f":"IF($C53=\"\",\"\",PÚ!$I$86)","v":""},{"$f":"IF($C53=\"\",\"\",Št.4x60m!$I$86)","v":""},{"$f":"IF($C53=\"\",\"\",Št.dvojic!$V$148)","v":""},{"$f":"IF($C53=\"\",\"\",Št.400mCTIF!$V$148)","v":""},{"$f":"IF($C53=\"\",\"\",'PÚ CTIF'!$S$148)","v":""},{"$f":"IF($C53=\"\",\"\",Kronika!$H$49)","v":""},"",null,47,"","","","","","","","",""]
[{"$f":"IF('Start - jaro'!I28=\"\",\"\",\"x\")","v":""},48,{"$f":"IF('Start - jaro'!G28=\"\",\"\",'Start - jaro'!G28)","v":""},{"$f":"IF($A54=\"x\",\"x\",IF($C54=\"\",\"\",IF(V.l.ZPV!$B$6=\"\",\"0\",IF(ISNA(MATCH($C54,ZPVOblN,0)),COUNTIF(ZPVOblT,\".\")+1,LOOKUP($C54,ZPVOblN,ZPVOblD)))))","v":""},{"$f":"IF($C54=\"\",\"\",PÚ!$I$88)","v":""},{"$f":"IF($C54=\"\",\"\",Št.4x60m!$I$88)","v":""},{"$f":"IF($C54=\"\",\"\",Št.dvojic!$V$150)","v":""},{"$f":"IF($C54=\"\",\"\",Št.400mCTIF!$V$150)","v":""},{"$f":"IF($C54=\"\",\"\",'PÚ CTIF'!$S$150)","v":""},{"$f":"IF($C54=\"\",\"\",Kronika!$H$50)","v":""},"",null,48,"","","","","","","","",""]
[{"$f":"IF('Start - jaro'!I29=\"\",\"\",\"x\")","v":""},49,{"$f":"IF('Start - jaro'!G29=\"\",\"\",'Start - jaro'!G29)","v":""},{"$f":"IF($A55=\"x\",\"x\",IF($C55=\"\",\"\",IF(V.l.ZPV!$B$6=\"\",\"0\",IF(ISNA(MATCH($C55,ZPVOblN,0)),COUNTIF(ZPVOblT,\".\")+1,LOOKUP($C55,ZPVOblN,ZPVOblD)))))","v":""},{"$f":"IF($C55=\"\",\"\",PÚ!$I$90)","v":""},{"$f":"IF($C55=\"\",\"\",Št.4x60m!$I$90)","v":""},{"$f":"IF($C55=\"\",\"\",Št.dvojic!$V$152)","v":""},{"$f":"IF($C55=\"\",\"\",Št.400mCTIF!$V$152)","v":""},{"$f":"IF($C55=\"\",\"\",'PÚ CTIF'!$S$152)","v":""},{"$f":"IF($C55=\"\",\"\",Kronika!$H$51)","v":""},"",null,49,"","","","","","","","",""]
[{"$f":"IF('Start - jaro'!I30=\"\",\"\",\"x\")","v":""},50,{"$f":"IF('Start - jaro'!G30=\"\",\"\",'Start - jaro'!G30)","v":""},{"$f":"IF($A56=\"x\",\"x\",IF($C56=\"\",\"\",IF(V.l.ZPV!$B$6=\"\",\"0\",IF(ISNA(MATCH($C56,ZPVOblN,0)),COUNTIF(ZPVOblT,\".\")+1,LOOKUP($C56,ZPVOblN,ZPVOblD)))))","v":""},{"$f":"IF($C56=\"\",\"\",PÚ!$I$92)","v":""},{"$f":"IF($C56=\"\",\"\",Št.4x60m!$I$92)","v":""},{"$f":"IF($C56=\"\",\"\",Št.dvojic!$V$154)","v":""},{"$f":"IF($C56=\"\",\"\",Št.400mCTIF!$V$154)","v":""},{"$f":"IF($C56=\"\",\"\",'PÚ CTIF'!$S$154)","v":""},{"$f":"IF($C56=\"\",\"\",Kronika!$H$52)","v":""},"",null,50,"","","","","","","","",""]
[{"$f":"IF('Start - jaro'!M6=\"\",\"\",\"x\")","v":""},51,{"$f":"IF('Start - jaro'!K6=\"\",\"\",'Start - jaro'!K6)","v":""},{"$f":"IF($A57=\"x\",\"x\",IF($C57=\"\",\"\",IF(V.l.ZPV!$B$6=\"\",\"0\",IF(ISNA(MATCH($C57,ZPVOblN,0)),COUNTIF(ZPVOblT,\".\")+1,LOOKUP($C57,ZPVOblN,ZPVOblD)))))","v":""},{"$f":"IF($C57=\"\",\"\",PÚ!$T$74)","v":""},{"$f":"IF($C57=\"\",\"\",Št.4x60m!$T$74)","v":""},{"$f":"IF($C57=\"\",\"\",Št.dvojic!$V$167)","v":""},{"$f":"IF($C57=\"\",\"\",Št.400mCTIF!$V$167)","v":""},{"$f":"IF($C57=\"\",\"\",'PÚ CTIF'!$S$167)","v":""},{"$f":"IF($C57=\"\",\"\",Kronika!$H$53)","v":""},"",null,51,"","","","","","","","",""]
[{"$f":"IF('Start - jaro'!M7=\"\",\"\",\"x\")","v":""},52,{"$f":"IF('Start - jaro'!K7=\"\",\"\",'Start - jaro'!K7)","v":""},{"$f":"IF($A58=\"x\",\"x\",IF($C58=\"\",\"\",IF(V.l.ZPV!$B$6=\"\",\"0\",IF(ISNA(MATCH($C58,ZPVOblN,0)),COUNTIF(ZPVOblT,\".\")+1,LOOKUP($C58,ZPVOblN,ZPVOblD)))))","v":""},{"$f":"IF($C58=\"\",\"\",PÚ!$T$76)","v":""},{"$f":"IF($C58=\"\",\"\",Št.4x60m!$T$76)","v":""},{"$f":"IF($C58=\"\",\"\",Št.dvojic!$V$169)","v":""},{"$f":"IF($C58=\"\",\"\",Št.400mCTIF!$V$169)","v":""},{"$f":"IF($C58=\"\",\"\",'PÚ CTIF'!$S$169)","v":""},{"$f":"IF($C58=\"\",\"\",Kronika!$H$54)","v":""},"",null,52,"","","","","","","","",""]
[{"$f":"IF('Start - jaro'!M8=\"\",\"\",\"x\")","v":""},53,{"$f":"IF('Start - jaro'!K8=\"\",\"\",'Start - jaro'!K8)","v":""},{"$f":"IF($A59=\"x\",\"x\",IF($C59=\"\",\"\",IF(V.l.ZPV!$B$6=\"\",\"0\",IF(ISNA(MATCH($C59,ZPVOblN,0)),COUNTIF(ZPVOblT,\".\")+1,LOOKUP($C59,ZPVOblN,ZPVOblD)))))","v":""},{"$f":"IF($C59=\"\",\"\",PÚ!$T$78)","v":""},{"$f":"IF($C59=\"\",\"\",Št.4x60m!$T$78)","v":""},{"$f":"IF($C59=\"\",\"\",Št.dvojic!$V$171)","v":""},{"$f":"IF($C59=\"\",\"\",Št.400mCTIF!$V$171)","v":""},{"$f":"IF($C59=\"\",\"\",'PÚ CTIF'!$S$171)","v":""},{"$f":"IF($C59=\"\",\"\",Kronika!$H$55)","v":""},"",null,53,"","","","","","","","",""]
[{"$f":"IF('Start - jaro'!M9=\"\",\"\",\"x\")","v":""},54,{"$f":"IF('Start - jaro'!K9=\"\",\"\",'Start - jaro'!K9)","v":""},{"$f":"IF($A60=\"x\",\"x\",IF($C60=\"\",\"\",IF(V.l.ZPV!$B$6=\"\",\"0\",IF(ISNA(MATCH($C60,ZPVOblN,0)),COUNTIF(ZPVOblT,\".\")+1,LOOKUP($C60,ZPVOblN,ZPVOblD)))))","v":""},{"$f":"IF($C60=\"\",\"\",PÚ!$T$80)","v":""},{"$f":"IF($C60=\"\",\"\",Št.4x60m!$T$80)","v":""},{"$f":"IF($C60=\"\",\"\",Št.dvojic!$V$173)","v":""},{"$f":"IF($C60=\"\",\"\",Št.400mCTIF!$V$173)","v":""},{"$f":"IF($C60=\"\",\"\",'PÚ CTIF'!$S$173)","v":""},{"$f":"IF($C60=\"\",\"\",Kronika!$H$56)","v":""},"",null,54,"","","","","","","","",""]
[{"$f":"IF('Start - jaro'!M10=\"\",\"\",\"x\")","v":""},55,{"$f":"IF('Start - jaro'!K10=\"\",\"\",'Start - jaro'!K10)","v":""},{"$f":"IF($A61=\"x\",\"x\",IF($C61=\"\",\"\",IF(V.l.ZPV!$B$6=\"\",\"0\",IF(ISNA(MATCH($C61,ZPVOblN,0)),COUNTIF(ZPVOblT,\".\")+1,LOOKUP($C61,ZPVOblN,ZPVOblD)))))","v":""},{"$f":"IF($C61=\"\",\"\",PÚ!$T$82)","v":""},{"$f":"IF($C61=\"\",\"\",Št.4x60m!$T$82)","v":""},{"$f":"IF($C61=\"\",\"\",Št.dvojic!$V$175)","v":""},{"$f":"IF($C61=\"\",\"\",Št.400mCTIF!$V$175)","v":""},{"$f":"IF($C61=\"\",\"\",'PÚ CTIF'!$S$175)","v":""},{"$f":"IF($C61=\"\",\"\",Kronika!$H$57)","v":""},"",null,55,"","","","","","","","",""]
[{"$f":"IF('Start - jaro'!M11=\"\",\"\",\"x\")","v":""},56,{"$f":"IF('Start - jaro'!K11=\"\",\"\",'Start - jaro'!K11)","v":""},{"$f":"IF($A62=\"x\",\"x\",IF($C62=\"\",\"\",IF(V.l.ZPV!$B$6=\"\",\"0\",IF(ISNA(MATCH($C62,ZPVOblN,0)),COUNTIF(ZPVOblT,\".\")+1,LOOKUP($C62,ZPVOblN,ZPVOblD)))))","v":""},{"$f":"IF($C62=\"\",\"\",PÚ!$T$84)","v":""},{"$f":"IF($C62=\"\",\"\",Št.4x60m!$T$84)","v":""},{"$f":"IF($C62=\"\",\"\",Št.dvojic!$V$177)","v":""},{"$f":"IF($C62=\"\",\"\",Št.400mCTIF!$V$177)","v":""},{"$f":"IF($C62=\"\",\"\",'PÚ CTIF'!$S$177)","v":""},{"$f":"IF($C62=\"\",\"\",Kronika!$H$58)","v":""},"",null,56,"","","","","","","","",""]
[{"$f":"IF('Start - jaro'!M12=\"\",\"\",\"x\")","v":""},57,{"$f":"IF('Start - jaro'!K12=\"\",\"\",'Start - jaro'!K12)","v":""},{"$f":"IF($A63=\"x\",\"x\",IF($C63=\"\",\"\",IF(V.l.ZPV!$B$6=\"\",\"0\",IF(ISNA(MATCH($C63,ZPVOblN,0)),COUNTIF(ZPVOblT,\".\")+1,LOOKUP($C63,ZPVOblN,ZPVOblD)))))","v":""},{"$f":"IF($C63=\"\",\"\",PÚ!$T$86)","v":""},{"$f":"IF($C63=\"\",\"\",Št.4x60m!$T$86)","v":""},{"$f":"IF($C63=\"\",\"\",Št.dvojic!$V$179)","v":""},{"$f":"IF($C63=\"\",\"\",Št.400mCTIF!$V$179)","v":""},{"$f":"IF($C63=\"\",\"\",'PÚ CTIF'!$S$179)","v":""},{"$f":"IF($C63=\"\",\"\",Kronika!$H$59)","v":""},"",null,57,"","","","","","","","",""]
[{"$f":"IF('Start - jaro'!M13=\"\",\"\",\"x\")","v":""},58,{"$f":"IF('Start - jaro'!K13=\"\",\"\",'Start - jaro'!K13)","v":""},{"$f":"IF($A64=\"x\",\"x\",IF($C64=\"\",\"\",IF(V.l.ZPV!$B$6=\"\",\"0\",IF(ISNA(MATCH($C64,ZPVOblN,0)),COUNTIF(ZPVOblT,\".\")+1,LOOKUP($C64,ZPVOblN,ZPVOblD)))))","v":""},{"$f":"IF($C64=\"\",\"\",PÚ!$T$88)","v":""},{"$f":"IF($C64=\"\",\"\",Št.4x60m!$T$88)","v":""},{"$f":"IF($C64=\"\",\"\",Št.dvojic!$V$181)","v":""},{"$f":"IF($C64=\"\",\"\",Št.400mCTIF!$V$181)","v":""},{"$f":"IF($C64=\"\",\"\",'PÚ CTIF'!$S$181)","v":""},{"$f":"IF($C64=\"\",\"\",Kronika!$H$60)","v":""},"",null,58,"","","","","","","","",""]
[{"$f":"IF('Start - jaro'!M14=\"\",\"\",\"x\")","v":""},59,{"$f":"IF('Start - jaro'!K14=\"\",\"\",'Start - jaro'!K14)","v":""},{"$f":"IF($A65=\"x\",\"x\",IF($C65=\"\",\"\",IF(V.l.ZPV!$B$6=\"\",\"0\",IF(ISNA(MATCH($C65,ZPVOblN,0)),COUNTIF(ZPVOblT,\".\")+1,LOOKUP($C65,ZPVOblN,ZPVOblD)))))","v":""},{"$f":"IF($C65=\"\",\"\",PÚ!$T$90)","v":""},{"$f":"IF($C65=\"\",\"\",Št.4x60m!$T$90)","v":""},{"$f":"IF($C65=\"\",\"\",Št.dvojic!$V$183)","v":""},{"$f":"IF($C65=\"\",\"\",Št.400mCTIF!$V$183)","v":""},{"$f":"IF($C65=\"\",\"\",'PÚ CTIF'!$S$183)","v":""},{"$f":"IF($C65=\"\",\"\",Kronika!$H$61)","v":""},"",null,59,"","","","","","","","",""]
[{"$f":"IF('Start - jaro'!M15=\"\",\"\",\"x\")","v":""},60,{"$f":"IF('Start - jaro'!K15=\"\",\"\",'Start - jaro'!K15)","v":""},{"$f":"IF($A66=\"x\",\"x\",IF($C66=\"\",\"\",IF(V.l.ZPV!$B$6=\"\",\"0\",IF(ISNA(MATCH($C66,ZPVOblN,0)),COUNTIF(ZPVOblT,\".\")+1,LOOKUP($C66,ZPVOblN,ZPVOblD)))))","v":""},{"$f":"IF($C66=\"\",\"\",PÚ!$T$92)","v":""},{"$f":"IF($C66=\"\",\"\",Št.4x60m!$T$92)","v":""},{"$f":"IF($C66=\"\",\"\",Št.dvojic!$V$185)","v":""},{"$f":"IF($C66=\"\",\"\",Št.400mCTIF!$V$185)","v":""},{"$f":"IF($C66=\"\",\"\",'PÚ CTIF'!$S$185)","v":""},{"$f":"IF($C66=\"\",\"\",Kronika!$H$62)","v":""},"",null,60,"","","","","","","","",""]
[{"$f":"IF('Start - jaro'!M16=\"\",\"\",\"x\")","v":""},61,{"$f":"IF('Start - jaro'!K16=\"\",\"\",'Start - jaro'!K16)","v":""},{"$f":"IF($A67=\"x\",\"x\",IF($C67=\"\",\"\",IF(V.l.ZPV!$B$6=\"\",\"0\",IF(ISNA(MATCH($C67,ZPVOblN,0)),COUNTIF(ZPVOblT,\".\")+1,LOOKUP($C67,ZPVOblN,ZPVOblD)))))","v":""},{"$f":"IF($C67=\"\",\"\",PÚ!$I$105)","v":""},{"$f":"IF($C67=\"\",\"\",Št.4x60m!$I$105)","v":""},{"$f":"IF($C67=\"\",\"\",Št.dvojic!$V$198)","v":""},{"$f":"IF($C67=\"\",\"\",Št.400mCTIF!$V$198)","v":""},{"$f":"IF($C67=\"\",\"\",'PÚ CTIF'!$S$198)","v":""},{"$f":"IF($C67=\"\",\"\",Kronika!$P$43)","v":""},"",null,61,"","","","","","","","",""]
[{"$f":"IF('Start - jaro'!M17=\"\",\"\",\"x\")","v":""},62,{"$f":"IF('Start - jaro'!K17=\"\",\"\",'Start - jaro'!K17)","v":""},{"$f":"IF($A68=\"x\",\"x\",IF($C68=\"\",\"\",IF(V.l.ZPV!$B$6=\"\",\"0\",IF(ISNA(MATCH($C68,ZPVOblN,0)),COUNTIF(ZPVOblT,\".\")+1,LOOKUP($C68,ZPVOblN,ZPVOblD)))))","v":""},{"$f":"IF($C68=\"\",\"\",PÚ!$I$107)","v":""},{"$f":"IF($C68=\"\",\"\",Št.4x60m!$I$107)","v":""},{"$f":"IF($C68=\"\",\"\",Št.dvojic!$V$200)","v":""},{"$f":"IF($C68=\"\",\"\",Št.400mCTIF!$V$200)","v":""},{"$f":"IF($C68=\"\",\"\",'PÚ CTIF'!$S$200)","v":""},{"$f":"IF($C68=\"\",\"\",Kronika!$P$44)","v":""},"",null,62,"","","","","","","","",""]
[{"$f":"IF('Start - jaro'!M18=\"\",\"\",\"x\")","v":""},63,{"$f":"IF('Start - jaro'!K18=\"\",\"\",'Start - jaro'!K18)","v":""},{"$f":"IF($A69=\"x\",\"x\",IF($C69=\"\",\"\",IF(V.l.ZPV!$B$6=\"\",\"0\",IF(ISNA(MATCH($C69,ZPVOblN,0)),COUNTIF(ZPVOblT,\".\")+1,LOOKUP($C69,ZPVOblN,ZPVOblD)))))","v":""},{"$f":"IF($C69=\"\",\"\",PÚ!$I$109)","v":""},{"$f":"IF($C69=\"\",\"\",Št.4x60m!$I$109)","v":""},{"$f":"IF($C69=\"\",\"\",Št.dvojic!$V$202)","v":""},{"$f":"IF($C69=\"\",\"\",Št.400mCTIF!$V$202)","v":""},{"$f":"IF($C69=\"\",\"\",'PÚ CTIF'!$S$202)","v":""},{"$f":"IF($C69=\"\",\"\",Kronika!$P$45)","v":""},"",null,63,"","","","","","","","",""]
[{"$f":"IF('Start - jaro'!M19=\"\",\"\",\"x\")","v":""},64,{"$f":"IF('Start - jaro'!K19=\"\",\"\",'Start - jaro'!K19)","v":""},{"$f":"IF($A70=\"x\",\"x\",IF($C70=\"\",\"\",IF(V.l.ZPV!$B$6=\"\",\"0\",IF(ISNA(MATCH($C70,ZPVOblN,0)),COUNTIF(ZPVOblT,\".\")+1,LOOKUP($C70,ZPVOblN,ZPVOblD)))))","v":""},{"$f":"IF($C70=\"\",\"\",PÚ!$I$111)","v":""},{"$f":"IF($C70=\"\",\"\",Št.4x60m!$I$111)","v":""},{"$f":"IF($C70=\"\",\"\",Št.dvojic!$V$204)","v":""},{"$f":"IF($C70=\"\",\"\",Št.400mCTIF!$V$204)","v":""},{"$f":"IF($C70=\"\",\"\",'PÚ CTIF'!$S$204)","v":""},{"$f":"IF($C70=\"\",\"\",Kronika!$P$46)","v":""},"",null,64,"","","","","","","","",""]
[{"$f":"IF('Start - jaro'!M20=\"\",\"\",\"x\")","v":""},65,{"$f":"IF('Start - jaro'!K20=\"\",\"\",'Start - jaro'!K20)","v":""},{"$f":"IF($A71=\"x\",\"x\",IF($C71=\"\",\"\",IF(V.l.ZPV!$B$6=\"\",\"0\",IF(ISNA(MATCH($C71,ZPVOblN,0)),COUNTIF(ZPVOblT,\".\")+1,LOOKUP($C71,ZPVOblN,ZPVOblD)))))","v":""},{"$f":"IF($C71=\"\",\"\",PÚ!$I$113)","v":""},{"$f":"IF($C71=\"\",\"\",Št.4x60m!$I$113)","v":""},{"$f":"IF($C71=\"\",\"\",Št.dvojic!$V$206)","v":""},{"$f":"IF($C71=\"\",\"\",Št.400mCTIF!$V$206)","v":""},{"$f":"IF($C71=\"\",\"\",'PÚ CTIF'!$S$206)","v":""},{"$f":"IF($C71=\"\",\"\",Kronika!$P$47)","v":""},"",null,65,"","","","","","","","",""]
[{"$f":"IF('Start - jaro'!M21=\"\",\"\",\"x\")","v":""},66,{"$f":"IF('Start - jaro'!K21=\"\",\"\",'Start - jaro'!K21)","v":""},{"$f":"IF($A72=\"x\",\"x\",IF($C72=\"\",\"\",IF(V.l.ZPV!$B$6=\"\",\"0\",IF(ISNA(MATCH($C72,ZPVOblN,0)),COUNTIF(ZPVOblT,\".\")+1,LOOKUP($C72,ZPVOblN,ZPVOblD)))))","v":""},{"$f":"IF($C72=\"\",\"\",PÚ!$I$115)","v":""},{"$f":"IF($C72=\"\",\"\",Št.4x60m!$I$115)","v":""},{"$f":"IF($C72=\"\",\"\",Št.dvojic!$V$208)","v":""},{"$f":"IF($C72=\"\",\"\",Št.400mCTIF!$V$208)","v":""},{"$f":"IF($C72=\"\",\"\",'PÚ CTIF'!$S$208)","v":""},{"$f":"IF($C72=\"\",\"\",Kronika!$P$48)","v":""},{"$f":"IF(A72=\"x\",300,IF(C72=\"\",\"\",SUM(D72:J72)))","v":""},null,66,"","","","","","","","",""]
[{"$f":"IF('Start - jaro'!M22=\"\",\"\",\"x\")","v":""},67,{"$f":"IF('Start - jaro'!K22=\"\",\"\",'Start - jaro'!K22)","v":""},{"$f":"IF($A73=\"x\",\"x\",IF($C73=\"\",\"\",IF(V.l.ZPV!$B$6=\"\",\"0\",IF(ISNA(MATCH($C73,ZPVOblN,0)),COUNTIF(ZPVOblT,\".\")+1,LOOKUP($C73,ZPVOblN,ZPVOblD)))))","v":""},{"$f":"IF($C73=\"\",\"\",PÚ!$I$117)","v":""},{"$f":"IF($C73=\"\",\"\",Št.4x60m!$I$117)","v":""},{"$f":"IF($C73=\"\",\"\",Št.dvojic!$V$210)","v":""},{"$f":"IF($C73=\"\",\"\",Št.400mCTIF!$V$210)","v":""},{"$f":"IF($C73=\"\",\"\",'PÚ CTIF'!$S$210)","v":""},{"$f":"IF($C73=\"\",\"\",Kronika!$P$49)","v":""},"",null,67,"","","","","","","","",""]
[{"$f":"IF('Start - jaro'!M23=\"\",\"\",\"x\")","v":""},68,{"$f":"IF('Start - jaro'!K23=\"\",\"\",'Start - jaro'!K23)","v":""},{"$f":"IF($A74=\"x\",\"x\",IF($C74=\"\",\"\",IF(V.l.ZPV!$B$6=\"\",\"0\",IF(ISNA(MATCH($C74,ZPVOblN,0)),COUNTIF(ZPVOblT,\".\")+1,LOOKUP($C74,ZPVOblN,ZPVOblD)))))","v":""},{"$f":"IF($C74=\"\",\"\",PÚ!$I$119)","v":""},{"$f":"IF($C74=\"\",\"\",Št.4x60m!$I$119)","v":""},{"$f":"IF($C74=\"\",\"\",Št.dvojic!$V$212)","v":""},{"$f":"IF($C74=\"\",\"\",Št.400mCTIF!$V$212)","v":""},{"$f":"IF($C74=\"\",\"\",'PÚ CTIF'!$S$212)","v":""},{"$f":"IF($C74=\"\",\"\",Kronika!$P$50)","v":""},"",null,68,"","","","","","","","",""]
[{"$f":"IF('Start - jaro'!M24=\"\",\"\",\"x\")","v":""},69,{"$f":"IF('Start - jaro'!K24=\"\",\"\",'Start - jaro'!K24)","v":""},{"$f":"IF($A75=\"x\",\"x\",IF($C75=\"\",\"\",IF(V.l.ZPV!$B$6=\"\",\"0\",IF(ISNA(MATCH($C75,ZPVOblN,0)),COUNTIF(ZPVOblT,\".\")+1,LOOKUP($C75,ZPVOblN,ZPVOblD)))))","v":""},{"$f":"IF($C75=\"\",\"\",PÚ!$I$121)","v":""},{"$f":"IF($C75=\"\",\"\",Št.4x60m!$I$121)","v":""},{"$f":"IF($C75=\"\",\"\",Št.dvojic!$V$214)","v":""},{"$f":"IF($C75=\"\",\"\",Št.400mCTIF!$V$214)","v":""},{"$f":"IF($C75=\"\",\"\",'PÚ CTIF'!$S$214)","v":""},{"$f":"IF($C75=\"\",\"\",Kronika!$P$51)","v":""},"",null,69,"","","","","","","","",""]
[{"$f":"IF('Start - jaro'!M25=\"\",\"\",\"x\")","v":""},70,{"$f":"IF('Start - jaro'!K25=\"\",\"\",'Start - jaro'!K25)","v":""},{"$f":"IF($A76=\"x\",\"x\",IF($C76=\"\",\"\",IF(V.l.ZPV!$B$6=\"\",\"0\",IF(ISNA(MATCH($C76,ZPVOblN,0)),COUNTIF(ZPVOblT,\".\")+1,LOOKUP($C76,ZPVOblN,ZPVOblD)))))","v":""},{"$f":"IF($C76=\"\",\"\",PÚ!$I$123)","v":""},{"$f":"IF($C76=\"\",\"\",Št.4x60m!$I$123)","v":""},{"$f":"IF($C76=\"\",\"\",Št.dvojic!$V$216)","v":""},{"$f":"IF($C76=\"\",\"\",Št.400mCTIF!$V$216)","v":""},{"$f":"IF($C76=\"\",\"\",'PÚ CTIF'!$S$216)","v":""},{"$f":"IF($C76=\"\",\"\",Kronika!$P$52)","v":""},"",null,70,"","","","","","","","",""]
[{"$f":"IF('Start - jaro'!M26=\"\",\"\",\"x\")","v":""},71,{"$f":"IF('Start - jaro'!K26=\"\",\"\",'Start - jaro'!K26)","v":""},{"$f":"IF($A77=\"x\",\"x\",IF($C77=\"\",\"\",IF(V.l.ZPV!$B$6=\"\",\"0\",IF(ISNA(MATCH($C77,ZPVOblN,0)),COUNTIF(ZPVOblT,\".\")+1,LOOKUP($C77,ZPVOblN,ZPVOblD)))))","v":""},{"$f":"IF($C77=\"\",\"\",PÚ!$T$105)","v":""},{"$f":"IF($C77=\"\",\"\",Št.4x60m!$T$105)","v":""},{"$f":"IF($C77=\"\",\"\",Št.dvojic!$V$229)","v":""},{"$f":"IF($C77=\"\",\"\",Št.400mCTIF!$V$229)","v":""},{"$f":"IF($C77=\"\",\"\",'PÚ CTIF'!$S$229)","v":""},{"$f":"IF($C77=\"\",\"\",Kronika!$P$53)","v":""},"",null,71,"","","","","","","","",""]
[{"$f":"IF('Start - jaro'!M27=\"\",\"\",\"x\")","v":""},72,{"$f":"IF('Start - jaro'!K27=\"\",\"\",'Start - jaro'!K27)","v":""},{"$f":"IF($A78=\"x\",\"x\",IF($C78=\"\",\"\",IF(V.l.ZPV!$B$6=\"\",\"0\",IF(ISNA(MATCH($C78,ZPVOblN,0)),COUNTIF(ZPVOblT,\".\")+1,LOOKUP($C78,ZPVOblN,ZPVOblD)))))","v":""},{"$f":"IF($C78=\"\",\"\",PÚ!$T$107)","v":""},{"$f":"IF($C78=\"\",\"\",Št.4x60m!$T$107)","v":""},{"$f":"IF($C78=\"\",\"\",Št.dvojic!$V$231)","v":""},{"$f":"IF($C78=\"\",\"\",Št.400mCTIF!$V$231)","v":""},{"$f":"IF($C78=\"\",\"\",'PÚ CTIF'!$S$231)","v":""},{"$f":"IF($C78=\"\",\"\",Kronika!$P$54)","v":""},"",null,72,"","","","","","","","",""]
[{"$f":"IF('Start - jaro'!M28=\"\",\"\",\"x\")","v":""},73,{"$f":"IF('Start - jaro'!K28=\"\",\"\",'Start - jaro'!K28)","v":""},{"$f":"IF($A79=\"x\",\"x\",IF($C79=\"\",\"\",IF(V.l.ZPV!$B$6=\"\",\"0\",IF(ISNA(MATCH($C79,ZPVOblN,0)),COUNTIF(ZPVOblT,\".\")+1,LOOKUP($C79,ZPVOblN,ZPVOblD)))))","v":""},{"$f":"IF($C79=\"\",\"\",PÚ!$T$109)","v":""},{"$f":"IF($C79=\"\",\"\",Št.4x60m!$T$109)","v":""},{"$f":"IF($C79=\"\",\"\",Št.dvojic!$V$233)","v":""},{"$f":"IF($C79=\"\",\"\",Št.400mCTIF!$V$233)","v":""},{"$f":"IF($C79=\"\",\"\",'PÚ CTIF'!$S$233)","v":""},{"$f":"IF($C79=\"\",\"\",Kronika!$P$55)","v":""},"",null,73,"","","","","","","","",""]
[{"$f":"IF('Start - jaro'!M29=\"\",\"\",\"x\")","v":""},74,{"$f":"IF('Start - jaro'!K29=\"\",\"\",'Start - jaro'!K29)","v":""},{"$f":"IF($A80=\"x\",\"x\",IF($C80=\"\",\"\",IF(V.l.ZPV!$B$6=\"\",\"0\",IF(ISNA(MATCH($C80,ZPVOblN,0)),COUNTIF(ZPVOblT,\".\")+1,LOOKUP($C80,ZPVOblN,ZPVOblD)))))","v":""},{"$f":"IF($C80=\"\",\"\",PÚ!$T$111)","v":""},{"$f":"IF($C80=\"\",\"\",Št.4x60m!$T$111)","v":""},{"$f":"IF($C80=\"\",\"\",Št.dvojic!$V$235)","v":""},{"$f":"IF($C80=\"\",\"\",Št.400mCTIF!$V$235)","v":""},{"$f":"IF($C80=\"\",\"\",'PÚ CTIF'!$S$235)","v":""},{"$f":"IF($C80=\"\",\"\",Kronika!$P$56)","v":""},"",null,74,"","","","","","","","",""]
[{"$f":"IF('Start - jaro'!M30=\"\",\"\",\"x\")","v":""},75,{"$f":"IF('Start - jaro'!K30=\"\",\"\",'Start - jaro'!K30)","v":""},{"$f":"IF($A81=\"x\",\"x\",IF($C81=\"\",\"\",IF(V.l.ZPV!$B$6=\"\",\"0\",IF(ISNA(MATCH($C81,ZPVOblN,0)),COUNTIF(ZPVOblT,\".\")+1,LOOKUP($C81,ZPVOblN,ZPVOblD)))))","v":""},{"$f":"IF($C81=\"\",\"\",PÚ!$T$113)","v":""},{"$f":"IF($C81=\"\",\"\",Št.4x60m!$T$113)","v":""},{"$f":"IF($C81=\"\",\"\",Št.dvojic!$V$237)","v":""},{"$f":"IF($C81=\"\",\"\",Št.400mCTIF!$V$237)","v":""},{"$f":"IF($C81=\"\",\"\",'PÚ CTIF'!$S$237)","v":""},{"$f":"IF($C81=\"\",\"\",Kronika!$P$57)","v":""},"",null,75,"","","","","","","","",""]
[{"$f":"IF('Start - jaro'!Q6=\"\",\"\",\"x\")","v":""},76,{"$f":"IF('Start - jaro'!O6=\"\",\"\",'Start - jaro'!O6)","v":""},{"$f":"IF($A82=\"x\",\"x\",IF($C82=\"\",\"\",IF(V.l.ZPV!$B$6=\"\",\"0\",IF(ISNA(MATCH($C82,ZPVOblN,0)),COUNTIF(ZPVOblT,\".\")+1,LOOKUP($C82,ZPVOblN,ZPVOblD)))))","v":""},{"$f":"IF($C82=\"\",\"\",PÚ!$T$115)","v":""},{"$f":"IF($C82=\"\",\"\",Št.4x60m!$T$115)","v":""},{"$f":"IF($C82=\"\",\"\",Št.dvojic!$V$239)","v":""},{"$f":"IF($C82=\"\",\"\",Št.400mCTIF!$V$239)","v":""},{"$f":"IF($C82=\"\",\"\",'PÚ CTIF'!$S$239)","v":""},{"$f":"IF($C82=\"\",\"\",Kronika!$P$58)","v":""},"",null,76,"","","","","","","","",""]
[{"$f":"IF('Start - jaro'!Q7=\"\",\"\",\"x\")","v":""},77,{"$f":"IF('Start - jaro'!O7=\"\",\"\",'Start - jaro'!O7)","v":""},{"$f":"IF($A83=\"x\",\"x\",IF($C83=\"\",\"\",IF(V.l.ZPV!$B$6=\"\",\"0\",IF(ISNA(MATCH($C83,ZPVOblN,0)),COUNTIF(ZPVOblT,\".\")+1,LOOKUP($C83,ZPVOblN,ZPVOblD)))))","v":""},{"$f":"IF($C83=\"\",\"\",PÚ!$T$117)","v":""},{"$f":"IF($C83=\"\",\"\",Št.4x60m!$T$117)","v":""},{"$f":"IF($C83=\"\",\"\",Št.dvojic!$V$241)","v":""},{"$f":"IF($C83=\"\",\"\",Št.400mCTIF!$V$241)","v":""},{"$f":"IF($C83=\"\",\"\",'PÚ CTIF'!$S$241)","v":""},{"$f":"IF($C83=\"\",\"\",Kronika!$P$59)","v":""},"",null,77,"","","","","","","","",""]
[{"$f":"IF('Start - jaro'!Q8=\"\",\"\",\"x\")","v":""},78,{"$f":"IF('Start - jaro'!O8=\"\",\"\",'Start - jaro'!O8)","v":""},{"$f":"IF($A84=\"x\",\"x\",IF($C84=\"\",\"\",IF(V.l.ZPV!$B$6=\"\",\"0\",IF(ISNA(MATCH($C84,ZPVOblN,0)),COUNTIF(ZPVOblT,\".\")+1,LOOKUP($C84,ZPVOblN,ZPVOblD)))))","v":""},{"$f":"IF($C84=\"\",\"\",PÚ!$T$119)","v":""},{"$f":"IF($C84=\"\",\"\",Št.4x60m!$T$119)","v":""},{"$f":"IF($C84=\"\",\"\",Št.dvojic!$V$243)","v":""},{"$f":"IF($C84=\"\",\"\",Št.400mCTIF!$V$243)","v":""},{"$f":"IF($C84=\"\",\"\",'PÚ CTIF'!$S$243)","v":""},{"$f":"IF($C84=\"\",\"\",Kronika!$P$60)","v":""},"",null,78,"","","","","","","","",""]
[{"$f":"IF('Start - jaro'!Q9=\"\",\"\",\"x\")","v":""},79,{"$f":"IF('Start - jaro'!O9=\"\",\"\",'Start - jaro'!O9)","v":""},{"$f":"IF($A85=\"x\",\"x\",IF($C85=\"\",\"\",IF(V.l.ZPV!$B$6=\"\",\"0\",IF(ISNA(MATCH($C85,ZPVOblN,0)),COUNTIF(ZPVOblT,\".\")+1,LOOKUP($C85,ZPVOblN,ZPVOblD)))))","v":""},{"$f":"IF($C85=\"\",\"\",PÚ!$T$121)","v":""},{"$f":"IF($C85=\"\",\"\",Št.4x60m!$T$121)","v":""},{"$f":"IF($C85=\"\",\"\",Št.dvojic!$V$245)","v":""},{"$f":"IF($C85=\"\",\"\",Št.400mCTIF!$V$245)","v":""},{"$f":"IF($C85=\"\",\"\",'PÚ CTIF'!$S$245)","v":""},{"$f":"IF($C85=\"\",\"\",Kronika!$P$61)","v":""},"",null,79,"","","","","","","","",""]
[{"$f":"IF('Start - jaro'!Q10=\"\",\"\",\"x\")","v":""},80,{"$f":"IF('Start - jaro'!O10=\"\",\"\",'Start - jaro'!O10)","v":""},{"$f":"IF($A86=\"x\",\"x\",IF($C86=\"\",\"\",IF(V.l.ZPV!$B$6=\"\",\"0\",IF(ISNA(MATCH($C86,ZPVOblN,0)),COUNTIF(ZPVOblT,\".\")+1,LOOKUP($C86,ZPVOblN,ZPVOblD)))))","v":""},{"$f":"IF($C86=\"\",\"\",PÚ!$T$123)","v":""},{"$f":"IF($C86=\"\",\"\",Št.4x60m!$T$123)","v":""},{"$f":"IF($C86=\"\",\"\",Št.dvojic!$V$247)","v":""},{"$f":"IF($C86=\"\",\"\",Št.400mCTIF!$V$247)","v":""},{"$f":"IF($C86=\"\",\"\",'PÚ CTIF'!$S$247)","v":""},{"$f":"IF($C86=\"\",\"\",Kronika!$P$62)","v":""},"",null,80,"","","","","","","","",""]
[{"$f":"IF('Start - jaro'!Q11=\"\",\"\",\"x\")","v":""},81,{"$f":"IF('Start - jaro'!O11=\"\",\"\",'Start - jaro'!O11)","v":""},{"$f":"IF($A87=\"x\",\"x\",IF($C87=\"\",\"\",IF(V.l.ZPV!$B$6=\"\",\"0\",IF(ISNA(MATCH($C87,ZPVOblN,0)),COUNTIF(ZPVOblT,\".\")+1,LOOKUP($C87,ZPVOblN,ZPVOblD)))))","v":""},{"$f":"IF($C87=\"\",\"\",PÚ!$I$136)","v":""},{"$f":"IF($C87=\"\",\"\",Št.4x60m!$I$136)","v":""},{"$f":"IF($C87=\"\",\"\",Št.dvojic!$V$260)","v":""},{"$f":"IF($C87=\"\",\"\",Št.400mCTIF!$V$260)","v":""},{"$f":"IF($C87=\"\",\"\",'PÚ CTIF'!$S$260)","v":""},{"$f":"IF($C87=\"\",\"\",Kronika!$H$74)","v":""},"",null,81,"","","","","","","","",""]
[{"$f":"IF('Start - jaro'!Q12=\"\",\"\",\"x\")","v":""},82,{"$f":"IF('Start - jaro'!O12=\"\",\"\",'Start - jaro'!O12)","v":""},{"$f":"IF($A88=\"x\",\"x\",IF($C88=\"\",\"\",IF(V.l.ZPV!$B$6=\"\",\"0\",IF(ISNA(MATCH($C88,ZPVOblN,0)),COUNTIF(ZPVOblT,\".\")+1,LOOKUP($C88,ZPVOblN,ZPVOblD)))))","v":""},{"$f":"IF($C88=\"\",\"\",PÚ!$I$138)","v":""},{"$f":"IF($C88=\"\",\"\",Št.4x60m!$I$138)","v":""},{"$f":"IF($C88=\"\",\"\",Št.dvojic!$V$262)","v":""},{"$f":"IF($C88=\"\",\"\",Št.400mCTIF!$V$262)","v":""},{"$f":"IF($C88=\"\",\"\",'PÚ CTIF'!$S$262)","v":""},{"$f":"IF($C88=\"\",\"\",Kronika!$H$75)","v":""},"",null,82,"","","","","","","","",""]
[{"$f":"IF('Start - jaro'!Q13=\"\",\"\",\"x\")","v":""},83,{"$f":"IF('Start - jaro'!O13=\"\",\"\",'Start - jaro'!O13)","v":""},{"$f":"IF($A89=\"x\",\"x\",IF($C89=\"\",\"\",IF(V.l.ZPV!$B$6=\"\",\"0\",IF(ISNA(MATCH($C89,ZPVOblN,0)),COUNTIF(ZPVOblT,\".\")+1,LOOKUP($C89,ZPVOblN,ZPVOblD)))))","v":""},{"$f":"IF($C89=\"\",\"\",PÚ!$I$140)","v":""},{"$f":"IF($C89=\"\",\"\",Št.4x60m!$I$140)","v":""},{"$f":"IF($C89=\"\",\"\",Št.dvojic!$V$264)","v":""},{"$f":"IF($C89=\"\",\"\",Št.400mCTIF!$V$264)","v":""},{"$f":"IF($C89=\"\",\"\",'PÚ CTIF'!$S$264)","v":""},{"$f":"IF($C89=\"\",\"\",Kronika!$H$76)","v":""},"",null,83,"","","","","","","","",""]
[{"$f":"IF('Start - jaro'!Q14=\"\",\"\",\"x\")","v":""},84,{"$f":"IF('Start - jaro'!O14=\"\",\"\",'Start - jaro'!O14)","v":""},{"$f":"IF($A90=\"x\",\"x\",IF($C90=\"\",\"\",IF(V.l.ZPV!$B$6=\"\",\"0\",IF(ISNA(MATCH($C90,ZPVOblN,0)),COUNTIF(ZPVOblT,\".\")+1,LOOKUP($C90,ZPVOblN,ZPVOblD)))))","v":""},{"$f":"IF($C90=\"\",\"\",PÚ!$I$142)","v":""},{"$f":"IF($C90=\"\",\"\",Št.4x60m!$I$142)","v":""},{"$f":"IF($C90=\"\",\"\",Št.dvojic!$V$266)","v":""},{"$f":"IF($C90=\"\",\"\",Št.400mCTIF!$V$266)","v":""},{"$f":"IF($C90=\"\",\"\",'PÚ CTIF'!$S$266)","v":""},{"$f":"IF($C90=\"\",\"\",Kronika!$H$77)","v":""},"",null,84,"","","","","","","","",""]
[{"$f":"IF('Start - jaro'!Q15=\"\",\"\",\"x\")","v":""},85,{"$f":"IF('Start - jaro'!O15=\"\",\"\",'Start - jaro'!O15)","v":""},{"$f":"IF($A91=\"x\",\"x\",IF($C91=\"\",\"\",IF(V.l.ZPV!$B$6=\"\",\"0\",IF(ISNA(MATCH($C91,ZPVOblN,0)),COUNTIF(ZPVOblT,\".\")+1,LOOKUP($C91,ZPVOblN,ZPVOblD)))))","v":""},{"$f":"IF($C91=\"\",\"\",PÚ!$I$144)","v":""},{"$f":"IF($C91=\"\",\"\",Št.4x60m!$I$144)","v":""},{"$f":"IF($C91=\"\",\"\",Št.dvojic!$V$268)","v":""},{"$f":"IF($C91=\"\",\"\",Št.400mCTIF!$V$268)","v":""},{"$f":"IF($C91=\"\",\"\",'PÚ CTIF'!$S$268)","v":""},{"$f":"IF($C91=\"\",\"\",Kronika!$H$78)","v":""},"",null,85,"","","","","","","","",""]
[{"$f":"IF('Start - jaro'!Q16=\"\",\"\",\"x\")","v":""},86,{"$f":"IF('Start - jaro'!O16=\"\",\"\",'Start - jaro'!O16)","v":""},{"$f":"IF($A92=\"x\",\"x\",IF($C92=\"\",\"\",IF(V.l.ZPV!$B$6=\"\",\"0\",IF(ISNA(MATCH($C92,ZPVOblN,0)),COUNTIF(ZPVOblT,\".\")+1,LOOKUP($C92,ZPVOblN,ZPVOblD)))))","v":""},{"$f":"IF($C92=\"\",\"\",PÚ!$I$146)","v":""},{"$f":"IF($C92=\"\",\"\",Št.4x60m!$I$146)","v":""},{"$f":"IF($C92=\"\",\"\",Št.dvojic!$V$270)","v":""},{"$f":"IF($C92=\"\",\"\",Št.400mCTIF!$V$270)","v":""},{"$f":"IF($C92=\"\",\"\",'PÚ CTIF'!$S$270)","v":""},{"$f":"IF($C92=\"\",\"\",Kronika!$H$79)","v":""},"",null,86,"","","","","","","","",""]
[{"$f":"IF('Start - jaro'!Q17=\"\",\"\",\"x\")","v":""},87,{"$f":"IF('Start - jaro'!O17=\"\",\"\",'Start - jaro'!O17)","v":""},{"$f":"IF($A93=\"x\",\"x\",IF($C93=\"\",\"\",IF(V.l.ZPV!$B$6=\"\",\"0\",IF(ISNA(MATCH($C93,ZPVOblN,0)),COUNTIF(ZPVOblT,\".\")+1,LOOKUP($C93,ZPVOblN,ZPVOblD)))))","v":""},{"$f":"IF($C93=\"\",\"\",PÚ!$I$148)","v":""},{"$f":"IF($C93=\"\",\"\",Št.4x60m!$I$148)","v":""},{"$f":"IF($C93=\"\",\"\",Št.dvojic!$V$272)","v":""},{"$f":"IF($C93=\"\",\"\",Št.400mCTIF!$V$272)","v":""},{"$f":"IF($C93=\"\",\"\",'PÚ CTIF'!$S$272)","v":""},{"$f":"IF($C93=\"\",\"\",Kronika!$H$80)","v":""},"",null,87,"","","","","","","","",""]
[{"$f":"IF('Start - jaro'!Q18=\"\",\"\",\"x\")","v":""},88,{"$f":"IF('Start - jaro'!O18=\"\",\"\",'Start - jaro'!O18)","v":""},{"$f":"IF($A94=\"x\",\"x\",IF($C94=\"\",\"\",IF(V.l.ZPV!$B$6=\"\",\"0\",IF(ISNA(MATCH($C94,ZPVOblN,0)),COUNTIF(ZPVOblT,\".\")+1,LOOKUP($C94,ZPVOblN,ZPVOblD)))))","v":""},{"$f":"IF($C94=\"\",\"\",PÚ!$I$150)","v":""},{"$f":"IF($C94=\"\",\"\",Št.4x60m!$I$150)","v":""},{"$f":"IF($C94=\"\",\"\",Št.dvojic!$V$274)","v":""},{"$f":"IF($C94=\"\",\"\",Št.400mCTIF!$V$274)","v":""},{"$f":"IF($C94=\"\",\"\",'PÚ CTIF'!$S$274)","v":""},{"$f":"IF($C94=\"\",\"\",Kronika!$H$81)","v":""},"",null,88,"","","","","","","","",""]
[{"$f":"IF('Start - jaro'!Q19=\"\",\"\",\"x\")","v":""},89,{"$f":"IF('Start - jaro'!O19=\"\",\"\",'Start - jaro'!O19)","v":""},{"$f":"IF($A95=\"x\",\"x\",IF($C95=\"\",\"\",IF(V.l.ZPV!$B$6=\"\",\"0\",IF(ISNA(MATCH($C95,ZPVOblN,0)),COUNTIF(ZPVOblT,\".\")+1,LOOKUP($C95,ZPVOblN,ZPVOblD)))))","v":""},{"$f":"IF($C95=\"\",\"\",PÚ!$I$152)","v":""},{"$f":"IF($C95=\"\",\"\",Št.4x60m!$I$152)","v":""},{"$f":"IF($C95=\"\",\"\",Št.dvojic!$V$276)","v":""},{"$f":"IF($C95=\"\",\"\",Št.400mCTIF!$V$276)","v":""},{"$f":"IF($C95=\"\",\"\",'PÚ CTIF'!$S$276)","v":""},{"$f":"IF($C95=\"\",\"\",Kronika!$H$82)","v":""},"",null,89,"","","","","","","","",""]
[{"$f":"IF('Start - jaro'!Q20=\"\",\"\",\"x\")","v":""},90,{"$f":"IF('Start - jaro'!O20=\"\",\"\",'Start - jaro'!O20)","v":""},{"$f":"IF($A96=\"x\",\"x\",IF($C96=\"\",\"\",IF(V.l.ZPV!$B$6=\"\",\"0\",IF(ISNA(MATCH($C96,ZPVOblN,0)),COUNTIF(ZPVOblT,\".\")+1,LOOKUP($C96,ZPVOblN,ZPVOblD)))))","v":""},{"$f":"IF($C96=\"\",\"\",PÚ!$I$154)","v":""},{"$f":"IF($C96=\"\",\"\",Št.4x60m!$I$154)","v":""},{"$f":"IF($C96=\"\",\"\",Št.dvojic!$V$278)","v":""},{"$f":"IF($C96=\"\",\"\",Št.400mCTIF!$V$278)","v":""},{"$f":"IF($C96=\"\",\"\",'PÚ CTIF'!$S$278)","v":""},{"$f":"IF($C96=\"\",\"\",Kronika!$H$83)","v":""},"",null,90,"","","","","","","","",""]
[{"$f":"IF('Start - jaro'!Q21=\"\",\"\",\"x\")","v":""},91,{"$f":"IF('Start - jaro'!O21=\"\",\"\",'Start - jaro'!O21)","v":""},{"$f":"IF($A97=\"x\",\"x\",IF($C97=\"\",\"\",IF(V.l.ZPV!$B$6=\"\",\"0\",IF(ISNA(MATCH($C97,ZPVOblN,0)),COUNTIF(ZPVOblT,\".\")+1,LOOKUP($C97,ZPVOblN,ZPVOblD)))))","v":""},{"$f":"IF($C97=\"\",\"\",PÚ!$T$136)","v":""},{"$f":"IF($C97=\"\",\"\",Št.4x60m!$T$136)","v":""},{"$f":"IF($C97=\"\",\"\",Št.dvojic!$V$291)","v":""},{"$f":"IF($C97=\"\",\"\",Št.400mCTIF!$V$291)","v":""},{"$f":"IF($C97=\"\",\"\",'PÚ CTIF'!$S$291)","v":""},{"$f":"IF($C97=\"\",\"\",Kronika!$H$84)","v":""},"",null,91,"","","","","","","","",""]
[{"$f":"IF('Start - jaro'!Q22=\"\",\"\",\"x\")","v":""},92,{"$f":"IF('Start - jaro'!O22=\"\",\"\",'Start - jaro'!O22)","v":""},{"$f":"IF($A98=\"x\",\"x\",IF($C98=\"\",\"\",IF(V.l.ZPV!$B$6=\"\",\"0\",IF(ISNA(MATCH($C98,ZPVOblN,0)),COUNTIF(ZPVOblT,\".\")+1,LOOKUP($C98,ZPVOblN,ZPVOblD)))))","v":""},{"$f":"IF($C98=\"\",\"\",PÚ!$T$138)","v":""},{"$f":"IF($C98=\"\",\"\",Št.4x60m!$T$138)","v":""},{"$f":"IF($C98=\"\",\"\",Št.dvojic!$V$293)","v":""},{"$f":"IF($C98=\"\",\"\",Št.400mCTIF!$V$293)","v":""},{"$f":"IF($C98=\"\",\"\",'PÚ CTIF'!$S$293)","v":""},{"$f":"IF($C98=\"\",\"\",Kronika!$H$85)","v":""},"",null,92,"","","","","","","","",""]
[{"$f":"IF('Start - jaro'!Q23=\"\",\"\",\"x\")","v":""},93,{"$f":"IF('Start - jaro'!O23=\"\",\"\",'Start - jaro'!O23)","v":""},{"$f":"IF($A99=\"x\",\"x\",IF($C99=\"\",\"\",IF(V.l.ZPV!$B$6=\"\",\"0\",IF(ISNA(MATCH($C99,ZPVOblN,0)),COUNTIF(ZPVOblT,\".\")+1,LOOKUP($C99,ZPVOblN,ZPVOblD)))))","v":""},{"$f":"IF($C99=\"\",\"\",PÚ!$T$140)","v":""},{"$f":"IF($C99=\"\",\"\",Št.4x60m!$T$140)","v":""},{"$f":"IF($C99=\"\",\"\",Št.dvojic!$V$295)","v":""},{"$f":"IF($C99=\"\",\"\",Št.400mCTIF!$V$295)","v":""},{"$f":"IF($C99=\"\",\"\",'PÚ CTIF'!$S$295)","v":""},{"$f":"IF($C99=\"\",\"\",Kronika!$H$86)","v":""},"",null,93,"","","","","","","","",""]
[{"$f":"IF('Start - jaro'!Q24=\"\",\"\",\"x\")","v":""},94,{"$f":"IF('Start - jaro'!O24=\"\",\"\",'Start - jaro'!O24)","v":""},{"$f":"IF($A100=\"x\",\"x\",IF($C100=\"\",\"\",IF(V.l.ZPV!$B$6=\"\",\"0\",IF(ISNA(MATCH($C100,ZPVOblN,0)),COUNTIF(ZPVOblT,\".\")+1,LOOKUP($C100,ZPVOblN,ZPVOblD)))))","v":""},{"$f":"IF($C100=\"\",\"\",PÚ!$T$142)","v":""},{"$f":"IF($C100=\"\",\"\",Št.4x60m!$T$142)","v":""},{"$f":"IF($C100=\"\",\"\",Št.dvojic!$V$297)","v":""},{"$f":"IF($C100=\"\",\"\",Št.400mCTIF!$V$297)","v":""},{"$f":"IF($C100=\"\",\"\",'PÚ CTIF'!$S$297)","v":""},{"$f":"IF($C100=\"\",\"\",Kronika!$H$87)","v":""},"",null,94,"","","","","","","","",""]
[{"$f":"IF('Start - jaro'!Q25=\"\",\"\",\"x\")","v":""},95,{"$f":"IF('Start - jaro'!O25=\"\",\"\",'Start - jaro'!O25)","v":""},{"$f":"IF($A101=\"x\",\"x\",IF($C101=\"\",\"\",IF(V.l.ZPV!$B$6=\"\",\"0\",IF(ISNA(MATCH($C101,ZPVOblN,0)),COUNTIF(ZPVOblT,\".\")+1,LOOKUP($C101,ZPVOblN,ZPVOblD)))))","v":""},{"$f":"IF($C101=\"\",\"\",PÚ!$T$144)","v":""},{"$f":"IF($C101=\"\",\"\",Št.4x60m!$T$144)","v":""},{"$f":"IF($C101=\"\",\"\",Št.dvojic!$V$299)","v":""},{"$f":"IF($C101=\"\",\"\",Št.400mCTIF!$V$299)","v":""},{"$f":"IF($C101=\"\",\"\",'PÚ CTIF'!$S$299)","v":""},{"$f":"IF($C101=\"\",\"\",Kronika!$H$88)","v":""},"",null,95,"","","","","","","","",""]
[{"$f":"IF('Start - jaro'!Q26=\"\",\"\",\"x\")","v":""},96,{"$f":"IF('Start - jaro'!O26=\"\",\"\",'Start - jaro'!O26)","v":""},{"$f":"IF($A102=\"x\",\"x\",IF($C102=\"\",\"\",IF(V.l.ZPV!$B$6=\"\",\"0\",IF(ISNA(MATCH($C102,ZPVOblN,0)),COUNTIF(ZPVOblT,\".\")+1,LOOKUP($C102,ZPVOblN,ZPVOblD)))))","v":""},{"$f":"IF($C102=\"\",\"\",PÚ!$T$146)","v":""},{"$f":"IF($C102=\"\",\"\",Št.4x60m!$T$146)","v":""},{"$f":"IF($C102=\"\",\"\",Št.dvojic!$V$301)","v":""},{"$f":"IF($C102=\"\",\"\",Št.400mCTIF!$V$301)","v":""},{"$f":"IF($C102=\"\",\"\",'PÚ CTIF'!$S$301)","v":""},{"$f":"IF($C102=\"\",\"\",Kronika!$H$89)","v":""},"",null,96,"","","","","","","","",""]
[{"$f":"IF('Start - jaro'!Q27=\"\",\"\",\"x\")","v":""},97,{"$f":"IF('Start - jaro'!O27=\"\",\"\",'Start - jaro'!O27)","v":""},{"$f":"IF($A103=\"x\",\"x\",IF($C103=\"\",\"\",IF(V.l.ZPV!$B$6=\"\",\"0\",IF(ISNA(MATCH($C103,ZPVOblN,0)),COUNTIF(ZPVOblT,\".\")+1,LOOKUP($C103,ZPVOblN,ZPVOblD)))))","v":""},{"$f":"IF($C103=\"\",\"\",PÚ!$T$148)","v":""},{"$f":"IF($C103=\"\",\"\",Št.4x60m!$T$148)","v":""},{"$f":"IF($C103=\"\",\"\",Št.dvojic!$V$303)","v":""},{"$f":"IF($C103=\"\",\"\",Št.400mCTIF!$V$303)","v":""},{"$f":"IF($C103=\"\",\"\",'PÚ CTIF'!$S$303)","v":""},{"$f":"IF($C103=\"\",\"\",Kronika!$H$90)","v":""},"",null,97,"","","","","","","","",""]
[{"$f":"IF('Start - jaro'!Q28=\"\",\"\",\"x\")","v":""},98,{"$f":"IF('Start - jaro'!O28=\"\",\"\",'Start - jaro'!O28)","v":""},{"$f":"IF($A104=\"x\",\"x\",IF($C104=\"\",\"\",IF(V.l.ZPV!$B$6=\"\",\"0\",IF(ISNA(MATCH($C104,ZPVOblN,0)),COUNTIF(ZPVOblT,\".\")+1,LOOKUP($C104,ZPVOblN,ZPVOblD)))))","v":""},{"$f":"IF($C104=\"\",\"\",PÚ!$T$150)","v":""},{"$f":"IF($C104=\"\",\"\",Št.4x60m!$T$150)","v":""},{"$f":"IF($C104=\"\",\"\",Št.dvojic!$V$305)","v":""},{"$f":"IF($C104=\"\",\"\",Št.400mCTIF!$V$305)","v":""},{"$f":"IF($C104=\"\",\"\",'PÚ CTIF'!$S$305)","v":""},{"$f":"IF($C104=\"\",\"\",Kronika!$H$91)","v":""},"",null,98,"","","","","","","","",""]
[{"$f":"IF('Start - jaro'!Q29=\"\",\"\",\"x\")","v":""},99,{"$f":"IF('Start - jaro'!O29=\"\",\"\",'Start - jaro'!O29)","v":""},{"$f":"IF($A105=\"x\",\"x\",IF($C105=\"\",\"\",IF(V.l.ZPV!$B$6=\"\",\"0\",IF(ISNA(MATCH($C105,ZPVOblN,0)),COUNTIF(ZPVOblT,\".\")+1,LOOKUP($C105,ZPVOblN,ZPVOblD)))))","v":""},{"$f":"IF($C105=\"\",\"\",PÚ!$T$152)","v":""},{"$f":"IF($C105=\"\",\"\",Št.4x60m!$T$152)","v":""},{"$f":"IF($C105=\"\",\"\",Št.dvojic!$V$307)","v":""},{"$f":"IF($C105=\"\",\"\",Št.400mCTIF!$V$307)","v":""},{"$f":"IF($C105=\"\",\"\",'PÚ CTIF'!$S$307)","v":""},{"$f":"IF($C105=\"\",\"\",Kronika!$H$92)","v":""},"",null,99,"","","","","","","","",""]
[{"$f":"IF('Start - jaro'!Q30=\"\",\"\",\"x\")","v":""},100,{"$f":"IF('Start - jaro'!O30=\"\",\"\",'Start - jaro'!O30)","v":""},{"$f":"IF($A106=\"x\",\"x\",IF($C106=\"\",\"\",IF(V.l.ZPV!$B$6=\"\",\"0\",IF(ISNA(MATCH($C106,ZPVOblN,0)),COUNTIF(ZPVOblT,\".\")+1,LOOKUP($C106,ZPVOblN,ZPVOblD)))))","v":""},{"$f":"IF($C106=\"\",\"\",PÚ!$T$154)","v":""},{"$f":"IF($C106=\"\",\"\",Št.4x60m!$T$154)","v":""},{"$f":"IF($C106=\"\",\"\",Št.dvojic!$V$309)","v":""},{"$f":"IF($C106=\"\",\"\",Št.400mCTIF!$V$309)","v":""},{"$f":"IF($C106=\"\",\"\",'PÚ CTIF'!$S$309)","v":""},{"$f":"IF($C106=\"\",\"\",Kronika!$H$93)","v":""},"",null,100,"","","","","","","","",""]

{"sheet":"TISK","index":17,"n_rows":256,"n_cols":22,"rows_kept":256,"cut":false,"hidden":false,"merged":[[103,16,104,16],[103,17,104,17],[103,5,104,5],[103,7,104,7],[103,10,104,10],[173,13,174,13],[173,16,174,16],[173,17,174,17],[173,5,174,5],[173,7,174,7],[2,11,2,17],[31,17,32,17],[33,17,34,17],[23,17,24,17],[25,17,26,17],[27,17,28,17],[29,17,30,17],[15,17,16,17],[17,17,18,17],[19,17,20,17],[171,7,172,7],[169,7,170,7],[169,10,170,10],[169,13,170,13],[169,16,170,16],[169,17,170,17],[165,7,166,7],[165,10,166,10],[165,13,166,13],[165,16,166,16],[165,17,166,17],[161,7,162,7],[254,17,255,17],[254,19,255,19],[254,5,255,5],[254,7,255,7],[254,10,255,10],[254,13,255,13],[252,10,253,10],[252,13,253,13],[252,16,253,16],[252,17,253,17],[252,19,253,19],[254,0,255,0],[254,1,255,1],[254,2,255,2],[254,3,255,3],[254,16,255,16],[252,0,253,0],[252,1,253,1],[252,2,253,2],[252,3,253,3],[252,5,253,5],[252,7,253,7],[243,19,244,19],[241,16,242,16],[241,17,242,17],[241,19,242,19],[243,16,244,16],[243,17,244,17],[241,10,242,10],[241,13,242,13],[243,0,244,0],[243,1,244,1],[243,2,244,2],[243,3,244,3],[243,13,244,13],[243,5,244,5],[243,7,244,7],[243,10,244,10],[241,0,242,0],[241,1,242,1],[241,2,242,2],[241,3,242,3],[241,5,242,5],[241,7,242,7],[239,7,240,7],[239,10,240,10],[239,13,240,13],[239,16,240,16],[239,17,240,17],[239,19,240,19],[237,10,238,10],[237,13,238,13],[237,16,238,16],[237,17,238,17],[237,19,238,19],[239,0,240,0],[239,1,240,1],[239,2,240,2],[239,3,240,3],[239,5,240,5],[237,0,238,0],[237,1,238,1],[237,2,238,2],[237,3,238,3],[237,5,238,5],[237,7,238,7],[235,7,236,7],[235,10,236,10],[235,13,236,13],[235,16,236,16],[235,17,236,17],[235,19,236,19],[233,10,234,10],[233,13,234,13],[233,16,234,16],[233,17,234,17],[233,19,234,19],[235,0,236,0],[235,1,236,1],[235,2,236,2],[235,3,236,3],[235,5,236,5],[233,0,234,0],[233,1,234,1],[233,2,234,2],[233,3,234,3],[233,5,234,5],[233,7,234,7],[231,7,232,7],[231,10,232,10],[231,13,232,13],[231,16,232,16],[231,17,232,17],[231,19,232,19],[229,10,230,10],[229,13,230,13],[229,16,230,16],[229,17,230,17],[229,19,230,19],[231,0,232,0],[231,1,232,1],[231,2,232,2],[231,3,232,3],[231,5,232,5],[229,0,230,0],[229,1,230,1],[229,2,230,2],[229,3,230,3],[229,5,230,5],[229,7,230,7],[227,7,228,7],[227,10,228,10],[227,13,228,13],[227,16,228,16],[227,17,228,17],[227,19,228,19],[225,10,226,10],[225,13,226,13],[225,16,226,16],[225,17,226,17],[225,19,226,19],[227,0,228,0],[227,1,228,1],[227,2,228,2],[227,3,228,3],[227,5,228,5],[225,0,226,0],[225,1,226,1],[225,2,226,2],[225,3,226,3],[225,5,226,5],[225,7,226,7],[223,10,224,10],[223,13,224,13],[223,16,224,16],[223,17,224,17],[223,19,224,19],[221,10,222,10],[221,13,222,13],[221,16,222,16],[221,17,222,17],[221,19,222,19],[223,0,224,0],[223,1,224,1],[223,2,224,2],[223,3,224,3],[223,5,224,5],[221,0,222,0],[221,1,222,1],[221,2,222,2],[221,3,222,3],[221,5,222,5],[221,7,222,7],[217,0,218,0],[219,17,220,17],[219,0,220,0],[219,1,220,1],[219,2,220,2],[219,3,220,3],[217,1,218,1],[217,2,218,2],[217,3,218,3],[217,10,218,10],[217,5,218,5],[217,7,218,7],[208,13,209,13],[208,5,209,5],[208,7,209,7],[208,10,209,10],[208,16,209,16],[208,17,209,17],[215,10,216,10],[215,3,216,3],[215,5,216,5],[215,17,216,17],[208,19,209,19],[206,16,207,16],[206,17,207,17],[206,19,207,19],[206,10,207,10],[206,13,207,13],[208,0,209,0],[208,1,209,1],[208,2,209,2],[208,3,209,3],[206,0,207,0],[206,1,207,1],[206,2,207,2],[206,3,207,3],[206,5,207,5],[206,7,207,7],[204,7,205,7],[204,10,205,10],[204,13,205,13],[204,16,205,16],[204,17,205,17],[204,19,205,19],[202,10,203,10],[202,13,203,13],[202,16,203,16],[202,17,203,17],[202,19,203,19],[204,0,205,0],[204,1,205,1],[204,2,205,2],[204,3,205,3],[204,5,205,5],[202,0,203,0],[202,1,203,1],[202,2,203,2],[202,3,203,3],[202,5,203,5],[202,7,203,7],[200,7,201,7],[200,10,201,10],[200,13,201,13],[200,16,201,16],[200,17,201,17],[200,19,201,19],[198,10,199,10],[198,13,199,13],[198,16,199,16],[198,17,199,17],[198,19,199,19],[200,0,201,0],[200,1,201,1],[200,2,201,2],[200,3,201,3],[200,5,201,5],[198,0,199,0],[198,1,199,1],[198,2,199,2],[198,3,199,3],[198,5,199,5],[198,7,199,7],[196,7,197,7],[196,10,197,10],[196,13,197,13],[196,16,197,16],[196,17,197,17],[196,19,197,19],[194,10,195,10],[194,13,195,13],[194,16,195,16],[194,17,195,17],[194,19,195,19],[196,0,197,0],[196,1,197,1],[196,2,197,2],[196,3,197,3],[196,5,197,5],[194,0,195,0],[194,1,195,1],[194,2,195,2],[194,3,195,3],[194,5,195,5],[194,7,195,7],[192,7,193,7],[192,10,193,10],[192,13,193,13],[192,16,193,16],[192,17,193,17],[192,19,193,19],[190,10,191,10],[190,13,191,13],[190,16,191,16],[190,17,191,17],[190,19,191,19],[192,0,193,0],[192,1,193,1],[192,2,193,2],[192,3,193,3],[192,5,193,5],[190,0,191,0],[190,1,191,1],[190,2,191,2],[190,3,191,3],[190,5,191,5],[190,7,191,7],[188,7,189,7],[188,10,189,10],[188,13,189,13],[188,16,189,16],[188,17,189,17],[188,19,189,19],[186,10,187,10],[186,13,187,13],[186,16,187,16],[186,17,187,17],[186,19,187,19],[188,0,189,0],[188,1,189,1],[188,2,189,2],[188,3,189,3],[188,5,189,5],[186,0,187,0],[186,1,187,1],[186,2,187,2],[186,3,187,3],[186,5,187,5],[186,7,187,7],[184,7,185,7],[184,10,185,10],[184,13,185,13],[184,16,185,16],[184,17,185,17],[184,19,185,19],[182,10,183,10],[182,13,183,13],[182,16,183,16],[182,17,183,17],[182,19,183,19],[184,0,185,0],[184,1,185,1],[184,2,185,2],[184,3,185,3],[184,5,185,5],[173,19,174,19],[171,16,172,16],[171,17,172,17],[171,19,172,19],[182,0,183,0],[182,1,183,1],[182,2,183,2],[182,3,183,3],[182,5,183,5],[182,7,183,7],[171,10,172,10],[171,13,172,13],[173,0,174,0],[173,1,174,1],[173,2,174,2],[173,3,174,3],[173,10,174,10],[171,0,172,0],[171,1,172,1],[171,2,172,2],[171,3,172,3],[171,5,172,5],[169,19,170,19],[167,10,168,10],[167,13,168,13],[167,16,168,16],[167,17,168,17],[167,19,168,19],[169,0,170,0],[169,1,170,1],[169,2,170,2],[169,3,170,3],[169,5,170,5],[167,0,168,0],[167,1,168,1],[167,2,168,2],[167,3,168,3],[167,5,168,5],[167,7,168,7],[165,19,166,19],[163,10,164,10],[163,13,164,13],[163,16,164,16],[163,17,164,17],[163,19,164,19],[165,0,166,0],[165,1,166,1],[165,2,166,2],[165,3,166,3],[165,5,166,5],[163,0,164,0],[163,1,164,1],[163,2,164,2],[163,3,164,3],[163,5,164,5],[163,7,164,7],[161,10,162,10],[161,13,162,13],[161,16,162,16],[161,17,162,17],[161,19,162,19],[159,10,160,10],[159,13,160,13],[159,16,160,16],[159,17,160,17],[159,19,160,19],[161,0,162,0],[161,1,162,1],[161,2,162,2],[161,3,162,3],[161,5,162,5],[159,0,160,0],[159,1,160,1],[159,2,160,2],[159,3,160,3],[159,5,160,5],[159,7,160,7],[157,13,158,13],[157,16,158,16],[157,17,158,17],[157,19,158,19],[155,10,156,10],[155,13,156,13],[155,16,156,16],[155,17,156,17],[155,19,156,19],[157,0,158,0],[157,1,158,1],[157,2,158,2],[157,3,158,3],[157,5,158,5],[155,0,156,0],[155,1,156,1],[155,2,156,2],[155,3,156,3],[155,5,156,5],[155,7,156,7],[151,10,152,10],[151,13,152,13],[151,16,152,16],[151,17,152,17],[151,19,152,19],[153,0,154,0],[153,1,154,1],[153,2,154,2],[153,3,154,3],[153,5,154,5],[149,13,150,13],[149,16,150,16],[149,17,150,17],[149,19,150,19],[151,0,152,0],[151,1,152,1],[151,2,152,2],[151,3,152,3],[151,5,152,5],[151,7,152,7],[147,16,148,16],[147,17,148,17],[147,19,148,19],[149,0,150,0],[149,1,150,1],[149,2,150,2],[149,3,150,3],[149,5,150,5],[149,7,150,7],[149,10,150,10],[147,0,148,0],[147,1,148,1],[147,2,148,2],[147,3,148,3],[147,5,148,5],[147,7,148,7],[138,7,139,7],[138,10,139,10],[138,13,139,13],[138,16,139,16],[138,17,139,17],[138,19,139,19],[136,10,137,10],[136,13,137,13],[136,16,137,16],[136,17,137,17],[136,19,137,19],[138,0,139,0],[138,1,139,1],[138,2,139,2],[138,3,139,3],[138,5,139,5],[136,0,137,0],[136,1,137,1],[136,2,137,2],[136,3,137,3],[136,5,137,5],[136,7,137,7],[134,7,135,7],[134,10,135,10],[134,13,135,13],[134,16,135,16],[134,17,135,17],[134,19,135,19],[132,10,133,10],[132,13,133,13],[132,16,133,16],[132,17,133,17],[132,19,133,19],[134,0,135,0],[134,1,135,1],[134,2,135,2],[134,3,135,3],[134,5,135,5],[132,0,133,0],[132,1,133,1],[132,2,133,2],[132,3,133,3],[132,5,133,5],[132,7,133,7],[130,7,131,7],[130,10,131,10],[130,13,131,13],[130,16,131,16],[130,17,131,17],[130,19,131,19],[128,19,129,19],[130,0,131,0],[130,1,131,1],[130,2,131,2],[130,3,131,3],[130,5,131,5],[128,0,129,0],[128,1,129,1],[128,2,129,2],[128,3,129,3],[128,5,129,5],[128,7,129,7],[126,7,127,7],[126,10,127,10],[126,13,127,13],[126,16,127,16],[126,17,127,17],[126,19,127,19],[126,0,127,0],[126,1,127,1],[126,2,127,2],[126,3,127,3],[126,5,127,5],[124,0,125,0],[124,1,125,1],[124,2,125,2],[124,3,125,3],[124,5,125,5],[124,7,125,7],[122,7,123,7],[122,10,123,10],[122,13,123,13],[122,16,123,16],[122,17,123,17],[122,19,123,19],[120,10,121,10],[120,13,121,13],[120,16,121,16],[120,17,121,17],[120,19,121,19],[122,0,123,0],[122,1,123,1],[122,2,123,2],[122,3,123,3],[122,5,123,5],[120,0,121,0],[120,1,121,1],[120,2,121,2],[120,3,121,3],[120,5,121,5],[120,7,121,7],[118,7,119,7],[118,10,119,10],[118,13,119,13],[118,16,119,16],[118,17,119,17],[118,19,119,19],[116,10,117,10],[116,13,117,13],[116,16,117,16],[116,17,117,17],[116,19,117,19],[118,0,119,0],[118,1,119,1],[118,2,119,2],[118,3,119,3],[118,5,119,5],[116,0,117,0],[116,1,117,1],[116,2,117,2],[116,3,117,3],[116,5,117,5],[116,7,117,7],[114,7,115,7],[114,10,115,10],[114,13,115,13],[114,16,115,16],[114,17,115,17],[114,19,115,19],[112,10,113,10],[112,13,113,13],[112,16,113,16],[112,17,113,17],[112,19,113,19],[114,0,115,0],[114,1,115,1],[114,2,115,2],[114,3,115,3],[114,5,115,5],[103,19,104,19],[101,16,102,16],[101,17,102,17],[101,19,102,19],[112,0,113,0],[112,1,113,1],[112,2,113,2],[112,3,113,3],[112,5,113,5],[112,7,113,7],[101,10,102,10],[101,13,102,13],[103,0,104,0],[103,1,104,1],[103,2,104,2],[103,3,104,3],[103,13,104,13],[101,0,102,0],[101,1,102,1],[101,2,102,2],[101,3,102,3],[101,5,102,5],[101,7,102,7],[99,7,100,7],[99,10,100,10],[99,13,100,13],[99,16,100,16],[99,17,100,17],[99,19,100,19],[97,10,98,10],[97,13,98,13],[97,16,98,16],[97,17,98,17],[97,19,98,19],[99,0,100,0],[99,1,100,1],[99,2,100,2],[99,3,100,3],[99,5,100,5],[97,0,98,0],[97,1,98,1],[97,2,98,2],[97,3,98,3],[97,5,98,5],[97,7,98,7],[95,13,96,13],[95,16,96,16],[95,17,96,17],[95,19,96,19],[93,10,94,10],[93,13,94,13],[93,16,94,16],[93,17,94,17],[93,19,94,19],[95,0,96,0],[95,1,96,1],[95,2,96,2],[95,3,96,3],[95,5,96,5],[91,13,92,13],[91,16,92,16],[91,17,92,17],[91,19,92,19],[93,0,94,0],[93,1,94,1],[93,2,94,2],[93,3,94,3],[93,5,94,5],[93,7,94,7],[89,10,90,10],[89,13,90,13],[89,16,90,16],[89,17,90,17],[89,19,90,19],[91,0,92,0],[91,1,92,1],[91,2,92,2],[91,3,92,3],[91,5,92,5],[87,10,88,10],[87,13,88,13],[87,16,88,16],[87,19,88,19],[89,0,90,0],[89,1,90,1],[89,2,90,2],[89,3,90,3],[89,5,90,5],[89,7,90,7],[85,10,86,10],[85,13,86,13],[85,16,86,16],[85,19,86,19],[87,0,88,0],[87,1,88,1],[87,2,88,2],[87,3,88,3],[87,5,88,5],[87,7,88,7],[83,10,84,10],[83,13,84,13],[83,16,84,16],[83,19,84,19],[85,0,86,0],[85,1,86,1],[85,2,86,2],[85,3,86,3],[85,5,86,5],[85,7,86,7],[81,19,82,19],[83,0,84,0],[83,1,84,1],[83,2,84,2],[83,3,84,3],[83,5,84,5],[83,7,84,7],[79,10,80,10],[79,13,80,13],[79,16,80,16],[79,19,80,19],[81,0,82,0],[81,1,82,1],[81,2,82,2],[81,3,82,3],[81,5,82,5],[81,7,82,7],[79,0,80,0],[79,1,80,1],[79,2,80,2],[79,3,80,3],[79,5,80,5],[79,7,80,7],[68,13,69,13],[68,16,69,16],[66,5,67,5],[68,19,69,19],[77,0,78,0],[77,1,78,1],[77,2,78,2],[77,3,78,3],[77,5,78,5],[77,7,78,7],[68,1,69,1],[68,2,69,2],[68,3,69,3],[68,5,69,5],[68,7,69,7],[68,10,69,10],[73,14,73,16],[73,4,73,5],[64,0,65,0],[64,1,65,1],[64,2,65,2],[64,3,65,3],[64,5,65,5],[64,7,65,7],[64,10,65,10],[64,13,65,13],[60,13,61,13],[60,17,61,17],[60,19,61,19],[62,0,63,0],[62,1,63,1],[62,2,63,2],[62,3,63,3],[62,5,63,5],[62,7,63,7],[62,10,63,10],[58,10,59,10],[58,13,59,13],[58,17,59,17],[58,19,59,19],[60,0,61,0],[60,1,61,1],[60,2,61,2],[60,3,61,3],[60,5,61,5],[60,7,61,7],[56,7,57,7],[56,10,57,10],[56,17,57,17],[56,19,57,19],[58,0,59,0],[58,1,59,1],[58,2,59,2],[58,3,59,3],[58,5,59,5],[58,7,59,7],[54,10,55,10],[54,13,55,13],[54,16,55,16],[54,17,55,17],[54,19,55,19],[56,0,57,0],[56,1,57,1],[56,2,57,2],[56,3,57,3],[56,5,57,5],[79,17,80,17],[81,17,82,17],[83,17,84,17],[85,17,86,17],[54,0,55,0],[54,1,55,1],[54,2,55,2],[54,3,55,3],[54,5,55,5],[54,7,55,7],[56,13,57,13],[56,16,57,16],[66,0,67,0],[68,0,69,0],[60,16,61,16],[62,16,63,16],[64,16,65,16],[66,1,67,1],[66,2,67,2],[66,3,67,3],[72,3,72,10],[72,11,72,17],[52,17,53,17],[44,17,45,17],[46,17,47,17],[48,17,49,17],[50,17,51,17],[87,17,88,17],[64,17,65,17],[66,17,67,17],[68,17,69,17],[77,17,78,17],[4,1,6,1],[4,19,6,19],[4,14,4,16],[4,4,4,5],[4,6,4,7],[4,8,4,10],[5,7,6,7],[5,10,6,10],[5,13,6,13],[5,17,6,17],[7,19,8,19],[23,10,24,10],[25,10,26,10],[27,10,28,10],[29,10,30,10],[31,10,32,10],[7,17,8,17],[9,17,10,17],[11,17,12,17],[13,17,14,17],[9,5,10,5],[11,5,12,5],[3,4,3,5],[5,5,6,5],[7,5,8,5],[7,3,8,3],[9,3,10,3],[11,3,12,3],[13,3,14,3],[15,3,16,3],[17,3,18,3],[50,3,51,3],[40,3,41,3],[52,3,53,3],[31,3,32,3],[33,3,34,3],[42,3,43,3],[44,3,45,3],[46,3,47,3],[17,5,18,5],[19,5,20,5],[21,5,22,5],[27,3,28,3],[29,3,30,3],[48,3,49,3],[19,3,20,3],[21,3,22,3],[48,5,49,5],[50,5,51,5],[52,5,53,5],[31,5,32,5],[33,5,34,5],[42,5,43,5],[44,5,45,5],[40,5,41,5],[38,4,38,5],[46,5,47,5],[23,5,24,5],[25,5,26,5],[27,5,28,5],[29,5,30,5],[23,3,24,3],[25,3,26,3],[33,2,34,2],[7,1,8,1],[9,1,10,1],[11,1,12,1],[13,1,14,1],[15,1,16,1],[17,1,18,1],[19,1,20,1],[23,2,24,2],[25,2,26,2],[44,1,45,1],[46,1,47,1],[13,5,14,5],[3,14,3,16],[7,7,8,7],[7,10,8,10],[7,13,8,13],[7,16,8,16],[5,16,6,16],[3,8,3,10],[3,11,3,13],[4,11,4,13],[21,1,22,1],[23,1,24,1],[25,1,26,1],[27,1,28,1],[3,6,3,7],[7,2,8,2],[4,2,6,2],[5,3,6,3],[27,2,28,2],[15,5,16,5],[9,7,10,7],[11,7,12,7],[13,7,14,7],[15,7,16,7],[25,7,26,7],[27,7,28,7],[9,13,10,13],[11,13,12,13],[13,13,14,13],[15,13,16,13],[17,13,18,13],[19,13,20,13],[21,13,22,13],[48,1,49,1],[50,1,51,1],[29,1,30,1],[31,1,32,1],[33,1,34,1],[42,1,43,1],[39,1,41,1],[50,2,51,2],[52,2,53,2],[52,1,53,1],[9,2,10,2],[11,2,12,2],[13,2,14,2],[15,2,16,2],[17,2,18,2],[19,2,20,2],[21,2,22,2],[46,2,47,2],[48,2,49,2],[42,2,43,2],[44,2,45,2],[29,2,30,2],[31,2,32,2],[29,7,30,7],[31,7,32,7],[17,7,18,7],[19,7,20,7],[21,7,22,7],[23,7,24,7],[33,7,34,7],[42,7,43,7],[44,7,45,7],[46,7,47,7],[40,7,41,7],[38,6,38,7],[48,7,49,7],[50,7,51,7],[52,7,53,7],[9,10,10,10],[11,10,12,10],[13,10,14,10]],"merged_total":1406,"flags":["merged_cut"]}
[null,"Celkové výsledky - TISK"]
[]
[null,null,null,{"$f":"'Start - jaro'!$B$2","v":"Krajská soutěž HRY PLAMEN"},null,null,null,null,null,null,null,{"$f":"'Start - jaro'!$F$3&\", \"&'Start - jaro'!$N$3","v":"2020/2021, České Budějovice"}]
[null,null,{"$f":"'Start - jaro'!$N$2","v":"STARŠÍ"}]
[null," startovní číslo"," SDH"," ZPV"," PÚ",null," Štafeta 4x60m",null," Štafeta dvojic",null,null," 400 m štafeta CTIF",null,null," PÚ - CTIF",null,null,"Celoroční činnost",null," Celkový součet",null,"Pořadí"]
[null,null,null,"P.","1.pokus","P.","1.pokus","P.","1.pokus","tr.body","P.","1.pokus","tr.body","P.","1.pokus","tr.body","P.","P."]
[null,null,null,null,"2.pokus",null,"2.pokus",null,"2.pokus","tr.body",null,"2.pokus","tr.body",null,"2.pokus","tr.body"]
[{"$f":"IF('Start - jaro'!E6=\"\",\"\",\"x\")","v":""},1,{"$f":"IF('Start - jaro'!C6=\"\",\"\",'Start - jaro'!C6)","v":"Srubec (ČB)"},{"$f":"IF($A8=\"x\",\"x\",IF($C8=\"\",\"\",IF(ISNA(MATCH($C8,ZPVOblN,0)),COUNTIF(ZPVOblT,\".\")+1,LOOKUP($C8,ZPVOblN,ZPVOblD))))","v":1},{"$f":"IF($C$8=\"\",\"\",PÚ!$H$12)","v":"NP"},{"$f":"IF($C$8=\"\",\"\",PÚ!$I$12)","v":4},{"$f":"IF($C$8=\"\",\"\",Št.4x60m!$H$12)","v":45.77},{"$f":"IF($C$8=\"\",\"\",Št.4x60m!$I$12)","v":3},{"$f":"IF($C$8=\"\",\"\",Št.dvojic!$U$12)","v":58.41},{"$f":"IF($C$8=\"\",\"\",\"(\"&SUM(Št.dvojic!$I$12:$T$12)&\")\")","v":"(0)"},{"$f":"IF($C$8=\"\",\"\",Št.dvojic!$V$12)","v":2},{"$f":"IF($C$8=\"\",\"\",Št.400mCTIF!$U$12)","v":81.42},{"$f":"IF($C$8=\"\",\"\",\"(\"&SUM(Št.400mCTIF!$I$12:$T$12)&\")\")","v":"(0)"},{"$f":"IF($C$8=\"\",\"\",Št.400mCTIF!$V$12)","v":1},{"$f":"IF($C$8=\"\",\"\",'PÚ CTIF'!$R$12)","v":146.20999999999998},{"$f":"IF($C$8=\"\",\"\",\"(\"&SUM('PÚ CTIF'!$I$12:$Q$12)&\")\")","v":"(65)"},{"$f":"IF($C$8=\"\",\"\",'PÚ CTIF'!$S$12)","v":1},{"$f":"IF(C8=\"\",\"\",Kronika!$H$12)","v":0},null,{"$f":"IF(A8=\"x\",300,IF(C8=\"\",\"\",SUM(D8,F8,H8,K8,N8,Q8,R8)))","v":12},null,{"$f":"IF($A8=\"x\",\"x\",IF($C8=\"\",\"\",MATCH($C8,Výsledky!$N$7:$N$106,0)))","v":1}]
[null,null,null,null,{"$f":"IF($C$8=\"\",\"\",PÚ!$H$13)","v":25.05},null,{"$f":"IF($C$8=\"\",\"\",Št.4x60m!$H$13)","v":49.78},null,{"$f":"IF($C$8=\"\",\"\",Št.dvojic!$U$13)","v":61.28},{"$f":"IF($C$8=\"\",\"\",\"(\"&SUM(Št.dvojic!$I$13:$T$13)&\")\")","v":"(0)"},null,{"$f":"IF($C$8=\"\",\"\",Št.400mCTIF!$U$13)","v":80.31},{"$f":"IF($C$8=\"\",\"\",\"(\"&SUM(Št.400mCTIF!$I$13:$T$13)&\")\")","v":"(0)"},null,{"$f":"IF($C$8=\"\",\"\",'PÚ CTIF'!$R$13)","v":61.27},{"$f":"IF($C$8=\"\",\"\",\"(\"&SUM('PÚ CTIF'!$I$13:$Q$13)&\")\")","v":"(0)"}]
[{"$f":"IF('Start - jaro'!E7=\"\",\"\",\"x\")","v":""},2,{"$f":"IF('Start - jaro'!C7=\"\",\"\",'Start - jaro'!C7)","v":"Zhoř u Tábora (TÁ)"},{"$f":"IF($A10=\"x\",\"x\",IF($C10=\"\",\"\",IF(ISNA(MATCH($C10,ZPVOblN,0)),COUNTIF(ZPVOblT,\".\")+1,LOOKUP($C10,ZPVOblN,ZPVOblD))))","v":1},{"$f":"IF($C$10=\"\",\"\",PÚ!$H$14)","v":21.41},{"$f":"IF($C$10=\"\",\"\",PÚ!$I$14)","v":1},{"$f":"IF($C$10=\"\",\"\",Št.4x60m!$H$14)","v":46.93},{"$f":"IF($C$10=\"\",\"\",Št.4x60m!$I$14)","v":4},{"$f":"IF($C$10=\"\",\"\",Št.dvojic!$U$14)","v":64.16},{"$f":"IF($C$10=\"\",\"\",\"(\"&SUM(Št.dvojic!$I$14:$T$14)&\")\")","v":"(0)"},{"$f":"IF($C$10=\"\",\"\",Št.dvojic!$V$14)","v":6},{"$f":"IF($C$10=\"\",\"\",Št.400mCTIF!$U$14)","v":83.49},{"$f":"IF($C$10=\"\",\"\",\"(\"&SUM(Št.400mCTIF!$I$14:$T$14)&\")\")","v":"(0)"},{"$f":"IF($C$10=\"\",\"\",Št.400mCTIF!$V$14)","v":4},{"$f":"IF($C$10=\"\",\"\",'PÚ CTIF'!$R$14)","v":65.55},{"$f":"IF($C$10=\"\",\"\",\"(\"&SUM('PÚ CTIF'!$I$14:$Q$14)&\")\")","v":"(0)"},{"$f":"IF($C$10=\"\",\"\",'PÚ CTIF'!$S$14)","v":3},{"$f":"IF(C10=\"\",\"\",Kronika!$H$13)","v":0},null,{"$f":"IF(A10=\"x\",300,IF(C10=\"\",\"\",SUM(D10,F10,H10,K10,N10,Q10,R10)))","v":19},null,{"$f":"IF($A10=\"x\",\"x\",IF($C10=\"\",\"\",MATCH($C10,Výsledky!$N$7:$N$106,0)))","v":3}]
[null,null,null,null,{"$f":"IF($C$10=\"\",\"\",PÚ!$H$15)","v":30.96},null,{"$f":"IF($C$10=\"\",\"\",Št.4x60m!$H$15)","v":49.5},null,{"$f":"IF($C$10=\"\",\"\",Št.dvojic!$U$15)","v":65.78},{"$f":"IF($C$10=\"\",\"\",\"(\"&SUM(Št.dvojic!$I$15:$T$15)&\")\")","v":"(0)"},null,{"$f":"IF($C$10=\"\",\"\",Št.400mCTIF!$U$15)","v":93.1},{"$f":"IF($C$10=\"\",\"\",\"(\"&SUM(Št.400mCTIF!$I$15:$T$15)&\")\")","v":"(10)"},null,{"$f":"IF($C$10=\"\",\"\",'PÚ CTIF'!$R$15)","v":85.27},{"$f":"IF($C$10=\"\",\"\",\"(\"&SUM('PÚ CTIF'!$I$15:$Q$15)&\")\")","v":"(20)"}]
[{"$f":"IF('Start - jaro'!E8=\"\",\"\",\"x\")","v":""},3,{"$f":"IF('Start - jaro'!C8=\"\",\"\",'Start - jaro'!C8)","v":"Svatá Maří (PT)"},{"$f":"IF($A12=\"x\",\"x\",IF($C12=\"\",\"\",IF(ISNA(MATCH($C12,ZPVOblN,0)),COUNTIF(ZPVOblT,\".\")+1,LOOKUP($C12,ZPVOblN,ZPVOblD))))","v":1},{"$f":"IF($C$12=\"\",\"\",PÚ!$H$16)","v":39.1},{"$f":"IF($C$12=\"\",\"\",PÚ!$I$16)","v":6},{"$f":"IF($C$12=\"\",\"\",Št.4x60m!$H$16)","v":44.45},{"$f":"IF($C$12=\"\",\"\",Št.4x60m!$I$16)","v":1},{"$f":"IF($C$12=\"\",\"\",Št.dvojic!$U$16)","v":58.03},{"$f":"IF($C$12=\"\",\"\",\"(\"&SUM(Št.dvojic!$I$16:$T$16)&\")\")","v":"(0)"},{"$f":"IF($C$12=\"\",\"\",Št.dvojic!$V$16)","v":1},{"$f":"IF($C$12=\"\",\"\",Št.400mCTIF!$U$16)","v":83.63},{"$f":"IF($C$12=\"\",\"\",\"(\"&SUM(Št.400mCTIF!$I$16:$T$16)&\")\")","v":"(0)"},{"$f":"IF($C$12=\"\",\"\",Št.400mCTIF!$V$16)","v":2},{"$f":"IF($C$12=\"\",\"\",'PÚ CTIF'!$R$16)","v":84.19},{"$f":"IF($C$12=\"\",\"\",\"(\"&SUM('PÚ CTIF'!$I$16:$Q$16)&\")\")","v":"(10)"},{"$f":"IF($C$12=\"\",\"\",'PÚ CTIF'!$S$16)","v":2},{"$f":"IF(C12=\"\",\"\",Kronika!$H$14)","v":0},null,{"$f":"IF(A12=\"x\",300,IF(C12=\"\",\"\",SUM(D12,F12,H12,K12,N12,Q12,R12)))","v":13},null,{"$f":"IF($A12=\"x\",\"x\",IF($C12=\"\",\"\",MATCH($C12,Výsledky!$N$7:$N$106,0)))","v":2}]
[null,null,null,null,{"$f":"IF($C$12=\"\",\"\",PÚ!$H$17)","v":30.93},null,{"$f":"IF($C$12=\"\",\"\",Št.4x60m!$H$17)","v":"NP"},null,{"$f":"IF($C$12=\"\",\"\",Št.dvojic!$U$17)","v":71.33},{"$f":"IF($C$12=\"\",\"\",\"(\"&SUM(Št.dvojic!$I$17:$T$17)&\")\")","v":"(0)"},null,{"$f":"IF($C$12=\"\",\"\",Št.400mCTIF!$U$17)","v":80.77},{"$f":"IF($C$12=\"\",\"\",\"(\"&SUM(Št.400mCTIF!$I$17:$T$17)&\")\")","v":"(0)"},null,{"$f":"IF($C$12=\"\",\"\",'PÚ CTIF'!$R$17)","v":62.08},{"$f":"IF($C$12=\"\",\"\",\"(\"&SUM('PÚ CTIF'!$I$17:$Q$17)&\")\")","v":"(0)"}]
[{"$f":"IF('Start - jaro'!E9=\"\",\"\",\"x\")","v":""},4,{"$f":"IF('Start - jaro'!C9=\"\",\"\",'Start - jaro'!C9)","v":"Drahonice (ST)"},{"$f":"IF($A14=\"x\",\"x\",IF($C14=\"\",\"\",IF(ISNA(MATCH($C14,ZPVOblN,0)),COUNTIF(ZPVOblT,\".\")+1,LOOKUP($C14,ZPVOblN,ZPVOblD))))","v":1},{"$f":"IF($C$14=\"\",\"\",PÚ!$H$18)","v":32.71},{"$f":"IF($C$14=\"\",\"\",PÚ!$I$18)","v":5},{"$f":"IF($C$14=\"\",\"\",Št.4x60m!$H$18)","v":45.6},{"$f":"IF($C$14=\"\",\"\",Št.4x60m!$I$18)","v":2},{"$f":"IF($C$14=\"\",\"\",Št.dvojic!$U$18)","v":64.27},{"$f":"IF($C$14=\"\",\"\",\"(\"&SUM(Št.dvojic!$I$18:$T$18)&\")\")","v":"(0)"},{"$f":"IF($C$14=\"\",\"\",Št.dvojic!$V$18)","v":4},{"$f":"IF($C$14=\"\",\"\",Št.400mCTIF!$U$18)","v":89.68},{"$f":"IF($C$14=\"\",\"\",\"(\"&SUM(Št.400mCTIF!$I$18:$T$18)&\")\")","v":"(10)"},{"$f":"IF($C$14=\"\",\"\",Št.400mCTIF!$V$18)","v":5},{"$f":"IF($C$14=\"\",\"\",'PÚ CTIF'!$R$18)","v":157.80000000000001},{"$f":"IF($C$14=\"\",\"\",\"(\"&SUM('PÚ CTIF'!$I$18:$Q$18)&\")\")","v":"(90)"},{"$f":"IF($C$14=\"\",\"\",'PÚ CTIF'!$S$18)","v":6},{"$f":"IF(C14=\"\",\"\",Kronika!$H$15)","v":0},null,{"$f":"IF(A14=\"x\",300,IF(C14=\"\",\"\",SUM(D14,F14,H14,K14,N14,Q14,R14)))","v":23},null,{"$f":"IF($A14=\"x\",\"x\",IF($C14=\"\",\"\",MATCH($C14,Výsledky!$N$7:$N$106,0)))","v":5}]
[null,null,null,null,{"$f":"IF($C$14=\"\",\"\",PÚ!$H$19)","v":26.24},null,{"$f":"IF($C$14=\"\",\"\",Št.4x60m!$H$19)","v":53.21},null,{"$f":"IF($C$14=\"\",\"\",Št.dvojic!$U$19)","v":59.83},{"$f":"IF($C$14=\"\",\"\",\"(\"&SUM(Št.dvojic!$I$19:$T$19)&\")\")","v":"(0)"},null,{"$f":"IF($C$14=\"\",\"\",Št.400mCTIF!$U$19)","v":120.55},{"$f":"IF($C$14=\"\",\"\",\"(\"&SUM(Št.400mCTIF!$I$19:$T$19)&\")\")","v":"(20)"},null,{"$f":"IF($C$14=\"\",\"\",'PÚ CTIF'!$R$19)","v":125.89},{"$f":"IF($C$14=\"\",\"\",\"(\"&SUM('PÚ CTIF'!$I$19:$Q$19)&\")\")","v":"(60)"}]
[{"$f":"IF('Start - jaro'!E10=\"\",\"\",\"x\")","v":""},5,{"$f":"IF('Start - jaro'!C10=\"\",\"\",'Start - jaro'!C10)","v":"Dobrošov (PÍ)"},{"$f":"IF($A16=\"x\",\"x\",IF($C16=\"\",\"\",IF(ISNA(MATCH($C16,ZPVOblN,0)),COUNTIF(ZPVOblT,\".\")+1,LOOKUP($C16,ZPVOblN,ZPVOblD))))","v":1},{"$f":"IF($C$16=\"\",\"\",PÚ!$H$20)","v":23.8},{"$f":"IF($C$16=\"\",\"\",PÚ!$I$20)","v":2},{"$f":"IF($C$16=\"\",\"\",Št.4x60m!$H$20)","v":59.31},{"$f":"IF($C$16=\"\",\"\",Št.4x60m!$I$20)","v":6},{"$f":"IF($C$16=\"\",\"\",Št.dvojic!$U$20)","v":59.22},{"$f":"IF($C$16=\"\",\"\",\"(\"&SUM(Št.dvojic!$I$20:$T$20)&\")\")","v":"(0)"},{"$f":"IF($C$16=\"\",\"\",Št.dvojic!$V$20)","v":3},{"$f":"IF($C$16=\"\",\"\",Št.400mCTIF!$U$20)","v":93.14},{"$f":"IF($C$16=\"\",\"\",\"(\"&SUM(Št.400mCTIF!$I$20:$T$20)&\")\")","v":"(10)"},{"$f":"IF($C$16=\"\",\"\",Št.400mCTIF!$V$20)","v":3},{"$f":"IF($C$16=\"\",\"\",'PÚ CTIF'!$R$20)","v":160.38},{"$f":"IF($C$16=\"\",\"\",\"(\"&SUM('PÚ CTIF'!$I$20:$Q$20)&\")\")","v":"(95)"},{"$f":"IF($C$16=\"\",\"\",'PÚ CTIF'!$S$20)","v":4},{"$f":"IF(C16=\"\",\"\",Kronika!$H$16)","v":0},null,{"$f":"IF(A16=\"x\",300,IF(C16=\"\",\"\",SUM(D16,F16,H16,K16,N16,Q16,R16)))","v":19},null,{"$f":"IF($A16=\"x\",\"x\",IF($C16=\"\",\"\",MATCH($C16,Výsledky!$N$7:$N$106,0)))","v":4}]
[null,null,null,null,{"$f":"IF($C$16=\"\",\"\",PÚ!$H$21)","v":27.84},null,{"$f":"IF($C$16=\"\",\"\",Št.4x60m!$H$21)","v":67.39},null,{"$f":"IF($C$16=\"\",\"\",Št.dvojic!$U$21)","v":77.61},{"$f":"IF($C$16=\"\",\"\",\"(\"&SUM(Št.dvojic!$I$21:$T$21)&\")\")","v":"(0)"},null,{"$f":"IF($C$16=\"\",\"\",Št.400mCTIF!$U$21)","v":81.63},{"$f":"IF($C$16=\"\",\"\",\"(\"&SUM(Št.400mCTIF!$I$21:$T$21)&\")\")","v":"(0)"},null,{"$f":"IF($C$16=\"\",\"\",'PÚ CTIF'!$R$21)","v":67.150000000000006},{"$f":"IF($C$16=\"\",\"\",\"(\"&SUM('PÚ CTIF'!$I$21:$Q$21)&\")\")","v":"(0)"}]
[{"$f":"IF('Start - jaro'!E11=\"\",\"\",\"x\")","v":""},6,{"$f":"IF('Start - jaro'!C11=\"\",\"\",'Start - jaro'!C11)","v":"Plešovice (ČK)"},{"$f":"IF($A18=\"x\",\"x\",IF($C18=\"\",\"\",IF(ISNA(MATCH($C18,ZPVOblN,0)),COUNTIF(ZPVOblT,\".\")+1,LOOKUP($C18,ZPVOblN,ZPVOblD))))","v":1},{"$f":"IF($C$18=\"\",\"\",PÚ!$H$22)","v":27.98},{"$f":"IF($C$18=\"\",\"\",PÚ!$I$22)","v":3},{"$f":"IF($C$18=\"\",\"\",Št.4x60m!$H$22)","v":47.66},{"$f":"IF($C$18=\"\",\"\",Št.4x60m!$I$22)","v":5},{"$f":"IF($C$18=\"\",\"\",Št.dvojic!$U$22)","v":60.35},{"$f":"IF($C$18=\"\",\"\",\"(\"&SUM(Št.dvojic!$I$22:$T$22)&\")\")","v":"(0)"},{"$f":"IF($C$18=\"\",\"\",Št.dvojic!$V$22)","v":5},{"$f":"IF($C$18=\"\",\"\",Št.400mCTIF!$U$22)","v":90.35},{"$f":"IF($C$18=\"\",\"\",\"(\"&SUM(Št.400mCTIF!$I$22:$T$22)&\")\")","v":"(10)"},{"$f":"IF($C$18=\"\",\"\",Št.400mCTIF!$V$22)","v":6},{"$f":"IF($C$18=\"\",\"\",'PÚ CTIF'!$R$22)","v":94.62},{"$f":"IF($C$18=\"\",\"\",\"(\"&SUM('PÚ CTIF'!$I$22:$Q$22)&\")\")","v":"(20)"},{"$f":"IF($C$18=\"\",\"\",'PÚ CTIF'!$S$22)","v":5},{"$f":"IF(C18=\"\",\"\",Kronika!$H$17)","v":0},null,{"$f":"IF(A18=\"x\",300,IF(C18=\"\",\"\",SUM(D18,F18,H18,K18,N18,Q18,R18)))","v":25},null,{"$f":"IF($A18=\"x\",\"x\",IF($C18=\"\",\"\",MATCH($C18,Výsledky!$N$7:$N$106,0)))","v":6}]
[null,null,null,null,{"$f":"IF($C$18=\"\",\"\",PÚ!$H$23)","v":24.94},null,{"$f":"IF($C$18=\"\",\"\",Št.4x60m!$H$23)","v":50.29},null,{"$f":"IF($C$18=\"\",\"\",Št.dvojic!$U$23)","v":88.4},{"$f":"IF($C$18=\"\",\"\",\"(\"&SUM(Št.dvojic!$I$23:$T$23)&\")\")","v":"(20)"},null,{"$f":"IF($C$18=\"\",\"\",Št.400mCTIF!$U$23)","v":105.96},{"$f":"IF($C$18=\"\",\"\",\"(\"&SUM(Št.400mCTIF!$I$23:$T$23)&\")\")","v":"(20)"},null,{"$f":"IF($C$18=\"\",\"\",'PÚ CTIF'!$R$23)","v":95.09},{"$f":"IF($C$18=\"\",\"\",\"(\"&SUM('PÚ CTIF'!$I$23:$Q$23)&\")\")","v":"(20)"}]
[{"$f":"IF('Start - jaro'!E12=\"\",\"\",\"x\")","v":""},7,{"$f":"IF('Start - jaro'!C12=\"\",\"\",'Start - jaro'!C12)","v":""},{"$f":"IF($A20=\"x\",\"x\",IF($C20=\"\",\"\",IF(ISNA(MATCH($C20,ZPVOblN,0)),COUNTIF(ZPVOblT,\".\")+1,LOOKUP($C20,ZPVOblN,ZPVOblD))))","v":""},{"$f":"IF($C$20=\"\",\"\",PÚ!$H$24)","v":""},{"$f":"IF($C$20=\"\",\"\",PÚ!$I$24)","v":""},{"$f":"IF($C$20=\"\",\"\",Št.4x60m!$H$24)","v":""},{"$f":"IF($C$20=\"\",\"\",Št.4x60m!$I$24)","v":""},{"$f":"IF($C$20=\"\",\"\",Št.dvojic!$U$24)","v":""},{"$f":"IF($C$20=\"\",\"\",\"(\"&SUM(Št.dvojic!$I$24:$T$24)&\")\")","v":""},{"$f":"IF($C$20=\"\",\"\",Št.dvojic!$V$24)","v":""},{"$f":"IF($C$20=\"\",\"\",Št.400mCTIF!$U$24)","v":""},{"$f":"IF($C$20=\"\",\"\",\"(\"&SUM(Št.400mCTIF!$I$24:$T$24)&\")\")","v":""},{"$f":"IF($C$20=\"\",\"\",Št.400mCTIF!$V$24)","v":""},{"$f":"IF($C$20=\"\",\"\",'PÚ CTIF'!$R$24)","v":""},{"$f":"IF($C$20=\"\",\"\",\"(\"&SUM('PÚ CTIF'!$I$24:$Q$24)&\")\")","v":""},{"$f":"IF($C$20=\"\",\"\",'PÚ CTIF'!$S$24)","v":""},{"$f":"IF(C20=\"\",\"\",Kronika!$H$18)","v":""},null,{"$f":"IF(A20=\"x\",300,IF(C20=\"\",\"\",SUM(D20,F20,H20,K20,N20,Q20,R20)))","v":""},null,{"$f":"IF($A20=\"x\",\"x\",IF($C20=\"\",\"\",MATCH($C20,Výsledky!$N$7:$N$106,0)))","v":""}]
[null,null,null,null,{"$f":"IF($C$20=\"\",\"\",PÚ!$H$25)","v":""},null,{"$f":"IF($C$20=\"\",\"\",Št.4x60m!$H$25)","v":""},null,{"$f":"IF($C$20=\"\",\"\",Št.dvojic!$U$25)","v":""},{"$f":"IF($C$20=\"\",\"\",\"(\"&SUM(Št.dvojic!$I$25:$T$25)&\")\")","v":""},null,{"$f":"IF($C$20=\"\",\"\",Št.400mCTIF!$U$25)","v":""},{"$f":"IF($C$20=\"\",\"\",\"(\"&SUM(Št.400mCTIF!$I$25:$T$25)&\")\")","v":""},null,{"$f":"IF($C$20=\"\",\"\",'PÚ CTIF'!$R$25)","v":""},{"$f":"IF($C$20=\"\",\"\",\"(\"&SUM('PÚ CTIF'!$I$25:$Q$25)&\")\")","v":""}]
[{"$f":"IF('Start - jaro'!E13=\"\",\"\",\"x\")","v":""},8,{"$f":"IF('Start - jaro'!C13=\"\",\"\",'Start - jaro'!C13)","v":""},{"$f":"IF($A22=\"x\",\"x\",IF($C22=\"\",\"\",IF(ISNA(MATCH($C22,ZPVOblN,0)),COUNTIF(ZPVOblT,\".\")+1,LOOKUP($C22,ZPVOblN,ZPVOblD))))","v":""},{"$f":"IF($C$22=\"\",\"\",PÚ!$H$26)","v":""},{"$f":"IF($C$22=\"\",\"\",PÚ!$I$26)","v":""},{"$f":"IF($C$22=\"\",\"\",Št.4x60m!$H$26)","v":""},{"$f":"IF($C$22=\"\",\"\",Št.4x60m!$I$26)","v":""},{"$f":"IF($C$22=\"\",\"\",Št.dvojic!$U$26)","v":""},{"$f":"IF($C$22=\"\",\"\",\"(\"&SUM(Št.dvojic!$I$26:$T$26)&\")\")","v":""},{"$f":"IF($C$22=\"\",\"\",Št.dvojic!$V$26)","v":""},{"$f":"IF($C$22=\"\",\"\",Št.400mCTIF!$U$26)","v":""},{"$f":"IF($C$22=\"\",\"\",\"(\"&SUM(Št.400mCTIF!$I$26:$T$26)&\")\")","v":""},{"$f":"IF($C$22=\"\",\"\",Št.400mCTIF!$V$26)","v":""},{"$f":"IF($C$22=\"\",\"\",'PÚ CTIF'!$R$26)","v":""},{"$f":"IF($C$22=\"\",\"\",\"(\"&SUM('PÚ CTIF'!$I$26:$Q$26)&\")\")","v":""},{"$f":"IF($C$22=\"\",\"\",'PÚ CTIF'!$S$26)","v":""},{"$f":"IF(C22=\"\",\"\",Kronika!$H$19)","v":""},null,{"$f":"IF(A22=\"x\",300,IF(C22=\"\",\"\",SUM(D22,F22,H22,K22,N22,Q22,R22)))","v":""},null,{"$f":"IF($A22=\"x\",\"x\",IF($C22=\"\",\"\",MATCH($C22,Výsledky!$N$7:$N$106,0)))","v":""}]
[null,null,null,null,{"$f":"IF($C$22=\"\",\"\",PÚ!$H$27)","v":""},null,{"$f":"IF($C$22=\"\",\"\",Št.4x60m!$H$27)","v":""},null,{"$f":"IF($C$22=\"\",\"\",Št.dvojic!$U$27)","v":""},{"$f":"IF($C$22=\"\",\"\",\"(\"&SUM(Št.dvojic!$I$27:$T$27)&\")\")","v":""},null,{"$f":"IF($C$22=\"\",\"\",Št.400mCTIF!$U$27)","v":""},{"$f":"IF($C$22=\"\",\"\",\"(\"&SUM(Št.400mCTIF!$I$27:$T$27)&\")\")","v":""},null,{"$f":"IF($C$22=\"\",\"\",'PÚ CTIF'!$R$27)","v":""},{"$f":"IF($C$22=\"\",\"\",\"(\"&SUM('PÚ CTIF'!$I$27:$Q$27)&\")\")","v":""}]
[{"$f":"IF('Start - jaro'!E14=\"\",\"\",\"x\")","v":""},9,{"$f":"IF('Start - jaro'!C14=\"\",\"\",'Start - jaro'!C14)","v":""},{"$f":"IF($A24=\"x\",\"x\",IF($C24=\"\",\"\",IF(ISNA(MATCH($C24,ZPVOblN,0)),COUNTIF(ZPVOblT,\".\")+1,LOOKUP($C24,ZPVOblN,ZPVOblD))))","v":""},{"$f":"IF($C$24=\"\",\"\",PÚ!$H$28)","v":""},{"$f":"IF($C$24=\"\",\"\",PÚ!$I$28)","v":""},{"$f":"IF($C$24=\"\",\"\",Št.4x60m!$H$28)","v":""},{"$f":"IF($C$24=\"\",\"\",Št.4x60m!$I$28)","v":""},{"$f":"IF($C$24=\"\",\"\",Št.dvojic!$U$28)","v":""},{"$f":"IF($C$24=\"\",\"\",\"(\"&SUM(Št.dvojic!$I$28:$T$28)&\")\")","v":""},{"$f":"IF($C$24=\"\",\"\",Št.dvojic!$V$28)","v":""},{"$f":"IF($C$24=\"\",\"\",Št.400mCTIF!$U$28)","v":""},{"$f":"IF($C$24=\"\",\"\",\"(\"&SUM(Št.400mCTIF!$I$28:$T$28)&\")\")","v":""},{"$f":"IF($C$24=\"\",\"\",Št.400mCTIF!$V$28)","v":""},{"$f":"IF($C$24=\"\",\"\",'PÚ CTIF'!$R$28)","v":""},{"$f":"IF($C$24=\"\",\"\",\"(\"&SUM('PÚ CTIF'!$I$28:$Q$28)&\")\")","v":""},{"$f":"IF($C$24=\"\",\"\",'PÚ CTIF'!$S$28)","v":""},{"$f":"IF(C24=\"\",\"\",Kronika!$H$20)","v":""},null,{"$f":"IF(A24=\"x\",300,IF(C24=\"\",\"\",SUM(D24,F24,H24,K24,N24,Q24,R24)))","v":""},null,{"$f":"IF($A24=\"x\",\"x\",IF($C24=\"\",\"\",MATCH($C24,Výsledky!$N$7:$N$106,0)))","v":""}]
[null,null,null,null,{"$f":"IF($C$24=\"\",\"\",PÚ!$H$29)","v":""},null,{"$f":"IF($C$24=\"\",\"\",Št.4x60m!$H$29)","v":""},null,{"$f":"IF($C$24=\"\",\"\",Št.dvojic!$U$29)","v":""},{"$f":"IF($C$24=\"\",\"\",\"(\"&SUM(Št.dvojic!$I$29:$T$29)&\")\")","v":""},null,{"$f":"IF($C$24=\"\",\"\",Št.400mCTIF!$U$29)","v":""},{"$f":"IF($C$24=\"\",\"\",\"(\"&SUM(Št.400mCTIF!$I$29:$T$29)&\")\")","v":""},null,{"$f":"IF($C$24=\"\",\"\",'PÚ CTIF'!$R$29)","v":""},{"$f":"IF($C$24=\"\",\"\",\"(\"&SUM('PÚ CTIF'!$I$29:$Q$29)&\")\")","v":""}]
[{"$f":"IF('Start - jaro'!E15=\"\",\"\",\"x\")","v":""},10,{"$f":"IF('Start - jaro'!C15=\"\",\"\",'Start - jaro'!C15)","v":""},{"$f":"IF($A26=\"x\",\"x\",IF($C26=\"\",\"\",IF(ISNA(MATCH($C26,ZPVOblN,0)),COUNTIF(ZPVOblT,\".\")+1,LOOKUP($C26,ZPVOblN,ZPVOblD))))","v":""},{"$f":"IF($C$26=\"\",\"\",PÚ!$H$30)","v":""},{"$f":"IF($C$26=\"\",\"\",PÚ!$I$30)","v":""},{"$f":"IF($C$26=\"\",\"\",Št.4x60m!$H$30)","v":""},{"$f":"IF($C$26=\"\",\"\",Št.4x60m!$I$30)","v":""},{"$f":"IF($C$26=\"\",\"\",Št.dvojic!$U$30)","v":""},{"$f":"IF($C$26=\"\",\"\",\"(\"&SUM(Št.dvojic!$I$30:$T$30)&\")\")","v":""},{"$f":"IF($C$26=\"\",\"\",Št.dvojic!$V$30)","v":""},{"$f":"IF($C$26=\"\",\"\",Št.400mCTIF!$U$30)","v":""},{"$f":"IF($C$26=\"\",\"\",\"(\"&SUM(Št.400mCTIF!$I$30:$T$30)&\")\")","v":""},{"$f":"IF($C$26=\"\",\"\",Št.400mCTIF!$V$30)","v":""},{"$f":"IF($C$26=\"\",\"\",'PÚ CTIF'!$R$30)","v":""},{"$f":"IF($C$26=\"\",\"\",\"(\"&SUM('PÚ CTIF'!$I$30:$Q$30)&\")\")","v":""},{"$f":"IF($C$26=\"\",\"\",'PÚ CTIF'!$S$30)","v":""},{"$f":"IF(C26=\"\",\"\",Kronika!$H$21)","v":""},null,{"$f":"IF(A26=\"x\",300,IF(C26=\"\",\"\",SUM(D26,F26,H26,K26,N26,Q26,R26)))","v":""},null,{"$f":"IF($A26=\"x\",\"x\",IF($C26=\"\",\"\",MATCH($C26,Výsledky!$N$7:$N$106,0)))","v":""}]
[null,null,null,null,{"$f":"IF($C$26=\"\",\"\",PÚ!$H$31)","v":""},null,{"$f":"IF($C$26=\"\",\"\",Št.4x60m!$H$31)","v":""},null,{"$f":"IF($C$26=\"\",\"\",Št.dvojic!$U$31)","v":""},{"$f":"IF($C$26=\"\",\"\",\"(\"&SUM(Št.dvojic!$I$31:$T$31)&\")\")","v":""},null,{"$f":"IF($C$26=\"\",\"\",Št.400mCTIF!$U$31)","v":""},{"$f":"IF($C$26=\"\",\"\",\"(\"&SUM(Št.400mCTIF!$I$31:$T$31)&\")\")","v":""},null,{"$f":"IF($C$26=\"\",\"\",'PÚ CTIF'!$R$31)","v":""},{"$f":"IF($C$26=\"\",\"\",\"(\"&SUM('PÚ CTIF'!$I$31:$Q$31)&\")\")","v":""}]
[{"$f":"IF('Start - jaro'!E16=\"\",\"\",\"x\")","v":""},11,{"$f":"IF('Start - jaro'!C16=\"\",\"\",'Start - jaro'!C16)","v":""},{"$f":"IF($A28=\"x\",\"x\",IF($C28=\"\",\"\",IF(ISNA(MATCH($C28,ZPVOblN,0)),COUNTIF(ZPVOblT,\".\")+1,LOOKUP($C28,ZPVOblN,ZPVOblD))))","v":""},{"$f":"IF($C$28=\"\",\"\",PÚ!$S$12)","v":""},{"$f":"IF($C$28=\"\",\"\",PÚ!$T12)","v":""},{"$f":"IF($C$28=\"\",\"\",Št.4x60m!$S$12)","v":""},{"$f":"IF($C$28=\"\",\"\",Št.4x60m!$T12)","v":""},{"$f":"IF($C$28=\"\",\"\",Št.dvojic!$U$43)","v":""},{"$f":"IF($C$28=\"\",\"\",\"(\"&SUM(Št.dvojic!$I$43:$T$43)&\")\")","v":""},{"$f":"IF($C$28=\"\",\"\",Št.dvojic!$V$43)","v":""},{"$f":"IF($C$28=\"\",\"\",Št.400mCTIF!$U$43)","v":""},{"$f":"IF($C$28=\"\",\"\",\"(\"&SUM(Št.400mCTIF!$I$43:$T$43)&\")\")","v":""},{"$f":"IF($C$28=\"\",\"\",Št.400mCTIF!$V$43)","v":""},{"$f":"IF($C$28=\"\",\"\",'PÚ CTIF'!$R$43)","v":""},{"$f":"IF($C$28=\"\",\"\",\"(\"&SUM('PÚ CTIF'!$I$43:$Q$43)&\")\")","v":""},{"$f":"IF($C$28=\"\",\"\",'PÚ CTIF'!$S$43)","v":""},{"$f":"IF(C28=\"\",\"\",Kronika!$H$22)","v":""},null,{"$f":"IF(A28=\"x\",300,IF(C28=\"\",\"\",SUM(D28,F28,H28,K28,N28,Q28,R28)))","v":""},null,{"$f":"IF($A28=\"x\",\"x\",IF($C28=\"\",\"\",MATCH($C28,Výsledky!$N$7:$N$106,0)))","v":""}]
[null,null,null,null,{"$f":"IF($C$28=\"\",\"\",PÚ!$S$13)","v":""},null,{"$f":"IF($C$28=\"\",\"\",Št.4x60m!$S$13)","v":""},null,{"$f":"IF($C$28=\"\",\"\",Št.dvojic!$U$44)","v":""},{"$f":"IF($C$28=\"\",\"\",\"(\"&SUM(Št.dvojic!$I$44:$T$44)&\")\")","v":""},null,{"$f":"IF($C$28=\"\",\"\",Št.400mCTIF!$U$44)","v":""},{"$f":"IF($C$28=\"\",\"\",\"(\"&SUM(Št.400mCTIF!$I$44:$T$44)&\")\")","v":""},null,{"$f":"IF($C$28=\"\",\"\",'PÚ CTIF'!$R$44)","v":""},{"$f":"IF($C$28=\"\",\"\",\"(\"&SUM('PÚ CTIF'!$I$44:$Q$44)&\")\")","v":""}]
[{"$f":"IF('Start - jaro'!E17=\"\",\"\",\"x\")","v":""},12,{"$f":"IF('Start - jaro'!C17=\"\",\"\",'Start - jaro'!C17)","v":""},{"$f":"IF($A30=\"x\",\"x\",IF($C30=\"\",\"\",IF(ISNA(MATCH($C30,ZPVOblN,0)),COUNTIF(ZPVOblT,\".\")+1,LOOKUP($C30,ZPVOblN,ZPVOblD))))","v":""},{"$f":"IF($C$30=\"\",\"\",PÚ!$S$14)","v":""},{"$f":"IF($C$30=\"\",\"\",PÚ!$T14)","v":""},{"$f":"IF($C$30=\"\",\"\",Št.4x60m!$S$14)","v":""},{"$f":"IF($C$30=\"\",\"\",Št.4x60m!$T14)","v":""},{"$f":"IF($C$30=\"\",\"\",Št.dvojic!$U$45)","v":""},{"$f":"IF($C$30=\"\",\"\",\"(\"&SUM(Št.dvojic!$I$45:$T$45)&\")\")","v":""},{"$f":"IF($C$30=\"\",\"\",Št.dvojic!$V$45)","v":""},{"$f":"IF($C$30=\"\",\"\",Št.400mCTIF!$U$45)","v":""},{"$f":"IF($C$30=\"\",\"\",\"(\"&SUM(Št.400mCTIF!$I$45:$T$45)&\")\")","v":""},{"$f":"IF($C$30=\"\",\"\",Št.400mCTIF!$V$45)","v":""},{"$f":"IF($C$30=\"\",\"\",'PÚ CTIF'!$R$45)","v":""},{"$f":"IF($C$30=\"\",\"\",\"(\"&SUM('PÚ CTIF'!$I$45:$Q$45)&\")\")","v":""},{"$f":"IF($C$30=\"\",\"\",'PÚ CTIF'!$S$45)","v":""},{"$f":"IF(C30=\"\",\"\",Kronika!$H$23)","v":""},null,{"$f":"IF(A30=\"x\",300,IF(C30=\"\",\"\",SUM(D30,F30,H30,K30,N30,Q30,R30)))","v":""},null,{"$f":"IF($A30=\"x\",\"x\",IF($C30=\"\",\"\",MATCH($C30,Výsledky!$N$7:$N$106,0)))","v":""}]
[null,null,null,null,{"$f":"IF($C$30=\"\",\"\",PÚ!$S$15)","v":""},null,{"$f":"IF($C$30=\"\",\"\",Št.4x60m!$S$15)","v":""},null,{"$f":"IF($C$30=\"\",\"\",Št.dvojic!$U$46)","v":""},{"$f":"IF($C$30=\"\",\"\",\"(\"&SUM(Št.dvojic!$I$46:$T$46)&\")\")","v":""},null,{"$f":"IF($C$30=\"\",\"\",Št.400mCTIF!$U$46)","v":""},{"$f":"IF($C$30=\"\",\"\",\"(\"&SUM(Št.400mCTIF!$I$46:$T$46)&\")\")","v":""},null,{"$f":"IF($C$30=\"\",\"\",'PÚ CTIF'!$R$46)","v":""},{"$f":"IF($C$30=\"\",\"\",\"(\"&SUM('PÚ CTIF'!$I$46:$Q$46)&\")\")","v":""}]
[{"$f":"IF('Start - jaro'!E18=\"\",\"\",\"x\")","v":""},13,{"$f":"IF('Start - jaro'!C18=\"\",\"\",'Start - jaro'!C18)","v":""},{"$f":"IF($A32=\"x\",\"x\",IF($C32=\"\",\"\",IF(ISNA(MATCH($C32,ZPVOblN,0)),COUNTIF(ZPVOblT,\".\")+1,LOOKUP($C32,ZPVOblN,ZPVOblD))))","v":""},{"$f":"IF($C$32=\"\",\"\",PÚ!$S$16)","v":""},{"$f":"IF($C$32=\"\",\"\",PÚ!$T16)","v":""},{"$f":"IF($C$32=\"\",\"\",Št.4x60m!$S$16)","v":""},{"$f":"IF($C$32=\"\",\"\",Št.4x60m!$T16)","v":""},{"$f":"IF($C$32=\"\",\"\",Št.dvojic!$U$47)","v":""},{"$f":"IF($C$32=\"\",\"\",\"(\"&SUM(Št.dvojic!$I$47:$T$47)&\")\")","v":""},{"$f":"IF($C$32=\"\",\"\",Št.dvojic!$V$47)","v":""},{"$f":"IF($C$32=\"\",\"\",Št.400mCTIF!$U$47)","v":""},{"$f":"IF($C$32=\"\",\"\",\"(\"&SUM(Št.400mCTIF!$I$47:$T$47)&\")\")","v":""},{"$f":"IF($C$32=\"\",\"\",Št.400mCTIF!$V$47)","v":""},{"$f":"IF($C$32=\"\",\"\",'PÚ CTIF'!$R$47)","v":""},{"$f":"IF($C$32=\"\",\"\",\"(\"&SUM('PÚ CTIF'!$I$47:$Q$47)&\")\")","v":""},{"$f":"IF($C$32=\"\",\"\",'PÚ CTIF'!$S$47)","v":""},{"$f":"IF(C32=\"\",\"\",Kronika!$H$24)","v":""},null,{"$f":"IF(A32=\"x\",300,IF(C32=\"\",\"\",SUM(D32,F32,H32,K32,N32,Q32,R32)))","v":""},null,{"$f":"IF($A32=\"x\",\"x\",IF($C32=\"\",\"\",MATCH($C32,Výsledky!$N$7:$N$106,0)))","v":""}]
[null,null,null,null,{"$f":"IF($C$32=\"\",\"\",PÚ!$S$17)","v":""},null,{"$f":"IF($C$32=\"\",\"\",Št.4x60m!$S$17)","v":""},null,{"$f":"IF($C$32=\"\",\"\",Št.dvojic!$U$48)","v":""},{"$f":"IF($C$32=\"\",\"\",\"(\"&SUM(Št.dvojic!$I$48:$T$48)&\")\")","v":""},null,{"$f":"IF($C$32=\"\",\"\",Št.400mCTIF!$U$48)","v":""},{"$f":"IF($C$32=\"\",\"\",\"(\"&SUM(Št.400mCTIF!$I$48:$T$48)&\")\")","v":""},null,{"$f":"IF($C$32=\"\",\"\",'PÚ CTIF'!$R$48)","v":""},{"$f":"IF($C$32=\"\",\"\",\"(\"&SUM('PÚ CTIF'!$I$48:$Q$48)&\")\")","v":""}]
[{"$f":"IF('Start - jaro'!E19=\"\",\"\",\"x\")","v":""},14,{"$f":"IF('Start - jaro'!C19=\"\",\"\",'Start - jaro'!C19)","v":""},{"$f":"IF($A34=\"x\",\"x\",IF($C34=\"\",\"\",IF(ISNA(MATCH($C34,ZPVOblN,0)),COUNTIF(ZPVOblT,\".\")+1,LOOKUP($C34,ZPVOblN,ZPVOblD))))","v":""},{"$f":"IF($C$34=\"\",\"\",PÚ!$S$18)","v":""},{"$f":"IF($C$34=\"\",\"\",PÚ!$T18)","v":""},{"$f":"IF($C$34=\"\",\"\",Št.4x60m!$S$18)","v":""},{"$f":"IF($C$34=\"\",\"\",Št.4x60m!$T18)","v":""},{"$f":"IF($C$34=\"\",\"\",Št.dvojic!$U$49)","v":""},{"$f":"IF($C$34=\"\",\"\",\"(\"&SUM(Št.dvojic!$I$49:$T$49)&\")\")","v":""},{"$f":"IF($C$34=\"\",\"\",Št.dvojic!$V$49)","v":""},{"$f":"IF($C$34=\"\",\"\",Št.400mCTIF!$U$49)","v":""},{"$f":"IF($C$34=\"\",\"\",\"(\"&SUM(Št.400mCTIF!$I$49:$T$49)&\")\")","v":""},{"$f":"IF($C$34=\"\",\"\",Št.400mCTIF!$V$49)","v":""},{"$f":"IF($C$34=\"\",\"\",'PÚ CTIF'!$R$49)","v":""},{"$f":"IF($C$34=\"\",\"\",\"(\"&SUM('PÚ CTIF'!$I$49:$Q$49)&\")\")","v":""},{"$f":"IF($C$34=\"\",\"\",'PÚ CTIF'!$S$49)","v":""},{"$f":"IF(C34=\"\",\"\",Kronika!$H$25)","v":""},null,{"$f":"IF(A34=\"x\",300,IF(C34=\"\",\"\",SUM(D34,F34,H34,K34,N34,Q34,R34)))","v":""},null,{"$f":"IF($A34=\"x\",\"x\",IF($C34=\"\",\"\",MATCH($C34,Výsledky!$N$7:$N$106,0)))","v":""}]
[null,null,null,null,{"$f":"IF($C$34=\"\",\"\",PÚ!$S$19)","v":""},null,{"$f":"IF($C$34=\"\",\"\",Št.4x60m!$S$19)","v":""},null,{"$f":"IF($C$34=\"\",\"\",Št.dvojic!$U$50)","v":""},{"$f":"IF($C$34=\"\",\"\",\"(\"&SUM(Št.dvojic!$I$50:$T$50)&\")\")","v":""},null,{"$f":"IF($C$34=\"\",\"\",Št.400mCTIF!$U$50)","v":""},{"$f":"IF($C$34=\"\",\"\",\"(\"&SUM(Št.400mCTIF!$I$50:$T$50)&\")\")","v":""},null,{"$f":"IF($C$34=\"\",\"\",'PÚ CTIF'!$R$50)","v":""},{"$f":"IF($C$34=\"\",\"\",\"(\"&SUM('PÚ CTIF'!$I$50:$Q$50)&\")\")","v":""}]
[null,{"$f":"B1","v":"Celkové výsledky - TISK"}]
[]
[null,null,null,{"$f":"D3","v":"Krajská soutěž HRY PLAMEN"},null,null,null,null,null,null,null,{"$f":"L3","v":"2020/2021, České Budějovice"}]
[null,null,{"$f":"'Start - jaro'!$N$2","v":"STARŠÍ"}]
[null," startovní číslo"," SDH"," ZPV"," PÚ",null," Štafeta 4x60m",null," Štafeta dvojic",null,null," 400 m štafeta CTIF",null,null," PÚ - CTIF",null,null,"Celoroční činnost",null," Celkový součet",null,"Pořadí"]
[null,null,null,"P.","1.pokus","P.","1.pokus","P.","1.pokus","tr.body","P.","1.pokus","tr.body","P.","1.pokus","tr.body","P.","P."]
[null,null,null,null,"2.pokus",null,"2.pokus",null,"2.pokus","tr.body",null,"2.pokus","tr.body",null,"2.pokus","tr.body"]
[{"$f":"IF('Start - jaro'!E20=\"\",\"\",\"x\")","v":""},15,{"$f":"IF('Start - jaro'!C20=\"\",\"\",'Start - jaro'!C20)","v":""},{"$f":"IF($A43=\"x\",\"x\",IF($C43=\"\",\"\",IF(ISNA(MATCH($C43,ZPVOblN,0)),COUNTIF(ZPVOblT,\".\")+1,LOOKUP($C43,ZPVOblN,ZPVOblD))))","v":""},{"$f":"IF($C$43=\"\",\"\",PÚ!$S$20)","v":""},{"$f":"IF($C$43=\"\",\"\",PÚ!$T20)","v":""},{"$f":"IF($C$43=\"\",\"\",Št.4x60m!$S$20)","v":""},{"$f":"IF($C$43=\"\",\"\",Št.4x60m!$T20)","v":""},{"$f":"IF($C$43=\"\",\"\",Št.dvojic!$U$51)","v":""},{"$f":"IF($C$43=\"\",\"\",\"(\"&SUM(Št.dvojic!$I$51:$T$51)&\")\")","v":""},{"$f":"IF($C$43=\"\",\"\",Št.dvojic!$V$51)","v":""},{"$f":"IF($C$43=\"\",\"\",Št.400mCTIF!$U$51)","v":""},{"$f":"IF($C$43=\"\",\"\",\"(\"&SUM(Št.400mCTIF!$I$51:$T$51)&\")\")","v":""},{"$f":"IF($C$43=\"\",\"\",Št.400mCTIF!$V$51)","v":""},{"$f":"IF($C$43=\"\",\"\",'PÚ CTIF'!$R$51)","v":""},{"$f":"IF($C$43=\"\",\"\",\"(\"&SUM('PÚ CTIF'!$I$51:$Q$51)&\")\")","v":""},{"$f":"IF($C$43=\"\",\"\",'PÚ CTIF'!$S$51)","v":""},{"$f":"IF(C43=\"\",\"\",Kronika!$H$26)","v":""},null,{"$f":"IF(A43=\"x\",300,IF(C43=\"\",\"\",SUM(D43,F43,H43,K43,N43,Q43,R43)))","v":""},{"$f":"IF($A43=\"x\",\"x\",IF($C43=\"\",\"\",MATCH($C43,Výsledky!$N$7:$N$106,0)))","v":""},{"$f":"IF($A43=\"x\",\"x\",IF($C43=\"\",\"\",MATCH($C43,Výsledky!$N$7:$N$106,0)))","v":""}]
[null,null,null,null,{"$f":"IF($C$43=\"\",\"\",PÚ!$S$21)","v":""},null,{"$f":"IF($C$43=\"\",\"\",Št.4x60m!$S$21)","v":""},null,{"$f":"IF($C$43=\"\",\"\",Št.dvojic!$U$52)","v":""},{"$f":"IF($C$43=\"\",\"\",\"(\"&SUM(Št.dvojic!$I$52:$T$52)&\")\")","v":""},null,{"$f":"IF($C$43=\"\",\"\",Št.400mCTIF!$U$52)","v":""},{"$f":"IF($C$43=\"\",\"\",\"(\"&SUM(Št.400mCTIF!$I$52:$T$52)&\")\")","v":""},null,{"$f":"IF($C$43=\"\",\"\",'PÚ CTIF'!$R$52)","v":""},{"$f":"IF($C$43=\"\",\"\",\"(\"&SUM('PÚ CTIF'!$I$52:$Q$52)&\")\")","v":""}]
[{"$f":"IF('Start - jaro'!E21=\"\",\"\",\"x\")","v":""},16,{"$f":"IF('Start - jaro'!C21=\"\",\"\",'Start - jaro'!C21)","v":""},{"$f":"IF($A45=\"x\",\"x\",IF($C45=\"\",\"\",IF(ISNA(MATCH($C45,ZPVOblN,0)),COUNTIF(ZPVOblT,\".\")+1,LOOKUP($C45,ZPVOblN,ZPVOblD))))","v":""},{"$f":"IF($C$45=\"\",\"\",PÚ!$S$22)","v":""},{"$f":"IF($C$45=\"\",\"\",PÚ!$T22)","v":""},{"$f":"IF($C$45=\"\",\"\",Št.4x60m!$S$22)","v":""},{"$f":"IF($C$45=\"\",\"\",Št.4x60m!$T22)","v":""},{"$f":"IF($C$45=\"\",\"\",Št.dvojic!$U$53)","v":""},{"$f":"IF($C$45=\"\",\"\",\"(\"&SUM(Št.dvojic!$I$53:$T$53)&\")\")","v":""},{"$f":"IF($C$45=\"\",\"\",Št.dvojic!$V$53)","v":""},{"$f":"IF($C$45=\"\",\"\",Št.400mCTIF!$U$53)","v":""},{"$f":"IF($C$45=\"\",\"\",\"(\"&SUM(Št.400mCTIF!$I$53:$T$53)&\")\")","v":""},{"$f":"IF($C$45=\"\",\"\",Št.400mCTIF!$V$53)","v":""},{"$f":"IF($C$45=\"\",\"\",'PÚ CTIF'!$R$53)","v":""},{"$f":"IF($C$45=\"\",\"\",\"(\"&SUM('PÚ CTIF'!$I$53:$Q$53)&\")\")","v":""},{"$f":"IF($C$45=\"\",\"\",'PÚ CTIF'!$S$53)","v":""},{"$f":"IF(C45=\"\",\"\",Kronika!$H$27)","v":""},null,{"$f":"IF(A45=\"x\",300,IF(C45=\"\",\"\",SUM(D45,F45,H45,K45,N45,Q45,R45)))","v":""},{"$f":"IF($A45=\"x\",\"x\",IF($C45=\"\",\"\",MATCH($C45,Výsledky!$N$7:$N$106,0)))","v":""},{"$f":"IF($A45=\"x\",\"x\",IF($C45=\"\",\"\",MATCH($C45,Výsledky!$N$7:$N$106,0)))","v":""}]
[null,null,null,null,{"$f":"IF($C$45=\"\",\"\",PÚ!$S$23)","v":""},null,{"$f":"IF($C$45=\"\",\"\",Št.4x60m!$S$23)","v":""},null,{"$f":"IF($C$45=\"\",\"\",Št.dvojic!$U$54)","v":""},{"$f":"IF($C$45=\"\",\"\",\"(\"&SUM(Št.dvojic!$I$54:$T$54)&\")\")","v":""},null,{"$f":"IF($C$45=\"\",\"\",Št.400mCTIF!$U$54)","v":""},{"$f":"IF($C$45=\"\",\"\",\"(\"&SUM(Št.400mCTIF!$I$54:$T$54)&\")\")","v":""},null,{"$f":"IF($C$45=\"\",\"\",'PÚ CTIF'!$R$54)","v":""},{"$f":"IF($C$45=\"\",\"\",\"(\"&SUM('PÚ CTIF'!$I$54:$Q$54)&\")\")","v":""}]
[{"$f":"IF('Start - jaro'!E22=\"\",\"\",\"x\")","v":""},17,{"$f":"IF('Start - jaro'!C22=\"\",\"\",'Start - jaro'!C22)","v":""},{"$f":"IF($A47=\"x\",\"x\",IF($C47=\"\",\"\",IF(ISNA(MATCH($C47,ZPVOblN,0)),COUNTIF(ZPVOblT,\".\")+1,LOOKUP($C47,ZPVOblN,ZPVOblD))))","v":""},{"$f":"IF($C$47=\"\",\"\",PÚ!$S$24)","v":""},{"$f":"IF($C$47=\"\",\"\",PÚ!$T24)","v":""},{"$f":"IF($C$47=\"\",\"\",Št.4x60m!$S$24)","v":""},{"$f":"IF($C$47=\"\",\"\",Št.4x60m!$T24)","v":""},{"$f":"IF($C$47=\"\",\"\",Št.dvojic!$U$55)","v":""},{"$f":"IF($C$47=\"\",\"\",\"(\"&SUM(Št.dvojic!$I$55:$T$55)&\")\")","v":""},{"$f":"IF($C$47=\"\",\"\",Št.dvojic!$V$55)","v":""},{"$f":"IF($C$47=\"\",\"\",Št.400mCTIF!$U$55)","v":""},{"$f":"IF($C$47=\"\",\"\",\"(\"&SUM(Št.400mCTIF!$I$55:$T$55)&\")\")","v":""},{"$f":"IF($C$47=\"\",\"\",Št.400mCTIF!$V$55)","v":""},{"$f":"IF($C$47=\"\",\"\",'PÚ CTIF'!$R$55)","v":""},{"$f":"IF($C$47=\"\",\"\",\"(\"&SUM('PÚ CTIF'!$I$55:$Q$55)&\")\")","v":""},{"$f":"IF($C$47=\"\",\"\",'PÚ CTIF'!$S$55)","v":""},{"$f":"IF(C47=\"\",\"\",Kronika!$H$28)","v":""},null,{"$f":"IF(A47=\"x\",300,IF(C47=\"\",\"\",SUM(D47,F47,H47,K47,N47,Q47,R47)))","v":""},{"$f":"IF($A47=\"x\",\"x\",IF($C47=\"\",\"\",MATCH($C47,Výsledky!$N$7:$N$106,0)))","v":""},{"$f":"IF($A47=\"x\",\"x\",IF($C47=\"\",\"\",MATCH($C47,Výsledky!$N$7:$N$106,0)))","v":""}]
[null,null,null,null,{"$f":"IF($C$47=\"\",\"\",PÚ!$S$25)","v":""},null,{"$f":"IF($C$47=\"\",\"\",Št.4x60m!$S$25)","v":""},null,{"$f":"IF($C$47=\"\",\"\",Št.dvojic!$U$56)","v":""},{"$f":"IF($C$47=\"\",\"\",\"(\"&SUM(Št.dvojic!$I$56:$T$56)&\")\")","v":""},null,{"$f":"IF($C$47=\"\",\"\",Št.400mCTIF!$U$56)","v":""},{"$f":"IF($C$47=\"\",\"\",\"(\"&SUM(Št.400mCTIF!$I$56:$T$56)&\")\")","v":""},null,{"$f":"IF($C$47=\"\",\"\",'PÚ CTIF'!$R$56)","v":""},{"$f":"IF($C$47=\"\",\"\",\"(\"&SUM('PÚ CTIF'!$I$56:$Q$56)&\")\")","v":""}]
[{"$f":"IF('Start - jaro'!E23=\"\",\"\",\"x\")","v":""},18,{"$f":"IF('Start - jaro'!C23=\"\",\"\",'Start - jaro'!C23)","v":""},{"$f":"IF($A49=\"x\",\"x\",IF($C49=\"\",\"\",IF(ISNA(MATCH($C49,ZPVOblN,0)),COUNTIF(ZPVOblT,\".\")+1,LOOKUP($C49,ZPVOblN,ZPVOblD))))","v":""},{"$f":"IF($C$49=\"\",\"\",PÚ!$S$26)","v":""},{"$f":"IF($C$49=\"\",\"\",PÚ!$T26)","v":""},{"$f":"IF($C$49=\"\",\"\",Št.4x60m!$S$26)","v":""},{"$f":"IF($C$49=\"\",\"\",Št.4x60m!$T26)","v":""},{"$f":"IF($C$49=\"\",\"\",Št.dvojic!$U$57)","v":""},{"$f":"IF($C$49=\"\",\"\",\"(\"&SUM(Št.dvojic!$I$57:$T$57)&\")\")","v":""},{"$f":"IF($C$49=\"\",\"\",Št.dvojic!$V$57)","v":""},{"$f":"IF($C$49=\"\",\"\",Št.400mCTIF!$U$57)","v":""},{"$f":"IF($C$49=\"\",\"\",\"(\"&SUM(Št.400mCTIF!$I$57:$T$57)&\")\")","v":""},{"$f":"IF($C$49=\"\",\"\",Št.400mCTIF!$V$57)","v":""},{"$f":"IF($C$49=\"\",\"\",'PÚ CTIF'!$R$57)","v":""},{"$f":"IF($C$49=\"\",\"\",\"(\"&SUM('PÚ CTIF'!$I$57:$Q$57)&\")\")","v":""},{"$f":"IF($C$49=\"\",\"\",'PÚ CTIF'!$S$57)","v":""},{"$f":"IF(C49=\"\",\"\",Kronika!$H$29)","v":""},null,{"$f":"IF(A49=\"x\",300,IF(C49=\"\",\"\",SUM(D49,F49,H49,K49,N49,Q49,R49)))","v":""},{"$f":"IF($A49=\"x\",\"x\",IF($C49=\"\",\"\",MATCH($C49,Výsledky!$N$7:$N$106,0)))","v":""},{"$f":"IF($A49=\"x\",\"x\",IF($C49=\"\",\"\",MATCH($C49,Výsledky!$N$7:$N$106,0)))","v":""}]
[null,null,null,null,{"$f":"IF($C$49=\"\",\"\",PÚ!$S$27)","v":""},null,{"$f":"IF($C$49=\"\",\"\",Št.4x60m!$S$27)","v":""},null,{"$f":"IF($C$49=\"\",\"\",Št.dvojic!$U$58)","v":""},{"$f":"IF($C$49=\"\",\"\",\"(\"&SUM(Št.dvojic!$I$58:$T$58)&\")\")","v":""},null,{"$f":"IF($C$49=\"\",\"\",Št.400mCTIF!$U$58)","v":""},{"$f":"IF($C$49=\"\",\"\",\"(\"&SUM(Št.400mCTIF!$I$58:$T$58)&\")\")","v":""},null,{"$f":"IF($C$49=\"\",\"\",'PÚ CTIF'!$R$58)","v":""},{"$f":"IF($C$49=\"\",\"\",\"(\"&SUM('PÚ CTIF'!$I$58:$Q$58)&\")\")","v":""}]
[{"$f":"IF('Start - jaro'!E24=\"\",\"\",\"x\")","v":""},19,{"$f":"IF('Start - jaro'!C24=\"\",\"\",'Start - jaro'!C24)","v":""},{"$f":"IF($A51=\"x\",\"x\",IF($C51=\"\",\"\",IF(ISNA(MATCH($C51,ZPVOblN,0)),COUNTIF(ZPVOblT,\".\")+1,LOOKUP($C51,ZPVOblN,ZPVOblD))))","v":""},{"$f":"IF($C$51=\"\",\"\",PÚ!$S$28)","v":""},{"$f":"IF($C$51=\"\",\"\",PÚ!$T28)","v":""},{"$f":"IF($C$51=\"\",\"\",Št.4x60m!$S$28)","v":""},{"$f":"IF($C$51=\"\",\"\",Št.4x60m!$T28)","v":""},{"$f":"IF($C$51=\"\",\"\",Št.dvojic!$U$59)","v":""},{"$f":"IF($C$51=\"\",\"\",\"(\"&SUM(Št.dvojic!$I$59:$T$59)&\")\")","v":""},{"$f":"IF($C$51=\"\",\"\",Št.dvojic!$V$59)","v":""},{"$f":"IF($C$51=\"\",\"\",Št.400mCTIF!$U$59)","v":""},{"$f":"IF($C$51=\"\",\"\",\"(\"&SUM(Št.400mCTIF!$I$59:$T$59)&\")\")","v":""},{"$f":"IF($C$51=\"\",\"\",Št.400mCTIF!$V$59)","v":""},{"$f":"IF($C$51=\"\",\"\",'PÚ CTIF'!$R$59)","v":""},{"$f":"IF($C$51=\"\",\"\",\"(\"&SUM('PÚ CTIF'!$I$59:$Q$59)&\")\")","v":""},{"$f":"IF($C$51=\"\",\"\",'PÚ CTIF'!$S$59)","v":""},{"$f":"IF(C51=\"\",\"\",Kronika!$H$30)","v":""},null,{"$f":"IF(A51=\"x\",300,IF(C51=\"\",\"\",SUM(D51,F51,H51,K51,N51,Q51,R51)))","v":""},{"$f":"IF($A51=\"x\",\"x\",IF($C51=\"\",\"\",MATCH($C51,Výsledky!$N$7:$N$106,0)))","v":""},{"$f":"IF($A51=\"x\",\"x\",IF($C51=\"\",\"\",MATCH($C51,Výsledky!$N$7:$N$106,0)))","v":""}]
[null,null,null,null,{"$f":"IF($C$51=\"\",\"\",PÚ!$S$29)","v":""},null,{"$f":"IF($C$51=\"\",\"\",Št.4x60m!$S$29)","v":""},null,{"$f":"IF($C$51=\"\",\"\",Št.dvojic!$U$60)","v":""},{"$f":"IF($C$51=\"\",\"\",\"(\"&SUM(Št.dvojic!$I$60:$T$60)&\")\")","v":""},null,{"$f":"IF($C$51=\"\",\"\",Št.400mCTIF!$U$60)","v":""},{"$f":"IF($C$51=\"\",\"\",\"(\"&SUM(Št.400mCTIF!$I$60:$T$60)&\")\")","v":""},null,{"$f":"IF($C$51=\"\",\"\",'PÚ CTIF'!$R$60)","v":""},{"$f":"IF($C$51=\"\",\"\",\"(\"&SUM('PÚ CTIF'!$I$60:$Q$60)&\")\")","v":""}]
[{"$f":"IF('Start - jaro'!E25=\"\",\"\",\"x\")","v":""},20,{"$f":"IF('Start - jaro'!C25=\"\",\"\",'Start - jaro'!C25)","v":""},{"$f":"IF($A53=\"x\",\"x\",IF($C53=\"\",\"\",IF(ISNA(MATCH($C53,ZPVOblN,0)),COUNTIF(ZPVOblT,\".\")+1,LOOKUP($C53,ZPVOblN,ZPVOblD))))","v":""},{"$f":"IF($C$53=\"\",\"\",PÚ!$S$30)","v":""},{"$f":"IF($C$53=\"\",\"\",PÚ!$T30)","v":""},{"$f":"IF($C$53=\"\",\"\",Št.4x60m!$S$30)","v":""},{"$f":"IF($C$53=\"\",\"\",Št.4x60m!$T30)","v":""},{"$f":"IF($C$53=\"\",\"\",Št.dvojic!$U$61)","v":""},{"$f":"IF($C$53=\"\",\"\",\"(\"&SUM(Št.dvojic!$I$61:$T$61)&\")\")","v":""},{"$f":"IF($C$53=\"\",\"\",Št.dvojic!$V$61)","v":""},{"$f":"IF($C$53=\"\",\"\",Št.400mCTIF!$U$61)","v":""},{"$f":"IF($C$53=\"\",\"\",\"(\"&SUM(Št.400mCTIF!$I$61:$T$61)&\")\")","v":""},{"$f":"IF($C$53=\"\",\"\",Št.400mCTIF!$V$61)","v":""},{"$f":"IF($C$53=\"\",\"\",'PÚ CTIF'!$R$61)","v":""},{"$f":"IF($C$53=\"\",\"\",\"(\"&SUM('PÚ CTIF'!$I$61:$Q$61)&\")\")","v":""},{"$f":"IF($C$53=\"\",\"\",'PÚ CTIF'!$S$61)","v":""},{"$f":"IF(C53=\"\",\"\",Kronika!$H$31)","v":""},null,{"$f":"IF(A53=\"x\",300,IF(C53=\"\",\"\",SUM(D53,F53,H53,K53,N53,Q53,R53)))","v":""},{"$f":"IF($A53=\"x\",\"x\",IF($C53=\"\",\"\",MATCH($C53,Výsledky!$N$7:$N$106,0)))","v":""},{"$f":"IF($A53=\"x\",\"x\",IF($C53=\"\",\"\",MATCH($C53,Výsledky!$N$7:$N$106,0)))","v":""}]
[null,null,null,null,{"$f":"IF($C$53=\"\",\"\",PÚ!$S$31)","v":""},null,{"$f":"IF($C$53=\"\",\"\",Št.4x60m!$S$31)","v":""},null,{"$f":"IF($C$53=\"\",\"\",Št.dvojic!$U$62)","v":""},{"$f":"IF($C$53=\"\",\"\",\"(\"&SUM(Št.dvojic!$I$62:$T$62)&\")\")","v":""},null,{"$f":"IF($C$53=\"\",\"\",Št.400mCTIF!$U$62)","v":""},{"$f":"IF($C$53=\"\",\"\",\"(\"&SUM(Št.400mCTIF!$I$62:$T$62)&\")\")","v":""},null,{"$f":"IF($C$53=\"\",\"\",'PÚ CTIF'!$R$62)","v":""},{"$f":"IF($C$53=\"\",\"\",\"(\"&SUM('PÚ CTIF'!$I$62:$Q$62)&\")\")","v":""}]
[{"$f":"IF('Start - jaro'!E26=\"\",\"\",\"x\")","v":""},21,{"$f":"IF('Start - jaro'!C26=\"\",\"\",'Start - jaro'!C26)","v":""},{"$f":"IF($A55=\"x\",\"x\",IF($C55=\"\",\"\",IF(ISNA(MATCH($C55,ZPVOblN,0)),COUNTIF(ZPVOblT,\".\")+1,LOOKUP($C55,ZPVOblN,ZPVOblD))))","v":""},{"$f":"IF($C$55=\"\",\"\",PÚ!$H$43)","v":""},{"$f":"IF($C$55=\"\",\"\",PÚ!$I$43)","v":""},{"$f":"IF($C$55=\"\",\"\",Št.4x60m!$H$43)","v":""},{"$f":"IF($C$55=\"\",\"\",Št.4x60m!$I$43)","v":""},{"$f":"IF($C$55=\"\",\"\",Št.dvojic!$U$74)","v":""},{"$f":"IF($C$55=\"\",\"\",\"(\"&SUM(Št.dvojic!$I$74:$T$74)&\")\")","v":""},{"$f":"IF($C$55=\"\",\"\",Št.dvojic!$V$74)","v":""},{"$f":"IF($C$55=\"\",\"\",Št.400mCTIF!$U$74)","v":""},{"$f":"IF($C$55=\"\",\"\",\"(\"&SUM(Št.400mCTIF!$I$74:$T$74)&\")\")","v":""},{"$f":"IF($C$55=\"\",\"\",Št.400mCTIF!$V$74)","v":""},{"$f":"IF($C$55=\"\",\"\",'PÚ CTIF'!$R$74)","v":""},{"$f":"IF($C$55=\"\",\"\",\"(\"&SUM('PÚ CTIF'!$I$74:$Q$74)&\")\")","v":""},{"$f":"IF($C$55=\"\",\"\",'PÚ CTIF'!$S$74)","v":""},{"$f":"IF(C55=\"\",\"\",Kronika!$P$12)","v":""},null,{"$f":"IF(A55=\"x\",300,IF(C55=\"\",\"\",SUM(D55,F55,H55,K55,N55,Q55,R55)))","v":""},{"$f":"IF($A55=\"x\",\"x\",IF($C55=\"\",\"\",MATCH($C55,Výsledky!$N$7:$N$106,0)))","v":""},{"$f":"IF($A55=\"x\",\"x\",IF($C55=\"\",\"\",MATCH($C55,Výsledky!$N$7:$N$106,0)))","v":""}]
[null,null,null,null,{"$f":"IF($C$55=\"\",\"\",PÚ!$H$44)","v":""},null,{"$f":"IF($C$55=\"\",\"\",Št.4x60m!$H$44)","v":""},null,{"$f":"IF($C$55=\"\",\"\",Št.dvojic!$U$75)","v":""},{"$f":"IF($C$55=\"\",\"\",\"(\"&SUM(Št.dvojic!$I$75:$T$75)&\")\")","v":""},null,{"$f":"IF($C$55=\"\",\"\",Št.400mCTIF!$U$75)","v":""},{"$f":"IF($C$55=\"\",\"\",\"(\"&SUM(Št.400mCTIF!$I$75:$T$75)&\")\")","v":""},null,{"$f":"IF($C$55=\"\",\"\",'PÚ CTIF'!$R$75)","v":""},{"$f":"IF($C$55=\"\",\"\",\"(\"&SUM('PÚ CTIF'!$I$75:$Q$75)&\")\")","v":""}]
[{"$f":"IF('Start - jaro'!E27=\"\",\"\",\"x\")","v":""},22,{"$f":"IF('Start - jaro'!C27=\"\",\"\",'Start - jaro'!C27)","v":""},{"$f":"IF($A57=\"x\",\"x\",IF($C57=\"\",\"\",IF(ISNA(MATCH($C57,ZPVOblN,0)),COUNTIF(ZPVOblT,\".\")+1,LOOKUP($C57,ZPVOblN,ZPVOblD))))","v":""},{"$f":"IF($C$57=\"\",\"\",PÚ!$H$45)","v":""},{"$f":"IF($C$57=\"\",\"\",PÚ!$I$45)","v":""},{"$f":"IF($C$57=\"\",\"\",Št.4x60m!$H$45)","v":""},{"$f":"IF($C$57=\"\",\"\",Št.4x60m!$I$45)","v":""},{"$f":"IF($C$57=\"\",\"\",Št.dvojic!$U$76)","v":""},{"$f":"IF($C$57=\"\",\"\",\"(\"&SUM(Št.dvojic!$I$76:$T$76)&\")\")","v":""},{"$f":"IF($C$57=\"\",\"\",Št.dvojic!$V$76)","v":""},{"$f":"IF($C$57=\"\",\"\",Št.400mCTIF!$U$76)","v":""},{"$f":"IF($C$57=\"\",\"\",\"(\"&SUM(Št.400mCTIF!$I$76:$T$76)&\")\")","v":""},{"$f":"IF($C$57=\"\",\"\",Št.400mCTIF!$V$76)","v":""},{"$f":"IF($C$57=\"\",\"\",'PÚ CTIF'!$R$76)","v":""},{"$f":"IF($C$57=\"\",\"\",\"(\"&SUM('PÚ CTIF'!$I$76:$Q$76)&\")\")","v":""},{"$f":"IF($C$57=\"\",\"\",'PÚ CTIF'!$S$76)","v":""},{"$f":"IF(C57=\"\",\"\",Kronika!$P$13)","v":""},null,{"$f":"IF(A57=\"x\",300,IF(C57=\"\",\"\",SUM(D57,F57,H57,K57,N57,Q57,R57)))","v":""},{"$f":"IF($A57=\"x\",\"x\",IF($C57=\"\",\"\",MATCH($C57,Výsledky!$N$7:$N$106,0)))","v":""},{"$f":"IF($A57=\"x\",\"x\",IF($C57=\"\",\"\",MATCH($C57,Výsledky!$N$7:$N$106,0)))","v":""}]
[null,null,null,null,{"$f":"IF($C$57=\"\",\"\",PÚ!$H$46)","v":""},null,{"$f":"IF($C$57=\"\",\"\",Št.4x60m!$H$46)","v":""},null,{"$f":"IF($C$57=\"\",\"\",Št.dvojic!$U$77)","v":""},{"$f":"IF($C$57=\"\",\"\",\"(\"&SUM(Št.dvojic!$I$77:$T$77)&\")\")","v":""},null,{"$f":"IF($C$57=\"\",\"\",Št.400mCTIF!$U$77)","v":""},{"$f":"IF($C$57=\"\",\"\",\"(\"&SUM(Št.400mCTIF!$I$77:$T$77)&\")\")","v":""},null,{"$f":"IF($C$57=\"\",\"\",'PÚ CTIF'!$R$77)","v":""},{"$f":"IF($C$57=\"\",\"\",\"(\"&SUM('PÚ CTIF'!$I$77:$Q$77)&\")\")","v":""}]
[{"$f":"IF('Start - jaro'!E28=\"\",\"\",\"x\")","v":""},23,{"$f":"IF('Start - jaro'!C28=\"\",\"\",'Start - jaro'!C28)","v":""},{"$f":"IF($A59=\"x\",\"x\",IF($C59=\"\",\"\",IF(ISNA(MATCH($C59,ZPVOblN,0)),COUNTIF(ZPVOblT,\".\")+1,LOOKUP($C59,ZPVOblN,ZPVOblD))))","v":""},{"$f":"IF($C$59=\"\",\"\",PÚ!$H$47)","v":""},{"$f":"IF($C$59=\"\",\"\",PÚ!$I$47)","v":""},{"$f":"IF($C$59=\"\",\"\",Št.4x60m!$H$47)","v":""},{"$f":"IF($C$59=\"\",\"\",Št.4x60m!$I$47)","v":""},{"$f":"IF($C$59=\"\",\"\",Št.dvojic!$U$78)","v":""},{"$f":"IF($C$59=\"\",\"\",\"(\"&SUM(Št.dvojic!$I$78:$T$78)&\")\")","v":""},{"$f":"IF($C$59=\"\",\"\",Št.dvojic!$V$78)","v":""},{"$f":"IF($C$59=\"\",\"\",Št.400mCTIF!$U$78)","v":""},{"$f":"IF($C$59=\"\",\"\",\"(\"&SUM(Št.400mCTIF!$I$78:$T$78)&\")\")","v":""},{"$f":"IF($C$59=\"\",\"\",Št.400mCTIF!$V$78)","v":""},{"$f":"IF($C$59=\"\",\"\",'PÚ CTIF'!$R$78)","v":""},{"$f":"IF($C$59=\"\",\"\",\"(\"&SUM('PÚ CTIF'!$I$78:$Q$78)&\")\")","v":""},{"$f":"IF($C$59=\"\",\"\",'PÚ CTIF'!$S$78)","v":""},{"$f":"IF(C59=\"\",\"\",Kronika!$P$14)","v":""},null,{"$f":"IF(A59=\"x\",300,IF(C59=\"\",\"\",SUM(D59,F59,H59,K59,N59,Q59,R59)))","v":""},{"$f":"IF($A59=\"x\",\"x\",IF($C59=\"\",\"\",MATCH($C59,Výsledky!$N$7:$N$106,0)))","v":""},{"$f":"IF($A59=\"x\",\"x\",IF($C59=\"\",\"\",MATCH($C59,Výsledky!$N$7:$N$106,0)))","v":""}]
[null,null,null,null,{"$f":"IF($C$59=\"\",\"\",PÚ!$H$48)","v":""},null,{"$f":"IF($C$59=\"\",\"\",Št.4x60m!$H$48)","v":""},null,{"$f":"IF($C$59=\"\",\"\",Št.dvojic!$U$79)","v":""},{"$f":"IF($C$59=\"\",\"\",\"(\"&SUM(Št.dvojic!$I$79:$T$79)&\")\")","v":""},null,{"$f":"IF($C$59=\"\",\"\",Št.400mCTIF!$U$79)","v":""},{"$f":"IF($C$59=\"\",\"\",\"(\"&SUM(Št.400mCTIF!$I$79:$T$79)&\")\")","v":""},null,{"$f":"IF($C$59=\"\",\"\",'PÚ CTIF'!$R$79)","v":""},{"$f":"IF($C$59=\"\",\"\",\"(\"&SUM('PÚ CTIF'!$I$79:$Q$79)&\")\")","v":""}]
[{"$f":"IF('Start - jaro'!E29=\"\",\"\",\"x\")","v":""},24,{"$f":"IF('Start - jaro'!C29=\"\",\"\",'Start - jaro'!C29)","v":""},{"$f":"IF($A61=\"x\",\"x\",IF($C61=\"\",\"\",IF(ISNA(MATCH($C61,ZPVOblN,0)),COUNTIF(ZPVOblT,\".\")+1,LOOKUP($C61,ZPVOblN,ZPVOblD))))","v":""},{"$f":"IF($C$61=\"\",\"\",PÚ!$H$49)","v":""},{"$f":"IF($C$61=\"\",\"\",PÚ!$I$49)","v":""},{"$f":"IF($C$61=\"\",\"\",Št.4x60m!$H$49)","v":""},{"$f":"IF($C$61=\"\",\"\",Št.4x60m!$I$49)","v":""},{"$f":"IF($C$61=\"\",\"\",Št.dvojic!$U$80)","v":""},{"$f":"IF($C$61=\"\",\"\",\"(\"&SUM(Št.dvojic!$I$80:$T$80)&\")\")","v":""},{"$f":"IF($C$61=\"\",\"\",Št.dvojic!$V$80)","v":""},{"$f":"IF($C$61=\"\",\"\",Št.400mCTIF!$U$80)","v":""},{"$f":"IF($C$61=\"\",\"\",\"(\"&SUM(Št.400mCTIF!$I$80:$T$80)&\")\")","v":""},{"$f":"IF($C$61=\"\",\"\",Št.400mCTIF!$V$80)","v":""},{"$f":"IF($C$61=\"\",\"\",'PÚ CTIF'!$R$80)","v":""},{"$f":"IF($C$61=\"\",\"\",\"(\"&SUM('PÚ CTIF'!$I$80:$Q$80)&\")\")","v":""},{"$f":"IF($C$61=\"\",\"\",'PÚ CTIF'!$S$80)","v":""},{"$f":"IF(C61=\"\",\"\",Kronika!$P$15)","v":""},null,{"$f":"IF(A61=\"x\",300,IF(C61=\"\",\"\",SUM(D61,F61,H61,K61,N61,Q61,R61)))","v":""},{"$f":"IF($A61=\"x\",\"x\",IF($C61=\"\",\"\",MATCH($C61,Výsledky!$N$7:$N$106,0)))","v":""},{"$f":"IF($A61=\"x\",\"x\",IF($C61=\"\",\"\",MATCH($C61,Výsledky!$N$7:$N$106,0)))","v":""}]
[null,null,null,null,{"$f":"IF($C$61=\"\",\"\",PÚ!$H$50)","v":""},null,{"$f":"IF($C$61=\"\",\"\",Št.4x60m!$H$50)","v":""},null,{"$f":"IF($C$61=\"\",\"\",Št.dvojic!$U$81)","v":""},{"$f":"IF($C$61=\"\",\"\",\"(\"&SUM(Št.dvojic!$I$81:$T$81)&\")\")","v":""},null,{"$f":"IF($C$61=\"\",\"\",Št.400mCTIF!$U$81)","v":""},{"$f":"IF($C$61=\"\",\"\",\"(\"&SUM(Št.400mCTIF!$I$81:$T$81)&\")\")","v":""},null,{"$f":"IF($C$61=\"\",\"\",'PÚ CTIF'!$R$81)","v":""},{"$f":"IF($C$61=\"\",\"\",\"(\"&SUM('PÚ CTIF'!$I$81:$Q$81)&\")\")","v":""}]
[{"$f":"IF('Start - jaro'!E30=\"\",\"\",\"x\")","v":""},25,{"$f":"IF('Start - jaro'!C30=\"\",\"\",'Start - jaro'!C30)","v":""},{"$f":"IF($A63=\"x\",\"x\",IF($C63=\"\",\"\",IF(ISNA(MATCH($C63,ZPVOblN,0)),COUNTIF(ZPVOblT,\".\")+1,LOOKUP($C63,ZPVOblN,ZPVOblD))))","v":""},{"$f":"IF($C$63=\"\",\"\",PÚ!$H$51)","v":""},{"$f":"IF($C$63=\"\",\"\",PÚ!$I$51)","v":""},{"$f":"IF($C$63=\"\",\"\",Št.4x60m!$H$51)","v":""},{"$f":"IF($C$63=\"\",\"\",Št.4x60m!$I$51)","v":""},{"$f":"IF($C$63=\"\",\"\",Št.dvojic!$U$82)","v":""},{"$f":"IF($C$63=\"\",\"\",\"(\"&SUM(Št.dvojic!$I$82:$T$82)&\")\")","v":""},{"$f":"IF($C$63=\"\",\"\",Št.dvojic!$V$82)","v":""},{"$f":"IF($C$63=\"\",\"\",Št.400mCTIF!$U$82)","v":""},{"$f":"IF($C$63=\"\",\"\",\"(\"&SUM(Št.400mCTIF!$I$82:$T$82)&\")\")","v":""},{"$f":"IF($C$63=\"\",\"\",Št.400mCTIF!$V$82)","v":""},{"$f":"IF($C$63=\"\",\"\",'PÚ CTIF'!$R$82)","v":""},{"$f":"IF($C$63=\"\",\"\",\"(\"&SUM('PÚ CTIF'!$I$82:$Q$82)&\")\")","v":""},{"$f":"IF($C$63=\"\",\"\",'PÚ CTIF'!$S$82)","v":""},{"$f":"IF(C63=\"\",\"\",Kronika!$P$16)","v":""},null,{"$f":"IF(A63=\"x\",300,IF(C63=\"\",\"\",SUM(D63,F63,H63,K63,N63,Q63,R63)))","v":""},{"$f":"IF($A63=\"x\",\"x\",IF($C63=\"\",\"\",MATCH($C63,Výsledky!$N$7:$N$106,0)))","v":""},{"$f":"IF($A63=\"x\",\"x\",IF($C63=\"\",\"\",MATCH($C63,Výsledky!$N$7:$N$106,0)))","v":""}]
[null,null,null,null,{"$f":"IF($C$63=\"\",\"\",PÚ!$H$52)","v":""},null,{"$f":"IF($C$63=\"\",\"\",Št.4x60m!$H$52)","v":""},null,{"$f":"IF($C$63=\"\",\"\",Št.dvojic!$U$83)","v":""},{"$f":"IF($C$63=\"\",\"\",\"(\"&SUM(Št.dvojic!$I$83:$T$83)&\")\")","v":""},null,{"$f":"IF($C$63=\"\",\"\",Št.400mCTIF!$U$83)","v":""},{"$f":"IF($C$63=\"\",\"\",\"(\"&SUM(Št.400mCTIF!$I$83:$T$83)&\")\")","v":""},null,{"$f":"IF($C$63=\"\",\"\",'PÚ CTIF'!$R$83)","v":""},{"$f":"IF($C$63=\"\",\"\",\"(\"&SUM('PÚ CTIF'!$I$83:$Q$83)&\")\")","v":""}]
[{"$f":"IF('Start - jaro'!I6=\"\",\"\",\"x\")","v":""},26,{"$f":"IF('Start - jaro'!G6=\"\",\"\",'Start - jaro'!G6)","v":""},{"$f":"IF($A65=\"x\",\"x\",IF($C65=\"\",\"\",IF(ISNA(MATCH($C65,ZPVOblN,0)),COUNTIF(ZPVOblT,\".\")+1,LOOKUP($C65,ZPVOblN,ZPVOblD))))","v":""},{"$f":"IF($C$65=\"\",\"\",PÚ!$H$53)","v":""},{"$f":"IF($C$65=\"\",\"\",PÚ!$I$53)","v":""},{"$f":"IF($C$65=\"\",\"\",Št.4x60m!$H$53)","v":""},{"$f":"IF($C$65=\"\",\"\",Št.4x60m!$I$53)","v":""},{"$f":"IF($C$65=\"\",\"\",Št.dvojic!$U$84)","v":""},{"$f":"IF($C$65=\"\",\"\",\"(\"&SUM(Št.dvojic!$I$84:$T$84)&\")\")","v":""},{"$f":"IF($C$65=\"\",\"\",Št.dvojic!$V$84)","v":""},{"$f":"IF($C$65=\"\",\"\",Št.400mCTIF!$U$84)","v":""},{"$f":"IF($C$65=\"\",\"\",\"(\"&SUM(Št.400mCTIF!$I$84:$T$84)&\")\")","v":""},{"$f":"IF($C$65=\"\",\"\",Št.400mCTIF!$V$84)","v":""},{"$f":"IF($C$65=\"\",\"\",'PÚ CTIF'!$R$84)","v":""},{"$f":"IF($C$65=\"\",\"\",\"(\"&SUM('PÚ CTIF'!$I$84:$Q$84)&\")\")","v":""},{"$f":"IF($C$65=\"\",\"\",'PÚ CTIF'!$S$84)","v":""},{"$f":"IF(C65=\"\",\"\",Kronika!$P$17)","v":""},null,{"$f":"IF(A65=\"x\",300,IF(C65=\"\",\"\",SUM(D65,F65,H65,K65,N65,Q65,R65)))","v":""},{"$f":"IF($A65=\"x\",\"x\",IF($C65=\"\",\"\",MATCH($C65,Výsledky!$N$7:$N$106,0)))","v":""},{"$f":"IF($A65=\"x\",\"x\",IF($C65=\"\",\"\",MATCH($C65,Výsledky!$N$7:$N$106,0)))","v":""}]
[null,null,null,null,{"$f":"IF($C$65=\"\",\"\",PÚ!$H$54)","v":""},null,{"$f":"IF($C$65=\"\",\"\",Št.4x60m!$H$54)","v":""},null,{"$f":"IF($C$65=\"\",\"\",Št.dvojic!$U$85)","v":""},{"$f":"IF($C$65=\"\",\"\",\"(\"&SUM(Št.dvojic!$I$85:$T$85)&\")\")","v":""},null,{"$f":"IF($C$65=\"\",\"\",Št.400mCTIF!$U$85)","v":""},{"$f":"IF($C$65=\"\",\"\",\"(\"&SUM(Št.400mCTIF!$I$85:$T$85)&\")\")","v":""},null,{"$f":"IF($C$65=\"\",\"\",'PÚ CTIF'!$R$85)","v":""},{"$f":"IF($C$65=\"\",\"\",\"(\"&SUM('PÚ CTIF'!$I$85:$Q$85)&\")\")","v":""}]
[{"$f":"IF('Start - jaro'!I7=\"\",\"\",\"x\")","v":""},27,{"$f":"IF('Start - jaro'!G7=\"\",\"\",'Start - jaro'!G7)","v":""},{"$f":"IF($A67=\"x\",\"x\",IF($C67=\"\",\"\",IF(ISNA(MATCH($C67,ZPVOblN,0)),COUNTIF(ZPVOblT,\".\")+1,LOOKUP($C67,ZPVOblN,ZPVOblD))))","v":""},{"$f":"IF($C$67=\"\",\"\",PÚ!$H$55)","v":""},{"$f":"IF($C$67=\"\",\"\",PÚ!$I$55)","v":""},{"$f":"IF($C$67=\"\",\"\",Št.4x60m!$H$55)","v":""},{"$f":"IF($C$67=\"\",\"\",Št.4x60m!$I$55)","v":""},{"$f":"IF($C$67=\"\",\"\",Št.dvojic!$U$86)","v":""},{"$f":"IF($C$67=\"\",\"\",\"(\"&SUM(Št.dvojic!$I$86:$T$86)&\")\")","v":""},{"$f":"IF($C$67=\"\",\"\",Št.dvojic!$V$86)","v":""},{"$f":"IF($C$67=\"\",\"\",Št.400mCTIF!$U$86)","v":""},{"$f":"IF($C$67=\"\",\"\",\"(\"&SUM(Št.400mCTIF!$I$86:$T$86)&\")\")","v":""},{"$f":"IF($C$67=\"\",\"\",Št.400mCTIF!$V$86)","v":""},{"$f":"IF($C$67=\"\",\"\",'PÚ CTIF'!$R$86)","v":""},{"$f":"IF($C$67=\"\",\"\",\"(\"&SUM('PÚ CTIF'!$I$86:$Q$86)&\")\")","v":""},{"$f":"IF($C$67=\"\",\"\",'PÚ CTIF'!$S$86)","v":""},{"$f":"IF(C67=\"\",\"\",Kronika!$P$18)","v":""},null,{"$f":"IF(A67=\"x\",300,IF(C67=\"\",\"\",SUM(D67,F67,H67,K67,N67,Q67,R67)))","v":""},{"$f":"IF($A67=\"x\",\"x\",IF($C67=\"\",\"\",MATCH($C67,Výsledky!$N$7:$N$106,0)))","v":""},{"$f":"IF($A67=\"x\",\"x\",IF($C67=\"\",\"\",MATCH($C67,Výsledky!$N$7:$N$106,0)))","v":""}]
[null,null,null,null,{"$f":"IF($C$67=\"\",\"\",PÚ!$H$56)","v":""},null,{"$f":"IF($C$67=\"\",\"\",Št.4x60m!$H$56)","v":""},null,{"$f":"IF($C$67=\"\",\"\",Št.dvojic!$U$87)","v":""},{"$f":"IF($C$67=\"\",\"\",\"(\"&SUM(Št.dvojic!$I$87:$T$87)&\")\")","v":""},null,{"$f":"IF($C$67=\"\",\"\",Št.400mCTIF!$U$87)","v":""},{"$f":"IF($C$67=\"\",\"\",\"(\"&SUM(Št.400mCTIF!$I$87:$T$87)&\")\")","v":""},null,{"$f":"IF($C$67=\"\",\"\",'PÚ CTIF'!$R$87)","v":""},{"$f":"IF($C$67=\"\",\"\",\"(\"&SUM('PÚ CTIF'!$I$87:$Q$87)&\")\")","v":""}]
[{"$f":"IF('Start - jaro'!I8=\"\",\"\",\"x\")","v":""},28,{"$f":"IF('Start - jaro'!G8=\"\",\"\",'Start - jaro'!G8)","v":""},{"$f":"IF($A69=\"x\",\"x\",IF($C69=\"\",\"\",IF(ISNA(MATCH($C69,ZPVOblN,0)),COUNTIF(ZPVOblT,\".\")+1,LOOKUP($C69,ZPVOblN,ZPVOblD))))","v":""},{"$f":"IF($C$69=\"\",\"\",PÚ!$H$57)","v":""},{"$f":"IF($C$69=\"\",\"\",PÚ!$I$57)","v":""},{"$f":"IF($C$69=\"\",\"\",Št.4x60m!$H$57)","v":""},{"$f":"IF($C$69=\"\",\"\",Št.4x60m!$I$57)","v":""},{"$f":"IF($C$69=\"\",\"\",Št.dvojic!$U$88)","v":""},{"$f":"IF($C$69=\"\",\"\",\"(\"&SUM(Št.dvojic!$I$88:$T$88)&\")\")","v":""},{"$f":"IF($C$69=\"\",\"\",Št.dvojic!$V$88)","v":""},{"$f":"IF($C$69=\"\",\"\",Št.400mCTIF!$U$88)","v":""},{"$f":"IF($C$69=\"\",\"\",\"(\"&SUM(Št.400mCTIF!$I$88:$T$88)&\")\")","v":""},{"$f":"IF($C$69=\"\",\"\",Št.400mCTIF!$V$88)","v":""},{"$f":"IF($C$69=\"\",\"\",'PÚ CTIF'!$R$88)","v":""},{"$f":"IF($C$69=\"\",\"\",\"(\"&SUM('PÚ CTIF'!$I$88:$Q$88)&\")\")","v":""},{"$f":"IF($C$69=\"\",\"\",'PÚ CTIF'!$S$88)","v":""},{"$f":"IF(C69=\"\",\"\",Kronika!$P$19)","v":""},null,{"$f":"IF(A69=\"x\",300,IF(C69=\"\",\"\",SUM(D69,F69,H69,K69,N69,Q69,R69)))","v":""},{"$f":"IF($A69=\"x\",\"x\",IF($C69=\"\",\"\",MATCH($C69,Výsledky!$N$7:$N$106,0)))","v":""},{"$f":"IF($A69=\"x\",\"x\",IF($C69=\"\",\"\",MATCH($C69,Výsledky!$N$7:$N$106,0)))","v":""}]
[null,null,null,null,{"$f":"IF($C$69=\"\",\"\",PÚ!$H$58)","v":""},null,{"$f":"IF($C$69=\"\",\"\",Št.4x60m!$H$58)","v":""},null,{"$f":"IF($C$69=\"\",\"\",Št.dvojic!$U$89)","v":""},{"$f":"IF($C$69=\"\",\"\",\"(\"&SUM(Št.dvojic!$I$89:$T$89)&\")\")","v":""},null,{"$f":"IF($C$69=\"\",\"\",Št.400mCTIF!$U$89)","v":""},{"$f":"IF($C$69=\"\",\"\",\"(\"&SUM(Št.400mCTIF!$I$89:$T$89)&\")\")","v":""},null,{"$f":"IF($C$69=\"\",\"\",'PÚ CTIF'!$R$89)","v":""},{"$f":"IF($C$69=\"\",\"\",\"(\"&SUM('PÚ CTIF'!$I$89:$Q$89)&\")\")","v":""}]
[null,{"$f":"B36","v":"Celkové výsledky - TISK"}]
[]
[null,null,null,{"$f":"D38","v":"Krajská soutěž HRY PLAMEN"},null,null,null,null,null,null,null,{"$f":"L38","v":"2020/2021, České Budějovice"}]
[null,null,{"$f":"'Start - jaro'!$N$2","v":"STARŠÍ"}]
[null," startovní číslo"," SDH"," ZPV"," PÚ",null," Štafeta 4x60m",null," Štafeta dvojic",null,null," 400 m štafeta CTIF",null,null," PÚ - CTIF",null,null,"Celoroční činnost",null," Celkový součet",null,"Pořadí"]
[null,null,null,"P.","1.pokus","P.","1.pokus","P.","1.pokus","tr.body","P.","1.pokus","tr.body","P.","1.pokus","tr.body","P.","P."]
[null,null,null,null,"2.pokus",null,"2.pokus",null,"2.pokus","tr.body",null,"2.pokus","tr.body",null,"2.pokus","tr.body"]
[{"$f":"IF('Start - jaro'!I9=\"\",\"\",\"x\")","v":""},29,{"$f":"IF('Start - jaro'!G9=\"\",\"\",'Start - jaro'!G9)","v":""},{"$f":"IF($A78=\"x\",\"x\",IF($C78=\"\",\"\",IF(ISNA(MATCH($C78,ZPVOblN,0)),COUNTIF(ZPVOblT,\".\")+1,LOOKUP($C78,ZPVOblN,ZPVOblD))))","v":""},{"$f":"IF($C$78=\"\",\"\",PÚ!$H$59)","v":""},{"$f":"IF($C$78=\"\",\"\",PÚ!$I$59)","v":""},{"$f":"IF($C$78=\"\",\"\",Št.4x60m!$H$59)","v":""},{"$f":"IF($C$78=\"\",\"\",Št.4x60m!$I$59)","v":""},{"$f":"IF($C$78=\"\",\"\",Št.dvojic!$U$90)","v":""},{"$f":"IF($C$78=\"\",\"\",\"(\"&SUM(Št.dvojic!$I$90:$T$90)&\")\")","v":""},{"$f":"IF($C$78=\"\",\"\",Št.dvojic!$V$90)","v":""},{"$f":"IF($C$78=\"\",\"\",Št.400mCTIF!$U$90)","v":""},{"$f":"IF($C$78=\"\",\"\",\"(\"&SUM(Št.400mCTIF!$I$90:$T$90)&\")\")","v":""},{"$f":"IF($C$78=\"\",\"\",Št.400mCTIF!$V$90)","v":""},{"$f":"IF($C$78=\"\",\"\",'PÚ CTIF'!$R$90)","v":""},{"$f":"IF($C$78=\"\",\"\",\"(\"&SUM('PÚ CTIF'!$I$90:$Q$90)&\")\")","v":""},{"$f":"IF($C$78=\"\",\"\",'PÚ CTIF'!$S$90)","v":""},{"$f":"IF(C78=\"\",\"\",Kronika!$P$20)","v":""},null,{"$f":"IF(A78=\"x\",300,IF(C78=\"\",\"\",SUM(D78,F78,H78,K78,N78,Q78,R78)))","v":""},null,{"$f":"IF($A78=\"x\",\"x\",IF($C78=\"\",\"\",MATCH($C78,Výsledky!$N$7:$N$106,0)))","v":""}]
[null,null,null,null,{"$f":"IF($C$78=\"\",\"\",PÚ!$H$60)","v":""},null,{"$f":"IF($C$78=\"\",\"\",Št.4x60m!$H$60)","v":""},null,{"$f":"IF($C$78=\"\",\"\",Št.dvojic!$U$91)","v":""},{"$f":"IF($C$78=\"\",\"\",\"(\"&SUM(Št.dvojic!$I$91:$T$91)&\")\")","v":""},null,{"$f":"IF($C$78=\"\",\"\",Št.400mCTIF!$U$91)","v":""},{"$f":"IF($C$78=\"\",\"\",\"(\"&SUM(Št.400mCTIF!$I$91:$T$91)&\")\")","v":""},null,{"$f":"IF($C$78=\"\",\"\",'PÚ CTIF'!$R$91)","v":""},{"$f":"IF($C$78=\"\",\"\",\"(\"&SUM('PÚ CTIF'!$I$91:$Q$91)&\")\")","v":""}]
[{"$f":"IF('Start - jaro'!I10=\"\",\"\",\"x\")","v":""},30,{"$f":"IF('Start - jaro'!G10=\"\",\"\",'Start - jaro'!G10)","v":""},{"$f":"IF($A80=\"x\",\"x\",IF($C80=\"\",\"\",IF(ISNA(MATCH($C80,ZPVOblN,0)),COUNTIF(ZPVOblT,\".\")+1,LOOKUP($C80,ZPVOblN,ZPVOblD))))","v":""},{"$f":"IF($C$80=\"\",\"\",PÚ!$H$61)","v":""},{"$f":"IF($C$80=\"\",\"\",PÚ!$I$61)","v":""},{"$f":"IF($C$80=\"\",\"\",Št.4x60m!$H$61)","v":""},{"$f":"IF($C$80=\"\",\"\",Št.4x60m!$I$61)","v":""},{"$f":"IF($C$80=\"\",\"\",Št.dvojic!$U$92)","v":""},{"$f":"IF($C$80=\"\",\"\",\"(\"&SUM(Št.dvojic!$I$92:$T$92)&\")\")","v":""},{"$f":"IF($C$80=\"\",\"\",Št.dvojic!$V$92)","v":""},{"$f":"IF($C$80=\"\",\"\",Št.400mCTIF!$U$92)","v":""},{"$f":"IF($C$80=\"\",\"\",\"(\"&SUM(Št.400mCTIF!$I$92:$T$92)&\")\")","v":""},{"$f":"IF($C$80=\"\",\"\",Št.400mCTIF!$V$92)","v":""},{"$f":"IF($C$80=\"\",\"\",'PÚ CTIF'!$R$92)","v":""},{"$f":"IF($C$80=\"\",\"\",\"(\"&SUM('PÚ CTIF'!$I$92:$Q$92)&\")\")","v":""},{"$f":"IF($C$80=\"\",\"\",'PÚ CTIF'!$S$92)","v":""},{"$f":"IF(C80=\"\",\"\",Kronika!$P$21)","v":""},null,{"$f":"IF(A80=\"x\",300,IF(C80=\"\",\"\",SUM(D80,F80,H80,K80,N80,Q80,R80)))","v":""},null,{"$f":"IF($A80=\"x\",\"x\",IF($C80=\"\",\"\",MATCH($C80,Výsledky!$N$7:$N$106,0)))","v":""}]
[null,null,null,null,{"$f":"IF($C$80=\"\",\"\",PÚ!$H$62)","v":""},null,{"$f":"IF($C$80=\"\",\"\",Št.4x60m!$H$62)","v":""},null,{"$f":"IF($C$80=\"\",\"\",Št.dvojic!$U$93)","v":""},{"$f":"IF($C$80=\"\",\"\",\"(\"&SUM(Št.dvojic!$I$93:$T$93)&\")\")","v":""},null,{"$f":"IF($C$80=\"\",\"\",Št.400mCTIF!$U$93)","v":""},{"$f":"IF($C$80=\"\",\"\",\"(\"&SUM(Št.400mCTIF!$I$93:$T$93)&\")\")","v":""},null,{"$f":"IF($C$80=\"\",\"\",'PÚ CTIF'!$R$93)","v":""},{"$f":"IF($C$80=\"\",\"\",\"(\"&SUM('PÚ CTIF'!$I$93:$Q$93)&\")\")","v":""}]
[{"$f":"IF('Start - jaro'!I11=\"\",\"\",\"x\")","v":""},31,{"$f":"IF('Start - jaro'!G11=\"\",\"\",'Start - jaro'!G11)","v":""},{"$f":"IF($A82=\"x\",\"x\",IF($C82=\"\",\"\",IF(ISNA(MATCH($C82,ZPVOblN,0)),COUNTIF(ZPVOblT,\".\")+1,LOOKUP($C82,ZPVOblN,ZPVOblD))))","v":""},{"$f":"IF($C$82=\"\",\"\",PÚ!$S$43)","v":""},{"$f":"IF($C$82=\"\",\"\",PÚ!$T43)","v":""},{"$f":"IF($C$82=\"\",\"\",Št.4x60m!$S$43)","v":""},{"$f":"IF($C$82=\"\",\"\",Št.4x60m!$T43)","v":""},{"$f":"IF($C$82=\"\",\"\",Št.dvojic!$U$105)","v":""},{"$f":"IF($C$82=\"\",\"\",\"(\"&SUM(Št.dvojic!$I$105:$T$105)&\")\")","v":""},{"$f":"IF($C$82=\"\",\"\",Št.dvojic!$V$105)","v":""},{"$f":"IF($C$82=\"\",\"\",Št.400mCTIF!$U$105)","v":""},{"$f":"IF($C$82=\"\",\"\",\"(\"&SUM(Št.400mCTIF!$I$105:$T$105)&\")\")","v":""},{"$f":"IF($C$82=\"\",\"\",Št.400mCTIF!$V$105)","v":""},{"$f":"IF($C$82=\"\",\"\",'PÚ CTIF'!$R$105)","v":""},{"$f":"IF($C$82=\"\",\"\",\"(\"&SUM('PÚ CTIF'!$I$105:$Q$105)&\")\")","v":""},{"$f":"IF($C$82=\"\",\"\",'PÚ CTIF'!$S$105)","v":""},{"$f":"IF(C82=\"\",\"\",Kronika!$P$22)","v":""},null,{"$f":"IF(A82=\"x\",300,IF(C82=\"\",\"\",SUM(D82,F82,H82,K82,N82,Q82,R82)))","v":""},null,{"$f":"IF($A82=\"x\",\"x\",IF($C82=\"\",\"\",MATCH($C82,Výsledky!$N$7:$N$106,0)))","v":""}]
[null,null,null,null,{"$f":"IF($C$82=\"\",\"\",PÚ!$S$44)","v":""},null,{"$f":"IF($C$82=\"\",\"\",Št.4x60m!$S$44)","v":""},null,{"$f":"IF($C$82=\"\",\"\",Št.dvojic!$U$106)","v":""},{"$f":"IF($C$82=\"\",\"\",\"(\"&SUM(Št.dvojic!$I$106:$T$106)&\")\")","v":""},null,{"$f":"IF($C$82=\"\",\"\",Št.400mCTIF!$U$106)","v":""},{"$f":"IF($C$82=\"\",\"\",\"(\"&SUM(Št.400mCTIF!$I$106:$T$106)&\")\")","v":""},null,{"$f":"IF($C$82=\"\",\"\",'PÚ CTIF'!$R$106)","v":""},{"$f":"IF($C$82=\"\",\"\",\"(\"&SUM('PÚ CTIF'!$I$106:$Q$106)&\")\")","v":""}]
[{"$f":"IF('Start - jaro'!I12=\"\",\"\",\"x\")","v":""},32,{"$f":"IF('Start - jaro'!G12=\"\",\"\",'Start - jaro'!G12)","v":""},{"$f":"IF($A84=\"x\",\"x\",IF($C84=\"\",\"\",IF(ISNA(MATCH($C84,ZPVOblN,0)),COUNTIF(ZPVOblT,\".\")+1,LOOKUP($C84,ZPVOblN,ZPVOblD))))","v":""},{"$f":"IF($C$84=\"\",\"\",PÚ!$S$45)","v":""},{"$f":"IF($C$84=\"\",\"\",PÚ!$T45)","v":""},{"$f":"IF($C$84=\"\",\"\",Št.4x60m!$S$45)","v":""},{"$f":"IF($C$84=\"\",\"\",Št.4x60m!$T45)","v":""},{"$f":"IF($C$84=\"\",\"\",Št.dvojic!$U$107)","v":""},{"$f":"IF($C$84=\"\",\"\",\"(\"&SUM(Št.dvojic!$I$107:$T$107)&\")\")","v":""},{"$f":"IF($C$84=\"\",\"\",Št.dvojic!$V$107)","v":""},{"$f":"IF($C$84=\"\",\"\",Št.400mCTIF!$U$107)","v":""},{"$f":"IF($C$84=\"\",\"\",\"(\"&SUM(Št.400mCTIF!$I$107:$T$107)&\")\")","v":""},{"$f":"IF($C$84=\"\",\"\",Št.400mCTIF!$V$107)","v":""},{"$f":"IF($C$84=\"\",\"\",'PÚ CTIF'!$R$107)","v":""},{"$f":"IF($C$84=\"\",\"\",\"(\"&SUM('PÚ CTIF'!$I$107:$Q$107)&\")\")","v":""},{"$f":"IF($C$84=\"\",\"\",'PÚ CTIF'!$S$107)","v":""},{"$f":"IF(C84=\"\",\"\",Kronika!$P$23)","v":""},null,{"$f":"IF(A84=\"x\",300,IF(C84=\"\",\"\",SUM(D84,F84,H84,K84,N84,Q84,R84)))","v":""},null,{"$f":"IF($A84=\"x\",\"x\",IF($C84=\"\",\"\",MATCH($C84,Výsledky!$N$7:$N$106,0)))","v":""}]
[null,null,null,null,{"$f":"IF($C$84=\"\",\"\",PÚ!$S$46)","v":""},null,{"$f":"IF($C$84=\"\",\"\",Št.4x60m!$S$46)","v":""},null,{"$f":"IF($C$84=\"\",\"\",Št.dvojic!$U$108)","v":""},{"$f":"IF($C$84=\"\",\"\",\"(\"&SUM(Št.dvojic!$I$108:$T$108)&\")\")","v":""},null,{"$f":"IF($C$84=\"\",\"\",Št.400mCTIF!$U$108)","v":""},{"$f":"IF($C$84=\"\",\"\",\"(\"&SUM(Št.400mCTIF!$I$108:$T$108)&\")\")","v":""},null,{"$f":"IF($C$84=\"\",\"\",'PÚ CTIF'!$R$108)","v":""},{"$f":"IF($C$84=\"\",\"\",\"(\"&SUM('PÚ CTIF'!$I$108:$Q$108)&\")\")","v":""}]
[{"$f":"IF('Start - jaro'!I13=\"\",\"\",\"x\")","v":""},33,{"$f":"IF('Start - jaro'!G13=\"\",\"\",'Start - jaro'!G13)","v":""},{"$f":"IF($A86=\"x\",\"x\",IF($C86=\"\",\"\",IF(ISNA(MATCH($C86,ZPVOblN,0)),COUNTIF(ZPVOblT,\".\")+1,LOOKUP($C86,ZPVOblN,ZPVOblD))))","v":""},{"$f":"IF($C$86=\"\",\"\",PÚ!$S$47)","v":""},{"$f":"IF($C$86=\"\",\"\",PÚ!$T47)","v":""},{"$f":"IF($C$86=\"\",\"\",Št.4x60m!$S$47)","v":""},{"$f":"IF($C$86=\"\",\"\",Št.4x60m!$T47)","v":""},{"$f":"IF($C$86=\"\",\"\",Št.dvojic!$U$109)","v":""},{"$f":"IF($C$86=\"\",\"\",\"(\"&SUM(Št.dvojic!$I$109:$T$109)&\")\")","v":""},{"$f":"IF($C$86=\"\",\"\",Št.dvojic!$V$109)","v":""},{"$f":"IF($C$86=\"\",\"\",Št.400mCTIF!$U$109)","v":""},{"$f":"IF($C$86=\"\",\"\",\"(\"&SUM(Št.400mCTIF!$I$109:$T$109)&\")\")","v":""},{"$f":"IF($C$86=\"\",\"\",Št.400mCTIF!$V$109)","v":""},{"$f":"IF($C$86=\"\",\"\",'PÚ CTIF'!$R$109)","v":""},{"$f":"IF($C$86=\"\",\"\",\"(\"&SUM('PÚ CTIF'!$I$109:$Q$109)&\")\")","v":""},{"$f":"IF($C$86=\"\",\"\",'PÚ CTIF'!$S$109)","v":""},{"$f":"IF(C86=\"\",\"\",Kronika!$P$24)","v":""},null,{"$f":"IF(A86=\"x\",300,IF(C86=\"\",\"\",SUM(D86,F86,H86,K86,N86,Q86,R86)))","v":""},null,{"$f":"IF($A86=\"x\",\"x\",IF($C86=\"\",\"\",MATCH($C86,Výsledky!$N$7:$N$106,0)))","v":""}]
[null,null,null,null,{"$f":"IF($C$86=\"\",\"\",PÚ!$S$48)","v":""},null,{"$f":"IF($C$86=\"\",\"\",Št.4x60m!$S$48)","v":""},null,{"$f":"IF($C$86=\"\",\"\",Št.dvojic!$U$110)","v":""},{"$f":"IF($C$86=\"\",\"\",\"(\"&SUM(Št.dvojic!$I$110:$T$110)&\")\")","v":""},null,{"$f":"IF($C$86=\"\",\"\",Št.400mCTIF!$U$110)","v":""},{"$f":"IF($C$86=\"\",\"\",\"(\"&SUM(Št.400mCTIF!$I$110:$T$110)&\")\")","v":""},null,{"$f":"IF($C$86=\"\",\"\",'PÚ CTIF'!$R$110)","v":""},{"$f":"IF($C$86=\"\",\"\",\"(\"&SUM('PÚ CTIF'!$I$110:$Q$110)&\")\")","v":""}]
[{"$f":"IF('Start - jaro'!I14=\"\",\"\",\"x\")","v":""},34,{"$f":"IF('Start - jaro'!G14=\"\",\"\",'Start - jaro'!G14)","v":""},{"$f":"IF($A88=\"x\",\"x\",IF($C88=\"\",\"\",IF(ISNA(MATCH($C88,ZPVOblN,0)),COUNTIF(ZPVOblT,\".\")+1,LOOKUP($C88,ZPVOblN,ZPVOblD))))","v":""},{"$f":"IF($C$88=\"\",\"\",PÚ!$S$49)","v":""},{"$f":"IF($C$88=\"\",\"\",PÚ!$T49)","v":""},{"$f":"IF($C$88=\"\",\"\",Št.4x60m!$S$49)","v":""},{"$f":"IF($C$88=\"\",\"\",Št.4x60m!$T49)","v":""},{"$f":"IF($C$88=\"\",\"\",Št.dvojic!$U$111)","v":""},{"$f":"IF($C$88=\"\",\"\",\"(\"&SUM(Št.dvojic!$I$111:$T$111)&\")\")","v":""},{"$f":"IF($C$88=\"\",\"\",Št.dvojic!$V$111)","v":""},{"$f":"IF($C$88=\"\",\"\",Št.400mCTIF!$U$111)","v":""},{"$f":"IF($C$88=\"\",\"\",\"(\"&SUM(Št.400mCTIF!$I$111:$T$111)&\")\")","v":""},{"$f":"IF($C$88=\"\",\"\",Št.400mCTIF!$V$111)","v":""},{"$f":"IF($C$88=\"\",\"\",'PÚ CTIF'!$R$111)","v":""},{"$f":"IF($C$88=\"\",\"\",\"(\"&SUM('PÚ CTIF'!$I$111:$Q$111)&\")\")","v":""},{"$f":"IF($C$88=\"\",\"\",'PÚ CTIF'!$S$111)","v":""},{"$f":"IF(C88=\"\",\"\",Kronika!$P$25)","v":""},null,{"$f":"IF(A88=\"x\",300,IF(C88=\"\",\"\",SUM(D88,F88,H88,K88,N88,Q88,R88)))","v":""},null,{"$f":"IF($A88=\"x\",\"x\",IF($C88=\"\",\"\",MATCH($C88,Výsledky!$N$7:$N$106,0)))","v":""}]
[null,null,null,null,{"$f":"IF($C$88=\"\",\"\",PÚ!$S$50)","v":""},null,{"$f":"IF($C$88=\"\",\"\",Št.4x60m!$S$50)","v":""},null,{"$f":"IF($C$88=\"\",\"\",Št.dvojic!$U$112)","v":""},{"$f":"IF($C$88=\"\",\"\",\"(\"&SUM(Št.dvojic!$I$112:$T$112)&\")\")","v":""},null,{"$f":"IF($C$88=\"\",\"\",Št.400mCTIF!$U$112)","v":""},{"$f":"IF($C$88=\"\",\"\",\"(\"&SUM(Št.400mCTIF!$I$112:$T$112)&\")\")","v":""},null,{"$f":"IF($C$88=\"\",\"\",'PÚ CTIF'!$R$112)","v":""},{"$f":"IF($C$88=\"\",\"\",\"(\"&SUM('PÚ CTIF'!$I$112:$Q$112)&\")\")","v":""}]
[{"$f":"IF('Start - jaro'!I15=\"\",\"\",\"x\")","v":""},35,{"$f":"IF('Start - jaro'!G15=\"\",\"\",'Start - jaro'!G15)","v":""},{"$f":"IF($A90=\"x\",\"x\",IF($C90=\"\",\"\",IF(ISNA(MATCH($C90,ZPVOblN,0)),COUNTIF(ZPVOblT,\".\")+1,LOOKUP($C90,ZPVOblN,ZPVOblD))))","v":""},{"$f":"IF($C$90=\"\",\"\",PÚ!$S$51)","v":""},{"$f":"IF($C$90=\"\",\"\",PÚ!$T51)","v":""},{"$f":"IF($C$90=\"\",\"\",Št.4x60m!$S$51)","v":""},{"$f":"IF($C$90=\"\",\"\",Št.4x60m!$T51)","v":""},{"$f":"IF($C$90=\"\",\"\",Št.dvojic!$U$113)","v":""},{"$f":"IF($C$90=\"\",\"\",\"(\"&SUM(Št.dvojic!$I$113:$T$113)&\")\")","v":""},{"$f":"IF($C$90=\"\",\"\",Št.dvojic!$V$113)","v":""},{"$f":"IF($C$90=\"\",\"\",Št.400mCTIF!$U$113)","v":""},{"$f":"IF($C$90=\"\",\"\",\"(\"&SUM(Št.400mCTIF!$I$113:$T$113)&\")\")","v":""},{"$f":"IF($C$90=\"\",\"\",Št.400mCTIF!$V$113)","v":""},{"$f":"IF($C$90=\"\",\"\",'PÚ CTIF'!$R$113)","v":""},{"$f":"IF($C$90=\"\",\"\",\"(\"&SUM('PÚ CTIF'!$I$113:$Q$113)&\")\")","v":""},{"$f":"IF($C$90=\"\",\"\",'PÚ CTIF'!$S$113)","v":""},{"$f":"IF(C90=\"\",\"\",Kronika!$P$26)","v":""},null,{"$f":"IF(A90=\"x\",300,IF(C90=\"\",\"\",SUM(D90,F90,H90,K90,N90,Q90,R90)))","v":""},null,{"$f":"IF($A90=\"x\",\"x\",IF($C90=\"\",\"\",MATCH($C90,Výsledky!$N$7:$N$106,0)))","v":""}]
[null,null,null,null,{"$f":"IF($C$90=\"\",\"\",PÚ!$S$52)","v":""},null,{"$f":"IF($C$90=\"\",\"\",Št.4x60m!$S$52)","v":""},null,{"$f":"IF($C$90=\"\",\"\",Št.dvojic!$U$114)","v":""},{"$f":"IF($C$90=\"\",\"\",\"(\"&SUM(Št.dvojic!$I$114:$T$114)&\")\")","v":""},null,{"$f":"IF($C$90=\"\",\"\",Št.400mCTIF!$U$114)","v":""},{"$f":"IF($C$90=\"\",\"\",\"(\"&SUM(Št.400mCTIF!$I$114:$T$114)&\")\")","v":""},null,{"$f":"IF($C$90=\"\",\"\",'PÚ CTIF'!$R$114)","v":""},{"$f":"IF($C$90=\"\",\"\",\"(\"&SUM('PÚ CTIF'!$I$114:$Q$114)&\")\")","v":""}]
[{"$f":"IF('Start - jaro'!I16=\"\",\"\",\"x\")","v":""},36,{"$f":"IF('Start - jaro'!G16=\"\",\"\",'Start - jaro'!G16)","v":""},{"$f":"IF($A92=\"x\",\"x\",IF($C92=\"\",\"\",IF(ISNA(MATCH($C92,ZPVOblN,0)),COUNTIF(ZPVOblT,\".\")+1,LOOKUP($C92,ZPVOblN,ZPVOblD))))","v":""},{"$f":"IF($C$92=\"\",\"\",PÚ!$S$53)","v":""},{"$f":"IF($C$92=\"\",\"\",PÚ!$T53)","v":""},{"$f":"IF($C$92=\"\",\"\",Št.4x60m!$S$53)","v":""},{"$f":"IF($C$92=\"\",\"\",Št.4x60m!$T53)","v":""},{"$f":"IF($C$92=\"\",\"\",Št.dvojic!$U$115)","v":""},{"$f":"IF($C$92=\"\",\"\",\"(\"&SUM(Št.dvojic!$I$115:$T$115)&\")\")","v":""},{"$f":"IF($C$92=\"\",\"\",Št.dvojic!$V$115)","v":""},{"$f":"IF($C$92=\"\",\"\",Št.400mCTIF!$U$115)","v":""},{"$f":"IF($C$92=\"\",\"\",\"(\"&SUM(Št.400mCTIF!$I$115:$T$115)&\")\")","v":""},{"$f":"IF($C$92=\"\",\"\",Št.400mCTIF!$V$115)","v":""},{"$f":"IF($C$92=\"\",\"\",'PÚ CTIF'!$R$115)","v":""},{"$f":"IF($C$92=\"\",\"\",\"(\"&SUM('PÚ CTIF'!$I$115:$Q$115)&\")\")","v":""},{"$f":"IF($C$92=\"\",\"\",'PÚ CTIF'!$S$115)","v":""},{"$f":"IF(C92=\"\",\"\",Kronika!$P$27)","v":""},null,{"$f":"IF(A92=\"x\",300,IF(C92=\"\",\"\",SUM(D92,F92,H92,K92,N92,Q92,R92)))","v":""},null,{"$f":"IF($A92=\"x\",\"x\",IF($C92=\"\",\"\",MATCH($C92,Výsledky!$N$7:$N$106,0)))","v":""}]
[null,null,null,null,{"$f":"IF($C$92=\"\",\"\",PÚ!$S$54)","v":""},null,{"$f":"IF($C$92=\"\",\"\",Št.4x60m!$S$54)","v":""},null,{"$f":"IF($C$92=\"\",\"\",Št.dvojic!$U$116)","v":""},{"$f":"IF($C$92=\"\",\"\",\"(\"&SUM(Št.dvojic!$I$116:$T$116)&\")\")","v":""},null,{"$f":"IF($C$92=\"\",\"\",Št.400mCTIF!$U$116)","v":""},{"$f":"IF($C$92=\"\",\"\",\"(\"&SUM(Št.400mCTIF!$I$116:$T$116)&\")\")","v":""},null,{"$f":"IF($C$92=\"\",\"\",'PÚ CTIF'!$R$116)","v":""},{"$f":"IF($C$92=\"\",\"\",\"(\"&SUM('PÚ CTIF'!$I$116:$Q$116)&\")\")","v":""}]
[{"$f":"IF('Start - jaro'!I17=\"\",\"\",\"x\")","v":""},37,{"$f":"IF('Start - jaro'!G17=\"\",\"\",'Start - jaro'!G17)","v":""},{"$f":"IF($A94=\"x\",\"x\",IF($C94=\"\",\"\",IF(ISNA(MATCH($C94,ZPVOblN,0)),COUNTIF(ZPVOblT,\".\")+1,LOOKUP($C94,ZPVOblN,ZPVOblD))))","v":""},{"$f":"IF($C$94=\"\",\"\",PÚ!$S$55)","v":""},{"$f":"IF($C$94=\"\",\"\",PÚ!$T55)","v":""},{"$f":"IF($C$94=\"\",\"\",Št.4x60m!$S$55)","v":""},{"$f":"IF($C$94=\"\",\"\",Št.4x60m!$T55)","v":""},{"$f":"IF($C$94=\"\",\"\",Št.dvojic!$U$117)","v":""},{"$f":"IF($C$94=\"\",\"\",\"(\"&SUM(Št.dvojic!$I$117:$T$117)&\")\")","v":""},{"$f":"IF($C$94=\"\",\"\",Št.dvojic!$V$117)","v":""},{"$f":"IF($C$94=\"\",\"\",Št.400mCTIF!$U$117)","v":""},{"$f":"IF($C$94=\"\",\"\",\"(\"&SUM(Št.400mCTIF!$I$117:$T$117)&\")\")","v":""},{"$f":"IF($C$94=\"\",\"\",Št.400mCTIF!$V$117)","v":""},{"$f":"IF($C$94=\"\",\"\",'PÚ CTIF'!$R$117)","v":""},{"$f":"IF($C$94=\"\",\"\",\"(\"&SUM('PÚ CTIF'!$I$117:$Q$117)&\")\")","v":""},{"$f":"IF($C$94=\"\",\"\",'PÚ CTIF'!$S$117)","v":""},{"$f":"IF(C94=\"\",\"\",Kronika!$P$28)","v":""},null,{"$f":"IF(A94=\"x\",300,IF(C94=\"\",\"\",SUM(D94,F94,H94,K94,N94,Q94,R94)))","v":""},null,{"$f":"IF($A94=\"x\",\"x\",IF($C94=\"\",\"\",MATCH($C94,Výsledky!$N$7:$N$106,0)))","v":""}]
[null,null,null,null,{"$f":"IF($C$94=\"\",\"\",PÚ!$S$56)","v":""},null,{"$f":"IF($C$94=\"\",\"\",Št.4x60m!$S$56)","v":""},null,{"$f":"IF($C$94=\"\",\"\",Št.dvojic!$U$118)","v":""},{"$f":"IF($C$94=\"\",\"\",\"(\"&SUM(Št.dvojic!$I$118:$T$118)&\")\")","v":""},null,{"$f":"IF($C$94=\"\",\"\",Št.400mCTIF!$U$118)","v":""},{"$f":"IF($C$94=\"\",\"\",\"(\"&SUM(Št.400mCTIF!$I$118:$T$118)&\")\")","v":""},null,{"$f":"IF($C$94=\"\",\"\",'PÚ CTIF'!$R$118)","v":""},{"$f":"IF($C$94=\"\",\"\",\"(\"&SUM('PÚ CTIF'!$I$118:$Q$118)&\")\")","v":""}]
[{"$f":"IF('Start - jaro'!I18=\"\",\"\",\"x\")","v":""},38,{"$f":"IF('Start - jaro'!G18=\"\",\"\",'Start - jaro'!G18)","v":""},{"$f":"IF($A96=\"x\",\"x\",IF($C96=\"\",\"\",IF(ISNA(MATCH($C96,ZPVOblN,0)),COUNTIF(ZPVOblT,\".\")+1,LOOKUP($C96,ZPVOblN,ZPVOblD))))","v":""},{"$f":"IF($C$96=\"\",\"\",PÚ!$S$57)","v":""},{"$f":"IF($C$96=\"\",\"\",PÚ!$T57)","v":""},{"$f":"IF($C$96=\"\",\"\",Št.4x60m!$S$57)","v":""},{"$f":"IF($C$96=\"\",\"\",Št.4x60m!$T57)","v":""},{"$f":"IF($C$96=\"\",\"\",Št.dvojic!$U$119)","v":""},{"$f":"IF($C$96=\"\",\"\",\"(\"&SUM(Št.dvojic!$I$119:$T$119)&\")\")","v":""},{"$f":"IF($C$96=\"\",\"\",Št.dvojic!$V$119)","v":""},{"$f":"IF($C$96=\"\",\"\",Št.400mCTIF!$U$119)","v":""},{"$f":"IF($C$96=\"\",\"\",\"(\"&SUM(Št.400mCTIF!$I$119:$T$119)&\")\")","v":""},{"$f":"IF($C$96=\"\",\"\",Št.400mCTIF!$V$119)","v":""},{"$f":"IF($C$96=\"\",\"\",'PÚ CTIF'!$R$119)","v":""},{"$f":"IF($C$96=\"\",\"\",\"(\"&SUM('PÚ CTIF'!$I$119:$Q$119)&\")\")","v":""},{"$f":"IF($C$96=\"\",\"\",'PÚ CTIF'!$S$119)","v":""},{"$f":"IF(C96=\"\",\"\",Kronika!$P$29)","v":""},null,{"$f":"IF(A96=\"x\",300,IF(C96=\"\",\"\",SUM(D96,F96,H96,K96,N96,Q96,R96)))","v":""},null,{"$f":"IF($A96=\"x\",\"x\",IF($C96=\"\",\"\",MATCH($C96,Výsledky!$N$7:$N$106,0)))","v":""}]
[null,null,null,null,{"$f":"IF($C$96=\"\",\"\",PÚ!$S$58)","v":""},null,{"$f":"IF($C$96=\"\",\"\",Št.4x60m!$S$58)","v":""},null,{"$f":"IF($C$96=\"\",\"\",Št.dvojic!$U$120)","v":""},{"$f":"IF($C$96=\"\",\"\",\"(\"&SUM(Št.dvojic!$I$120:$T$120)&\")\")","v":""},null,{"$f":"IF($C$96=\"\",\"\",Št.400mCTIF!$U$120)","v":""},{"$f":"IF($C$96=\"\",\"\",\"(\"&SUM(Št.400mCTIF!$I$120:$T$120)&\")\")","v":""},null,{"$f":"IF($C$96=\"\",\"\",'PÚ CTIF'!$R$120)","v":""},{"$f":"IF($C$96=\"\",\"\",\"(\"&SUM('PÚ CTIF'!$I$120:$Q$120)&\")\")","v":""}]
[{"$f":"IF('Start - jaro'!I19=\"\",\"\",\"x\")","v":""},39,{"$f":"IF('Start - jaro'!G19=\"\",\"\",'Start - jaro'!G19)","v":""},{"$f":"IF($A98=\"x\",\"x\",IF($C98=\"\",\"\",IF(ISNA(MATCH($C98,ZPVOblN,0)),COUNTIF(ZPVOblT,\".\")+1,LOOKUP($C98,ZPVOblN,ZPVOblD))))","v":""},{"$f":"IF($C$98=\"\",\"\",PÚ!$S$59)","v":""},{"$f":"IF($C$98=\"\",\"\",PÚ!$T59)","v":""},{"$f":"IF($C$98=\"\",\"\",Št.4x60m!$S$59)","v":""},{"$f":"IF($C$98=\"\",\"\",Št.4x60m!$T59)","v":""},{"$f":"IF($C$98=\"\",\"\",Št.dvojic!$U$121)","v":""},{"$f":"IF($C$98=\"\",\"\",\"(\"&SUM(Št.dvojic!$I$121:$T$121)&\")\")","v":""},{"$f":"IF($C$98=\"\",\"\",Št.dvojic!$V$121)","v":""},{"$f":"IF($C$98=\"\",\"\",Št.400mCTIF!$U$121)","v":""},{"$f":"IF($C$98=\"\",\"\",\"(\"&SUM(Št.400mCTIF!$I$121:$T$121)&\")\")","v":""},{"$f":"IF($C$98=\"\",\"\",Št.400mCTIF!$V$121)","v":""},{"$f":"IF($C$98=\"\",\"\",'PÚ CTIF'!$R$121)","v":""},{"$f":"IF($C$98=\"\",\"\",\"(\"&SUM('PÚ CTIF'!$I$121:$Q$121)&\")\")","v":""},{"$f":"IF($C$98=\"\",\"\",'PÚ CTIF'!$S$121)","v":""},{"$f":"IF(C98=\"\",\"\",Kronika!$P$30)","v":""},null,{"$f":"IF(A98=\"x\",300,IF(C98=\"\",\"\",SUM(D98,F98,H98,K98,N98,Q98,R98)))","v":""},null,{"$f":"IF($A98=\"x\",\"x\",IF($C98=\"\",\"\",MATCH($C98,Výsledky!$N$7:$N$106,0)))","v":""}]
[null,null,null,null,{"$f":"IF($C$98=\"\",\"\",PÚ!$S$60)","v":""},null,{"$f":"IF($C$98=\"\",\"\",Št.4x60m!$S$60)","v":""},null,{"$f":"IF($C$98=\"\",\"\",Št.dvojic!$U$122)","v":""},{"$f":"IF($C$98=\"\",\"\",\"(\"&SUM(Št.dvojic!$I$122:$T$122)&\")\")","v":""},null,{"$f":"IF($C$98=\"\",\"\",Št.400mCTIF!$U$122)","v":""},{"$f":"IF($C$98=\"\",\"\",\"(\"&SUM(Št.400mCTIF!$I$122:$T$122)&\")\")","v":""},null,{"$f":"IF($C$98=\"\",\"\",'PÚ CTIF'!$R$122)","v":""},{"$f":"IF($C$98=\"\",\"\",\"(\"&SUM('PÚ CTIF'!$I$122:$Q$122)&\")\")","v":""}]
[{"$f":"IF('Start - jaro'!I20=\"\",\"\",\"x\")","v":""},40,{"$f":"IF('Start - jaro'!G20=\"\",\"\",'Start - jaro'!G20)","v":""},{"$f":"IF($A100=\"x\",\"x\",IF($C100=\"\",\"\",IF(ISNA(MATCH($C100,ZPVOblN,0)),COUNTIF(ZPVOblT,\".\")+1,LOOKUP($C100,ZPVOblN,ZPVOblD))))","v":""},{"$f":"IF($C$100=\"\",\"\",PÚ!$S$61)","v":""},{"$f":"IF($C$100=\"\",\"\",PÚ!$T61)","v":""},{"$f":"IF($C$100=\"\",\"\",Št.4x60m!$S$61)","v":""},{"$f":"IF($C$100=\"\",\"\",Št.4x60m!$T61)","v":""},{"$f":"IF($C$100=\"\",\"\",Št.dvojic!$U$123)","v":""},{"$f":"IF($C$100=\"\",\"\",\"(\"&SUM(Št.dvojic!$I$123:$T$123)&\")\")","v":""},{"$f":"IF($C$100=\"\",\"\",Št.dvojic!$V$123)","v":""},{"$f":"IF($C$100=\"\",\"\",Št.400mCTIF!$U$123)","v":""},{"$f":"IF($C$100=\"\",\"\",\"(\"&SUM(Št.400mCTIF!$I$123:$T$123)&\")\")","v":""},{"$f":"IF($C$100=\"\",\"\",Št.400mCTIF!$V$123)","v":""},{"$f":"IF($C$100=\"\",\"\",'PÚ CTIF'!$R$123)","v":""},{"$f":"IF($C$100=\"\",\"\",\"(\"&SUM('PÚ CTIF'!$I$123:$Q$123)&\")\")","v":""},{"$f":"IF($C$100=\"\",\"\",'PÚ CTIF'!$S$123)","v":""},{"$f":"IF(C100=\"\",\"\",Kronika!$P$31)","v":""},null,{"$f":"IF(A100=\"x\",300,IF(C100=\"\",\"\",SUM(D100,F100,H100,K100,N100,Q100,R100)))","v":""},null,{"$f":"IF($A100=\"x\",\"x\",IF($C100=\"\",\"\",MATCH($C100,Výsledky!$N$7:$N$106,0)))","v":""}]
[null,null,null,null,{"$f":"IF($C$100=\"\",\"\",PÚ!$S$62)","v":""},null,{"$f":"IF($C$100=\"\",\"\",Št.4x60m!$S$62)","v":""},null,{"$f":"IF($C$100=\"\",\"\",Št.dvojic!$U$124)","v":""},{"$f":"IF($C$100=\"\",\"\",\"(\"&SUM(Št.dvojic!$I$124:$T$124)&\")\")","v":""},null,{"$f":"IF($C$100=\"\",\"\",Št.400mCTIF!$U$124)","v":""},{"$f":"IF($C$100=\"\",\"\",\"(\"&SUM(Št.400mCTIF!$I$124:$T$124)&\")\")","v":""},null,{"$f":"IF($C$100=\"\",\"\",'PÚ CTIF'!$R$124)","v":""},{"$f":"IF($C$100=\"\",\"\",\"(\"&SUM('PÚ CTIF'!$I$124:$Q$124)&\")\")","v":""}]
[{"$f":"IF('Start - jaro'!I21=\"\",\"\",\"x\")","v":""},41,{"$f":"IF('Start - jaro'!G21=\"\",\"\",'Start - jaro'!G21)","v":""},{"$f":"IF($A102=\"x\",\"x\",IF($C102=\"\",\"\",IF(ISNA(MATCH($C102,ZPVOblN,0)),COUNTIF(ZPVOblT,\".\")+1,LOOKUP($C102,ZPVOblN,ZPVOblD))))","v":""},{"$f":"IF($C$102=\"\",\"\",PÚ!$H$74)","v":""},{"$f":"IF($C$102=\"\",\"\",PÚ!$I$74)","v":""},{"$f":"IF($C$102=\"\",\"\",Št.4x60m!$H$74)","v":""},{"$f":"IF($C$102=\"\",\"\",Št.4x60m!$I$74)","v":""},{"$f":"IF($C$102=\"\",\"\",Št.dvojic!$U$136)","v":""},{"$f":"IF($C$102=\"\",\"\",\"(\"&SUM(Št.dvojic!$I$136:$T$136)&\")\")","v":""},{"$f":"IF($C$102=\"\",\"\",Št.dvojic!$V$136)","v":""},{"$f":"IF($C$102=\"\",\"\",Št.400mCTIF!$U$136)","v":""},{"$f":"IF($C$102=\"\",\"\",\"(\"&SUM(Št.400mCTIF!$I$136:$T$136)&\")\")","v":""},{"$f":"IF($C$102=\"\",\"\",Št.400mCTIF!$V$136)","v":""},{"$f":"IF($C$102=\"\",\"\",'PÚ CTIF'!$R$136)","v":""},{"$f":"IF($C$102=\"\",\"\",\"(\"&SUM('PÚ CTIF'!$I$136:$Q$136)&\")\")","v":""},{"$f":"IF($C$102=\"\",\"\",'PÚ CTIF'!$S$136)","v":""},{"$f":"IF(C102=\"\",\"\",Kronika!$H$43)","v":""},null,{"$f":"IF(A102=\"x\",300,IF(C102=\"\",\"\",SUM(D102,F102,H102,K102,N102,Q102,R102)))","v":""},null,{"$f":"IF($A102=\"x\",\"x\",IF($C102=\"\",\"\",MATCH($C102,Výsledky!$N$7:$N$106,0)))","v":""}]
[null,null,null,null,{"$f":"IF($C$102=\"\",\"\",PÚ!$H$75)","v":""},null,{"$f":"IF($C$102=\"\",\"\",Št.4x60m!$H$75)","v":""},null,{"$f":"IF($C$102=\"\",\"\",Št.dvojic!$U$137)","v":""},{"$f":"IF($C$102=\"\",\"\",\"(\"&SUM(Št.dvojic!$I$137:$T$137)&\")\")","v":""},null,{"$f":"IF($C$102=\"\",\"\",Št.400mCTIF!$U$137)","v":""},{"$f":"IF($C$102=\"\",\"\",\"(\"&SUM(Št.400mCTIF!$I$137:$T$137)&\")\")","v":""},null,{"$f":"IF($C$102=\"\",\"\",'PÚ CTIF'!$R$137)","v":""},{"$f":"IF($C$102=\"\",\"\",\"(\"&SUM('PÚ CTIF'!$I$137:$Q$137)&\")\")","v":""}]
[{"$f":"IF('Start - jaro'!I22=\"\",\"\",\"x\")","v":""},42,{"$f":"IF('Start - jaro'!G22=\"\",\"\",'Start - jaro'!G22)","v":""},{"$f":"IF($A104=\"x\",\"x\",IF($C104=\"\",\"\",IF(ISNA(MATCH($C104,ZPVOblN,0)),COUNTIF(ZPVOblT,\".\")+1,LOOKUP($C104,ZPVOblN,ZPVOblD))))","v":""},{"$f":"IF($C$104=\"\",\"\",PÚ!$H$76)","v":""},{"$f":"IF($C$104=\"\",\"\",PÚ!$I$76)","v":""},{"$f":"IF($C$104=\"\",\"\",Št.4x60m!$H$76)","v":""},{"$f":"IF($C$104=\"\",\"\",Št.4x60m!$I$76)","v":""},{"$f":"IF($C$104=\"\",\"\",Št.dvojic!$U$138)","v":""},{"$f":"IF($C$104=\"\",\"\",\"(\"&SUM(Št.dvojic!$I$138:$T$138)&\")\")","v":""},{"$f":"IF($C$104=\"\",\"\",Št.dvojic!$V$138)","v":""},{"$f":"IF($C$104=\"\",\"\",Št.400mCTIF!$U$138)","v":""},{"$f":"IF($C$104=\"\",\"\",\"(\"&SUM(Št.400mCTIF!$I$138:$T$138)&\")\")","v":""},{"$f":"IF($C$104=\"\",\"\",Št.400mCTIF!$V$138)","v":""},{"$f":"IF($C$104=\"\",\"\",'PÚ CTIF'!$R$138)","v":""},{"$f":"IF($C$104=\"\",\"\",\"(\"&SUM('PÚ CTIF'!$I$138:$Q$138)&\")\")","v":""},{"$f":"IF($C$104=\"\",\"\",'PÚ CTIF'!$S$138)","v":""},{"$f":"IF(C104=\"\",\"\",Kronika!$H$44)","v":""},null,{"$f":"IF(A104=\"x\",300,IF(C104=\"\",\"\",SUM(D104,F104,H104,K104,N104,Q104,R104)))","v":""},null,{"$f":"IF($A104=\"x\",\"x\",IF($C104=\"\",\"\",MATCH($C104,Výsledky!$N$7:$N$106,0)))","v":""}]
[null,null,null,null,{"$f":"IF($C$104=\"\",\"\",PÚ!$H$77)","v":""},null,{"$f":"IF($C$104=\"\",\"\",Št.4x60m!$H$77)","v":""},null,{"$f":"IF($C$104=\"\",\"\",Št.dvojic!$U$139)","v":""},{"$f":"IF($C$104=\"\",\"\",\"(\"&SUM(Št.dvojic!$I$139:$T$139)&\")\")","v":""},null,{"$f":"IF($C$104=\"\",\"\",Št.400mCTIF!$U$139)","v":""},{"$f":"IF($C$104=\"\",\"\",\"(\"&SUM(Št.400mCTIF!$I$139:$T$139)&\")\")","v":""},null,{"$f":"IF($C$104=\"\",\"\",'PÚ CTIF'!$R$139)","v":""},{"$f":"IF($C$104=\"\",\"\",\"(\"&SUM('PÚ CTIF'!$I$139:$Q$139)&\")\")","v":""}]
[null,{"$f":"B71","v":"Celkové výsledky - TISK"}]
[]
[null,null,null,{"$f":"D73","v":"Krajská soutěž HRY PLAMEN"},null,null,null,null,null,null,null,{"$f":"L73","v":"2020/2021, České Budějovice"}]
[null,null,{"$f":"'Start - jaro'!$N$2","v":"STARŠÍ"}]
[null," startovní číslo"," SDH"," ZPV"," PÚ",null," Štafeta 4x60m",null," Štafeta dvojic",null,null," 400 m štafeta CTIF",null,null," PÚ - CTIF",null,null,"Celoroční činnost",null," Celkový součet",null,"Pořadí"]
[null,null,null,"P.","1.pokus","P.","1.pokus","P.","1.pokus","tr.body","P.","1.pokus","tr.body","P.","1.pokus","tr.body","P.","P."]
[null,null,null,null,"2.pokus",null,"2.pokus",null,"2.pokus","tr.body",null,"2.pokus","tr.body",null,"2.pokus","tr.body"]
[{"$f":"IF('Start - jaro'!I23=\"\",\"\",\"x\")","v":""},43,{"$f":"IF('Start - jaro'!G23=\"\",\"\",'Start - jaro'!G23)","v":""},{"$f":"IF($A113=\"x\",\"x\",IF($C113=\"\",\"\",IF(ISNA(MATCH($C113,ZPVOblN,0)),COUNTIF(ZPVOblT,\".\")+1,LOOKUP($C113,ZPVOblN,ZPVOblD))))","v":""},{"$f":"IF($C$113=\"\",\"\",PÚ!$H$78)","v":""},{"$f":"IF($C$113=\"\",\"\",PÚ!$I$78)","v":""},{"$f":"IF($C$113=\"\",\"\",Št.4x60m!$H$78)","v":""},{"$f":"IF($C$113=\"\",\"\",Št.4x60m!$I$78)","v":""},{"$f":"IF($C$113=\"\",\"\",Št.dvojic!$U$140)","v":""},{"$f":"IF($C$113=\"\",\"\",\"(\"&SUM(Št.dvojic!$I$140:$T$140)&\")\")","v":""},{"$f":"IF($C$113=\"\",\"\",Št.dvojic!$V$140)","v":""},{"$f":"IF($C$113=\"\",\"\",Št.400mCTIF!$U$140)","v":""},{"$f":"IF($C$113=\"\",\"\",\"(\"&SUM(Št.400mCTIF!$I$140:$T$140)&\")\")","v":""},{"$f":"IF($C$113=\"\",\"\",Št.400mCTIF!$V$140)","v":""},{"$f":"IF($C$113=\"\",\"\",'PÚ CTIF'!$R$140)","v":""},{"$f":"IF($C$113=\"\",\"\",\"(\"&SUM('PÚ CTIF'!$I$140:$Q$140)&\")\")","v":""},{"$f":"IF($C$113=\"\",\"\",'PÚ CTIF'!$S$140)","v":""},{"$f":"IF(C113=\"\",\"\",Kronika!$H$45)","v":""},null,{"$f":"IF(A113=\"x\",300,IF(C113=\"\",\"\",SUM(D113,F113,H113,K113,N113,Q113,R113)))","v":""},null,{"$f":"IF($A113=\"x\",\"x\",IF($C113=\"\",\"\",MATCH($C113,Výsledky!$N$7:$N$106,0)))","v":""}]
[null,null,null,null,{"$f":"IF($C$113=\"\",\"\",PÚ!$H$79)","v":""},null,{"$f":"IF($C$113=\"\",\"\",Št.4x60m!$H$79)","v":""},null,{"$f":"IF($C$113=\"\",\"\",Št.dvojic!$U$141)","v":""},{"$f":"IF($C$113=\"\",\"\",\"(\"&SUM(Št.dvojic!$I$141:$T$141)&\")\")","v":""},null,{"$f":"IF($C$113=\"\",\"\",Št.400mCTIF!$U$141)","v":""},{"$f":"IF($C$113=\"\",\"\",\"(\"&SUM(Št.400mCTIF!$I$141:$T$141)&\")\")","v":""},null,{"$f":"IF($C$113=\"\",\"\",'PÚ CTIF'!$R$141)","v":""},{"$f":"IF($C$113=\"\",\"\",\"(\"&SUM('PÚ CTIF'!$I$141:$Q$141)&\")\")","v":""}]
[{"$f":"IF('Start - jaro'!I24=\"\",\"\",\"x\")","v":""},44,{"$f":"IF('Start - jaro'!G24=\"\",\"\",'Start - jaro'!G24)","v":""},{"$f":"IF($A115=\"x\",\"x\",IF($C115=\"\",\"\",IF(ISNA(MATCH($C115,ZPVOblN,0)),COUNTIF(ZPVOblT,\".\")+1,LOOKUP($C115,ZPVOblN,ZPVOblD))))","v":""},{"$f":"IF($C$115=\"\",\"\",PÚ!$H$80)","v":""},{"$f":"IF($C$115=\"\",\"\",PÚ!$I$80)","v":""},{"$f":"IF($C$115=\"\",\"\",Št.4x60m!$H$80)","v":""},{"$f":"IF($C$115=\"\",\"\",Št.4x60m!$I$80)","v":""},{"$f":"IF($C$115=\"\",\"\",Št.dvojic!$U$142)","v":""},{"$f":"IF($C$115=\"\",\"\",\"(\"&SUM(Št.dvojic!$I$142:$T$142)&\")\")","v":""},{"$f":"IF($C$115=\"\",\"\",Št.dvojic!$V$142)","v":""},{"$f":"IF($C$115=\"\",\"\",Št.400mCTIF!$U$142)","v":""},{"$f":"IF($C$115=\"\",\"\",\"(\"&SUM(Št.400mCTIF!$I$142:$T$142)&\")\")","v":""},{"$f":"IF($C$115=\"\",\"\",Št.400mCTIF!$V$142)","v":""},{"$f":"IF($C$115=\"\",\"\",'PÚ CTIF'!$R$142)","v":""},{"$f":"IF($C$115=\"\",\"\",\"(\"&SUM('PÚ CTIF'!$I$142:$Q$142)&\")\")","v":""},{"$f":"IF($C$115=\"\",\"\",'PÚ CTIF'!$S$142)","v":""},{"$f":"IF(C115=\"\",\"\",Kronika!$H$46)","v":""},null,{"$f":"IF(A115=\"x\",300,IF(C115=\"\",\"\",SUM(D115,F115,H115,K115,N115,Q115,R115)))","v":""},null,{"$f":"IF($A115=\"x\",\"x\",IF($C115=\"\",\"\",MATCH($C115,Výsledky!$N$7:$N$106,0)))","v":""}]
[null,null,null,null,{"$f":"IF($C$115=\"\",\"\",PÚ!$H$81)","v":""},null,{"$f":"IF($C$115=\"\",\"\",Št.4x60m!$H$81)","v":""},null,{"$f":"IF($C$115=\"\",\"\",Št.dvojic!$U$143)","v":""},{"$f":"IF($C$115=\"\",\"\",\"(\"&SUM(Št.dvojic!$I$143:$T$143)&\")\")","v":""},null,{"$f":"IF($C$115=\"\",\"\",Št.400mCTIF!$U$143)","v":""},{"$f":"IF($C$115=\"\",\"\",\"(\"&SUM(Št.400mCTIF!$I$143:$T$143)&\")\")","v":""},null,{"$f":"IF($C$115=\"\",\"\",'PÚ CTIF'!$R$143)","v":""},{"$f":"IF($C$115=\"\",\"\",\"(\"&SUM('PÚ CTIF'!$I$143:$Q$143)&\")\")","v":""}]
[{"$f":"IF('Start - jaro'!I25=\"\",\"\",\"x\")","v":""},45,{"$f":"IF('Start - jaro'!G25=\"\",\"\",'Start - jaro'!G25)","v":""},{"$f":"IF($A117=\"x\",\"x\",IF($C117=\"\",\"\",IF(ISNA(MATCH($C117,ZPVOblN,0)),COUNTIF(ZPVOblT,\".\")+1,LOOKUP($C117,ZPVOblN,ZPVOblD))))","v":""},{"$f":"IF($C$117=\"\",\"\",PÚ!$H$82)","v":""},{"$f":"IF($C$117=\"\",\"\",PÚ!$I$82)","v":""},{"$f":"IF($C$117=\"\",\"\",Št.4x60m!$H$82)","v":""},{"$f":"IF($C$117=\"\",\"\",Št.4x60m!$I$82)","v":""},{"$f":"IF($C$117=\"\",\"\",Št.dvojic!$U$144)","v":""},{"$f":"IF($C$117=\"\",\"\",\"(\"&SUM(Št.dvojic!$I$144:$T$144)&\")\")","v":""},{"$f":"IF($C$117=\"\",\"\",Št.dvojic!$V$144)","v":""},{"$f":"IF($C$117=\"\",\"\",Št.400mCTIF!$U$144)","v":""},{"$f":"IF($C$117=\"\",\"\",\"(\"&SUM(Št.400mCTIF!$I$144:$T$144)&\")\")","v":""},{"$f":"IF($C$117=\"\",\"\",Št.400mCTIF!$V$144)","v":""},{"$f":"IF($C$117=\"\",\"\",'PÚ CTIF'!$R$144)","v":""},{"$f":"IF($C$117=\"\",\"\",\"(\"&SUM('PÚ CTIF'!$I$144:$Q$144)&\")\")","v":""},{"$f":"IF($C$117=\"\",\"\",'PÚ CTIF'!$S$144)","v":""},{"$f":"IF(C117=\"\",\"\",Kronika!$H$47)","v":""},null,{"$f":"IF(A117=\"x\",300,IF(C117=\"\",\"\",SUM(D117,F117,H117,K117,N117,Q117,R117)))","v":""},null,{"$f":"IF($A117=\"x\",\"x\",IF($C117=\"\",\"\",MATCH($C117,Výsledky!$N$7:$N$106,0)))","v":""}]
[null,null,null,null,{"$f":"IF($C$117=\"\",\"\",PÚ!$H$83)","v":""},null,{"$f":"IF($C$117=\"\",\"\",Št.4x60m!$H$83)","v":""},null,{"$f":"IF($C$117=\"\",\"\",Št.dvojic!$U$145)","v":""},{"$f":"IF($C$117=\"\",\"\",\"(\"&SUM(Št.dvojic!$I$145:$T$145)&\")\")","v":""},null,{"$f":"IF($C$117=\"\",\"\",Št.400mCTIF!$U$145)","v":""},{"$f":"IF($C$117=\"\",\"\",\"(\"&SUM(Št.400mCTIF!$I$145:$T$145)&\")\")","v":""},null,{"$f":"IF($C$117=\"\",\"\",'PÚ CTIF'!$R$145)","v":""},{"$f":"IF($C$117=\"\",\"\",\"(\"&SUM('PÚ CTIF'!$I$145:$Q$145)&\")\")","v":""}]
[{"$f":"IF('Start - jaro'!I26=\"\",\"\",\"x\")","v":""},46,{"$f":"IF('Start - jaro'!G26=\"\",\"\",'Start - jaro'!G26)","v":""},{"$f":"IF($A119=\"x\",\"x\",IF($C119=\"\",\"\",IF(ISNA(MATCH($C119,ZPVOblN,0)),COUNTIF(ZPVOblT,\".\")+1,LOOKUP($C119,ZPVOblN,ZPVOblD))))","v":""},{"$f":"IF($C$119=\"\",\"\",PÚ!$H$84)","v":""},{"$f":"IF($C$119=\"\",\"\",PÚ!$I$84)","v":""},{"$f":"IF($C$119=\"\",\"\",Št.4x60m!$H$84)","v":""},{"$f":"IF($C$119=\"\",\"\",Št.4x60m!$I$84)","v":""},{"$f":"IF($C$119=\"\",\"\",Št.dvojic!$U$146)","v":""},{"$f":"IF($C$119=\"\",\"\",\"(\"&SUM(Št.dvojic!$I$146:$T$146)&\")\")","v":""},{"$f":"IF($C$119=\"\",\"\",Št.dvojic!$V$146)","v":""},{"$f":"IF($C$119=\"\",\"\",Št.400mCTIF!$U$146)","v":""},{"$f":"IF($C$119=\"\",\"\",\"(\"&SUM(Št.400mCTIF!$I$146:$T$146)&\")\")","v":""},{"$f":"IF($C$119=\"\",\"\",Št.400mCTIF!$V$146)","v":""},{"$f":"IF($C$119=\"\",\"\",'PÚ CTIF'!$R$146)","v":""},{"$f":"IF($C$119=\"\",\"\",\"(\"&SUM('PÚ CTIF'!$I$146:$Q$146)&\")\")","v":""},{"$f":"IF($C$119=\"\",\"\",'PÚ CTIF'!$S$146)","v":""},{"$f":"IF(C119=\"\",\"\",Kronika!$H$48)","v":""},null,{"$f":"IF(A119=\"x\",300,IF(C119=\"\",\"\",SUM(D119,F119,H119,K119,N119,Q119,R119)))","v":""},null,{"$f":"IF($A119=\"x\",\"x\",IF($C119=\"\",\"\",MATCH($C119,Výsledky!$N$7:$N$106,0)))","v":""}]
[null,null,null,null,{"$f":"IF($C$119=\"\",\"\",PÚ!$H$85)","v":""},null,{"$f":"IF($C$119=\"\",\"\",Št.4x60m!$H$85)","v":""},null,{"$f":"IF($C$119=\"\",\"\",Št.dvojic!$U$147)","v":""},{"$f":"IF($C$119=\"\",\"\",\"(\"&SUM(Št.dvojic!$I$147:$T$147)&\")\")","v":""},null,{"$f":"IF($C$119=\"\",\"\",Št.400mCTIF!$U$147)","v":""},{"$f":"IF($C$119=\"\",\"\",\"(\"&SUM(Št.400mCTIF!$I$147:$T$147)&\")\")","v":""},null,{"$f":"IF($C$119=\"\",\"\",'PÚ CTIF'!$R$147)","v":""},{"$f":"IF($C$119=\"\",\"\",\"(\"&SUM('PÚ CTIF'!$I$147:$Q$147)&\")\")","v":""}]
[{"$f":"IF('Start - jaro'!I27=\"\",\"\",\"x\")","v":""},47,{"$f":"IF('Start - jaro'!G27=\"\",\"\",'Start - jaro'!G27)","v":""},{"$f":"IF($A121=\"x\",\"x\",IF($C121=\"\",\"\",IF(ISNA(MATCH($C121,ZPVOblN,0)),COUNTIF(ZPVOblT,\".\")+1,LOOKUP($C121,ZPVOblN,ZPVOblD))))","v":""},{"$f":"IF($C$121=\"\",\"\",PÚ!$H$86)","v":""},{"$f":"IF($C$121=\"\",\"\",PÚ!$I$86)","v":""},{"$f":"IF($C$121=\"\",\"\",Št.4x60m!$H$86)","v":""},{"$f":"IF($C$121=\"\",\"\",Št.4x60m!$I$86)","v":""},{"$f":"IF($C$121=\"\",\"\",Št.dvojic!$U$148)","v":""},{"$f":"IF($C$121=\"\",\"\",\"(\"&SUM(Št.dvojic!$I$148:$T$148)&\")\")","v":""},{"$f":"IF($C$121=\"\",\"\",Št.dvojic!$V$148)","v":""},{"$f":"IF($C$121=\"\",\"\",Št.400mCTIF!$U$148)","v":""},{"$f":"IF($C$121=\"\",\"\",\"(\"&SUM(Št.400mCTIF!$I$148:$T$148)&\")\")","v":""},{"$f":"IF($C$121=\"\",\"\",Št.400mCTIF!$V$148)","v":""},{"$f":"IF($C$121=\"\",\"\",'PÚ CTIF'!$R$148)","v":""},{"$f":"IF($C$121=\"\",\"\",\"(\"&SUM('PÚ CTIF'!$I$148:$Q$148)&\")\")","v":""},{"$f":"IF($C$121=\"\",\"\",'PÚ CTIF'!$S$148)","v":""},{"$f":"IF(C121=\"\",\"\",Kronika!$H$49)","v":""},null,{"$f":"IF(A121=\"x\",300,IF(C121=\"\",\"\",SUM(D121,F121,H121,K121,N121,Q121,R121)))","v":""},null,{"$f":"IF($A121=\"x\",\"x\",IF($C121=\"\",\"\",MATCH($C121,Výsledky!$N$7:$N$106,0)))","v":""}]
[null,null,null,null,{"$f":"IF($C$121=\"\",\"\",PÚ!$H$87)","v":""},null,{"$f":"IF($C$121=\"\",\"\",Št.4x60m!$H$87)","v":""},null,{"$f":"IF($C$121=\"\",\"\",Št.dvojic!$U$149)","v":""},{"$f":"IF($C$121=\"\",\"\",\"(\"&SUM(Št.dvojic!$I$149:$T$149)&\")\")","v":""},null,{"$f":"IF($C$121=\"\",\"\",Št.400mCTIF!$U$149)","v":""},{"$f":"IF($C$121=\"\",\"\",\"(\"&SUM(Št.400mCTIF!$I$149:$T$149)&\")\")","v":""},null,{"$f":"IF($C$121=\"\",\"\",'PÚ CTIF'!$R$149)","v":""},{"$f":"IF($C$121=\"\",\"\",\"(\"&SUM('PÚ CTIF'!$I$149:$Q$149)&\")\")","v":""}]
[{"$f":"IF('Start - jaro'!I28=\"\",\"\",\"x\")","v":""},48,{"$f":"IF('Start - jaro'!G28=\"\",\"\",'Start - jaro'!G28)","v":""},{"$f":"IF($A123=\"x\",\"x\",IF($C123=\"\",\"\",IF(ISNA(MATCH($C123,ZPVOblN,0)),COUNTIF(ZPVOblT,\".\")+1,LOOKUP($C123,ZPVOblN,ZPVOblD))))","v":""},{"$f":"IF($C$123=\"\",\"\",PÚ!$H$88)","v":""},{"$f":"IF($C$123=\"\",\"\",PÚ!$I$88)","v":""},{"$f":"IF($C$123=\"\",\"\",Št.4x60m!$H$88)","v":""},{"$f":"IF($C$123=\"\",\"\",Št.4x60m!$I$88)","v":""},{"$f":"IF($C$123=\"\",\"\",Št.dvojic!$U$150)","v":""},{"$f":"IF($C$123=\"\",\"\",\"(\"&SUM(Št.dvojic!$I$150:$T$150)&\")\")","v":""},{"$f":"IF($C$123=\"\",\"\",Št.dvojic!$V$150)","v":""},{"$f":"IF($C$123=\"\",\"\",Št.400mCTIF!$U$150)","v":""},{"$f":"IF($C$123=\"\",\"\",\"(\"&SUM(Št.400mCTIF!$I$150:$T$150)&\")\")","v":""},{"$f":"IF($C$123=\"\",\"\",Št.400mCTIF!$V$150)","v":""},{"$f":"IF($C$123=\"\",\"\",'PÚ CTIF'!$R$150)","v":""},{"$f":"IF($C$123=\"\",\"\",\"(\"&SUM('PÚ CTIF'!$I$150:$Q$150)&\")\")","v":""},{"$f":"IF($C$123=\"\",\"\",'PÚ CTIF'!$S$150)","v":""},{"$f":"IF(C123=\"\",\"\",Kronika!$H$50)","v":""},null,{"$f":"IF(A123=\"x\",300,IF(C123=\"\",\"\",SUM(D123,F123,H123,K123,N123,Q123,R123)))","v":""},null,{"$f":"IF($A123=\"x\",\"x\",IF($C123=\"\",\"\",MATCH($C123,Výsledky!$N$7:$N$106,0)))","v":""}]
[null,null,null,null,{"$f":"IF($C$123=\"\",\"\",PÚ!$H$89)","v":""},null,{"$f":"IF($C$123=\"\",\"\",Št.4x60m!$H$89)","v":""},null,{"$f":"IF($C$123=\"\",\"\",Št.dvojic!$U$151)","v":""},{"$f":"IF($C$123=\"\",\"\",\"(\"&SUM(Št.dvojic!$I$151:$T$151)&\")\")","v":""},null,{"$f":"IF($C$123=\"\",\"\",Št.400mCTIF!$U$151)","v":""},{"$f":"IF($C$123=\"\",\"\",\"(\"&SUM(Št.400mCTIF!$I$151:$T$151)&\")\")","v":""},null,{"$f":"IF($C$123=\"\",\"\",'PÚ CTIF'!$R$151)","v":""},{"$f":"IF($C$123=\"\",\"\",\"(\"&SUM('PÚ CTIF'!$I$151:$Q$151)&\")\")","v":""}]
[{"$f":"IF('Start - jaro'!I29=\"\",\"\",\"x\")","v":""},49,{"$f":"IF('Start - jaro'!G29=\"\",\"\",'Start - jaro'!G29)","v":""},{"$f":"IF($A125=\"x\",\"x\",IF($C125=\"\",\"\",IF(ISNA(MATCH($C125,ZPVOblN,0)),COUNTIF(ZPVOblT,\".\")+1,LOOKUP($C125,ZPVOblN,ZPVOblD))))","v":""},{"$f":"IF($C$125=\"\",\"\",PÚ!$H$90)","v":""},{"$f":"IF($C$125=\"\",\"\",PÚ!$I$90)","v":""},{"$f":"IF($C$125=\"\",\"\",Št.4x60m!$H$90)","v":""},{"$f":"IF($C$125=\"\",\"\",Št.4x60m!$I$90)","v":""},{"$f":"IF($C$125=\"\",\"\",Št.dvojic!$U$152)","v":""},{"$f":"IF($C$125=\"\",\"\",\"(\"&SUM(Št.dvojic!$I$152:$T$152)&\")\")","v":""},{"$f":"IF($C$125=\"\",\"\",Št.dvojic!$V$152)","v":""},{"$f":"IF($C$125=\"\",\"\",Št.400mCTIF!$U$152)","v":""},{"$f":"IF($C$125=\"\",\"\",\"(\"&SUM(Št.400mCTIF!$I$152:$T$152)&\")\")","v":""},{"$f":"IF($C$125=\"\",\"\",Št.400mCTIF!$V$152)","v":""},{"$f":"IF($C$125=\"\",\"\",'PÚ CTIF'!$R$152)","v":""},{"$f":"IF($C$125=\"\",\"\",\"(\"&SUM('PÚ CTIF'!$I$152:$Q$152)&\")\")","v":""},{"$f":"IF($C$125=\"\",\"\",'PÚ CTIF'!$S$152)","v":""},{"$f":"IF(C125=\"\",\"\",Kronika!$H$51)","v":""},null,{"$f":"IF(A125=\"x\",300,IF(C125=\"\",\"\",SUM(D125,F125,H125,K125,N125,Q125,R125)))","v":""},null,{"$f":"IF($A125=\"x\",\"x\",IF($C125=\"\",\"\",MATCH($C125,Výsledky!$N$7:$N$106,0)))","v":""}]
[null,null,null,null,{"$f":"IF($C$125=\"\",\"\",PÚ!$H$91)","v":""},null,{"$f":"IF($C$125=\"\",\"\",Št.4x60m!$H$91)","v":""},null,{"$f":"IF($C$125=\"\",\"\",Št.dvojic!$U$153)","v":""},{"$f":"IF($C$125=\"\",\"\",\"(\"&SUM(Št.dvojic!$I$153:$T$153)&\")\")","v":""},null,{"$f":"IF($C$125=\"\",\"\",Št.400mCTIF!$U$153)","v":""},{"$f":"IF($C$125=\"\",\"\",\"(\"&SUM(Št.400mCTIF!$I$153:$T$153)&\")\")","v":""},null,{"$f":"IF($C$125=\"\",\"\",'PÚ CTIF'!$R$153)","v":""},{"$f":"IF($C$125=\"\",\"\",\"(\"&SUM('PÚ CTIF'!$I$153:$Q$153)&\")\")","v":""}]
[{"$f":"IF('Start - jaro'!I30=\"\",\"\",\"x\")","v":""},50,{"$f":"IF('Start - jaro'!G30=\"\",\"\",'Start - jaro'!G30)","v":""},{"$f":"IF($A127=\"x\",\"x\",IF($C127=\"\",\"\",IF(ISNA(MATCH($C127,ZPVOblN,0)),COUNTIF(ZPVOblT,\".\")+1,LOOKUP($C127,ZPVOblN,ZPVOblD))))","v":""},{"$f":"IF($C$127=\"\",\"\",PÚ!$H$92)","v":""},{"$f":"IF($C$127=\"\",\"\",PÚ!$I$92)","v":""},{"$f":"IF($C$127=\"\",\"\",Št.4x60m!$H$92)","v":""},{"$f":"IF($C$127=\"\",\"\",Št.4x60m!$I$92)","v":""},{"$f":"IF($C$127=\"\",\"\",Št.dvojic!$U$154)","v":""},{"$f":"IF($C$127=\"\",\"\",\"(\"&SUM(Št.dvojic!$I$154:$T$154)&\")\")","v":""},{"$f":"IF($C$127=\"\",\"\",Št.dvojic!$V$154)","v":""},{"$f":"IF($C$127=\"\",\"\",Št.400mCTIF!$U$154)","v":""},{"$f":"IF($C$127=\"\",\"\",\"(\"&SUM(Št.400mCTIF!$I$154:$T$154)&\")\")","v":""},{"$f":"IF($C$127=\"\",\"\",Št.400mCTIF!$V$154)","v":""},{"$f":"IF($C$127=\"\",\"\",'PÚ CTIF'!$R$154)","v":""},{"$f":"IF($C$127=\"\",\"\",\"(\"&SUM('PÚ CTIF'!$I$154:$Q$154)&\")\")","v":""},{"$f":"IF($C$127=\"\",\"\",'PÚ CTIF'!$S$154)","v":""},{"$f":"IF(C127=\"\",\"\",Kronika!$H$52)","v":""},null,{"$f":"IF(A127=\"x\",300,IF(C127=\"\",\"\",SUM(D127,F127,H127,K127,N127,Q127,R127)))","v":""},null,{"$f":"IF($A127=\"x\",\"x\",IF($C127=\"\",\"\",MATCH($C127,Výsledky!$N$7:$N$106,0)))","v":""}]
[null,null,null,null,{"$f":"IF($C$127=\"\",\"\",PÚ!$H$93)","v":""},null,{"$f":"IF($C$127=\"\",\"\",Št.4x60m!$H$93)","v":""},null,{"$f":"IF($C$127=\"\",\"\",Št.dvojic!$U$155)","v":""},{"$f":"IF($C$127=\"\",\"\",\"(\"&SUM(Št.dvojic!$I$155:$T$155)&\")\")","v":""},null,{"$f":"IF($C$127=\"\",\"\",Št.400mCTIF!$U$155)","v":""},{"$f":"IF($C$127=\"\",\"\",\"(\"&SUM(Št.400mCTIF!$I$155:$T$155)&\")\")","v":""},null,{"$f":"IF($C$127=\"\",\"\",'PÚ CTIF'!$R$155)","v":""},{"$f":"IF($C$127=\"\",\"\",\"(\"&SUM('PÚ CTIF'!$I$155:$Q$155)&\")\")","v":""}]
[{"$f":"IF('Start - jaro'!M6=\"\",\"\",\"x\")","v":""},51,{"$f":"IF('Start - jaro'!K6=\"\",\"\",'Start - jaro'!K6)","v":""},{"$f":"IF($A129=\"x\",\"x\",IF($C129=\"\",\"\",IF(ISNA(MATCH($C129,ZPVOblN,0)),COUNTIF(ZPVOblT,\".\")+1,LOOKUP($C129,ZPVOblN,ZPVOblD))))","v":""},{"$f":"IF($C$129=\"\",\"\",PÚ!$S$74)","v":""},{"$f":"IF($C$129=\"\",\"\",PÚ!$T74)","v":""},{"$f":"IF($C$129=\"\",\"\",Št.4x60m!$S$74)","v":""},{"$f":"IF($C$129=\"\",\"\",Št.4x60m!$T74)","v":""},{"$f":"IF($C$129=\"\",\"\",Št.dvojic!$U$167)","v":""},{"$f":"IF($C$129=\"\",\"\",\"(\"&SUM(Št.dvojic!$I$167:$T$167)&\")\")","v":""},{"$f":"IF($C$129=\"\",\"\",Št.dvojic!$V$167)","v":""},{"$f":"IF($C$129=\"\",\"\",Št.400mCTIF!$U$167)","v":""},{"$f":"IF($C$129=\"\",\"\",\"(\"&SUM(Št.400mCTIF!$I$167:$T$167)&\")\")","v":""},{"$f":"IF($C$129=\"\",\"\",Št.400mCTIF!$V$167)","v":""},{"$f":"IF($C$129=\"\",\"\",'PÚ CTIF'!$R$167)","v":""},{"$f":"IF($C$129=\"\",\"\",\"(\"&SUM('PÚ CTIF'!$I$167:$Q$167)&\")\")","v":""},{"$f":"IF($C$129=\"\",\"\",'PÚ CTIF'!$S$167)","v":""},{"$f":"IF(C129=\"\",\"\",Kronika!$H$53)","v":""},null,{"$f":"IF(A129=\"x\",300,IF(C129=\"\",\"\",SUM(D129,F129,H129,K129,N129,Q129,R129)))","v":""},null,{"$f":"IF($A129=\"x\",\"x\",IF($C129=\"\",\"\",MATCH($C129,Výsledky!$N$7:$N$106,0)))","v":""}]
[null,null,null,null,{"$f":"IF($C$129=\"\",\"\",PÚ!$S$75)","v":""},null,{"$f":"IF($C$129=\"\",\"\",Št.4x60m!$S$75)","v":""},null,{"$f":"IF($C$129=\"\",\"\",Št.dvojic!$U$168)","v":""},{"$f":"IF($C$129=\"\",\"\",\"(\"&SUM(Št.dvojic!$I$168:$T$168)&\")\")","v":""},null,{"$f":"IF($C$129=\"\",\"\",Št.400mCTIF!$U$168)","v":""},{"$f":"IF($C$129=\"\",\"\",\"(\"&SUM(Št.400mCTIF!$I$168:$T$168)&\")\")","v":""},null,{"$f":"IF($C$129=\"\",\"\",'PÚ CTIF'!$R$168)","v":""},{"$f":"IF($C$129=\"\",\"\",\"(\"&SUM('PÚ CTIF'!$I$168:$Q$168)&\")\")","v":""}]
[{"$f":"IF('Start - jaro'!M7=\"\",\"\",\"x\")","v":""},52,{"$f":"IF('Start - jaro'!K7=\"\",\"\",'Start - jaro'!K7)","v":""},{"$f":"IF($A131=\"x\",\"x\",IF($C131=\"\",\"\",IF(ISNA(MATCH($C131,ZPVOblN,0)),COUNTIF(ZPVOblT,\".\")+1,LOOKUP($C131,ZPVOblN,ZPVOblD))))","v":""},{"$f":"IF($C$131=\"\",\"\",PÚ!$S$76)","v":""},{"$f":"IF($C$131=\"\",\"\",PÚ!$T76)","v":""},{"$f":"IF($C$131=\"\",\"\",Št.4x60m!$S$76)","v":""},{"$f":"IF($C$131=\"\",\"\",Št.4x60m!$T76)","v":""},{"$f":"IF($C$131=\"\",\"\",Št.dvojic!$U$169)","v":""},{"$f":"IF($C$131=\"\",\"\",\"(\"&SUM(Št.dvojic!$I$169:$T$169)&\")\")","v":""},{"$f":"IF($C$131=\"\",\"\",Št.dvojic!$V$169)","v":""},{"$f":"IF($C$131=\"\",\"\",Št.400mCTIF!$U$169)","v":""},{"$f":"IF($C$131=\"\",\"\",\"(\"&SUM(Št.400mCTIF!$I$169:$T$169)&\")\")","v":""},{"$f":"IF($C$131=\"\",\"\",Št.400mCTIF!$V$169)","v":""},{"$f":"IF($C$131=\"\",\"\",'PÚ CTIF'!$R$169)","v":""},{"$f":"IF($C$131=\"\",\"\",\"(\"&SUM('PÚ CTIF'!$I$169:$Q$169)&\")\")","v":""},{"$f":"IF($C$131=\"\",\"\",'PÚ CTIF'!$S$169)","v":""},{"$f":"IF(C131=\"\",\"\",Kronika!$H$54)","v":""},null,{"$f":"IF(A131=\"x\",300,IF(C131=\"\",\"\",SUM(D131,F131,H131,K131,N131,Q131,R131)))","v":""},null,{"$f":"IF($A131=\"x\",\"x\",IF($C131=\"\",\"\",MATCH($C131,Výsledky!$N$7:$N$106,0)))","v":""}]
[null,null,null,null,{"$f":"IF($C$131=\"\",\"\",PÚ!$S$77)","v":""},null,{"$f":"IF($C$131=\"\",\"\",Št.4x60m!$S$77)","v":""},null,{"$f":"IF($C$131=\"\",\"\",Št.dvojic!$U$170)","v":""},{"$f":"IF($C$131=\"\",\"\",\"(\"&SUM(Št.dvojic!$I$170:$T$170)&\")\")","v":""},null,{"$f":"IF($C$131=\"\",\"\",Št.400mCTIF!$U$170)","v":""},{"$f":"IF($C$131=\"\",\"\",\"(\"&SUM(Št.400mCTIF!$I$170:$T$170)&\")\")","v":""},null,{"$f":"IF($C$131=\"\",\"\",'PÚ CTIF'!$R$170)","v":""},{"$f":"IF($C$131=\"\",\"\",\"(\"&SUM('PÚ CTIF'!$I$170:$Q$170)&\")\")","v":""}]
[{"$f":"IF('Start - jaro'!M8=\"\",\"\",\"x\")","v":""},53,{"$f":"IF('Start - jaro'!K8=\"\",\"\",'Start - jaro'!K8)","v":""},{"$f":"IF($A133=\"x\",\"x\",IF($C133=\"\",\"\",IF(ISNA(MATCH($C133,ZPVOblN,0)),COUNTIF(ZPVOblT,\".\")+1,LOOKUP($C133,ZPVOblN,ZPVOblD))))","v":""},{"$f":"IF($C$133=\"\",\"\",PÚ!$S$78)","v":""},{"$f":"IF($C$133=\"\",\"\",PÚ!$T78)","v":""},{"$f":"IF($C$133=\"\",\"\",Št.4x60m!$S$78)","v":""},{"$f":"IF($C$133=\"\",\"\",Št.4x60m!$T78)","v":""},{"$f":"IF($C$133=\"\",\"\",Št.dvojic!$U$171)","v":""},{"$f":"IF($C$133=\"\",\"\",\"(\"&SUM(Št.dvojic!$I$171:$T$171)&\")\")","v":""},{"$f":"IF($C$133=\"\",\"\",Št.dvojic!$V$171)","v":""},{"$f":"IF($C$133=\"\",\"\",Št.400mCTIF!$U$171)","v":""},{"$f":"IF($C$133=\"\",\"\",\"(\"&SUM(Št.400mCTIF!$I$171:$T$171)&\")\")","v":""},{"$f":"IF($C$133=\"\",\"\",Št.400mCTIF!$V$171)","v":""},{"$f":"IF($C$133=\"\",\"\",'PÚ CTIF'!$R$171)","v":""},{"$f":"IF($C$133=\"\",\"\",\"(\"&SUM('PÚ CTIF'!$I$171:$Q$171)&\")\")","v":""},{"$f":"IF($C$133=\"\",\"\",'PÚ CTIF'!$S$171)","v":""},{"$f":"IF(C133=\"\",\"\",Kronika!$H$55)","v":""},null,{"$f":"IF(A133=\"x\",300,IF(C133=\"\",\"\",SUM(D133,F133,H133,K133,N133,Q133,R133)))","v":""},null,{"$f":"IF($A133=\"x\",\"x\",IF($C133=\"\",\"\",MATCH($C133,Výsledky!$N$7:$N$106,0)))","v":""}]
[null,null,null,null,{"$f":"IF($C$133=\"\",\"\",PÚ!$S$79)","v":""},null,{"$f":"IF($C$133=\"\",\"\",Št.4x60m!$S$79)","v":""},null,{"$f":"IF($C$133=\"\",\"\",Št.dvojic!$U$172)","v":""},{"$f":"IF($C$133=\"\",\"\",\"(\"&SUM(Št.dvojic!$I$172:$T$172)&\")\")","v":""},null,{"$f":"IF($C$133=\"\",\"\",Št.400mCTIF!$U$172)","v":""},{"$f":"IF($C$133=\"\",\"\",\"(\"&SUM(Št.400mCTIF!$I$172:$T$172)&\")\")","v":""},null,{"$f":"IF($C$133=\"\",\"\",'PÚ CTIF'!$R$172)","v":""},{"$f":"IF($C$133=\"\",\"\",\"(\"&SUM('PÚ CTIF'!$I$172:$Q$172)&\")\")","v":""}]
[{"$f":"IF('Start - jaro'!M9=\"\",\"\",\"x\")","v":""},54,{"$f":"IF('Start - jaro'!K9=\"\",\"\",'Start - jaro'!K9)","v":""},{"$f":"IF($A135=\"x\",\"x\",IF($C135=\"\",\"\",IF(ISNA(MATCH($C135,ZPVOblN,0)),COUNTIF(ZPVOblT,\".\")+1,LOOKUP($C135,ZPVOblN,ZPVOblD))))","v":""},{"$f":"IF($C$135=\"\",\"\",PÚ!$S$80)","v":""},{"$f":"IF($C$135=\"\",\"\",PÚ!$T80)","v":""},{"$f":"IF($C$135=\"\",\"\",Št.4x60m!$S$80)","v":""},{"$f":"IF($C$135=\"\",\"\",Št.4x60m!$T80)","v":""},{"$f":"IF($C$135=\"\",\"\",Št.dvojic!$U$173)","v":""},{"$f":"IF($C$135=\"\",\"\",\"(\"&SUM(Št.dvojic!$I$173:$T$173)&\")\")","v":""},{"$f":"IF($C$135=\"\",\"\",Št.dvojic!$V$173)","v":""},{"$f":"IF($C$135=\"\",\"\",Št.400mCTIF!$U$173)","v":""},{"$f":"IF($C$135=\"\",\"\",\"(\"&SUM(Št.400mCTIF!$I$173:$T$173)&\")\")","v":""},{"$f":"IF($C$135=\"\",\"\",Št.400mCTIF!$V$173)","v":""},{"$f":"IF($C$135=\"\",\"\",'PÚ CTIF'!$R$173)","v":""},{"$f":"IF($C$135=\"\",\"\",\"(\"&SUM('PÚ CTIF'!$I$173:$Q$173)&\")\")","v":""},{"$f":"IF($C$135=\"\",\"\",'PÚ CTIF'!$S$173)","v":""},{"$f":"IF(C135=\"\",\"\",Kronika!$H$56)","v":""},null,{"$f":"IF(A135=\"x\",300,IF(C135=\"\",\"\",SUM(D135,F135,H135,K135,N135,Q135,R135)))","v":""},null,{"$f":"IF($A135=\"x\",\"x\",IF($C135=\"\",\"\",MATCH($C135,Výsledky!$N$7:$N$106,0)))","v":""}]
[null,null,null,null,{"$f":"IF($C$135=\"\",\"\",PÚ!$S$81)","v":""},null,{"$f":"IF($C$135=\"\",\"\",Št.4x60m!$S$81)","v":""},null,{"$f":"IF($C$135=\"\",\"\",Št.dvojic!$U$174)","v":""},{"$f":"IF($C$135=\"\",\"\",\"(\"&SUM(Št.dvojic!$I$174:$T$174)&\")\")","v":""},null,{"$f":"IF($C$135=\"\",\"\",Št.400mCTIF!$U$174)","v":""},{"$f":"IF($C$135=\"\",\"\",\"(\"&SUM(Št.400mCTIF!$I$174:$T$174)&\")\")","v":""},null,{"$f":"IF($C$135=\"\",\"\",'PÚ CTIF'!$R$174)","v":""},{"$f":"IF($C$135=\"\",\"\",\"(\"&SUM('PÚ CTIF'!$I$174:$Q$174)&\")\")","v":""}]
[{"$f":"IF('Start - jaro'!M10=\"\",\"\",\"x\")","v":""},55,{"$f":"IF('Start - jaro'!K10=\"\",\"\",'Start - jaro'!K10)","v":""},{"$f":"IF($A137=\"x\",\"x\",IF($C137=\"\",\"\",IF(ISNA(MATCH($C137,ZPVOblN,0)),COUNTIF(ZPVOblT,\".\")+1,LOOKUP($C137,ZPVOblN,ZPVOblD))))","v":""},{"$f":"IF($C$137=\"\",\"\",PÚ!$S$82)","v":""},{"$f":"IF($C$137=\"\",\"\",PÚ!$T82)","v":""},{"$f":"IF($C$137=\"\",\"\",Št.4x60m!$S$82)","v":""},{"$f":"IF($C$137=\"\",\"\",Št.4x60m!$T82)","v":""},{"$f":"IF($C$137=\"\",\"\",Št.dvojic!$U$175)","v":""},{"$f":"IF($C$137=\"\",\"\",\"(\"&SUM(Št.dvojic!$I$175:$T$175)&\")\")","v":""},{"$f":"IF($C$137=\"\",\"\",Št.dvojic!$V$175)","v":""},{"$f":"IF($C$137=\"\",\"\",Št.400mCTIF!$U$175)","v":""},{"$f":"IF($C$137=\"\",\"\",\"(\"&SUM(Št.400mCTIF!$I$175:$T$175)&\")\")","v":""},{"$f":"IF($C$137=\"\",\"\",Št.400mCTIF!$V$175)","v":""},{"$f":"IF($C$137=\"\",\"\",'PÚ CTIF'!$R$175)","v":""},{"$f":"IF($C$137=\"\",\"\",\"(\"&SUM('PÚ CTIF'!$I$175:$Q$175)&\")\")","v":""},{"$f":"IF($C$137=\"\",\"\",'PÚ CTIF'!$S$175)","v":""},{"$f":"IF(C137=\"\",\"\",Kronika!$H$57)","v":""},null,{"$f":"IF(A137=\"x\",300,IF(C137=\"\",\"\",SUM(D137,F137,H137,K137,N137,Q137,R137)))","v":""},null,{"$f":"IF($A137=\"x\",\"x\",IF($C137=\"\",\"\",MATCH($C137,Výsledky!$N$7:$N$106,0)))","v":""}]
[null,null,null,null,{"$f":"IF($C$137=\"\",\"\",PÚ!$S$83)","v":""},null,{"$f":"IF($C$137=\"\",\"\",Št.4x60m!$S$83)","v":""},null,{"$f":"IF($C$137=\"\",\"\",Št.dvojic!$U$176)","v":""},{"$f":"IF($C$137=\"\",\"\",\"(\"&SUM(Št.dvojic!$I$176:$T$176)&\")\")","v":""},null,{"$f":"IF($C$137=\"\",\"\",Št.400mCTIF!$U$176)","v":""},{"$f":"IF($C$137=\"\",\"\",\"(\"&SUM(Št.400mCTIF!$I$176:$T$176)&\")\")","v":""},null,{"$f":"IF($C$137=\"\",\"\",'PÚ CTIF'!$R$176)","v":""},{"$f":"IF($C$137=\"\",\"\",\"(\"&SUM('PÚ CTIF'!$I$176:$Q$176)&\")\")","v":""}]
[{"$f":"IF('Start - jaro'!M11=\"\",\"\",\"x\")","v":""},56,{"$f":"IF('Start - jaro'!K11=\"\",\"\",'Start - jaro'!K11)","v":""},{"$f":"IF($A139=\"x\",\"x\",IF($C139=\"\",\"\",IF(ISNA(MATCH($C139,ZPVOblN,0)),COUNTIF(ZPVOblT,\".\")+1,LOOKUP($C139,ZPVOblN,ZPVOblD))))","v":""},{"$f":"IF($C$139=\"\",\"\",PÚ!$S$84)","v":""},{"$f":"IF($C$139=\"\",\"\",PÚ!$T84)","v":""},{"$f":"IF($C$139=\"\",\"\",Št.4x60m!$S$84)","v":""},{"$f":"IF($C$139=\"\",\"\",Št.4x60m!$T84)","v":""},{"$f":"IF($C$139=\"\",\"\",Št.dvojic!$U$177)","v":""},{"$f":"IF($C$139=\"\",\"\",\"(\"&SUM(Št.dvojic!$I$177:$T$177)&\")\")","v":""},{"$f":"IF($C$139=\"\",\"\",Št.dvojic!$V$177)","v":""},{"$f":"IF($C$139=\"\",\"\",Št.400mCTIF!$U$177)","v":""},{"$f":"IF($C$139=\"\",\"\",\"(\"&SUM(Št.400mCTIF!$I$177:$T$177)&\")\")","v":""},{"$f":"IF($C$139=\"\",\"\",Št.400mCTIF!$V$177)","v":""},{"$f":"IF($C$139=\"\",\"\",'PÚ CTIF'!$R$177)","v":""},{"$f":"IF($C$139=\"\",\"\",\"(\"&SUM('PÚ CTIF'!$I$177:$Q$177)&\")\")","v":""},{"$f":"IF($C$139=\"\",\"\",'PÚ CTIF'!$S$177)","v":""},{"$f":"IF(C139=\"\",\"\",Kronika!$H$58)","v":""},null,{"$f":"IF(A139=\"x\",300,IF(C139=\"\",\"\",SUM(D139,F139,H139,K139,N139,Q139,R139)))","v":""},null,{"$f":"IF($A139=\"x\",\"x\",IF($C139=\"\",\"\",MATCH($C139,Výsledky!$N$7:$N$106,0)))","v":""}]
[null,null,null,null,{"$f":"IF($C$139=\"\",\"\",PÚ!$S$85)","v":""},null,{"$f":"IF($C$139=\"\",\"\",Št.4x60m!$S$85)","v":""},null,{"$f":"IF($C$139=\"\",\"\",Št.dvojic!$U$178)","v":""},{"$f":"IF($C$139=\"\",\"\",\"(\"&SUM(Št.dvojic!$I$178:$T$178)&\")\")","v":""},null,{"$f":"IF($C$139=\"\",\"\",Št.400mCTIF!$U$178)","v":""},{"$f":"IF($C$139=\"\",\"\",\"(\"&SUM(Št.400mCTIF!$I$178:$T$178)&\")\")","v":""},null,{"$f":"IF($C$139=\"\",\"\",'PÚ CTIF'!$R$178)","v":""},{"$f":"IF($C$139=\"\",\"\",\"(\"&SUM('PÚ CTIF'!$I$178:$Q$178)&\")\")","v":""}]
[null,{"$f":"B106","v":"Celkové výsledky - TISK"}]
[]
[null,null,null,{"$f":"D108","v":"Krajská soutěž HRY PLAMEN"},null,null,null,null,null,null,null,{"$f":"L108","v":"2020/2021, České Budějovice"}]
[null,null,{"$f":"'Start - jaro'!$N$2","v":"STARŠÍ"}]
[null," startovní číslo"," SDH"," ZPV"," PÚ",null," Štafeta 4x60m",null," Štafeta dvojic",null,null," 400 m štafeta CTIF",null,null," PÚ - CTIF",null,null,"Celoroční činnost",null," Celkový součet",null,"Pořadí"]
[null,null,null,"P.","1.pokus","P.","1.pokus","P.","1.pokus","tr.body","P.","1.pokus","tr.body","P.","1.pokus","tr.body","P.","P."]
[null,null,null,null,"2.pokus",null,"2.pokus",null,"2.pokus","tr.body",null,"2.pokus","tr.body",null,"2.pokus","tr.body"]
[{"$f":"IF('Start - jaro'!M12=\"\",\"\",\"x\")","v":""},57,{"$f":"IF('Start - jaro'!K12=\"\",\"\",'Start - jaro'!K12)","v":""},{"$f":"IF($A148=\"x\",\"x\",IF($C148=\"\",\"\",IF(ISNA(MATCH($C148,ZPVOblN,0)),COUNTIF(ZPVOblT,\".\")+1,LOOKUP($C148,ZPVOblN,ZPVOblD))))","v":""},{"$f":"IF($C$148=\"\",\"\",PÚ!$S$86)","v":""},{"$f":"IF($C$148=\"\",\"\",PÚ!$T86)","v":""},{"$f":"IF($C$148=\"\",\"\",Št.4x60m!$S$86)","v":""},{"$f":"IF($C$148=\"\",\"\",Št.4x60m!$T86)","v":""},{"$f":"IF($C$148=\"\",\"\",Št.dvojic!$U$179)","v":""},{"$f":"IF($C$148=\"\",\"\",\"(\"&SUM(Št.dvojic!$I$179:$T$179)&\")\")","v":""},{"$f":"IF($C$148=\"\",\"\",Št.dvojic!$V$179)","v":""},{"$f":"IF($C$148=\"\",\"\",Št.400mCTIF!$U$179)","v":""},{"$f":"IF($C$148=\"\",\"\",\"(\"&SUM(Št.400mCTIF!$I$179:$T$179)&\")\")","v":""},{"$f":"IF($C$148=\"\",\"\",Št.400mCTIF!$V$179)","v":""},{"$f":"IF($C$148=\"\",\"\",'PÚ CTIF'!$R$179)","v":""},{"$f":"IF($C$148=\"\",\"\",\"(\"&SUM('PÚ CTIF'!$I$179:$Q$179)&\")\")","v":""},{"$f":"IF($C$148=\"\",\"\",'PÚ CTIF'!$S$179)","v":""},{"$f":"IF(C148=\"\",\"\",Kronika!$H$59)","v":""},null,{"$f":"IF(A148=\"x\",300,IF(C148=\"\",\"\",SUM(D148,F148,H148,K148,N148,Q148,R148)))","v":""},null,{"$f":"IF($A148=\"x\",\"x\",IF($C148=\"\",\"\",MATCH($C148,Výsledky!$N$7:$N$106,0)))","v":""}]
[null,null,null,null,{"$f":"IF($C$148=\"\",\"\",PÚ!$S$87)","v":""},null,{"$f":"IF($C$148=\"\",\"\",Št.4x60m!$S$87)","v":""},null,{"$f":"IF($C$148=\"\",\"\",Št.dvojic!$U$180)","v":""},{"$f":"IF($C$148=\"\",\"\",\"(\"&SUM(Št.dvojic!$I$180:$T$180)&\")\")","v":""},null,{"$f":"IF($C$148=\"\",\"\",Št.400mCTIF!$U$180)","v":""},{"$f":"IF($C$148=\"\",\"\",\"(\"&SUM(Št.400mCTIF!$I$180:$T$180)&\")\")","v":""},null,{"$f":"IF($C$148=\"\",\"\",'PÚ CTIF'!$R$180)","v":""},{"$f":"IF($C$148=\"\",\"\",\"(\"&SUM('PÚ CTIF'!$I$180:$Q$180)&\")\")","v":""}]
[{"$f":"IF('Start - jaro'!M13=\"\",\"\",\"x\")","v":""},58,{"$f":"IF('Start - jaro'!K13=\"\",\"\",'Start - jaro'!K13)","v":""},{"$f":"IF($A150=\"x\",\"x\",IF($C150=\"\",\"\",IF(ISNA(MATCH($C150,ZPVOblN,0)),COUNTIF(ZPVOblT,\".\")+1,LOOKUP($C150,ZPVOblN,ZPVOblD))))","v":""},{"$f":"IF($C$150=\"\",\"\",PÚ!$S$88)","v":""},{"$f":"IF($C$150=\"\",\"\",PÚ!$T88)","v":""},{"$f":"IF($C$150=\"\",\"\",Št.4x60m!$S$88)","v":""},{"$f":"IF($C$150=\"\",\"\",Št.4x60m!$T88)","v":""},{"$f":"IF($C$150=\"\",\"\",Št.dvojic!$U$181)","v":""},{"$f":"IF($C$150=\"\",\"\",\"(\"&SUM(Št.dvojic!$I$181:$T$181)&\")\")","v":""},{"$f":"IF($C$150=\"\",\"\",Št.dvojic!$V$181)","v":""},{"$f":"IF($C$150=\"\",\"\",Št.400mCTIF!$U$181)","v":""},{"$f":"IF($C$150=\"\",\"\",\"(\"&SUM(Št.400mCTIF!$I$181:$T$181)&\")\")","v":""},{"$f":"IF($C$150=\"\",\"\",Št.400mCTIF!$V$181)","v":""},{"$f":"IF($C$150=\"\",\"\",'PÚ CTIF'!$R$181)","v":""},{"$f":"IF($C$150=\"\",\"\",\"(\"&SUM('PÚ CTIF'!$I$181:$Q$181)&\")\")","v":""},{"$f":"IF($C$150=\"\",\"\",'PÚ CTIF'!$S$181)","v":""},{"$f":"IF(C150=\"\",\"\",Kronika!$H$60)","v":""},null,{"$f":"IF(A150=\"x\",300,IF(C150=\"\",\"\",SUM(D150,F150,H150,K150,N150,Q150,R150)))","v":""},null,{"$f":"IF($A150=\"x\",\"x\",IF($C150=\"\",\"\",MATCH($C150,Výsledky!$N$7:$N$106,0)))","v":""}]
[null,null,null,null,{"$f":"IF($C$150=\"\",\"\",PÚ!$S$89)","v":""},null,{"$f":"IF($C$150=\"\",\"\",Št.4x60m!$S$89)","v":""},null,{"$f":"IF($C$150=\"\",\"\",Št.dvojic!$U$182)","v":""},{"$f":"IF($C$150=\"\",\"\",\"(\"&SUM(Št.dvojic!$I$182:$T$182)&\")\")","v":""},null,{"$f":"IF($C$150=\"\",\"\",Št.400mCTIF!$U$182)","v":""},{"$f":"IF($C$150=\"\",\"\",\"(\"&SUM(Št.400mCTIF!$I$182:$T$182)&\")\")","v":""},null,{"$f":"IF($C$150=\"\",\"\",'PÚ CTIF'!$R$182)","v":""},{"$f":"IF($C$150=\"\",\"\",\"(\"&SUM('PÚ CTIF'!$I$182:$Q$182)&\")\")","v":""}]
[{"$f":"IF('Start - jaro'!M14=\"\",\"\",\"x\")","v":""},59,{"$f":"IF('Start - jaro'!K14=\"\",\"\",'Start - jaro'!K14)","v":""},{"$f":"IF($A152=\"x\",\"x\",IF($C152=\"\",\"\",IF(ISNA(MATCH($C152,ZPVOblN,0)),COUNTIF(ZPVOblT,\".\")+1,LOOKUP($C152,ZPVOblN,ZPVOblD))))","v":""},{"$f":"IF($C$152=\"\",\"\",PÚ!$S$90)","v":""},{"$f":"IF($C$152=\"\",\"\",PÚ!$T90)","v":""},{"$f":"IF($C$152=\"\",\"\",Št.4x60m!$S$90)","v":""},{"$f":"IF($C$152=\"\",\"\",Št.4x60m!$T90)","v":""},{"$f":"IF($C$152=\"\",\"\",Št.dvojic!$U$183)","v":""},{"$f":"IF($C$152=\"\",\"\",\"(\"&SUM(Št.dvojic!$I$183:$T$183)&\")\")","v":""},{"$f":"IF($C$152=\"\",\"\",Št.dvojic!$V$183)","v":""},{"$f":"IF($C$152=\"\",\"\",Št.400mCTIF!$U$183)","v":""},{"$f":"IF($C$152=\"\",\"\",\"(\"&SUM(Št.400mCTIF!$I$183:$T$183)&\")\")","v":""},{"$f":"IF($C$152=\"\",\"\",Št.400mCTIF!$V$183)","v":""},{"$f":"IF($C$152=\"\",\"\",'PÚ CTIF'!$R$183)","v":""},{"$f":"IF($C$152=\"\",\"\",\"(\"&SUM('PÚ CTIF'!$I$183:$Q$183)&\")\")","v":""},{"$f":"IF($C$152=\"\",\"\",'PÚ CTIF'!$S$183)","v":""},{"$f":"IF(C152=\"\",\"\",Kronika!$H$61)","v":""},null,{"$f":"IF(A152=\"x\",300,IF(C152=\"\",\"\",SUM(D152,F152,H152,K152,N152,Q152,R152)))","v":""},null,{"$f":"IF($A152=\"x\",\"x\",IF($C152=\"\",\"\",MATCH($C152,Výsledky!$N$7:$N$106,0)))","v":""}]
[null,null,null,null,{"$f":"IF($C$152=\"\",\"\",PÚ!$S$91)","v":""},null,{"$f":"IF($C$152=\"\",\"\",Št.4x60m!$S$91)","v":""},null,{"$f":"IF($C$152=\"\",\"\",Št.dvojic!$U$184)","v":""},{"$f":"IF($C$152=\"\",\"\",\"(\"&SUM(Št.dvojic!$I$184:$T$184)&\")\")","v":""},null,{"$f":"IF($C$152=\"\",\"\",Št.400mCTIF!$U$184)","v":""},{"$f":"IF($C$152=\"\",\"\",\"(\"&SUM(Št.400mCTIF!$I$184:$T$184)&\")\")","v":""},null,{"$f":"IF($C$152=\"\",\"\",'PÚ CTIF'!$R$184)","v":""},{"$f":"IF($C$152=\"\",\"\",\"(\"&SUM('PÚ CTIF'!$I$184:$Q$184)&\")\")","v":""}]
[{"$f":"IF('Start - jaro'!M15=\"\",\"\",\"x\")","v":""},60,{"$f":"IF('Start - jaro'!K15=\"\",\"\",'Start - jaro'!K15)","v":""},{"$f":"IF($A154=\"x\",\"x\",IF($C154=\"\",\"\",IF(ISNA(MATCH($C154,ZPVOblN,0)),COUNTIF(ZPVOblT,\".\")+1,LOOKUP($C154,ZPVOblN,ZPVOblD))))","v":""},{"$f":"IF($C$154=\"\",\"\",PÚ!$S$92)","v":""},{"$f":"IF($C$154=\"\",\"\",PÚ!$T92)","v":""},{"$f":"IF($C$154=\"\",\"\",Št.4x60m!$S$92)","v":""},{"$f":"IF($C$154=\"\",\"\",Št.4x60m!$T92)","v":""},{"$f":"IF($C$154=\"\",\"\",Št.dvojic!$U$185)","v":""},{"$f":"IF($C$154=\"\",\"\",\"(\"&SUM(Št.dvojic!$I$185:$T$185)&\")\")","v":""},{"$f":"IF($C$154=\"\",\"\",Št.dvojic!$V$185)","v":""},{"$f":"IF($C$154=\"\",\"\",Št.400mCTIF!$U$185)","v":""},{"$f":"IF($C$154=\"\",\"\",\"(\"&SUM(Št.400mCTIF!$I$185:$T$185)&\")\")","v":""},{"$f":"IF($C$154=\"\",\"\",Št.400mCTIF!$V$185)","v":""},{"$f":"IF($C$154=\"\",\"\",'PÚ CTIF'!$R$185)","v":""},{"$f":"IF($C$154=\"\",\"\",\"(\"&SUM('PÚ CTIF'!$I$185:$Q$185)&\")\")","v":""},{"$f":"IF($C$154=\"\",\"\",'PÚ CTIF'!$S$185)","v":""},{"$f":"IF(C154=\"\",\"\",Kronika!$H$62)","v":""},null,{"$f":"IF(A154=\"x\",300,IF(C154=\"\",\"\",SUM(D154,F154,H154,K154,N154,Q154,R154)))","v":""},null,{"$f":"IF($A154=\"x\",\"x\",IF($C154=\"\",\"\",MATCH($C154,Výsledky!$N$7:$N$106,0)))","v":""}]
[null,null,null,null,{"$f":"IF($C$154=\"\",\"\",PÚ!$S$93)","v":""},null,{"$f":"IF($C$154=\"\",\"\",Št.4x60m!$S$93)","v":""},null,{"$f":"IF($C$154=\"\",\"\",Št.dvojic!$U$186)","v":""},{"$f":"IF($C$154=\"\",\"\",\"(\"&SUM(Št.dvojic!$I$186:$T$186)&\")\")","v":""},null,{"$f":"IF($C$154=\"\",\"\",Št.400mCTIF!$U$186)","v":""},{"$f":"IF($C$154=\"\",\"\",\"(\"&SUM(Št.400mCTIF!$I$186:$T$186)&\")\")","v":""},null,{"$f":"IF($C$154=\"\",\"\",'PÚ CTIF'!$R$186)","v":""},{"$f":"IF($C$154=\"\",\"\",\"(\"&SUM('PÚ CTIF'!$I$186:$Q$186)&\")\")","v":""}]
[{"$f":"IF('Start - jaro'!M16=\"\",\"\",\"x\")","v":""},61,{"$f":"IF('Start - jaro'!K16=\"\",\"\",'Start - jaro'!K16)","v":""},{"$f":"IF($A156=\"x\",\"x\",IF($C156=\"\",\"\",IF(ISNA(MATCH($C156,ZPVOblN,0)),COUNTIF(ZPVOblT,\".\")+1,LOOKUP($C156,ZPVOblN,ZPVOblD))))","v":""},{"$f":"IF($C$156=\"\",\"\",PÚ!$H$105)","v":""},{"$f":"IF($C$156=\"\",\"\",PÚ!$I$105)","v":""},{"$f":"IF($C$156=\"\",\"\",Št.4x60m!$H$105)","v":""},{"$f":"IF($C$156=\"\",\"\",Št.4x60m!$I$105)","v":""},{"$f":"IF($C$156=\"\",\"\",Št.dvojic!$U$198)","v":""},{"$f":"IF($C$156=\"\",\"\",\"(\"&SUM(Št.dvojic!$I$198:$T$198)&\")\")","v":""},{"$f":"IF($C$156=\"\",\"\",Št.dvojic!$V$198)","v":""},{"$f":"IF($C$156=\"\",\"\",Št.400mCTIF!$U$198)","v":""},{"$f":"IF($C$156=\"\",\"\",\"(\"&SUM(Št.400mCTIF!$I$198:$T$198)&\")\")","v":""},{"$f":"IF($C$156=\"\",\"\",Št.400mCTIF!$V$198)","v":""},{"$f":"IF($C$156=\"\",\"\",'PÚ CTIF'!$R$198)","v":""},{"$f":"IF($C$156=\"\",\"\",\"(\"&SUM('PÚ CTIF'!$I$198:$Q$198)&\")\")","v":""},{"$f":"IF($C$156=\"\",\"\",'PÚ CTIF'!$S$198)","v":""},{"$f":"IF(C156=\"\",\"\",Kronika!$P$43)","v":""},null,{"$f":"IF(A156=\"x\",300,IF(C156=\"\",\"\",SUM(D156,F156,H156,K156,N156,Q156,R156)))","v":""},null,{"$f":"IF($A156=\"x\",\"x\",IF($C156=\"\",\"\",MATCH($C156,Výsledky!$N$7:$N$106,0)))","v":""}]
[null,null,null,null,{"$f":"IF($C$156=\"\",\"\",PÚ!$H$106)","v":""},null,{"$f":"IF($C$156=\"\",\"\",Št.4x60m!$H$106)","v":""},null,{"$f":"IF($C$156=\"\",\"\",Št.dvojic!$U$199)","v":""},{"$f":"IF($C$156=\"\",\"\",\"(\"&SUM(Št.dvojic!$I$199:$T$199)&\")\")","v":""},null,{"$f":"IF($C$156=\"\",\"\",Št.400mCTIF!$U$199)","v":""},{"$f":"IF($C$156=\"\",\"\",\"(\"&SUM(Št.400mCTIF!$I$199:$T$199)&\")\")","v":""},null,{"$f":"IF($C$156=\"\",\"\",'PÚ CTIF'!$R$199)","v":""},{"$f":"IF($C$156=\"\",\"\",\"(\"&SUM('PÚ CTIF'!$I$199:$Q$199)&\")\")","v":""}]
[{"$f":"IF('Start - jaro'!M17=\"\",\"\",\"x\")","v":""},62,{"$f":"IF('Start - jaro'!K17=\"\",\"\",'Start - jaro'!K17)","v":""},{"$f":"IF($A158=\"x\",\"x\",IF($C158=\"\",\"\",IF(ISNA(MATCH($C158,ZPVOblN,0)),COUNTIF(ZPVOblT,\".\")+1,LOOKUP($C158,ZPVOblN,ZPVOblD))))","v":""},{"$f":"IF($C$158=\"\",\"\",PÚ!$H$107)","v":""},{"$f":"IF($C$158=\"\",\"\",PÚ!$I$107)","v":""},{"$f":"IF($C$158=\"\",\"\",Št.4x60m!$H$107)","v":""},{"$f":"IF($C$158=\"\",\"\",Št.4x60m!$I$107)","v":""},{"$f":"IF($C$158=\"\",\"\",Št.dvojic!$U$200)","v":""},{"$f":"IF($C$158=\"\",\"\",\"(\"&SUM(Št.dvojic!$I$200:$T$200)&\")\")","v":""},{"$f":"IF($C$158=\"\",\"\",Št.dvojic!$V$200)","v":""},{"$f":"IF($C$158=\"\",\"\",Št.400mCTIF!$U$200)","v":""},{"$f":"IF($C$158=\"\",\"\",\"(\"&SUM(Št.400mCTIF!$I$200:$T$200)&\")\")","v":""},{"$f":"IF($C$158=\"\",\"\",Št.400mCTIF!$V$200)","v":""},{"$f":"IF($C$158=\"\",\"\",'PÚ CTIF'!$R$200)","v":""},{"$f":"IF($C$158=\"\",\"\",\"(\"&SUM('PÚ CTIF'!$I$200:$Q$200)&\")\")","v":""},{"$f":"IF($C$158=\"\",\"\",'PÚ CTIF'!$S$200)","v":""},{"$f":"IF(C158=\"\",\"\",Kronika!$P$44)","v":""},null,{"$f":"IF(A158=\"x\",300,IF(C158=\"\",\"\",SUM(D158,F158,H158,K158,N158,Q158,R158)))","v":""},null,{"$f":"IF($A158=\"x\",\"x\",IF($C158=\"\",\"\",MATCH($C158,Výsledky!$N$7:$N$106,0)))","v":""}]
[null,null,null,null,{"$f":"IF($C$158=\"\",\"\",PÚ!$H$108)","v":""},null,{"$f":"IF($C$158=\"\",\"\",Št.4x60m!$H$108)","v":""},null,{"$f":"IF($C$158=\"\",\"\",Št.dvojic!$U$201)","v":""},{"$f":"IF($C$158=\"\",\"\",\"(\"&SUM(Št.dvojic!$I$201:$T$201)&\")\")","v":""},null,{"$f":"IF($C$158=\"\",\"\",Št.400mCTIF!$U$201)","v":""},{"$f":"IF($C$158=\"\",\"\",\"(\"&SUM(Št.400mCTIF!$I$201:$T$201)&\")\")","v":""},null,{"$f":"IF($C$158=\"\",\"\",'PÚ CTIF'!$R$201)","v":""},{"$f":"IF($C$158=\"\",\"\",\"(\"&SUM('PÚ CTIF'!$I$201:$Q$201)&\")\")","v":""}]
[{"$f":"IF('Start - jaro'!M18=\"\",\"\",\"x\")","v":""},63,{"$f":"IF('Start - jaro'!K18=\"\",\"\",'Start - jaro'!K18)","v":""},{"$f":"IF($A160=\"x\",\"x\",IF($C160=\"\",\"\",IF(ISNA(MATCH($C160,ZPVOblN,0)),COUNTIF(ZPVOblT,\".\")+1,LOOKUP($C160,ZPVOblN,ZPVOblD))))","v":""},{"$f":"IF($C$160=\"\",\"\",PÚ!$H$109)","v":""},{"$f":"IF($C$160=\"\",\"\",PÚ!$I$109)","v":""},{"$f":"IF($C$160=\"\",\"\",Št.4x60m!$H$109)","v":""},{"$f":"IF($C$160=\"\",\"\",Št.4x60m!$I$109)","v":""},{"$f":"IF($C$160=\"\",\"\",Št.dvojic!$U$202)","v":""},{"$f":"IF($C$160=\"\",\"\",\"(\"&SUM(Št.dvojic!$I$202:$T$202)&\")\")","v":""},{"$f":"IF($C$160=\"\",\"\",Št.dvojic!$V$202)","v":""},{"$f":"IF($C$160=\"\",\"\",Št.400mCTIF!$U$202)","v":""},{"$f":"IF($C$160=\"\",\"\",\"(\"&SUM(Št.400mCTIF!$I$202:$T$202)&\")\")","v":""},{"$f":"IF($C$160=\"\",\"\",Št.400mCTIF!$V$202)","v":""},{"$f":"IF($C$160=\"\",\"\",'PÚ CTIF'!$R$202)","v":""},{"$f":"IF($C$160=\"\",\"\",\"(\"&SUM('PÚ CTIF'!$I$202:$Q$202)&\")\")","v":""},{"$f":"IF($C$160=\"\",\"\",'PÚ CTIF'!$S$202)","v":""},{"$f":"IF(C160=\"\",\"\",Kronika!$P$45)","v":""},null,{"$f":"IF(A160=\"x\",300,IF(C160=\"\",\"\",SUM(D160,F160,H160,K160,N160,Q160,R160)))","v":""},null,{"$f":"IF($A160=\"x\",\"x\",IF($C160=\"\",\"\",MATCH($C160,Výsledky!$N$7:$N$106,0)))","v":""}]
[null,null,null,null,{"$f":"IF($C$160=\"\",\"\",PÚ!$H$110)","v":""},null,{"$f":"IF($C$160=\"\",\"\",Št.4x60m!$H$110)","v":""},null,{"$f":"IF($C$160=\"\",\"\",Št.dvojic!$U$203)","v":""},{"$f":"IF($C$160=\"\",\"\",\"(\"&SUM(Št.dvojic!$I$203:$T$203)&\")\")","v":""},null,{"$f":"IF($C$160=\"\",\"\",Št.400mCTIF!$U$203)","v":""},{"$f":"IF($C$160=\"\",\"\",\"(\"&SUM(Št.400mCTIF!$I$203:$T$203)&\")\")","v":""},null,{"$f":"IF($C$160=\"\",\"\",'PÚ CTIF'!$R$203)","v":""},{"$f":"IF($C$160=\"\",\"\",\"(\"&SUM('PÚ CTIF'!$I$203:$Q$203)&\")\")","v":""}]
[{"$f":"IF('Start - jaro'!M19=\"\",\"\",\"x\")","v":""},64,{"$f":"IF('Start - jaro'!K19=\"\",\"\",'Start - jaro'!K19)","v":""},{"$f":"IF($A162=\"x\",\"x\",IF($C162=\"\",\"\",IF(ISNA(MATCH($C162,ZPVOblN,0)),COUNTIF(ZPVOblT,\".\")+1,LOOKUP($C162,ZPVOblN,ZPVOblD))))","v":""},{"$f":"IF($C$162=\"\",\"\",PÚ!$H$111)","v":""},{"$f":"IF($C$162=\"\",\"\",PÚ!$I$111)","v":""},{"$f":"IF($C$162=\"\",\"\",Št.4x60m!$H$111)","v":""},{"$f":"IF($C$162=\"\",\"\",Št.4x60m!$I$111)","v":""},{"$f":"IF($C$162=\"\",\"\",Št.dvojic!$U$204)","v":""},{"$f":"IF($C$162=\"\",\"\",\"(\"&SUM(Št.dvojic!$I$204:$T$204)&\")\")","v":""},{"$f":"IF($C$162=\"\",\"\",Št.dvojic!$V$204)","v":""},{"$f":"IF($C$162=\"\",\"\",Št.400mCTIF!$U$204)","v":""},{"$f":"IF($C$162=\"\",\"\",\"(\"&SUM(Št.400mCTIF!$I$204:$T$204)&\")\")","v":""},{"$f":"IF($C$162=\"\",\"\",Št.400mCTIF!$V$204)","v":""},{"$f":"IF($C$162=\"\",\"\",'PÚ CTIF'!$R$204)","v":""},{"$f":"IF($C$162=\"\",\"\",\"(\"&SUM('PÚ CTIF'!$I$204:$Q$204)&\")\")","v":""},{"$f":"IF($C$162=\"\",\"\",'PÚ CTIF'!$S$204)","v":""},{"$f":"IF(C162=\"\",\"\",Kronika!$P$46)","v":""},null,{"$f":"IF(A162=\"x\",300,IF(C162=\"\",\"\",SUM(D162,F162,H162,K162,N162,Q162,R162)))","v":""},null,{"$f":"IF($A162=\"x\",\"x\",IF($C162=\"\",\"\",MATCH($C162,Výsledky!$N$7:$N$106,0)))","v":""}]
[null,null,null,null,{"$f":"IF($C$162=\"\",\"\",PÚ!$H$112)","v":""},null,{"$f":"IF($C$162=\"\",\"\",Št.4x60m!$H$112)","v":""},null,{"$f":"IF($C$162=\"\",\"\",Št.dvojic!$U$205)","v":""},{"$f":"IF($C$162=\"\",\"\",\"(\"&SUM(Št.dvojic!$I$205:$T$205)&\")\")","v":""},null,{"$f":"IF($C$162=\"\",\"\",Št.400mCTIF!$U$205)","v":""},{"$f":"IF($C$162=\"\",\"\",\"(\"&SUM(Št.400mCTIF!$I$205:$T$205)&\")\")","v":""},null,{"$f":"IF($C$162=\"\",\"\",'PÚ CTIF'!$R$205)","v":""},{"$f":"IF($C$162=\"\",\"\",\"(\"&SUM('PÚ CTIF'!$I$205:$Q$205)&\")\")","v":""}]
[{"$f":"IF('Start - jaro'!M20=\"\",\"\",\"x\")","v":""},65,{"$f":"IF('Start - jaro'!K20=\"\",\"\",'Start - jaro'!K20)","v":""},{"$f":"IF($A164=\"x\",\"x\",IF($C164=\"\",\"\",IF(ISNA(MATCH($C164,ZPVOblN,0)),COUNTIF(ZPVOblT,\".\")+1,LOOKUP($C164,ZPVOblN,ZPVOblD))))","v":""},{"$f":"IF($C$164=\"\",\"\",PÚ!$H$113)","v":""},{"$f":"IF($C$164=\"\",\"\",PÚ!$I$113)","v":""},{"$f":"IF($C$164=\"\",\"\",Št.4x60m!$H$113)","v":""},{"$f":"IF($C$164=\"\",\"\",Št.4x60m!$I$113)","v":""},{"$f":"IF($C$164=\"\",\"\",Št.dvojic!$U$206)","v":""},{"$f":"IF($C$164=\"\",\"\",\"(\"&SUM(Št.dvojic!$I$206:$T$206)&\")\")","v":""},{"$f":"IF($C$164=\"\",\"\",Št.dvojic!$V$206)","v":""},{"$f":"IF($C$164=\"\",\"\",Št.400mCTIF!$U$206)","v":""},{"$f":"IF($C$164=\"\",\"\",\"(\"&SUM(Št.400mCTIF!$I$206:$T$206)&\")\")","v":""},{"$f":"IF($C$164=\"\",\"\",Št.400mCTIF!$V$206)","v":""},{"$f":"IF($C$164=\"\",\"\",'PÚ CTIF'!$R$206)","v":""},{"$f":"IF($C$164=\"\",\"\",\"(\"&SUM('PÚ CTIF'!$I$206:$Q$206)&\")\")","v":""},{"$f":"IF($C$164=\"\",\"\",'PÚ CTIF'!$S$206)","v":""},{"$f":"IF(C164=\"\",\"\",Kronika!$P$47)","v":""},null,{"$f":"IF(A164=\"x\",300,IF(C164=\"\",\"\",SUM(D164,F164,H164,K164,N164,Q164,R164)))","v":""},null,{"$f":"IF($A164=\"x\",\"x\",IF($C164=\"\",\"\",MATCH($C164,Výsledky!$N$7:$N$106,0)))","v":""}]
[null,null,null,null,{"$f":"IF($C$164=\"\",\"\",PÚ!$H$114)","v":""},null,{"$f":"IF($C$164=\"\",\"\",Št.4x60m!$H$114)","v":""},null,{"$f":"IF($C$164=\"\",\"\",Št.dvojic!$U$207)","v":""},{"$f":"IF($C$164=\"\",\"\",\"(\"&SUM(Št.dvojic!$I$207:$T$207)&\")\")","v":""},null,{"$f":"IF($C$164=\"\",\"\",Št.400mCTIF!$U$207)","v":""},{"$f":"IF($C$164=\"\",\"\",\"(\"&SUM(Št.400mCTIF!$I$207:$T$207)&\")\")","v":""},null,{"$f":"IF($C$164=\"\",\"\",'PÚ CTIF'!$R$207)","v":""},{"$f":"IF($C$164=\"\",\"\",\"(\"&SUM('PÚ CTIF'!$I$207:$Q$207)&\")\")","v":""}]
[{"$f":"IF('Start - jaro'!M21=\"\",\"\",\"x\")","v":""},66,{"$f":"IF('Start - jaro'!K21=\"\",\"\",'Start - jaro'!K21)","v":""},{"$f":"IF($A166=\"x\",\"x\",IF($C166=\"\",\"\",IF(ISNA(MATCH($C166,ZPVOblN,0)),COUNTIF(ZPVOblT,\".\")+1,LOOKUP($C166,ZPVOblN,ZPVOblD))))","v":""},{"$f":"IF($C$166=\"\",\"\",PÚ!$H$115)","v":""},{"$f":"IF($C$166=\"\",\"\",PÚ!$I$115)","v":""},{"$f":"IF($C$166=\"\",\"\",Št.4x60m!$H$115)","v":""},{"$f":"IF($C$166=\"\",\"\",Št.4x60m!$I$115)","v":""},{"$f":"IF($C$166=\"\",\"\",Št.dvojic!$U$208)","v":""},{"$f":"IF($C$166=\"\",\"\",\"(\"&SUM(Št.dvojic!$I$208:$T$208)&\")\")","v":""},{"$f":"IF($C$166=\"\",\"\",Št.dvojic!$V$208)","v":""},{"$f":"IF($C$166=\"\",\"\",Št.400mCTIF!$U$208)","v":""},{"$f":"IF($C$166=\"\",\"\",\"(\"&SUM(Št.400mCTIF!$I$208:$T$208)&\")\")","v":""},{"$f":"IF($C$166=\"\",\"\",Št.400mCTIF!$V$208)","v":""},{"$f":"IF($C$166=\"\",\"\",'PÚ CTIF'!$R$208)","v":""},{"$f":"IF($C$166=\"\",\"\",\"(\"&SUM('PÚ CTIF'!$I$208:$Q$208)&\")\")","v":""},{"$f":"IF($C$166=\"\",\"\",'PÚ CTIF'!$S$208)","v":""},{"$f":"IF(C166=\"\",\"\",Kronika!$P$48)","v":""},null,{"$f":"IF(A166=\"x\",300,IF(C166=\"\",\"\",SUM(D166,F166,H166,K166,N166,Q166,R166)))","v":""},null,{"$f":"IF($A166=\"x\",\"x\",IF($C166=\"\",\"\",MATCH($C166,Výsledky!$N$7:$N$106,0)))","v":""}]
[null,null,null,null,{"$f":"IF($C$166=\"\",\"\",PÚ!$H$116)","v":""},null,{"$f":"IF($C$166=\"\",\"\",Št.4x60m!$H$116)","v":""},null,{"$f":"IF($C$166=\"\",\"\",Št.dvojic!$U$209)","v":""},{"$f":"IF($C$166=\"\",\"\",\"(\"&SUM(Št.dvojic!$I$209:$T$209)&\")\")","v":""},null,{"$f":"IF($C$166=\"\",\"\",Št.400mCTIF!$U$209)","v":""},{"$f":"IF($C$166=\"\",\"\",\"(\"&SUM(Št.400mCTIF!$I$209:$T$209)&\")\")","v":""},null,{"$f":"IF($C$166=\"\",\"\",'PÚ CTIF'!$R$209)","v":""},{"$f":"IF($C$166=\"\",\"\",\"(\"&SUM('PÚ CTIF'!$I$209:$Q$209)&\")\")","v":""}]
[{"$f":"IF('Start - jaro'!M22=\"\",\"\",\"x\")","v":""},67,{"$f":"IF('Start - jaro'!K22=\"\",\"\",'Start - jaro'!K22)","v":""},{"$f":"IF($A168=\"x\",\"x\",IF($C168=\"\",\"\",IF(ISNA(MATCH($C168,ZPVOblN,0)),COUNTIF(ZPVOblT,\".\")+1,LOOKUP($C168,ZPVOblN,ZPVOblD))))","v":""},{"$f":"IF($C$168=\"\",\"\",PÚ!$H$117)","v":""},{"$f":"IF($C$168=\"\",\"\",PÚ!$I$117)","v":""},{"$f":"IF($C$168=\"\",\"\",Št.4x60m!$H$117)","v":""},{"$f":"IF($C$168=\"\",\"\",Št.4x60m!$I$117)","v":""},{"$f":"IF($C$168=\"\",\"\",Št.dvojic!$U$210)","v":""},{"$f":"IF($C$168=\"\",\"\",\"(\"&SUM(Št.dvojic!$I$210:$T$210)&\")\")","v":""},{"$f":"IF($C$168=\"\",\"\",Št.dvojic!$V$210)","v":""},{"$f":"IF($C$168=\"\",\"\",Št.400mCTIF!$U$210)","v":""},{"$f":"IF($C$168=\"\",\"\",\"(\"&SUM(Št.400mCTIF!$I$210:$T$210)&\")\")","v":""},{"$f":"IF($C$168=\"\",\"\",Št.400mCTIF!$V$210)","v":""},{"$f":"IF($C$168=\"\",\"\",'PÚ CTIF'!$R$210)","v":""},{"$f":"IF($C$168=\"\",\"\",\"(\"&SUM('PÚ CTIF'!$I$210:$Q$210)&\")\")","v":""},{"$f":"IF($C$168=\"\",\"\",'PÚ CTIF'!$S$210)","v":""},{"$f":"IF(C168=\"\",\"\",Kronika!$P$49)","v":""},null,{"$f":"IF(A168=\"x\",300,IF(C168=\"\",\"\",SUM(D168,F168,H168,K168,N168,Q168,R168)))","v":""},null,{"$f":"IF($A168=\"x\",\"x\",IF($C168=\"\",\"\",MATCH($C168,Výsledky!$N$7:$N$106,0)))","v":""}]
[null,null,null,null,{"$f":"IF($C$168=\"\",\"\",PÚ!$H$118)","v":""},null,{"$f":"IF($C$168=\"\",\"\",Št.4x60m!$H$118)","v":""},null,{"$f":"IF($C$168=\"\",\"\",Št.dvojic!$U$211)","v":""},{"$f":"IF($C$168=\"\",\"\",\"(\"&SUM(Št.dvojic!$I$211:$T$211)&\")\")","v":""},null,{"$f":"IF($C$168=\"\",\"\",Št.400mCTIF!$U$211)","v":""},{"$f":"IF($C$168=\"\",\"\",\"(\"&SUM(Št.400mCTIF!$I$211:$T$211)&\")\")","v":""},null,{"$f":"IF($C$168=\"\",\"\",'PÚ CTIF'!$R$211)","v":""},{"$f":"IF($C$168=\"\",\"\",\"(\"&SUM('PÚ CTIF'!$I$211:$Q$211)&\")\")","v":""}]
[{"$f":"IF('Start - jaro'!M23=\"\",\"\",\"x\")","v":""},68,{"$f":"IF('Start - jaro'!K23=\"\",\"\",'Start - jaro'!K23)","v":""},{"$f":"IF($A170=\"x\",\"x\",IF($C170=\"\",\"\",IF(ISNA(MATCH($C170,ZPVOblN,0)),COUNTIF(ZPVOblT,\".\")+1,LOOKUP($C170,ZPVOblN,ZPVOblD))))","v":""},{"$f":"IF($C$170=\"\",\"\",PÚ!$H$119)","v":""},{"$f":"IF($C$170=\"\",\"\",PÚ!$I$119)","v":""},{"$f":"IF($C$170=\"\",\"\",Št.4x60m!$H$119)","v":""},{"$f":"IF($C$170=\"\",\"\",Št.4x60m!$I$119)","v":""},{"$f":"IF($C$170=\"\",\"\",Št.dvojic!$U$212)","v":""},{"$f":"IF($C$170=\"\",\"\",\"(\"&SUM(Št.dvojic!$I$212:$T$212)&\")\")","v":""},{"$f":"IF($C$170=\"\",\"\",Št.dvojic!$V$212)","v":""},{"$f":"IF($C$170=\"\",\"\",Št.400mCTIF!$U$212)","v":""},{"$f":"IF($C$170=\"\",\"\",\"(\"&SUM(Št.400mCTIF!$I$212:$T$212)&\")\")","v":""},{"$f":"IF($C$170=\"\",\"\",Št.400mCTIF!$V$212)","v":""},{"$f":"IF($C$170=\"\",\"\",'PÚ CTIF'!$R$212)","v":""},{"$f":"IF($C$170=\"\",\"\",\"(\"&SUM('PÚ CTIF'!$I$212:$Q$212)&\")\")","v":""},{"$f":"IF($C$170=\"\",\"\",'PÚ CTIF'!$S$212)","v":""},{"$f":"IF(C170=\"\",\"\",Kronika!$P$50)","v":""},null,{"$f":"IF(A170=\"x\",300,IF(C170=\"\",\"\",SUM(D170,F170,H170,K170,N170,Q170,R170)))","v":""},null,{"$f":"IF($A170=\"x\",\"x\",IF($C170=\"\",\"\",MATCH($C170,Výsledky!$N$7:$N$106,0)))","v":""}]
[null,null,null,null,{"$f":"IF($C$170=\"\",\"\",PÚ!$H$120)","v":""},null,{"$f":"IF($C$170=\"\",\"\",Št.4x60m!$H$120)","v":""},null,{"$f":"IF($C$170=\"\",\"\",Št.dvojic!$U$213)","v":""},{"$f":"IF($C$170=\"\",\"\",\"(\"&SUM(Št.dvojic!$I$213:$T$213)&\")\")","v":""},null,{"$f":"IF($C$170=\"\",\"\",Št.400mCTIF!$U$213)","v":""},{"$f":"IF($C$170=\"\",\"\",\"(\"&SUM(Št.400mCTIF!$I$213:$T$213)&\")\")","v":""},null,{"$f":"IF($C$170=\"\",\"\",'PÚ CTIF'!$R$213)","v":""},{"$f":"IF($C$170=\"\",\"\",\"(\"&SUM('PÚ CTIF'!$I$213:$Q$213)&\")\")","v":""}]
[{"$f":"IF('Start - jaro'!M24=\"\",\"\",\"x\")","v":""},69,{"$f":"IF('Start - jaro'!K24=\"\",\"\",'Start - jaro'!K24)","v":""},{"$f":"IF($A172=\"x\",\"x\",IF($C172=\"\",\"\",IF(ISNA(MATCH($C172,ZPVOblN,0)),COUNTIF(ZPVOblT,\".\")+1,LOOKUP($C172,ZPVOblN,ZPVOblD))))","v":""},{"$f":"IF($C$172=\"\",\"\",PÚ!$H$121)","v":""},{"$f":"IF($C$172=\"\",\"\",PÚ!$I$121)","v":""},{"$f":"IF($C$172=\"\",\"\",Št.4x60m!$H$121)","v":""},{"$f":"IF($C$172=\"\",\"\",Št.4x60m!$I$121)","v":""},{"$f":"IF($C$172=\"\",\"\",Št.dvojic!$U$214)","v":""},{"$f":"IF($C$172=\"\",\"\",\"(\"&SUM(Št.dvojic!$I$214:$T$214)&\")\")","v":""},{"$f":"IF($C$172=\"\",\"\",Št.dvojic!$V$214)","v":""},{"$f":"IF($C$172=\"\",\"\",Št.400mCTIF!$U$214)","v":""},{"$f":"IF($C$172=\"\",\"\",\"(\"&SUM(Št.400mCTIF!$I$214:$T$214)&\")\")","v":""},{"$f":"IF($C$172=\"\",\"\",Št.400mCTIF!$V$214)","v":""},{"$f":"IF($C$172=\"\",\"\",'PÚ CTIF'!$R$214)","v":""},{"$f":"IF($C$172=\"\",\"\",\"(\"&SUM('PÚ CTIF'!$I$214:$Q$214)&\")\")","v":""},{"$f":"IF($C$172=\"\",\"\",'PÚ CTIF'!$S$214)","v":""},{"$f":"IF(C172=\"\",\"\",Kronika!$P$51)","v":""},null,{"$f":"IF(A172=\"x\",300,IF(C172=\"\",\"\",SUM(D172,F172,H172,K172,N172,Q172,R172)))","v":""},null,{"$f":"IF($A172=\"x\",\"x\",IF($C172=\"\",\"\",MATCH($C172,Výsledky!$N$7:$N$106,0)))","v":""}]
[null,null,null,null,{"$f":"IF($C$172=\"\",\"\",PÚ!$H$122)","v":""},null,{"$f":"IF($C$172=\"\",\"\",Št.4x60m!$H$122)","v":""},null,{"$f":"IF($C$172=\"\",\"\",Št.dvojic!$U$215)","v":""},{"$f":"IF($C$172=\"\",\"\",\"(\"&SUM(Št.dvojic!$I$215:$T$215)&\")\")","v":""},null,{"$f":"IF($C$172=\"\",\"\",Št.400mCTIF!$U$215)","v":""},{"$f":"IF($C$172=\"\",\"\",\"(\"&SUM(Št.400mCTIF!$I$215:$T$215)&\")\")","v":""},null,{"$f":"IF($C$172=\"\",\"\",'PÚ CTIF'!$R$215)","v":""},{"$f":"IF($C$172=\"\",\"\",\"(\"&SUM('PÚ CTIF'!$I$215:$Q$215)&\")\")","v":""}]
[{"$f":"IF('Start - jaro'!M25=\"\",\"\",\"x\")","v":""},70,{"$f":"IF('Start - jaro'!K25=\"\",\"\",'Start - jaro'!K25)","v":""},{"$f":"IF($A174=\"x\",\"x\",IF($C174=\"\",\"\",IF(ISNA(MATCH($C174,ZPVOblN,0)),COUNTIF(ZPVOblT,\".\")+1,LOOKUP($C174,ZPVOblN,ZPVOblD))))","v":""},{"$f":"IF($C$174=\"\",\"\",PÚ!$H$123)","v":""},{"$f":"IF($C$174=\"\",\"\",PÚ!$I$123)","v":""},{"$f":"IF($C$174=\"\",\"\",Št.4x60m!$H$123)","v":""},{"$f":"IF($C$174=\"\",\"\",Št.4x60m!$I$123)","v":""},{"$f":"IF($C$174=\"\",\"\",Št.dvojic!$U$216)","v":""},{"$f":"IF($C$174=\"\",\"\",\"(\"&SUM(Št.dvojic!$I$216:$T$216)&\")\")","v":""},{"$f":"IF($C$174=\"\",\"\",Št.dvojic!$V$216)","v":""},{"$f":"IF($C$174=\"\",\"\",Št.400mCTIF!$U$216)","v":""},{"$f":"IF($C$174=\"\",\"\",\"(\"&SUM(Št.400mCTIF!$I$216:$T$216)&\")\")","v":""},{"$f":"IF($C$174=\"\",\"\",Št.400mCTIF!$V$216)","v":""},{"$f":"IF($C$174=\"\",\"\",'PÚ CTIF'!$R$216)","v":""},{"$f":"IF($C$174=\"\",\"\",\"(\"&SUM('PÚ CTIF'!$I$216:$Q$216)&\")\")","v":""},{"$f":"IF($C$174=\"\",\"\",'PÚ CTIF'!$S$216)","v":""},{"$f":"IF(C174=\"\",\"\",Kronika!$P$52)","v":""},null,{"$f":"IF(A174=\"x\",300,IF(C174=\"\",\"\",SUM(D174,F174,H174,K174,N174,Q174,R174)))","v":""},null,{"$f":"IF($A174=\"x\",\"x\",IF($C174=\"\",\"\",MATCH($C174,Výsledky!$N$7:$N$106,0)))","v":""}]
[null,null,null,null,{"$f":"IF($C$174=\"\",\"\",PÚ!$H$124)","v":""},null,{"$f":"IF($C$174=\"\",\"\",Št.4x60m!$H$124)","v":""},null,{"$f":"IF($C$174=\"\",\"\",Št.dvojic!$U$217)","v":""},{"$f":"IF($C$174=\"\",\"\",\"(\"&SUM(Št.dvojic!$I$217:$T$217)&\")\")","v":""},null,{"$f":"IF($C$174=\"\",\"\",Št.400mCTIF!$U$217)","v":""},{"$f":"IF($C$174=\"\",\"\",\"(\"&SUM(Št.400mCTIF!$I$217:$T$217)&\")\")","v":""},null,{"$f":"IF($C$174=\"\",\"\",'PÚ CTIF'!$R$217)","v":""},{"$f":"IF($C$174=\"\",\"\",\"(\"&SUM('PÚ CTIF'!$I$217:$Q$217)&\")\")","v":""}]
[null,{"$f":"B141","v":"Celkové výsledky - TISK"}]
[]
[null,null,null,{"$f":"D143","v":"Krajská soutěž HRY PLAMEN"},null,null,null,null,null,null,null,{"$f":"L143","v":"2020/2021, České Budějovice"}]
[null,null,{"$f":"'Start - jaro'!$N$2","v":"STARŠÍ"}]
[null," startovní číslo"," SDH"," ZPV"," PÚ",null," Štafeta 4x60m",null," Štafeta dvojic",null,null," 400 m štafeta CTIF",null,null," PÚ - CTIF",null,null,"Celoroční činnost",null," Celkový součet",null,"Pořadí"]
[null,null,null,"P.","1.pokus","P.","1.pokus","P.","1.pokus","tr.body","P.","1.pokus","tr.body","P.","1.pokus","tr.body","P.","P."]
[null,null,null,null,"2.pokus",null,"2.pokus",null,"2.pokus","tr.body",null,"2.pokus","tr.body",null,"2.pokus","tr.body"]
[{"$f":"IF('Start - jaro'!M26=\"\",\"\",\"x\")","v":""},71,{"$f":"IF('Start - jaro'!K26=\"\",\"\",'Start - jaro'!K26)","v":""},{"$f":"IF($A183=\"x\",\"x\",IF($C183=\"\",\"\",IF(ISNA(MATCH($C183,ZPVOblN,0)),COUNTIF(ZPVOblT,\".\")+1,LOOKUP($C183,ZPVOblN,ZPVOblD))))","v":""},{"$f":"IF($C$183=\"\",\"\",PÚ!$S$105)","v":""},{"$f":"IF($C$183=\"\",\"\",PÚ!$T105)","v":""},{"$f":"IF($C$183=\"\",\"\",Št.4x60m!$S$105)","v":""},{"$f":"IF($C$183=\"\",\"\",Št.4x60m!$T105)","v":""},{"$f":"IF($C$183=\"\",\"\",Št.dvojic!$U$229)","v":""},{"$f":"IF($C$183=\"\",\"\",\"(\"&SUM(Št.dvojic!$I$229:$T$229)&\")\")","v":""},{"$f":"IF($C$183=\"\",\"\",Št.dvojic!$V$229)","v":""},{"$f":"IF($C$183=\"\",\"\",Št.400mCTIF!$U$229)","v":""},{"$f":"IF($C$183=\"\",\"\",\"(\"&SUM(Št.400mCTIF!$I$229:$T$229)&\")\")","v":""},{"$f":"IF($C$183=\"\",\"\",Št.400mCTIF!$V$229)","v":""},{"$f":"IF($C$183=\"\",\"\",'PÚ CTIF'!$R$229)","v":""},{"$f":"IF($C$183=\"\",\"\",\"(\"&SUM('PÚ CTIF'!$I$229:$Q$229)&\")\")","v":""},{"$f":"IF($C$183=\"\",\"\",'PÚ CTIF'!$S$229)","v":""},{"$f":"IF(C183=\"\",\"\",Kronika!$P$53)","v":""},null,{"$f":"IF(A183=\"x\",300,IF(C183=\"\",\"\",SUM(D183,F183,H183,K183,N183,Q183,R183)))","v":""},null,{"$f":"IF($A183=\"x\",\"x\",IF($C183=\"\",\"\",MATCH($C183,Výsledky!$N$7:$N$106,0)))","v":""}]
[null,null,null,null,{"$f":"IF($C$183=\"\",\"\",PÚ!$S$106)","v":""},null,{"$f":"IF($C$183=\"\",\"\",Št.4x60m!$S$106)","v":""},null,{"$f":"IF($C$183=\"\",\"\",Št.dvojic!$U$230)","v":""},{"$f":"IF($C$183=\"\",\"\",\"(\"&SUM(Št.dvojic!$I$230:$T$230)&\")\")","v":""},null,{"$f":"IF($C$183=\"\",\"\",Št.400mCTIF!$U$230)","v":""},{"$f":"IF($C$183=\"\",\"\",\"(\"&SUM(Št.400mCTIF!$I$230:$T$230)&\")\")","v":""},null,{"$f":"IF($C$183=\"\",\"\",'PÚ CTIF'!$R$230)","v":""},{"$f":"IF($C$183=\"\",\"\",\"(\"&SUM('PÚ CTIF'!$I$230:$Q$230)&\")\")","v":""}]
[{"$f":"IF('Start - jaro'!M27=\"\",\"\",\"x\")","v":""},72,{"$f":"IF('Start - jaro'!K27=\"\",\"\",'Start - jaro'!K27)","v":""},{"$f":"IF($A185=\"x\",\"x\",IF($C185=\"\",\"\",IF(ISNA(MATCH($C185,ZPVOblN,0)),COUNTIF(ZPVOblT,\".\")+1,LOOKUP($C185,ZPVOblN,ZPVOblD))))","v":""},{"$f":"IF($C$185=\"\",\"\",PÚ!$S$107)","v":""},{"$f":"IF($C$185=\"\",\"\",PÚ!$T107)","v":""},{"$f":"IF($C$185=\"\",\"\",Št.4x60m!$S$107)","v":""},{"$f":"IF($C$185=\"\",\"\",Št.4x60m!$T107)","v":""},{"$f":"IF($C$185=\"\",\"\",Št.dvojic!$U$231)","v":""},{"$f":"IF($C$185=\"\",\"\",\"(\"&SUM(Št.dvojic!$I$231:$T$231)&\")\")","v":""},{"$f":"IF($C$185=\"\",\"\",Št.dvojic!$V$231)","v":""},{"$f":"IF($C$185=\"\",\"\",Št.400mCTIF!$U$231)","v":""},{"$f":"IF($C$185=\"\",\"\",\"(\"&SUM(Št.400mCTIF!$I$231:$T$231)&\")\")","v":""},{"$f":"IF($C$185=\"\",\"\",Št.400mCTIF!$V$231)","v":""},{"$f":"IF($C$185=\"\",\"\",'PÚ CTIF'!$R$231)","v":""},{"$f":"IF($C$185=\"\",\"\",\"(\"&SUM('PÚ CTIF'!$I$231:$Q$231)&\")\")","v":""},{"$f":"IF($C$185=\"\",\"\",'PÚ CTIF'!$S$231)","v":""},{"$f":"IF(C185=\"\",\"\",Kronika!$P$54)","v":""},null,{"$f":"IF(A185=\"x\",300,IF(C185=\"\",\"\",SUM(D185,F185,H185,K185,N185,Q185,R185)))","v":""},null,{"$f":"IF($A185=\"x\",\"x\",IF($C185=\"\",\"\",MATCH($C185,Výsledky!$N$7:$N$106,0)))","v":""}]
[null,null,null,null,{"$f":"IF($C$185=\"\",\"\",PÚ!$S$108)","v":""},null,{"$f":"IF($C$185=\"\",\"\",Št.4x60m!$S$108)","v":""},null,{"$f":"IF($C$185=\"\",\"\",Št.dvojic!$U$232)","v":""},{"$f":"IF($C$185=\"\",\"\",\"(\"&SUM(Št.dvojic!$I$232:$T$232)&\")\")","v":""},null,{"$f":"IF($C$185=\"\",\"\",Št.400mCTIF!$U$232)","v":""},{"$f":"IF($C$185=\"\",\"\",\"(\"&SUM(Št.400mCTIF!$I$232:$T$232)&\")\")","v":""},null,{"$f":"IF($C$185=\"\",\"\",'PÚ CTIF'!$R$232)","v":""},{"$f":"IF($C$185=\"\",\"\",\"(\"&SUM('PÚ CTIF'!$I$232:$Q$232)&\")\")","v":""}]
[{"$f":"IF('Start - jaro'!M28=\"\",\"\",\"x\")","v":""},73,{"$f":"IF('Start - jaro'!K28=\"\",\"\",'Start - jaro'!K28)","v":""},{"$f":"IF($A187=\"x\",\"x\",IF($C187=\"\",\"\",IF(ISNA(MATCH($C187,ZPVOblN,0)),COUNTIF(ZPVOblT,\".\")+1,LOOKUP($C187,ZPVOblN,ZPVOblD))))","v":""},{"$f":"IF($C$187=\"\",\"\",PÚ!$S$109)","v":""},{"$f":"IF($C$187=\"\",\"\",PÚ!$T109)","v":""},{"$f":"IF($C$187=\"\",\"\",Št.4x60m!$S$109)","v":""},{"$f":"IF($C$187=\"\",\"\",Št.4x60m!$T109)","v":""},{"$f":"IF($C$187=\"\",\"\",Št.dvojic!$U$233)","v":""},{"$f":"IF($C$187=\"\",\"\",\"(\"&SUM(Št.dvojic!$I$233:$T$233)&\")\")","v":""},{"$f":"IF($C$187=\"\",\"\",Št.dvojic!$V$233)","v":""},{"$f":"IF($C$187=\"\",\"\",Št.400mCTIF!$U$233)","v":""},{"$f":"IF($C$187=\"\",\"\",\"(\"&SUM(Št.400mCTIF!$I$233:$T$233)&\")\")","v":""},{"$f":"IF($C$187=\"\",\"\",Št.400mCTIF!$V$233)","v":""},{"$f":"IF($C$187=\"\",\"\",'PÚ CTIF'!$R$233)","v":""},{"$f":"IF($C$187=\"\",\"\",\"(\"&SUM('PÚ CTIF'!$I$233:$Q$233)&\")\")","v":""},{"$f":"IF($C$187=\"\",\"\",'PÚ CTIF'!$S$233)","v":""},{"$f":"IF(C187=\"\",\"\",Kronika!$P$55)","v":""},null,{"$f":"IF(A187=\"x\",300,IF(C187=\"\",\"\",SUM(D187,F187,H187,K187,N187,Q187,R187)))","v":""},null,{"$f":"IF($A187=\"x\",\"x\",IF($C187=\"\",\"\",MATCH($C187,Výsledky!$N$7:$N$106,0)))","v":""}]
[null,null,null,null,{"$f":"IF($C$187=\"\",\"\",PÚ!$S$110)","v":""},null,{"$f":"IF($C$187=\"\",\"\",Št.4x60m!$S$110)","v":""},null,{"$f":"IF($C$187=\"\",\"\",Št.dvojic!$U$234)","v":""},{"$f":"IF($C$187=\"\",\"\",\"(\"&SUM(Št.dvojic!$I$234:$T$234)&\")\")","v":""},null,{"$f":"IF($C$187=\"\",\"\",Št.400mCTIF!$U$234)","v":""},{"$f":"IF($C$187=\"\",\"\",\"(\"&SUM(Št.400mCTIF!$I$234:$T$234)&\")\")","v":""},null,{"$f":"IF($C$187=\"\",\"\",'PÚ CTIF'!$R$234)","v":""},{"$f":"IF($C$187=\"\",\"\",\"(\"&SUM('PÚ CTIF'!$I$234:$Q$234)&\")\")","v":""}]
[{"$f":"IF('Start - jaro'!M29=\"\",\"\",\"x\")","v":""},74,{"$f":"IF('Start - jaro'!K29=\"\",\"\",'Start - jaro'!K29)","v":""},{"$f":"IF($A189=\"x\",\"x\",IF($C189=\"\",\"\",IF(ISNA(MATCH($C189,ZPVOblN,0)),COUNTIF(ZPVOblT,\".\")+1,LOOKUP($C189,ZPVOblN,ZPVOblD))))","v":""},{"$f":"IF($C$189=\"\",\"\",PÚ!$S$111)","v":""},{"$f":"IF($C$189=\"\",\"\",PÚ!$T111)","v":""},{"$f":"IF($C$189=\"\",\"\",Št.4x60m!$S$111)","v":""},{"$f":"IF($C$189=\"\",\"\",Št.4x60m!$T111)","v":""},{"$f":"IF($C$189=\"\",\"\",Št.dvojic!$U$235)","v":""},{"$f":"IF($C$189=\"\",\"\",\"(\"&SUM(Št.dvojic!$I$235:$T$235)&\")\")","v":""},{"$f":"IF($C$189=\"\",\"\",Št.dvojic!$V$235)","v":""},{"$f":"IF($C$189=\"\",\"\",Št.400mCTIF!$U$235)","v":""},{"$f":"IF($C$189=\"\",\"\",\"(\"&SUM(Št.400mCTIF!$I$235:$T$235)&\")\")","v":""},{"$f":"IF($C$189=\"\",\"\",Št.400mCTIF!$V$235)","v":""},{"$f":"IF($C$189=\"\",\"\",'PÚ CTIF'!$R$235)","v":""},{"$f":"IF($C$189=\"\",\"\",\"(\"&SUM('PÚ CTIF'!$I$235:$Q$235)&\")\")","v":""},{"$f":"IF($C$189=\"\",\"\",'PÚ CTIF'!$S$235)","v":""},{"$f":"IF(C189=\"\",\"\",Kronika!$P$56)","v":""},null,{"$f":"IF(A189=\"x\",300,IF(C189=\"\",\"\",SUM(D189,F189,H189,K189,N189,Q189,R189)))","v":""},null,{"$f":"IF($A189=\"x\",\"x\",IF($C189=\"\",\"\",MATCH($C189,Výsledky!$N$7:$N$106,0)))","v":""}]
[null,null,null,null,{"$f":"IF($C$189=\"\",\"\",PÚ!$S$112)","v":""},null,{"$f":"IF($C$189=\"\",\"\",Št.4x60m!$S$112)","v":""},null,{"$f":"IF($C$189=\"\",\"\",Št.dvojic!$U$236)","v":""},{"$f":"IF($C$189=\"\",\"\",\"(\"&SUM(Št.dvojic!$I$236:$T$236)&\")\")","v":""},null,{"$f":"IF($C$189=\"\",\"\",Št.400mCTIF!$U$236)","v":""},{"$f":"IF($C$189=\"\",\"\",\"(\"&SUM(Št.400mCTIF!$I$236:$T$236)&\")\")","v":""},null,{"$f":"IF($C$189=\"\",\"\",'PÚ CTIF'!$R$236)","v":""},{"$f":"IF($C$189=\"\",\"\",\"(\"&SUM('PÚ CTIF'!$I$236:$Q$236)&\")\")","v":""}]
[{"$f":"IF('Start - jaro'!M30=\"\",\"\",\"x\")","v":""},75,{"$f":"IF('Start - jaro'!K30=\"\",\"\",'Start - jaro'!K30)","v":""},{"$f":"IF($A191=\"x\",\"x\",IF($C191=\"\",\"\",IF(ISNA(MATCH($C191,ZPVOblN,0)),COUNTIF(ZPVOblT,\".\")+1,LOOKUP($C191,ZPVOblN,ZPVOblD))))","v":""},{"$f":"IF($C$191=\"\",\"\",PÚ!$S$113)","v":""},{"$f":"IF($C$191=\"\",\"\",PÚ!$T113)","v":""},{"$f":"IF($C$191=\"\",\"\",Št.4x60m!$S$113)","v":""},{"$f":"IF($C$191=\"\",\"\",Št.4x60m!$T113)","v":""},{"$f":"IF($C$191=\"\",\"\",Št.dvojic!$U$237)","v":""},{"$f":"IF($C$191=\"\",\"\",\"(\"&SUM(Št.dvojic!$I$237:$T$237)&\")\")","v":""},{"$f":"IF($C$191=\"\",\"\",Št.dvojic!$V$237)","v":""},{"$f":"IF($C$191=\"\",\"\",Št.400mCTIF!$U$237)","v":""},{"$f":"IF($C$191=\"\",\"\",\"(\"&SUM(Št.400mCTIF!$I$237:$T$237)&\")\")","v":""},{"$f":"IF($C$191=\"\",\"\",Št.400mCTIF!$V$237)","v":""},{"$f":"IF($C$191=\"\",\"\",'PÚ CTIF'!$R$237)","v":""},{"$f":"IF($C$191=\"\",\"\",\"(\"&SUM('PÚ CTIF'!$I$237:$Q$237)&\")\")","v":""},{"$f":"IF($C$191=\"\",\"\",'PÚ CTIF'!$S$237)","v":""},{"$f":"IF(C191=\"\",\"\",Kronika!$P$57)","v":""},null,{"$f":"IF(A191=\"x\",300,IF(C191=\"\",\"\",SUM(D191,F191,H191,K191,N191,Q191,R191)))","v":""},null,{"$f":"IF($A191=\"x\",\"x\",IF($C191=\"\",\"\",MATCH($C191,Výsledky!$N$7:$N$106,0)))","v":""}]
[null,null,null,null,{"$f":"IF($C$191=\"\",\"\",PÚ!$S$114)","v":""},null,{"$f":"IF($C$191=\"\",\"\",Št.4x60m!$S$114)","v":""},null,{"$f":"IF($C$191=\"\",\"\",Št.dvojic!$U$238)","v":""},{"$f":"IF($C$191=\"\",\"\",\"(\"&SUM(Št.dvojic!$I$238:$T$238)&\")\")","v":""},null,{"$f":"IF($C$191=\"\",\"\",Št.400mCTIF!$U$238)","v":""},{"$f":"IF($C$191=\"\",\"\",\"(\"&SUM(Št.400mCTIF!$I$238:$T$238)&\")\")","v":""},null,{"$f":"IF($C$191=\"\",\"\",'PÚ CTIF'!$R$238)","v":""},{"$f":"IF($C$191=\"\",\"\",\"(\"&SUM('PÚ CTIF'!$I$238:$Q$238)&\")\")","v":""}]
[{"$f":"IF('Start - jaro'!Q6=\"\",\"\",\"x\")","v":""},76,{"$f":"IF('Start - jaro'!O6=\"\",\"\",'Start - jaro'!O6)","v":""},{"$f":"IF($A193=\"x\",\"x\",IF($C193=\"\",\"\",IF(ISNA(MATCH($C193,ZPVOblN,0)),COUNTIF(ZPVOblT,\".\")+1,LOOKUP($C193,ZPVOblN,ZPVOblD))))","v":""},{"$f":"IF($C$193=\"\",\"\",PÚ!$S$115)","v":""},{"$f":"IF($C$193=\"\",\"\",PÚ!$T115)","v":""},{"$f":"IF($C$193=\"\",\"\",Št.4x60m!$S$115)","v":""},{"$f":"IF($C$193=\"\",\"\",Št.4x60m!$T115)","v":""},{"$f":"IF($C$193=\"\",\"\",Št.dvojic!$U$239)","v":""},{"$f":"IF($C$193=\"\",\"\",\"(\"&SUM(Št.dvojic!$I$239:$T$239)&\")\")","v":""},{"$f":"IF($C$193=\"\",\"\",Št.dvojic!$V$239)","v":""},{"$f":"IF($C$193=\"\",\"\",Št.400mCTIF!$U$239)","v":""},{"$f":"IF($C$193=\"\",\"\",\"(\"&SUM(Št.400mCTIF!$I$239:$T$239)&\")\")","v":""},{"$f":"IF($C$193=\"\",\"\",Št.400mCTIF!$V$239)","v":""},{"$f":"IF($C$193=\"\",\"\",'PÚ CTIF'!$R$239)","v":""},{"$f":"IF($C$193=\"\",\"\",\"(\"&SUM('PÚ CTIF'!$I$239:$Q$239)&\")\")","v":""},{"$f":"IF($C$193=\"\",\"\",'PÚ CTIF'!$S$239)","v":""},{"$f":"IF(C193=\"\",\"\",Kronika!$P$58)","v":""},null,{"$f":"IF(A193=\"x\",300,IF(C193=\"\",\"\",SUM(D193,F193,H193,K193,N193,Q193,R193)))","v":""},null,{"$f":"IF($A193=\"x\",\"x\",IF($C193=\"\",\"\",MATCH($C193,Výsledky!$N$7:$N$106,0)))","v":""}]
[null,null,null,null,{"$f":"IF($C$193=\"\",\"\",PÚ!$S$116)","v":""},null,{"$f":"IF($C$193=\"\",\"\",Št.4x60m!$S$116)","v":""},null,{"$f":"IF($C$193=\"\",\"\",Št.dvojic!$U$240)","v":""},{"$f":"IF($C$193=\"\",\"\",\"(\"&SUM(Št.dvojic!$I$240:$T$240)&\")\")","v":""},null,{"$f":"IF($C$193=\"\",\"\",Št.400mCTIF!$U$240)","v":""},{"$f":"IF($C$193=\"\",\"\",\"(\"&SUM(Št.400mCTIF!$I$240:$T$240)&\")\")","v":""},null,{"$f":"IF($C$193=\"\",\"\",'PÚ CTIF'!$R$240)","v":""},{"$f":"IF($C$193=\"\",\"\",\"(\"&SUM('PÚ CTIF'!$I$240:$Q$240)&\")\")","v":""}]
[{"$f":"IF('Start - jaro'!Q7=\"\",\"\",\"x\")","v":""},77,{"$f":"IF('Start - jaro'!O7=\"\",\"\",'Start - jaro'!O7)","v":""},{"$f":"IF($A195=\"x\",\"x\",IF($C195=\"\",\"\",IF(ISNA(MATCH($C195,ZPVOblN,0)),COUNTIF(ZPVOblT,\".\")+1,LOOKUP($C195,ZPVOblN,ZPVOblD))))","v":""},{"$f":"IF($C$195=\"\",\"\",PÚ!$S$117)","v":""},{"$f":"IF($C$195=\"\",\"\",PÚ!$T117)","v":""},{"$f":"IF($C$195=\"\",\"\",Št.4x60m!$S$117)","v":""},{"$f":"IF($C$195=\"\",\"\",Št.4x60m!$T117)","v":""},{"$f":"IF($C$195=\"\",\"\",Št.dvojic!$U$241)","v":""},{"$f":"IF($C$195=\"\",\"\",\"(\"&SUM(Št.dvojic!$I$241:$T$241)&\")\")","v":""},{"$f":"IF($C$195=\"\",\"\",Št.dvojic!$V$241)","v":""},{"$f":"IF($C$195=\"\",\"\",Št.400mCTIF!$U$241)","v":""},{"$f":"IF($C$195=\"\",\"\",\"(\"&SUM(Št.400mCTIF!$I$241:$T$241)&\")\")","v":""},{"$f":"IF($C$195=\"\",\"\",Št.400mCTIF!$V$241)","v":""},{"$f":"IF($C$195=\"\",\"\",'PÚ CTIF'!$R$241)","v":""},{"$f":"IF($C$195=\"\",\"\",\"(\"&SUM('PÚ CTIF'!$I$241:$Q$241)&\")\")","v":""},{"$f":"IF($C$195=\"\",\"\",'PÚ CTIF'!$S$241)","v":""},{"$f":"IF(C195=\"\",\"\",Kronika!$P$59)","v":""},null,{"$f":"IF(A195=\"x\",300,IF(C195=\"\",\"\",SUM(D195,F195,H195,K195,N195,Q195,R195)))","v":""},null,{"$f":"IF($A195=\"x\",\"x\",IF($C195=\"\",\"\",MATCH($C195,Výsledky!$N$7:$N$106,0)))","v":""}]
[null,null,null,null,{"$f":"IF($C$195=\"\",\"\",PÚ!$S$118)","v":""},null,{"$f":"IF($C$195=\"\",\"\",Št.4x60m!$S$118)","v":""},null,{"$f":"IF($C$195=\"\",\"\",Št.dvojic!$U$242)","v":""},{"$f":"IF($C$195=\"\",\"\",\"(\"&SUM(Št.dvojic!$I$242:$T$242)&\")\")","v":""},null,{"$f":"IF($C$195=\"\",\"\",Št.400mCTIF!$U$242)","v":""},{"$f":"IF($C$195=\"\",\"\",\"(\"&SUM(Št.400mCTIF!$I$242:$T$242)&\")\")","v":""},null,{"$f":"IF($C$195=\"\",\"\",'PÚ CTIF'!$R$242)","v":""},{"$f":"IF($C$195=\"\",\"\",\"(\"&SUM('PÚ CTIF'!$I$242:$Q$242)&\")\")","v":""}]
[{"$f":"IF('Start - jaro'!Q8=\"\",\"\",\"x\")","v":""},78,{"$f":"IF('Start - jaro'!O8=\"\",\"\",'Start - jaro'!O8)","v":""},{"$f":"IF($A197=\"x\",\"x\",IF($C197=\"\",\"\",IF(ISNA(MATCH($C197,ZPVOblN,0)),COUNTIF(ZPVOblT,\".\")+1,LOOKUP($C197,ZPVOblN,ZPVOblD))))","v":""},{"$f":"IF($C$197=\"\",\"\",PÚ!$S$119)","v":""},{"$f":"IF($C$197=\"\",\"\",PÚ!$T119)","v":""},{"$f":"IF($C$197=\"\",\"\",Št.4x60m!$S$119)","v":""},{"$f":"IF($C$197=\"\",\"\",Št.4x60m!$T119)","v":""},{"$f":"IF($C$197=\"\",\"\",Št.dvojic!$U$243)","v":""},{"$f":"IF($C$197=\"\",\"\",\"(\"&SUM(Št.dvojic!$I$243:$T$243)&\")\")","v":""},{"$f":"IF($C$197=\"\",\"\",Št.dvojic!$V$243)","v":""},{"$f":"IF($C$197=\"\",\"\",Št.400mCTIF!$U$243)","v":""},{"$f":"IF($C$197=\"\",\"\",\"(\"&SUM(Št.400mCTIF!$I$243:$T$243)&\")\")","v":""},{"$f":"IF($C$197=\"\",\"\",Št.400mCTIF!$V$243)","v":""},{"$f":"IF($C$197=\"\",\"\",'PÚ CTIF'!$R$243)","v":""},{"$f":"IF($C$197=\"\",\"\",\"(\"&SUM('PÚ CTIF'!$I$243:$Q$243)&\")\")","v":""},{"$f":"IF($C$197=\"\",\"\",'PÚ CTIF'!$S$243)","v":""},{"$f":"IF(C197=\"\",\"\",Kronika!$P$60)","v":""},null,{"$f":"IF(A197=\"x\",300,IF(C197=\"\",\"\",SUM(D197,F197,H197,K197,N197,Q197,R197)))","v":""},null,{"$f":"IF($A197=\"x\",\"x\",IF($C197=\"\",\"\",MATCH($C197,Výsledky!$N$7:$N$106,0)))","v":""}]
[null,null,null,null,{"$f":"IF($C$197=\"\",\"\",PÚ!$S$120)","v":""},null,{"$f":"IF($C$197=\"\",\"\",Št.4x60m!$S$120)","v":""},null,{"$f":"IF($C$197=\"\",\"\",Št.dvojic!$U$244)","v":""},{"$f":"IF($C$197=\"\",\"\",\"(\"&SUM(Št.dvojic!$I$244:$T$244)&\")\")","v":""},null,{"$f":"IF($C$197=\"\",\"\",Št.400mCTIF!$U$244)","v":""},{"$f":"IF($C$197=\"\",\"\",\"(\"&SUM(Št.400mCTIF!$I$244:$T$244)&\")\")","v":""},null,{"$f":"IF($C$197=\"\",\"\",'PÚ CTIF'!$R$244)","v":""},{"$f":"IF($C$197=\"\",\"\",\"(\"&SUM('PÚ CTIF'!$I$244:$Q$244)&\")\")","v":""}]
[{"$f":"IF('Start - jaro'!Q9=\"\",\"\",\"x\")","v":""},79,{"$f":"IF('Start - jaro'!O9=\"\",\"\",'Start - jaro'!O9)","v":""},{"$f":"IF($A199=\"x\",\"x\",IF($C199=\"\",\"\",IF(ISNA(MATCH($C199,ZPVOblN,0)),COUNTIF(ZPVOblT,\".\")+1,LOOKUP($C199,ZPVOblN,ZPVOblD))))","v":""},{"$f":"IF($C$199=\"\",\"\",PÚ!$S$121)","v":""},{"$f":"IF($C$199=\"\",\"\",PÚ!$T121)","v":""},{"$f":"IF($C$199=\"\",\"\",Št.4x60m!$S$121)","v":""},{"$f":"IF($C$199=\"\",\"\",Št.4x60m!$T121)","v":""},{"$f":"IF($C$199=\"\",\"\",Št.dvojic!$U$245)","v":""},{"$f":"IF($C$199=\"\",\"\",\"(\"&SUM(Št.dvojic!$I$245:$T$245)&\")\")","v":""},{"$f":"IF($C$199=\"\",\"\",Št.dvojic!$V$245)","v":""},{"$f":"IF($C$199=\"\",\"\",Št.400mCTIF!$U$245)","v":""},{"$f":"IF($C$199=\"\",\"\",\"(\"&SUM(Št.400mCTIF!$I$245:$T$245)&\")\")","v":""},{"$f":"IF($C$199=\"\",\"\",Št.400mCTIF!$V$245)","v":""},{"$f":"IF($C$199=\"\",\"\",'PÚ CTIF'!$R$245)","v":""},{"$f":"IF($C$199=\"\",\"\",\"(\"&SUM('PÚ CTIF'!$I$245:$Q$245)&\")\")","v":""},{"$f":"IF($C$199=\"\",\"\",'PÚ CTIF'!$S$245)","v":""},{"$f":"IF(C199=\"\",\"\",Kronika!$P$61)","v":""},null,{"$f":"IF(A199=\"x\",300,IF(C199=\"\",\"\",SUM(D199,F199,H199,K199,N199,Q199,R199)))","v":""},null,{"$f":"IF($A199=\"x\",\"x\",IF($C199=\"\",\"\",MATCH($C199,Výsledky!$N$7:$N$106,0)))","v":""}]
[null,null,null,null,{"$f":"IF($C$199=\"\",\"\",PÚ!$S$122)","v":""},null,{"$f":"IF($C$199=\"\",\"\",Št.4x60m!$S$122)","v":""},null,{"$f":"IF($C$199=\"\",\"\",Št.dvojic!$U$246)","v":""},{"$f":"IF($C$199=\"\",\"\",\"(\"&SUM(Št.dvojic!$I$246:$T$246)&\")\")","v":""},null,{"$f":"IF($C$199=\"\",\"\",Št.400mCTIF!$U$246)","v":""},{"$f":"IF($C$199=\"\",\"\",\"(\"&SUM(Št.400mCTIF!$I$246:$T$246)&\")\")","v":""},null,{"$f":"IF($C$199=\"\",\"\",'PÚ CTIF'!$R$246)","v":""},{"$f":"IF($C$199=\"\",\"\",\"(\"&SUM('PÚ CTIF'!$I$246:$Q$246)&\")\")","v":""}]
[{"$f":"IF('Start - jaro'!Q10=\"\",\"\",\"x\")","v":""},80,{"$f":"IF('Start - jaro'!O10=\"\",\"\",'Start - jaro'!O10)","v":""},{"$f":"IF($A201=\"x\",\"x\",IF($C201=\"\",\"\",IF(ISNA(MATCH($C201,ZPVOblN,0)),COUNTIF(ZPVOblT,\".\")+1,LOOKUP($C201,ZPVOblN,ZPVOblD))))","v":""},{"$f":"IF($C$201=\"\",\"\",PÚ!$S$123)","v":""},{"$f":"IF($C$201=\"\",\"\",PÚ!$T123)","v":""},{"$f":"IF($C$201=\"\",\"\",Št.4x60m!$S$123)","v":""},{"$f":"IF($C$201=\"\",\"\",Št.4x60m!$T123)","v":""},{"$f":"IF($C$201=\"\",\"\",Št.dvojic!$U$247)","v":""},{"$f":"IF($C$201=\"\",\"\",\"(\"&SUM(Št.dvojic!$I$247:$T$247)&\")\")","v":""},{"$f":"IF($C$201=\"\",\"\",Št.dvojic!$V$247)","v":""},{"$f":"IF($C$201=\"\",\"\",Št.400mCTIF!$U$247)","v":""},{"$f":"IF($C$201=\"\",\"\",\"(\"&SUM(Št.400mCTIF!$I$247:$T$247)&\")\")","v":""},{"$f":"IF($C$201=\"\",\"\",Št.400mCTIF!$V$247)","v":""},{"$f":"IF($C$201=\"\",\"\",'PÚ CTIF'!$R$247)","v":""},{"$f":"IF($C$201=\"\",\"\",\"(\"&SUM('PÚ CTIF'!$I$247:$Q$247)&\")\")","v":""},{"$f":"IF($C$201=\"\",\"\",'PÚ CTIF'!$S$247)","v":""},{"$f":"IF(C201=\"\",\"\",Kronika!$P$62)","v":""},null,{"$f":"IF(A201=\"x\",300,IF(C201=\"\",\"\",SUM(D201,F201,H201,K201,N201,Q201,R201)))","v":""},null,{"$f":"IF($A201=\"x\",\"x\",IF($C201=\"\",\"\",MATCH($C201,Výsledky!$N$7:$N$106,0)))","v":""}]
[null,null,null,null,{"$f":"IF($C$201=\"\",\"\",PÚ!$S$124)","v":""},null,{"$f":"IF($C$201=\"\",\"\",Št.4x60m!$S$124)","v":""},null,{"$f":"IF($C$201=\"\",\"\",Št.dvojic!$U$248)","v":""},{"$f":"IF($C$201=\"\",\"\",\"(\"&SUM(Št.dvojic!$I$248:$T$248)&\")\")","v":""},null,{"$f":"IF($C$201=\"\",\"\",Št.400mCTIF!$U$248)","v":""},{"$f":"IF($C$201=\"\",\"\",\"(\"&SUM(Št.400mCTIF!$I$248:$T$248)&\")\")","v":""},null,{"$f":"IF($C$201=\"\",\"\",'PÚ CTIF'!$R$248)","v":""},{"$f":"IF($C$201=\"\",\"\",\"(\"&SUM('PÚ CTIF'!$I$248:$Q$248)&\")\")","v":""}]
[{"$f":"IF('Start - jaro'!Q11=\"\",\"\",\"x\")","v":""},81,{"$f":"IF('Start - jaro'!O11=\"\",\"\",'Start - jaro'!O11)","v":""},{"$f":"IF($A203=\"x\",\"x\",IF($C203=\"\",\"\",IF(ISNA(MATCH($C203,ZPVOblN,0)),COUNTIF(ZPVOblT,\".\")+1,LOOKUP($C203,ZPVOblN,ZPVOblD))))","v":""},{"$f":"IF($C$203=\"\",\"\",PÚ!$H$136)","v":""},{"$f":"IF($C$203=\"\",\"\",PÚ!$I$136)","v":""},{"$f":"IF($C$203=\"\",\"\",Št.4x60m!$H$136)","v":""},{"$f":"IF($C$203=\"\",\"\",Št.4x60m!$I$136)","v":""},{"$f":"IF($C$203=\"\",\"\",Št.dvojic!$U$260)","v":""},{"$f":"IF($C$203=\"\",\"\",\"(\"&SUM(Št.dvojic!$I$260:$T$260)&\")\")","v":""},{"$f":"IF($C$203=\"\",\"\",Št.dvojic!$V$260)","v":""},{"$f":"IF($C$203=\"\",\"\",Št.400mCTIF!$U$260)","v":""},{"$f":"IF($C$203=\"\",\"\",\"(\"&SUM(Št.400mCTIF!$I$260:$T$260)&\")\")","v":""},{"$f":"IF($C$203=\"\",\"\",Št.400mCTIF!$V$260)","v":""},{"$f":"IF($C$203=\"\",\"\",'PÚ CTIF'!$R$260)","v":""},{"$f":"IF($C$203=\"\",\"\",\"(\"&SUM('PÚ CTIF'!$I$260:$Q$260)&\")\")","v":""},{"$f":"IF($C$203=\"\",\"\",'PÚ CTIF'!$S$260)","v":""},{"$f":"IF(C203=\"\",\"\",Kronika!$H$74)","v":""},null,{"$f":"IF(A203=\"x\",300,IF(C203=\"\",\"\",SUM(D203,F203,H203,K203,N203,Q203,R203)))","v":""},null,{"$f":"IF($A203=\"x\",\"x\",IF($C203=\"\",\"\",MATCH($C203,Výsledky!$N$7:$N$106,0)))","v":""}]
[null,null,null,null,{"$f":"IF($C$203=\"\",\"\",PÚ!$H$137)","v":""},null,{"$f":"IF($C$203=\"\",\"\",Št.4x60m!$H$137)","v":""},null,{"$f":"IF($C$203=\"\",\"\",Št.dvojic!$U$261)","v":""},{"$f":"IF($C$203=\"\",\"\",\"(\"&SUM(Št.dvojic!$I$261:$T$261)&\")\")","v":""},null,{"$f":"IF($C$203=\"\",\"\",Št.400mCTIF!$U$261)","v":""},{"$f":"IF($C$203=\"\",\"\",\"(\"&SUM(Št.400mCTIF!$I$261:$T$261)&\")\")","v":""},null,{"$f":"IF($C$203=\"\",\"\",'PÚ CTIF'!$R$261)","v":""},{"$f":"IF($C$203=\"\",\"\",\"(\"&SUM('PÚ CTIF'!$I$261:$Q$261)&\")\")","v":""}]
[{"$f":"IF('Start - jaro'!Q12=\"\",\"\",\"x\")","v":""},82,{"$f":"IF('Start - jaro'!O12=\"\",\"\",'Start - jaro'!O12)","v":""},{"$f":"IF($A205=\"x\",\"x\",IF($C205=\"\",\"\",IF(ISNA(MATCH($C205,ZPVOblN,0)),COUNTIF(ZPVOblT,\".\")+1,LOOKUP($C205,ZPVOblN,ZPVOblD))))","v":""},{"$f":"IF($C$205=\"\",\"\",PÚ!$H$138)","v":""},{"$f":"IF($C$205=\"\",\"\",PÚ!$I$138)","v":""},{"$f":"IF($C$205=\"\",\"\",Št.4x60m!$H$138)","v":""},{"$f":"IF($C$205=\"\",\"\",Št.4x60m!$I$138)","v":""},{"$f":"IF($C$205=\"\",\"\",Št.dvojic!$U$262)","v":""},{"$f":"IF($C$205=\"\",\"\",\"(\"&SUM(Št.dvojic!$I$262:$T$262)&\")\")","v":""},{"$f":"IF($C$205=\"\",\"\",Št.dvojic!$V$262)","v":""},{"$f":"IF($C$205=\"\",\"\",Št.400mCTIF!$U$262)","v":""},{"$f":"IF($C$205=\"\",\"\",\"(\"&SUM(Št.400mCTIF!$I$262:$T$262)&\")\")","v":""},{"$f":"IF($C$205=\"\",\"\",Št.400mCTIF!$V$262)","v":""},{"$f":"IF($C$205=\"\",\"\",'PÚ CTIF'!$R$262)","v":""},{"$f":"IF($C$205=\"\",\"\",\"(\"&SUM('PÚ CTIF'!$I$262:$Q$262)&\")\")","v":""},{"$f":"IF($C$205=\"\",\"\",'PÚ CTIF'!$S$262)","v":""},{"$f":"IF(C205=\"\",\"\",Kronika!$H$75)","v":""},null,{"$f":"IF(A205=\"x\",300,IF(C205=\"\",\"\",SUM(D205,F205,H205,K205,N205,Q205,R205)))","v":""},null,{"$f":"IF($A205=\"x\",\"x\",IF($C205=\"\",\"\",MATCH($C205,Výsledky!$N$7:$N$106,0)))","v":""}]
[null,null,null,null,{"$f":"IF($C$205=\"\",\"\",PÚ!$H$139)","v":""},null,{"$f":"IF($C$205=\"\",\"\",Št.4x60m!$H$139)","v":""},null,{"$f":"IF($C$205=\"\",\"\",Št.dvojic!$U$263)","v":""},{"$f":"IF($C$205=\"\",\"\",\"(\"&SUM(Št.dvojic!$I$263:$T$263)&\")\")","v":""},null,{"$f":"IF($C$205=\"\",\"\",Št.400mCTIF!$U$263)","v":""},{"$f":"IF($C$205=\"\",\"\",\"(\"&SUM(Št.400mCTIF!$I$263:$T$263)&\")\")","v":""},null,{"$f":"IF($C$205=\"\",\"\",'PÚ CTIF'!$R$263)","v":""},{"$f":"IF($C$205=\"\",\"\",\"(\"&SUM('PÚ CTIF'!$I$263:$Q$263)&\")\")","v":""}]
[{"$f":"IF('Start - jaro'!Q13=\"\",\"\",\"x\")","v":""},83,{"$f":"IF('Start - jaro'!O13=\"\",\"\",'Start - jaro'!O13)","v":""},{"$f":"IF($A207=\"x\",\"x\",IF($C207=\"\",\"\",IF(ISNA(MATCH($C207,ZPVOblN,0)),COUNTIF(ZPVOblT,\".\")+1,LOOKUP($C207,ZPVOblN,ZPVOblD))))","v":""},{"$f":"IF($C$207=\"\",\"\",PÚ!$H$140)","v":""},{"$f":"IF($C$207=\"\",\"\",PÚ!$I$140)","v":""},{"$f":"IF($C$207=\"\",\"\",Št.4x60m!$H$140)","v":""},{"$f":"IF($C$207=\"\",\"\",Št.4x60m!$I$140)","v":""},{"$f":"IF($C$207=\"\",\"\",Št.dvojic!$U$264)","v":""},{"$f":"IF($C$207=\"\",\"\",\"(\"&SUM(Št.dvojic!$I$264:$T$264)&\")\")","v":""},{"$f":"IF($C$207=\"\",\"\",Št.dvojic!$V$264)","v":""},{"$f":"IF($C$207=\"\",\"\",Št.400mCTIF!$U$264)","v":""},{"$f":"IF($C$207=\"\",\"\",\"(\"&SUM(Št.400mCTIF!$I$264:$T$264)&\")\")","v":""},{"$f":"IF($C$207=\"\",\"\",Št.400mCTIF!$V$264)","v":""},{"$f":"IF($C$207=\"\",\"\",'PÚ CTIF'!$R$264)","v":""},{"$f":"IF($C$207=\"\",\"\",\"(\"&SUM('PÚ CTIF'!$I$264:$Q$264)&\")\")","v":""},{"$f":"IF($C$207=\"\",\"\",'PÚ CTIF'!$S$264)","v":""},{"$f":"IF(C207=\"\",\"\",Kronika!$H$76)","v":""},null,{"$f":"IF(A207=\"x\",300,IF(C207=\"\",\"\",SUM(D207,F207,H207,K207,N207,Q207,R207)))","v":""},null,{"$f":"IF($A207=\"x\",\"x\",IF($C207=\"\",\"\",MATCH($C207,Výsledky!$N$7:$N$106,0)))","v":""}]
[null,null,null,null,{"$f":"IF($C$207=\"\",\"\",PÚ!$H$141)","v":""},null,{"$f":"IF($C$207=\"\",\"\",Št.4x60m!$H$141)","v":""},null,{"$f":"IF($C$207=\"\",\"\",Št.dvojic!$U$265)","v":""},{"$f":"IF($C$207=\"\",\"\",\"(\"&SUM(Št.dvojic!$I$265:$T$265)&\")\")","v":""},null,{"$f":"IF($C$207=\"\",\"\",Št.400mCTIF!$U$265)","v":""},{"$f":"IF($C$207=\"\",\"\",\"(\"&SUM(Št.400mCTIF!$I$265:$T$265)&\")\")","v":""},null,{"$f":"IF($C$207=\"\",\"\",'PÚ CTIF'!$R$265)","v":""},{"$f":"IF($C$207=\"\",\"\",\"(\"&SUM('PÚ CTIF'!$I$265:$Q$265)&\")\")","v":""}]
[{"$f":"IF('Start - jaro'!Q14=\"\",\"\",\"x\")","v":""},84,{"$f":"IF('Start - jaro'!O14=\"\",\"\",'Start - jaro'!O14)","v":""},{"$f":"IF($A209=\"x\",\"x\",IF($C209=\"\",\"\",IF(ISNA(MATCH($C209,ZPVOblN,0)),COUNTIF(ZPVOblT,\".\")+1,LOOKUP($C209,ZPVOblN,ZPVOblD))))","v":""},{"$f":"IF($C$209=\"\",\"\",PÚ!$H$142)","v":""},{"$f":"IF($C$209=\"\",\"\",PÚ!$I$142)","v":""},{"$f":"IF($C$209=\"\",\"\",Št.4x60m!$H$142)","v":""},{"$f":"IF($C$209=\"\",\"\",Št.4x60m!$I$142)","v":""},{"$f":"IF($C$209=\"\",\"\",Št.dvojic!$U$266)","v":""},{"$f":"IF($C$209=\"\",\"\",\"(\"&SUM(Št.dvojic!$I$266:$T$266)&\")\")","v":""},{"$f":"IF($C$209=\"\",\"\",Št.dvojic!$V$266)","v":""},{"$f":"IF($C$209=\"\",\"\",Št.400mCTIF!$U$266)","v":""},{"$f":"IF($C$209=\"\",\"\",\"(\"&SUM(Št.400mCTIF!$I$266:$T$266)&\")\")","v":""},{"$f":"IF($C$209=\"\",\"\",Št.400mCTIF!$V$266)","v":""},{"$f":"IF($C$209=\"\",\"\",'PÚ CTIF'!$R$266)","v":""},{"$f":"IF($C$209=\"\",\"\",\"(\"&SUM('PÚ CTIF'!$I$266:$Q$266)&\")\")","v":""},{"$f":"IF($C$209=\"\",\"\",'PÚ CTIF'!$S$266)","v":""},{"$f":"IF(C209=\"\",\"\",Kronika!$H$77)","v":""},null,{"$f":"IF(A209=\"x\",300,IF(C209=\"\",\"\",SUM(D209,F209,H209,K209,N209,Q209,R209)))","v":""},null,{"$f":"IF($A209=\"x\",\"x\",IF($C209=\"\",\"\",MATCH($C209,Výsledky!$N$7:$N$106,0)))","v":""}]
[null,null,null,null,{"$f":"IF($C$209=\"\",\"\",PÚ!$H$143)","v":""},null,{"$f":"IF($C$209=\"\",\"\",Št.4x60m!$H$143)","v":""},null,{"$f":"IF($C$209=\"\",\"\",Št.dvojic!$U$267)","v":""},{"$f":"IF($C$209=\"\",\"\",\"(\"&SUM(Št.dvojic!$I$267:$T$267)&\")\")","v":""},null,{"$f":"IF($C$209=\"\",\"\",Št.400mCTIF!$U$267)","v":""},{"$f":"IF($C$209=\"\",\"\",\"(\"&SUM(Št.400mCTIF!$I$267:$T$267)&\")\")","v":""},null,{"$f":"IF($C$209=\"\",\"\",'PÚ CTIF'!$R$267)","v":""},{"$f":"IF($C$209=\"\",\"\",\"(\"&SUM('PÚ CTIF'!$I$267:$Q$267)&\")\")","v":""}]
[null,{"$f":"B176","v":"Celkové výsledky - TISK"}]
[]
[null,null,null,{"$f":"D178","v":"Krajská soutěž HRY PLAMEN"},null,null,null,null,null,null,null,{"$f":"L178","v":"2020/2021, České Budějovice"}]
[null,null,{"$f":"'Start - jaro'!$N$2","v":"STARŠÍ"}]
[null," startovní číslo"," SDH"," ZPV"," PÚ",null," Štafeta 4x60m",null," Štafeta dvojic",null,null," 400 m štafeta CTIF",null,null," PÚ - CTIF",null,null,"Celoroční činnost",null," Celkový součet",null,"Pořadí"]
[null,null,null,"P.","1.pokus","P.","1.pokus","P.","1.pokus","tr.body","P.","1.pokus","tr.body","P.","1.pokus","tr.body","P.","P."]
[null,null,null,null,"2.pokus",null,"2.pokus",null,"2.pokus","tr.body",null,"2.pokus","tr.body",null,"2.pokus","tr.body"]
[{"$f":"IF('Start - jaro'!Q15=\"\",\"\",\"x\")","v":""},85,{"$f":"IF('Start - jaro'!O15=\"\",\"\",'Start - jaro'!O15)","v":""},{"$f":"IF($A218=\"x\",\"x\",IF($C218=\"\",\"\",IF(ISNA(MATCH($C218,ZPVOblN,0)),COUNTIF(ZPVOblT,\".\")+1,LOOKUP($C218,ZPVOblN,ZPVOblD))))","v":""},{"$f":"IF($C$218=\"\",\"\",PÚ!$H$144)","v":""},{"$f":"IF($C$218=\"\",\"\",PÚ!$I$144)","v":""},{"$f":"IF($C$218=\"\",\"\",Št.4x60m!$H$144)","v":""},{"$f":"IF($C$218=\"\",\"\",Št.4x60m!$I$144)","v":""},{"$f":"IF($C$218=\"\",\"\",Št.dvojic!$U$268)","v":""},{"$f":"IF($C$218=\"\",\"\",\"(\"&SUM(Št.dvojic!$I$268:$T$268)&\")\")","v":""},{"$f":"IF($C$218=\"\",\"\",Št.dvojic!$V$268)","v":""},{"$f":"IF($C$218=\"\",\"\",Št.400mCTIF!$U$268)","v":""},{"$f":"IF($C$218=\"\",\"\",\"(\"&SUM(Št.400mCTIF!$I$268:$T$268)&\")\")","v":""},{"$f":"IF($C$218=\"\",\"\",Št.400mCTIF!$V$268)","v":""},{"$f":"IF($C$218=\"\",\"\",'PÚ CTIF'!$R$268)","v":""},{"$f":"IF($C$218=\"\",\"\",\"(\"&SUM('PÚ CTIF'!$I$268:$Q$268)&\")\")","v":""},{"$f":"IF($C$218=\"\",\"\",'PÚ CTIF'!$S$268)","v":""},{"$f":"IF(C218=\"\",\"\",Kronika!$H$78)","v":""},null,{"$f":"IF(A218=\"x\",300,IF(C218=\"\",\"\",SUM(D218,F218,H218,K218,N218,Q218,R218)))","v":""},null,{"$f":"IF($A218=\"x\",\"x\",IF($C218=\"\",\"\",MATCH($C218,Výsledky!$N$7:$N$106,0)))","v":""}]
[null,null,null,null,{"$f":"IF($C$218=\"\",\"\",PÚ!$H$145)","v":""},null,{"$f":"IF($C$218=\"\",\"\",Št.4x60m!$H$145)","v":""},null,{"$f":"IF($C$218=\"\",\"\",Št.dvojic!$U$269)","v":""},{"$f":"IF($C$218=\"\",\"\",\"(\"&SUM(Št.dvojic!$I$269:$T$269)&\")\")","v":""},null,{"$f":"IF($C$218=\"\",\"\",Št.400mCTIF!$U$269)","v":""},{"$f":"IF($C$218=\"\",\"\",\"(\"&SUM(Št.400mCTIF!$I$269:$T$269)&\")\")","v":""},null,{"$f":"IF($C$218=\"\",\"\",'PÚ CTIF'!$R$269)","v":""},{"$f":"IF($C$218=\"\",\"\",\"(\"&SUM('PÚ CTIF'!$I$269:$Q$269)&\")\")","v":""}]
[{"$f":"IF('Start - jaro'!Q16=\"\",\"\",\"x\")","v":""},86,{"$f":"IF('Start - jaro'!O16=\"\",\"\",'Start - jaro'!O16)","v":""},{"$f":"IF($A220=\"x\",\"x\",IF($C220=\"\",\"\",IF(ISNA(MATCH($C220,ZPVOblN,0)),COUNTIF(ZPVOblT,\".\")+1,LOOKUP($C220,ZPVOblN,ZPVOblD))))","v":""},{"$f":"IF($C$220=\"\",\"\",PÚ!$H$146)","v":""},{"$f":"IF($C$220=\"\",\"\",PÚ!$I$146)","v":""},{"$f":"IF($C$220=\"\",\"\",Št.4x60m!$H$146)","v":""},{"$f":"IF($C$220=\"\",\"\",Št.4x60m!$I$146)","v":""},{"$f":"IF($C$220=\"\",\"\",Št.dvojic!$U$270)","v":""},{"$f":"IF($C$220=\"\",\"\",\"(\"&SUM(Št.dvojic!$I$270:$T$270)&\")\")","v":""},{"$f":"IF($C$220=\"\",\"\",Št.dvojic!$V$270)","v":""},{"$f":"IF($C$220=\"\",\"\",Št.400mCTIF!$U$270)","v":""},{"$f":"IF($C$220=\"\",\"\",\"(\"&SUM(Št.400mCTIF!$I$270:$T$270)&\")\")","v":""},{"$f":"IF($C$220=\"\",\"\",Št.400mCTIF!$V$270)","v":""},{"$f":"IF($C$220=\"\",\"\",'PÚ CTIF'!$R$270)","v":""},{"$f":"IF($C$220=\"\",\"\",\"(\"&SUM('PÚ CTIF'!$I$270:$Q$270)&\")\")","v":""},{"$f":"IF($C$220=\"\",\"\",'PÚ CTIF'!$S$270)","v":""},{"$f":"IF(C220=\"\",\"\",Kronika!$H$79)","v":""},null,{"$f":"IF(A220=\"x\",300,IF(C220=\"\",\"\",SUM(D220,F220,H220,K220,N220,Q220,R220)))","v":""},null,{"$f":"IF($A220=\"x\",\"x\",IF($C220=\"\",\"\",MATCH($C220,Výsledky!$N$7:$N$106,0)))","v":""}]
[null,null,null,null,{"$f":"IF($C$220=\"\",\"\",PÚ!$H$147)","v":""},null,{"$f":"IF($C$220=\"\",\"\",Št.4x60m!$H$147)","v":""},null,{"$f":"IF($C$220=\"\",\"\",Št.dvojic!$U$271)","v":""},{"$f":"IF($C$220=\"\",\"\",\"(\"&SUM(Št.dvojic!$I$271:$T$271)&\")\")","v":""},null,{"$f":"IF($C$220=\"\",\"\",Št.400mCTIF!$U$271)","v":""},{"$f":"IF($C$220=\"\",\"\",\"(\"&SUM(Št.400mCTIF!$I$271:$T$271)&\")\")","v":""},null,{"$f":"IF($C$220=\"\",\"\",'PÚ CTIF'!$R$271)","v":""},{"$f":"IF($C$220=\"\",\"\",\"(\"&SUM('PÚ CTIF'!$I$271:$Q$271)&\")\")","v":""}]
[{"$f":"IF('Start - jaro'!Q17=\"\",\"\",\"x\")","v":""},87,{"$f":"IF('Start - jaro'!O17=\"\",\"\",'Start - jaro'!O17)","v":""},{"$f":"IF($A222=\"x\",\"x\",IF($C222=\"\",\"\",IF(ISNA(MATCH($C222,ZPVOblN,0)),COUNTIF(ZPVOblT,\".\")+1,LOOKUP($C222,ZPVOblN,ZPVOblD))))","v":""},{"$f":"IF($C$222=\"\",\"\",PÚ!$H$148)","v":""},{"$f":"IF($C$222=\"\",\"\",PÚ!$I$148)","v":""},{"$f":"IF($C$222=\"\",\"\",Št.4x60m!$H$148)","v":""},{"$f":"IF($C$222=\"\",\"\",Št.4x60m!$I$148)","v":""},{"$f":"IF($C$222=\"\",\"\",Št.dvojic!$U$272)","v":""},{"$f":"IF($C$222=\"\",\"\",\"(\"&SUM(Št.dvojic!$I$272:$T$272)&\")\")","v":""},{"$f":"IF($C$222=\"\",\"\",Št.dvojic!$V$272)","v":""},{"$f":"IF($C$222=\"\",\"\",Št.400mCTIF!$U$272)","v":""},{"$f":"IF($C$222=\"\",\"\",\"(\"&SUM(Št.400mCTIF!$I$272:$T$272)&\")\")","v":""},{"$f":"IF($C$222=\"\",\"\",Št.400mCTIF!$V$272)","v":""},{"$f":"IF($C$222=\"\",\"\",'PÚ CTIF'!$R$272)","v":""},{"$f":"IF($C$222=\"\",\"\",\"(\"&SUM('PÚ CTIF'!$I$272:$Q$272)&\")\")","v":""},{"$f":"IF($C$222=\"\",\"\",'PÚ CTIF'!$S$272)","v":""},{"$f":"IF(C222=\"\",\"\",Kronika!$H$80)","v":""},null,{"$f":"IF(A222=\"x\",300,IF(C222=\"\",\"\",SUM(D222,F222,H222,K222,N222,Q222,R222)))","v":""},null,{"$f":"IF($A222=\"x\",\"x\",IF($C222=\"\",\"\",MATCH($C222,Výsledky!$N$7:$N$106,0)))","v":""}]
[null,null,null,null,{"$f":"IF($C$222=\"\",\"\",PÚ!$H$149)","v":""},null,{"$f":"IF($C$222=\"\",\"\",Št.4x60m!$H$149)","v":""},null,{"$f":"IF($C$222=\"\",\"\",Št.dvojic!$U$273)","v":""},{"$f":"IF($C$222=\"\",\"\",\"(\"&SUM(Št.dvojic!$I$273:$T$273)&\")\")","v":""},null,{"$f":"IF($C$222=\"\",\"\",Št.400mCTIF!$U$273)","v":""},{"$f":"IF($C$222=\"\",\"\",\"(\"&SUM(Št.400mCTIF!$I$273:$T$273)&\")\")","v":""},null,{"$f":"IF($C$222=\"\",\"\",'PÚ CTIF'!$R$273)","v":""},{"$f":"IF($C$222=\"\",\"\",\"(\"&SUM('PÚ CTIF'!$I$273:$Q$273)&\")\")","v":""}]
[{"$f":"IF('Start - jaro'!Q18=\"\",\"\",\"x\")","v":""},88,{"$f":"IF('Start - jaro'!O18=\"\",\"\",'Start - jaro'!O18)","v":""},{"$f":"IF($A224=\"x\",\"x\",IF($C224=\"\",\"\",IF(ISNA(MATCH($C224,ZPVOblN,0)),COUNTIF(ZPVOblT,\".\")+1,LOOKUP($C224,ZPVOblN,ZPVOblD))))","v":""},{"$f":"IF($C$224=\"\",\"\",PÚ!$H$150)","v":""},{"$f":"IF($C$224=\"\",\"\",PÚ!$I$150)","v":""},{"$f":"IF($C$224=\"\",\"\",Št.4x60m!$H$150)","v":""},{"$f":"IF($C$224=\"\",\"\",Št.4x60m!$I$150)","v":""},{"$f":"IF($C$224=\"\",\"\",Št.dvojic!$U$274)","v":""},{"$f":"IF($C$224=\"\",\"\",\"(\"&SUM(Št.dvojic!$I$274:$T$274)&\")\")","v":""},{"$f":"IF($C$224=\"\",\"\",Št.dvojic!$V$274)","v":""},{"$f":"IF($C$224=\"\",\"\",Št.400mCTIF!$U$274)","v":""},{"$f":"IF($C$224=\"\",\"\",\"(\"&SUM(Št.400mCTIF!$I$274:$T$274)&\")\")","v":""},{"$f":"IF($C$224=\"\",\"\",Št.400mCTIF!$V$274)","v":""},{"$f":"IF($C$224=\"\",\"\",'PÚ CTIF'!$R$274)","v":""},{"$f":"IF($C$224=\"\",\"\",\"(\"&SUM('PÚ CTIF'!$I$274:$Q$274)&\")\")","v":""},{"$f":"IF($C$224=\"\",\"\",'PÚ CTIF'!$S$274)","v":""},{"$f":"IF(C224=\"\",\"\",Kronika!$H$81)","v":""},null,{"$f":"IF(A224=\"x\",300,IF(C224=\"\",\"\",SUM(D224,F224,H224,K224,N224,Q224,R224)))","v":""},null,{"$f":"IF($A224=\"x\",\"x\",IF($C224=\"\",\"\",MATCH($C224,Výsledky!$N$7:$N$106,0)))","v":""}]
[null,null,null,null,{"$f":"IF($C$224=\"\",\"\",PÚ!$H$151)","v":""},null,{"$f":"IF($C$224=\"\",\"\",Št.4x60m!$H$151)","v":""},null,{"$f":"IF($C$224=\"\",\"\",Št.dvojic!$U$275)","v":""},{"$f":"IF($C$224=\"\",\"\",\"(\"&SUM(Št.dvojic!$I$275:$T$275)&\")\")","v":""},null,{"$f":"IF($C$224=\"\",\"\",Št.400mCTIF!$U$275)","v":""},{"$f":"IF($C$224=\"\",\"\",\"(\"&SUM(Št.400mCTIF!$I$275:$T$275)&\")\")","v":""},null,{"$f":"IF($C$224=\"\",\"\",'PÚ CTIF'!$R$275)","v":""},{"$f":"IF($C$224=\"\",\"\",\"(\"&SUM('PÚ CTIF'!$I$275:$Q$275)&\")\")","v":""}]
[{"$f":"IF('Start - jaro'!Q19=\"\",\"\",\"x\")","v":""},89,{"$f":"IF('Start - jaro'!O19=\"\",\"\",'Start - jaro'!O19)","v":""},{"$f":"IF($A226=\"x\",\"x\",IF($C226=\"\",\"\",IF(ISNA(MATCH($C226,ZPVOblN,0)),COUNTIF(ZPVOblT,\".\")+1,LOOKUP($C226,ZPVOblN,ZPVOblD))))","v":""},{"$f":"IF($C$226=\"\",\"\",PÚ!$H$152)","v":""},{"$f":"IF($C$226=\"\",\"\",PÚ!$I$152)","v":""},{"$f":"IF($C$226=\"\",\"\",Št.4x60m!$H$152)","v":""},{"$f":"IF($C$226=\"\",\"\",Št.4x60m!$I$152)","v":""},{"$f":"IF($C$226=\"\",\"\",Št.dvojic!$U$276)","v":""},{"$f":"IF($C$226=\"\",\"\",\"(\"&SUM(Št.dvojic!$I$276:$T$276)&\")\")","v":""},{"$f":"IF($C$226=\"\",\"\",Št.dvojic!$V$276)","v":""},{"$f":"IF($C$226=\"\",\"\",Št.400mCTIF!$U$276)","v":""},{"$f":"IF($C$226=\"\",\"\",\"(\"&SUM(Št.400mCTIF!$I$276:$T$276)&\")\")","v":""},{"$f":"IF($C$226=\"\",\"\",Št.400mCTIF!$V$276)","v":""},{"$f":"IF($C$226=\"\",\"\",'PÚ CTIF'!$R$276)","v":""},{"$f":"IF($C$226=\"\",\"\",\"(\"&SUM('PÚ CTIF'!$I$276:$Q$276)&\")\")","v":""},{"$f":"IF($C$226=\"\",\"\",'PÚ CTIF'!$S$276)","v":""},{"$f":"IF(C226=\"\",\"\",Kronika!$H$82)","v":""},null,{"$f":"IF(A226=\"x\",300,IF(C226=\"\",\"\",SUM(D226,F226,H226,K226,N226,Q226,R226)))","v":""},null,{"$f":"IF($A226=\"x\",\"x\",IF($C226=\"\",\"\",MATCH($C226,Výsledky!$N$7:$N$106,0)))","v":""}]
[null,null,null,null,{"$f":"IF($C$226=\"\",\"\",PÚ!$H$153)","v":""},null,{"$f":"IF($C$226=\"\",\"\",Št.4x60m!$H$153)","v":""},null,{"$f":"IF($C$226=\"\",\"\",Št.dvojic!$U$277)","v":""},{"$f":"IF($C$226=\"\",\"\",\"(\"&SUM(Št.dvojic!$I$277:$T$277)&\")\")","v":""},null,{"$f":"IF($C$226=\"\",\"\",Št.400mCTIF!$U$277)","v":""},{"$f":"IF($C$226=\"\",\"\",\"(\"&SUM(Št.400mCTIF!$I$277:$T$277)&\")\")","v":""},null,{"$f":"IF($C$226=\"\",\"\",'PÚ CTIF'!$R$277)","v":""},{"$f":"IF($C$226=\"\",\"\",\"(\"&SUM('PÚ CTIF'!$I$277:$Q$277)&\")\")","v":""}]
[{"$f":"IF('Start - jaro'!Q20=\"\",\"\",\"x\")","v":""},90,{"$f":"IF('Start - jaro'!O20=\"\",\"\",'Start - jaro'!O20)","v":""},{"$f":"IF($A228=\"x\",\"x\",IF($C228=\"\",\"\",IF(ISNA(MATCH($C228,ZPVOblN,0)),COUNTIF(ZPVOblT,\".\")+1,LOOKUP($C228,ZPVOblN,ZPVOblD))))","v":""},{"$f":"IF($C$228=\"\",\"\",PÚ!$H$154)","v":""},{"$f":"IF($C$228=\"\",\"\",PÚ!$I$154)","v":""},{"$f":"IF($C$228=\"\",\"\",Št.4x60m!$H$154)","v":""},{"$f":"IF($C$228=\"\",\"\",Št.4x60m!$I$154)","v":""},{"$f":"IF($C$228=\"\",\"\",Št.dvojic!$U$278)","v":""},{"$f":"IF($C$228=\"\",\"\",\"(\"&SUM(Št.dvojic!$I$278:$T$278)&\")\")","v":""},{"$f":"IF($C$228=\"\",\"\",Št.dvojic!$V$278)","v":""},{"$f":"IF($C$228=\"\",\"\",Št.400mCTIF!$U$278)","v":""},{"$f":"IF($C$228=\"\",\"\",\"(\"&SUM(Št.400mCTIF!$I$278:$T$278)&\")\")","v":""},{"$f":"IF($C$228=\"\",\"\",Št.400mCTIF!$V$278)","v":""},{"$f":"IF($C$228=\"\",\"\",'PÚ CTIF'!$R$278)","v":""},{"$f":"IF($C$228=\"\",\"\",\"(\"&SUM('PÚ CTIF'!$I$278:$Q$278)&\")\")","v":""},{"$f":"IF($C$228=\"\",\"\",'PÚ CTIF'!$S$278)","v":""},{"$f":"IF(C228=\"\",\"\",Kronika!$H$83)","v":""},null,{"$f":"IF(A228=\"x\",300,IF(C228=\"\",\"\",SUM(D228,F228,H228,K228,N228,Q228,R228)))","v":""},null,{"$f":"IF($A228=\"x\",\"x\",IF($C228=\"\",\"\",MATCH($C228,Výsledky!$N$7:$N$106,0)))","v":""}]
[null,null,null,null,{"$f":"IF($C$228=\"\",\"\",PÚ!$H$155)","v":""},null,{"$f":"IF($C$228=\"\",\"\",Št.4x60m!$H$155)","v":""},null,{"$f":"IF($C$228=\"\",\"\",Št.dvojic!$U$279)","v":""},{"$f":"IF($C$228=\"\",\"\",\"(\"&SUM(Št.dvojic!$I$279:$T$279)&\")\")","v":""},null,{"$f":"IF($C$228=\"\",\"\",Št.400mCTIF!$U$279)","v":""},{"$f":"IF($C$228=\"\",\"\",\"(\"&SUM(Št.400mCTIF!$I$279:$T$279)&\")\")","v":""},null,{"$f":"IF($C$228=\"\",\"\",'PÚ CTIF'!$R$279)","v":""},{"$f":"IF($C$228=\"\",\"\",\"(\"&SUM('PÚ CTIF'!$I$279:$Q$279)&\")\")","v":""}]
[{"$f":"IF('Start - jaro'!Q21=\"\",\"\",\"x\")","v":""},91,{"$f":"IF('Start - jaro'!O21=\"\",\"\",'Start - jaro'!O21)","v":""},{"$f":"IF($A230=\"x\",\"x\",IF($C230=\"\",\"\",IF(ISNA(MATCH($C230,ZPVOblN,0)),COUNTIF(ZPVOblT,\".\")+1,LOOKUP($C230,ZPVOblN,ZPVOblD))))","v":""},{"$f":"IF($C$230=\"\",\"\",PÚ!$S$136)","v":""},{"$f":"IF($C$230=\"\",\"\",PÚ!$T136)","v":""},{"$f":"IF($C$230=\"\",\"\",Št.4x60m!$S$136)","v":""},{"$f":"IF($C$230=\"\",\"\",Št.4x60m!$T136)","v":""},{"$f":"IF($C$230=\"\",\"\",Št.dvojic!$U$291)","v":""},{"$f":"IF($C$230=\"\",\"\",\"(\"&SUM(Št.dvojic!$I$291:$T$291)&\")\")","v":""},{"$f":"IF($C$230=\"\",\"\",Št.dvojic!$V$291)","v":""},{"$f":"IF($C$230=\"\",\"\",Št.400mCTIF!$U$291)","v":""},{"$f":"IF($C$230=\"\",\"\",\"(\"&SUM(Št.400mCTIF!$I$291:$T$291)&\")\")","v":""},{"$f":"IF($C$230=\"\",\"\",Št.400mCTIF!$V$291)","v":""},{"$f":"IF($C$230=\"\",\"\",'PÚ CTIF'!$R$291)","v":""},{"$f":"IF($C$230=\"\",\"\",\"(\"&SUM('PÚ CTIF'!$I$291:$Q$291)&\")\")","v":""},{"$f":"IF($C$230=\"\",\"\",'PÚ CTIF'!$S$291)","v":""},{"$f":"IF(C230=\"\",\"\",Kronika!$H$84)","v":""},null,{"$f":"IF(A230=\"x\",300,IF(C230=\"\",\"\",SUM(D230,F230,H230,K230,N230,Q230,R230)))","v":""},null,{"$f":"IF($A230=\"x\",\"x\",IF($C230=\"\",\"\",MATCH($C230,Výsledky!$N$7:$N$106,0)))","v":""}]
[null,null,null,null,{"$f":"IF($C$230=\"\",\"\",PÚ!$S$137)","v":""},null,{"$f":"IF($C$230=\"\",\"\",Št.4x60m!$S$137)","v":""},null,{"$f":"IF($C$230=\"\",\"\",Št.dvojic!$U$292)","v":""},{"$f":"IF($C$230=\"\",\"\",\"(\"&SUM(Št.dvojic!$I$292:$T$292)&\")\")","v":""},null,{"$f":"IF($C$230=\"\",\"\",Št.400mCTIF!$U$292)","v":""},{"$f":"IF($C$230=\"\",\"\",\"(\"&SUM(Št.400mCTIF!$I$292:$T$292)&\")\")","v":""},null,{"$f":"IF($C$230=\"\",\"\",'PÚ CTIF'!$R$292)","v":""},{"$f":"IF($C$230=\"\",\"\",\"(\"&SUM('PÚ CTIF'!$I$292:$Q$292)&\")\")","v":""}]
[{"$f":"IF('Start - jaro'!Q22=\"\",\"\",\"x\")","v":""},92,{"$f":"IF('Start - jaro'!O22=\"\",\"\",'Start - jaro'!O22)","v":""},{"$f":"IF($A232=\"x\",\"x\",IF($C232=\"\",\"\",IF(ISNA(MATCH($C232,ZPVOblN,0)),COUNTIF(ZPVOblT,\".\")+1,LOOKUP($C232,ZPVOblN,ZPVOblD))))","v":""},{"$f":"IF($C$232=\"\",\"\",PÚ!$S$138)","v":""},{"$f":"IF($C$232=\"\",\"\",PÚ!$T138)","v":""},{"$f":"IF($C$232=\"\",\"\",Št.4x60m!$S$138)","v":""},{"$f":"IF($C$232=\"\",\"\",Št.4x60m!$T138)","v":""},{"$f":"IF($C$232=\"\",\"\",Št.dvojic!$U$293)","v":""},{"$f":"IF($C$232=\"\",\"\",\"(\"&SUM(Št.dvojic!$I$293:$T$293)&\")\")","v":""},{"$f":"IF($C$232=\"\",\"\",Št.dvojic!$V$293)","v":""},{"$f":"IF($C$232=\"\",\"\",Št.400mCTIF!$U$293)","v":""},{"$f":"IF($C$232=\"\",\"\",\"(\"&SUM(Št.400mCTIF!$I$293:$T$293)&\")\")","v":""},{"$f":"IF($C$232=\"\",\"\",Št.400mCTIF!$V$293)","v":""},{"$f":"IF($C$232=\"\",\"\",'PÚ CTIF'!$R$293)","v":""},{"$f":"IF($C$232=\"\",\"\",\"(\"&SUM('PÚ CTIF'!$I$293:$Q$293)&\")\")","v":""},{"$f":"IF($C$232=\"\",\"\",'PÚ CTIF'!$S$293)","v":""},{"$f":"IF(C232=\"\",\"\",Kronika!$H$85)","v":""},null,{"$f":"IF(A232=\"x\",300,IF(C232=\"\",\"\",SUM(D232,F232,H232,K232,N232,Q232,R232)))","v":""},null,{"$f":"IF($A232=\"x\",\"x\",IF($C232=\"\",\"\",MATCH($C232,Výsledky!$N$7:$N$106,0)))","v":""}]
[null,null,null,null,{"$f":"IF($C$232=\"\",\"\",PÚ!$S$139)","v":""},null,{"$f":"IF($C$232=\"\",\"\",Št.4x60m!$S$139)","v":""},null,{"$f":"IF($C$232=\"\",\"\",Št.dvojic!$U$294)","v":""},{"$f":"IF($C$232=\"\",\"\",\"(\"&SUM(Št.dvojic!$I$294:$T$294)&\")\")","v":""},null,{"$f":"IF($C$232=\"\",\"\",Št.400mCTIF!$U$294)","v":""},{"$f":"IF($C$232=\"\",\"\",\"(\"&SUM(Št.400mCTIF!$I$294:$T$294)&\")\")","v":""},null,{"$f":"IF($C$232=\"\",\"\",'PÚ CTIF'!$R$294)","v":""},{"$f":"IF($C$232=\"\",\"\",\"(\"&SUM('PÚ CTIF'!$I$294:$Q$294)&\")\")","v":""}]
[{"$f":"IF('Start - jaro'!Q23=\"\",\"\",\"x\")","v":""},93,{"$f":"IF('Start - jaro'!O23=\"\",\"\",'Start - jaro'!O23)","v":""},{"$f":"IF($A234=\"x\",\"x\",IF($C234=\"\",\"\",IF(ISNA(MATCH($C234,ZPVOblN,0)),COUNTIF(ZPVOblT,\".\")+1,LOOKUP($C234,ZPVOblN,ZPVOblD))))","v":""},{"$f":"IF($C$234=\"\",\"\",PÚ!$S$140)","v":""},{"$f":"IF($C$234=\"\",\"\",PÚ!$T140)","v":""},{"$f":"IF($C$234=\"\",\"\",Št.4x60m!$S$140)","v":""},{"$f":"IF($C$234=\"\",\"\",Št.4x60m!$T140)","v":""},{"$f":"IF($C$234=\"\",\"\",Št.dvojic!$U$295)","v":""},{"$f":"IF($C$234=\"\",\"\",\"(\"&SUM(Št.dvojic!$I$295:$T$295)&\")\")","v":""},{"$f":"IF($C$234=\"\",\"\",Št.dvojic!$V$295)","v":""},{"$f":"IF($C$234=\"\",\"\",Št.400mCTIF!$U$295)","v":""},{"$f":"IF($C$234=\"\",\"\",\"(\"&SUM(Št.400mCTIF!$I$295:$T$295)&\")\")","v":""},{"$f":"IF($C$234=\"\",\"\",Št.400mCTIF!$V$295)","v":""},{"$f":"IF($C$234=\"\",\"\",'PÚ CTIF'!$R$295)","v":""},{"$f":"IF($C$234=\"\",\"\",\"(\"&SUM('PÚ CTIF'!$I$295:$Q$295)&\")\")","v":""},{"$f":"IF($C$234=\"\",\"\",'PÚ CTIF'!$S$295)","v":""},{"$f":"IF(C234=\"\",\"\",Kronika!$H$86)","v":""},null,{"$f":"IF(A234=\"x\",300,IF(C234=\"\",\"\",SUM(D234,F234,H234,K234,N234,Q234,R234)))","v":""},null,{"$f":"IF($A234=\"x\",\"x\",IF($C234=\"\",\"\",MATCH($C234,Výsledky!$N$7:$N$106,0)))","v":""}]
[null,null,null,null,{"$f":"IF($C$234=\"\",\"\",PÚ!$S$141)","v":""},null,{"$f":"IF($C$234=\"\",\"\",Št.4x60m!$S$141)","v":""},null,{"$f":"IF($C$234=\"\",\"\",Št.dvojic!$U$296)","v":""},{"$f":"IF($C$234=\"\",\"\",\"(\"&SUM(Št.dvojic!$I$296:$T$296)&\")\")","v":""},null,{"$f":"IF($C$234=\"\",\"\",Št.400mCTIF!$U$296)","v":""},{"$f":"IF($C$234=\"\",\"\",\"(\"&SUM(Št.400mCTIF!$I$296:$T$296)&\")\")","v":""},null,{"$f":"IF($C$234=\"\",\"\",'PÚ CTIF'!$R$296)","v":""},{"$f":"IF($C$234=\"\",\"\",\"(\"&SUM('PÚ CTIF'!$I$296:$Q$296)&\")\")","v":""}]
[{"$f":"IF('Start - jaro'!Q24=\"\",\"\",\"x\")","v":""},94,{"$f":"IF('Start - jaro'!O24=\"\",\"\",'Start - jaro'!O24)","v":""},{"$f":"IF($A236=\"x\",\"x\",IF($C236=\"\",\"\",IF(ISNA(MATCH($C236,ZPVOblN,0)),COUNTIF(ZPVOblT,\".\")+1,LOOKUP($C236,ZPVOblN,ZPVOblD))))","v":""},{"$f":"IF($C$236=\"\",\"\",PÚ!$S$142)","v":""},{"$f":"IF($C$236=\"\",\"\",PÚ!$T142)","v":""},{"$f":"IF($C$236=\"\",\"\",Št.4x60m!$S$142)","v":""},{"$f":"IF($C$236=\"\",\"\",Št.4x60m!$T142)","v":""},{"$f":"IF($C$236=\"\",\"\",Št.dvojic!$U$297)","v":""},{"$f":"IF($C$236=\"\",\"\",\"(\"&SUM(Št.dvojic!$I$297:$T$297)&\")\")","v":""},{"$f":"IF($C$236=\"\",\"\",Št.dvojic!$V$297)","v":""},{"$f":"IF($C$236=\"\",\"\",Št.400mCTIF!$U$297)","v":""},{"$f":"IF($C$236=\"\",\"\",\"(\"&SUM(Št.400mCTIF!$I$297:$T$297)&\")\")","v":""},{"$f":"IF($C$236=\"\",\"\",Št.400mCTIF!$V$297)","v":""},{"$f":"IF($C$236=\"\",\"\",'PÚ CTIF'!$R$297)","v":""},{"$f":"IF($C$236=\"\",\"\",\"(\"&SUM('PÚ CTIF'!$I$297:$Q$297)&\")\")","v":""},{"$f":"IF($C$236=\"\",\"\",'PÚ CTIF'!$S$297)","v":""},{"$f":"IF(C236=\"\",\"\",Kronika!$H$87)","v":""},null,{"$f":"IF(A236=\"x\",300,IF(C236=\"\",\"\",SUM(D236,F236,H236,K236,N236,Q236,R236)))","v":""},null,{"$f":"IF($A236=\"x\",\"x\",IF($C236=\"\",\"\",MATCH($C236,Výsledky!$N$7:$N$106,0)))","v":""}]
[null,null,null,null,{"$f":"IF($C$236=\"\",\"\",PÚ!$S$143)","v":""},null,{"$f":"IF($C$236=\"\",\"\",Št.4x60m!$S$143)","v":""},null,{"$f":"IF($C$236=\"\",\"\",Št.dvojic!$U$298)","v":""},{"$f":"IF($C$236=\"\",\"\",\"(\"&SUM(Št.dvojic!$I$298:$T$298)&\")\")","v":""},null,{"$f":"IF($C$236=\"\",\"\",Št.400mCTIF!$U$298)","v":""},{"$f":"IF($C$236=\"\",\"\",\"(\"&SUM(Št.400mCTIF!$I$298:$T$298)&\")\")","v":""},null,{"$f":"IF($C$236=\"\",\"\",'PÚ CTIF'!$R$298)","v":""},{"$f":"IF($C$236=\"\",\"\",\"(\"&SUM('PÚ CTIF'!$I$298:$Q$298)&\")\")","v":""}]
[{"$f":"IF('Start - jaro'!Q25=\"\",\"\",\"x\")","v":""},95,{"$f":"IF('Start - jaro'!O25=\"\",\"\",'Start - jaro'!O25)","v":""},{"$f":"IF($A238=\"x\",\"x\",IF($C238=\"\",\"\",IF(ISNA(MATCH($C238,ZPVOblN,0)),COUNTIF(ZPVOblT,\".\")+1,LOOKUP($C238,ZPVOblN,ZPVOblD))))","v":""},{"$f":"IF($C$238=\"\",\"\",PÚ!$S$144)","v":""},{"$f":"IF($C$238=\"\",\"\",PÚ!$T144)","v":""},{"$f":"IF($C$238=\"\",\"\",Št.4x60m!$S$144)","v":""},{"$f":"IF($C$238=\"\",\"\",Št.4x60m!$T144)","v":""},{"$f":"IF($C$238=\"\",\"\",Št.dvojic!$U$299)","v":""},{"$f":"IF($C$238=\"\",\"\",\"(\"&SUM(Št.dvojic!$I$299:$T$299)&\")\")","v":""},{"$f":"IF($C$238=\"\",\"\",Št.dvojic!$V$299)","v":""},{"$f":"IF($C$238=\"\",\"\",Št.400mCTIF!$U$299)","v":""},{"$f":"IF($C$238=\"\",\"\",\"(\"&SUM(Št.400mCTIF!$I$299:$T$299)&\")\")","v":""},{"$f":"IF($C$238=\"\",\"\",Št.400mCTIF!$V$299)","v":""},{"$f":"IF($C$238=\"\",\"\",'PÚ CTIF'!$R$299)","v":""},{"$f":"IF($C$238=\"\",\"\",\"(\"&SUM('PÚ CTIF'!$I$299:$Q$299)&\")\")","v":""},{"$f":"IF($C$238=\"\",\"\",'PÚ CTIF'!$S$299)","v":""},{"$f":"IF(C238=\"\",\"\",Kronika!$H$88)","v":""},null,{"$f":"IF(A238=\"x\",300,IF(C238=\"\",\"\",SUM(D238,F238,H238,K238,N238,Q238,R238)))","v":""},null,{"$f":"IF($A238=\"x\",\"x\",IF($C238=\"\",\"\",MATCH($C238,Výsledky!$N$7:$N$106,0)))","v":""}]
[null,null,null,null,{"$f":"IF($C$238=\"\",\"\",PÚ!$S$145)","v":""},null,{"$f":"IF($C$238=\"\",\"\",Št.4x60m!$S$145)","v":""},null,{"$f":"IF($C$238=\"\",\"\",Št.dvojic!$U$300)","v":""},{"$f":"IF($C$238=\"\",\"\",\"(\"&SUM(Št.dvojic!$I$300:$T$300)&\")\")","v":""},null,{"$f":"IF($C$238=\"\",\"\",Št.400mCTIF!$U$300)","v":""},{"$f":"IF($C$238=\"\",\"\",\"(\"&SUM(Št.400mCTIF!$I$300:$T$300)&\")\")","v":""},null,{"$f":"IF($C$238=\"\",\"\",'PÚ CTIF'!$R$300)","v":""},{"$f":"IF($C$238=\"\",\"\",\"(\"&SUM('PÚ CTIF'!$I$300:$Q$300)&\")\")","v":""}]
[{"$f":"IF('Start - jaro'!Q26=\"\",\"\",\"x\")","v":""},96,{"$f":"IF('Start - jaro'!O26=\"\",\"\",'Start - jaro'!O26)","v":""},{"$f":"IF($A240=\"x\",\"x\",IF($C240=\"\",\"\",IF(ISNA(MATCH($C240,ZPVOblN,0)),COUNTIF(ZPVOblT,\".\")+1,LOOKUP($C240,ZPVOblN,ZPVOblD))))","v":""},{"$f":"IF($C$240=\"\",\"\",PÚ!$S$146)","v":""},{"$f":"IF($C$240=\"\",\"\",PÚ!$T146)","v":""},{"$f":"IF($C$240=\"\",\"\",Št.4x60m!$S$146)","v":""},{"$f":"IF($C$240=\"\",\"\",Št.4x60m!$T146)","v":""},{"$f":"IF($C$240=\"\",\"\",Št.dvojic!$U$301)","v":""},{"$f":"IF($C$240=\"\",\"\",\"(\"&SUM(Št.dvojic!$I$301:$T$301)&\")\")","v":""},{"$f":"IF($C$240=\"\",\"\",Št.dvojic!$V$301)","v":""},{"$f":"IF($C$240=\"\",\"\",Št.400mCTIF!$U$301)","v":""},{"$f":"IF($C$240=\"\",\"\",\"(\"&SUM(Št.400mCTIF!$I$301:$T$301)&\")\")","v":""},{"$f":"IF($C$240=\"\",\"\",Št.400mCTIF!$V$301)","v":""},{"$f":"IF($C$240=\"\",\"\",'PÚ CTIF'!$R$301)","v":""},{"$f":"IF($C$240=\"\",\"\",\"(\"&SUM('PÚ CTIF'!$I$301:$Q$301)&\")\")","v":""},{"$f":"IF($C$240=\"\",\"\",'PÚ CTIF'!$S$301)","v":""},{"$f":"IF(C240=\"\",\"\",Kronika!$H$89)","v":""},null,{"$f":"IF(A240=\"x\",300,IF(C240=\"\",\"\",SUM(D240,F240,H240,K240,N240,Q240,R240)))","v":""},null,{"$f":"IF($A240=\"x\",\"x\",IF($C240=\"\",\"\",MATCH($C240,Výsledky!$N$7:$N$106,0)))","v":""}]
[null,null,null,null,{"$f":"IF($C$240=\"\",\"\",PÚ!$S$147)","v":""},null,{"$f":"IF($C$240=\"\",\"\",Št.4x60m!$S$147)","v":""},null,{"$f":"IF($C$240=\"\",\"\",Št.dvojic!$U$302)","v":""},{"$f":"IF($C$240=\"\",\"\",\"(\"&SUM(Št.dvojic!$I$302:$T$302)&\")\")","v":""},null,{"$f":"IF($C$240=\"\",\"\",Št.400mCTIF!$U$302)","v":""},{"$f":"IF($C$240=\"\",\"\",\"(\"&SUM(Št.400mCTIF!$I$302:$T$302)&\")\")","v":""},null,{"$f":"IF($C$240=\"\",\"\",'PÚ CTIF'!$R$302)","v":""},{"$f":"IF($C$240=\"\",\"\",\"(\"&SUM('PÚ CTIF'!$I$302:$Q$302)&\")\")","v":""}]
[{"$f":"IF('Start - jaro'!Q27=\"\",\"\",\"x\")","v":""},97,{"$f":"IF('Start - jaro'!O27=\"\",\"\",'Start - jaro'!O27)","v":""},{"$f":"IF($A242=\"x\",\"x\",IF($C242=\"\",\"\",IF(ISNA(MATCH($C242,ZPVOblN,0)),COUNTIF(ZPVOblT,\".\")+1,LOOKUP($C242,ZPVOblN,ZPVOblD))))","v":""},{"$f":"IF($C$242=\"\",\"\",PÚ!$S$148)","v":""},{"$f":"IF($C$242=\"\",\"\",PÚ!$T148)","v":""},{"$f":"IF($C$242=\"\",\"\",Št.4x60m!$S$148)","v":""},{"$f":"IF($C$242=\"\",\"\",Št.4x60m!$T148)","v":""},{"$f":"IF($C$242=\"\",\"\",Št.dvojic!$U$303)","v":""},{"$f":"IF($C$242=\"\",\"\",\"(\"&SUM(Št.dvojic!$I$303:$T$303)&\")\")","v":""},{"$f":"IF($C$242=\"\",\"\",Št.dvojic!$V$303)","v":""},{"$f":"IF($C$242=\"\",\"\",Št.400mCTIF!$U$303)","v":""},{"$f":"IF($C$242=\"\",\"\",\"(\"&SUM(Št.400mCTIF!$I$303:$T$303)&\")\")","v":""},{"$f":"IF($C$242=\"\",\"\",Št.400mCTIF!$V$303)","v":""},{"$f":"IF($C$242=\"\",\"\",'PÚ CTIF'!$R$303)","v":""},{"$f":"IF($C$242=\"\",\"\",\"(\"&SUM('PÚ CTIF'!$I$303:$Q$303)&\")\")","v":""},{"$f":"IF($C$242=\"\",\"\",'PÚ CTIF'!$S$303)","v":""},{"$f":"IF(C242=\"\",\"\",Kronika!$H$90)","v":""},null,{"$f":"IF(A242=\"x\",300,IF(C242=\"\",\"\",SUM(D242,F242,H242,K242,N242,Q242,R242)))","v":""},null,{"$f":"IF($A242=\"x\",\"x\",IF($C242=\"\",\"\",MATCH($C242,Výsledky!$N$7:$N$106,0)))","v":""}]
[null,null,null,null,{"$f":"IF($C$242=\"\",\"\",PÚ!$S$149)","v":""},null,{"$f":"IF($C$242=\"\",\"\",Št.4x60m!$S$149)","v":""},null,{"$f":"IF($C$242=\"\",\"\",Št.dvojic!$U$304)","v":""},{"$f":"IF($C$242=\"\",\"\",\"(\"&SUM(Št.dvojic!$I$304:$T$304)&\")\")","v":""},null,{"$f":"IF($C$242=\"\",\"\",Št.400mCTIF!$U$304)","v":""},{"$f":"IF($C$242=\"\",\"\",\"(\"&SUM(Št.400mCTIF!$I$304:$T$304)&\")\")","v":""},null,{"$f":"IF($C$242=\"\",\"\",'PÚ CTIF'!$R$304)","v":""},{"$f":"IF($C$242=\"\",\"\",\"(\"&SUM('PÚ CTIF'!$I$304:$Q$304)&\")\")","v":""}]
[{"$f":"IF('Start - jaro'!Q28=\"\",\"\",\"x\")","v":""},98,{"$f":"IF('Start - jaro'!O28=\"\",\"\",'Start - jaro'!O28)","v":""},{"$f":"IF($A244=\"x\",\"x\",IF($C244=\"\",\"\",IF(ISNA(MATCH($C244,ZPVOblN,0)),COUNTIF(ZPVOblT,\".\")+1,LOOKUP($C244,ZPVOblN,ZPVOblD))))","v":""},{"$f":"IF($C$244=\"\",\"\",PÚ!$S$150)","v":""},{"$f":"IF($C$244=\"\",\"\",PÚ!$T150)","v":""},{"$f":"IF($C$244=\"\",\"\",Št.4x60m!$S$150)","v":""},{"$f":"IF($C$244=\"\",\"\",Št.4x60m!$T150)","v":""},{"$f":"IF($C$244=\"\",\"\",Št.dvojic!$U$305)","v":""},{"$f":"IF($C$244=\"\",\"\",\"(\"&SUM(Št.dvojic!$I$305:$T$305)&\")\")","v":""},{"$f":"IF($C$244=\"\",\"\",Št.dvojic!$V$305)","v":""},{"$f":"IF($C$244=\"\",\"\",Št.400mCTIF!$U$305)","v":""},{"$f":"IF($C$244=\"\",\"\",\"(\"&SUM(Št.400mCTIF!$I$305:$T$305)&\")\")","v":""},{"$f":"IF($C$244=\"\",\"\",Št.400mCTIF!$V$305)","v":""},{"$f":"IF($C$244=\"\",\"\",'PÚ CTIF'!$R$305)","v":""},{"$f":"IF($C$244=\"\",\"\",\"(\"&SUM('PÚ CTIF'!$I$305:$Q$305)&\")\")","v":""},{"$f":"IF($C$244=\"\",\"\",'PÚ CTIF'!$S$305)","v":""},{"$f":"IF(C244=\"\",\"\",Kronika!$H$91)","v":""},null,{"$f":"IF(A244=\"x\",300,IF(C244=\"\",\"\",SUM(D244,F244,H244,K244,N244,Q244,R244)))","v":""},null,{"$f":"IF($A244=\"x\",\"x\",IF($C244=\"\",\"\",MATCH($C244,Výsledky!$N$7:$N$106,0)))","v":""}]
[null,null,null,null,{"$f":"IF($C$244=\"\",\"\",PÚ!$S$151)","v":""},null,{"$f":"IF($C$244=\"\",\"\",Št.4x60m!$S$151)","v":""},null,{"$f":"IF($C$244=\"\",\"\",Št.dvojic!$U$306)","v":""},{"$f":"IF($C$244=\"\",\"\",\"(\"&SUM(Št.dvojic!$I$306:$T$306)&\")\")","v":""},null,{"$f":"IF($C$244=\"\",\"\",Št.400mCTIF!$U$306)","v":""},{"$f":"IF($C$244=\"\",\"\",\"(\"&SUM(Št.400mCTIF!$I$306:$T$306)&\")\")","v":""},null,{"$f":"IF($C$244=\"\",\"\",'PÚ CTIF'!$R$306)","v":""},{"$f":"IF($C$244=\"\",\"\",\"(\"&SUM('PÚ CTIF'!$I$306:$Q$306)&\")\")","v":""}]
[null,{"$f":"B211","v":"Celkové výsledky - TISK"}]
[]
[null,null,null,{"$f":"D213","v":"Krajská soutěž HRY PLAMEN"},null,null,null,null,null,null,null,{"$f":"L213","v":"2020/2021, České Budějovice"}]
[null,null,{"$f":"'Start - jaro'!$N$2","v":"STARŠÍ"}]
[null," startovní číslo"," SDH"," ZPV"," PÚ",null," Štafeta 4x60m",null," Štafeta dvojic",null,null," 400 m štafeta CTIF",null,null," PÚ - CTIF",null,null,"Celoroční činnost",null," Celkový součet",null,"Pořadí"]
[null,null,null,"P.","1.pokus","P.","1.pokus","P.","1.pokus","tr.body","P.","1.pokus","tr.body","P.","1.pokus","tr.body","P.","P."]
[null,null,null,null,"2.pokus",null,"2.pokus",null,"2.pokus","tr.body",null,"2.pokus","tr.body",null,"2.pokus","tr.body"]
[{"$f":"IF('Start - jaro'!Q29=\"\",\"\",\"x\")","v":""},99,{"$f":"IF('Start - jaro'!O29=\"\",\"\",'Start - jaro'!O29)","v":""},{"$f":"IF($A253=\"x\",\"x\",IF($C253=\"\",\"\",IF(ISNA(MATCH($C253,ZPVOblN,0)),COUNTIF(ZPVOblT,\".\")+1,LOOKUP($C253,ZPVOblN,ZPVOblD))))","v":""},{"$f":"IF($C$253=\"\",\"\",PÚ!$S$152)","v":""},{"$f":"IF($C$253=\"\",\"\",PÚ!$T152)","v":""},{"$f":"IF($C$253=\"\",\"\",Št.4x60m!$S$152)","v":""},{"$f":"IF($C$253=\"\",\"\",Št.4x60m!$T152)","v":""},{"$f":"IF($C$253=\"\",\"\",Št.dvojic!$U$307)","v":""},{"$f":"IF($C$253=\"\",\"\",\"(\"&SUM(Št.dvojic!$I$307:$T$307)&\")\")","v":""},{"$f":"IF($C$253=\"\",\"\",Št.dvojic!$V$307)","v":""},{"$f":"IF($C$253=\"\",\"\",Št.400mCTIF!$U$307)","v":""},{"$f":"IF($C$253=\"\",\"\",\"(\"&SUM(Št.400mCTIF!$I$307:$T$307)&\")\")","v":""},{"$f":"IF($C$253=\"\",\"\",Št.400mCTIF!$V$307)","v":""},{"$f":"IF($C$253=\"\",\"\",'PÚ CTIF'!$R$307)","v":""},{"$f":"IF($C$253=\"\",\"\",\"(\"&SUM('PÚ CTIF'!$I$307:$Q$307)&\")\")","v":""},{"$f":"IF($C$253=\"\",\"\",'PÚ CTIF'!$S$307)","v":""},{"$f":"IF(C253=\"\",\"\",Kronika!$H$92)","v":""},null,{"$f":"IF(A253=\"x\",300,IF(C253=\"\",\"\",SUM(D253,F253,H253,K253,N253,Q253,R253)))","v":""},null,{"$f":"IF($A253=\"x\",\"x\",IF($C253=\"\",\"\",MATCH($C253,Výsledky!$N$7:$N$106,0)))","v":""}]
[null,null,null,null,{"$f":"IF($C$253=\"\",\"\",PÚ!$S$153)","v":""},null,{"$f":"IF($C$253=\"\",\"\",Št.4x60m!$S$153)","v":""},null,{"$f":"IF($C$253=\"\",\"\",Št.dvojic!$U$308)","v":""},{"$f":"IF($C$253=\"\",\"\",\"(\"&SUM(Št.dvojic!$I$308:$T$308)&\")\")","v":""},null,{"$f":"IF($C$253=\"\",\"\",Št.400mCTIF!$U$308)","v":""},{"$f":"IF($C$253=\"\",\"\",\"(\"&SUM(Št.400mCTIF!$I$308:$T$308)&\")\")","v":""},null,{"$f":"IF($C$253=\"\",\"\",'PÚ CTIF'!$R$308)","v":""},{"$f":"IF($C$253=\"\",\"\",\"(\"&SUM('PÚ CTIF'!$I$308:$Q$308)&\")\")","v":""}]
[{"$f":"IF('Start - jaro'!Q30=\"\",\"\",\"x\")","v":""},100,{"$f":"IF('Start - jaro'!O30=\"\",\"\",'Start - jaro'!O30)","v":""},{"$f":"IF($A255=\"x\",\"x\",IF($C255=\"\",\"\",IF(ISNA(MATCH($C255,ZPVOblN,0)),COUNTIF(ZPVOblT,\".\")+1,LOOKUP($C255,ZPVOblN,ZPVOblD))))","v":""},{"$f":"IF($C$255=\"\",\"\",PÚ!$S$154)","v":""},{"$f":"IF($C$255=\"\",\"\",PÚ!$T154)","v":""},{"$f":"IF($C$255=\"\",\"\",Št.4x60m!$S$154)","v":""},{"$f":"IF($C$255=\"\",\"\",Št.4x60m!$T154)","v":""},{"$f":"IF($C$255=\"\",\"\",Št.dvojic!$U$309)","v":""},{"$f":"IF($C$255=\"\",\"\",\"(\"&SUM(Št.dvojic!$I$309:$T$309)&\")\")","v":""},{"$f":"IF($C$255=\"\",\"\",Št.dvojic!$V$309)","v":""},{"$f":"IF($C$255=\"\",\"\",Št.400mCTIF!$U$309)","v":""},{"$f":"IF($C$255=\"\",\"\",\"(\"&SUM(Št.400mCTIF!$I$309:$T$309)&\")\")","v":""},{"$f":"IF($C$255=\"\",\"\",Št.400mCTIF!$V$309)","v":""},{"$f":"IF($C$255=\"\",\"\",'PÚ CTIF'!$R$309)","v":""},{"$f":"IF($C$255=\"\",\"\",\"(\"&SUM('PÚ CTIF'!$I$309:$Q$309)&\")\")","v":""},{"$f":"IF($C$255=\"\",\"\",'PÚ CTIF'!$S$309)","v":""},{"$f":"IF(C255=\"\",\"\",Kronika!$H$93)","v":""},null,{"$f":"IF(A255=\"x\",300,IF(C255=\"\",\"\",SUM(D255,F255,H255,K255,N255,Q255,R255)))","v":""},null,{"$f":"IF($A255=\"x\",\"x\",IF($C255=\"\",\"\",MATCH($C255,Výsledky!$N$7:$N$106,0)))","v":""}]
[null,null,null,null,{"$f":"IF($C$255=\"\",\"\",PÚ!$S$155)","v":""},null,{"$f":"IF($C$255=\"\",\"\",Št.4x60m!$S$155)","v":""},null,{"$f":"IF($C$255=\"\",\"\",Št.dvojic!$U$310)","v":""},{"$f":"IF($C$255=\"\",\"\",\"(\"&SUM(Št.dvojic!$I$310:$T$310)&\")\")","v":""},null,{"$f":"IF($C$255=\"\",\"\",Št.400mCTIF!$U$310)","v":""},{"$f":"IF($C$255=\"\",\"\",\"(\"&SUM(Št.400mCTIF!$I$310:$T$310)&\")\")","v":""},null,{"$f":"IF($C$255=\"\",\"\",'PÚ CTIF'!$R$310)","v":""},{"$f":"IF($C$255=\"\",\"\",\"(\"&SUM('PÚ CTIF'!$I$310:$Q$310)&\")\")","v":""}]